{"text_format":"1","workbook":"xlsx","n_sheets":48,"sheets":["定義","管理","【急性期】入力シート","【急性期】データ管理","【急性期】印刷","【回復期】入力シート","【回復期】印刷","【回復期】データ管理","【維持期】入力シート","【維持期】印刷","【維持期】データ管理","経過シート","患者説明資料","同意書 ","社会資源 (制度活用のポイント)","社会資源(相談窓口等)","【経過】日常生活機能","【経過】HDS-R","【経過】MMSE","【経過】WAIS-Ⅲ","【経過】WISC-Ⅲ","【経過】WISC-Ⅳ","【経過】WMS-R","脳画像","DATA_PATIENT","STATISTICS_X","SheetList","祝日","【急性期】WAIS-Ⅲ","【急性期】WISC-Ⅲ","【急性期】WISC-Ⅳ","【急性期】WMS-R","【回復期】WAIS-Ⅲ","【回復期】WISC-Ⅲ","【回復期】WISC-Ⅳ","【回復期】WMS-R","【維持期】WAIS-Ⅲ","【維持期】WISC-Ⅲ","【維持期】WISC-Ⅳ","【維持期】WMS-R","【急性期】HDS-R","【回復期】HDS-R","【急性期】MMSE","【回復期】MMSE","【維持期】HDS-R","【維持期】MMSE","日常生活機能評価","MMSE_PRINT"],"not_rendered":{"charts":24,"images":8,"macros":1,"external_links":0,"defined_names":51,"comments":3,"pivot_tables":0},"unopened":[],"bounds":{"document_bytes":16777216,"sheet_cells":100000,"rows_first":2000,"rows_last":500,"rows_between":2000,"halvings":0,"cell_chars":16384,"cell_head_chars":4096},"cells_cut":0,"cells_raw":0,"read":"whole","date_system":"1900"}

{"sheet":"定義","index":0,"n_rows":103,"n_cols":22,"rows_kept":103,"cut":false,"hidden":true,"merged":[[0,0,0,5],[0,6,0,11],[0,12,0,13],[1,0,2,0],[1,1,1,5],[1,6,2,6],[1,7,2,7],[1,8,1,11]]}
["急性期シート",null,null,null,null,null,"回復期シート",null,null,null,null,null,"維持期シート"]
["急性期病院名","転院先",null,null,null,null,"急性期病院名","回復期病院名","退院先"]
[null,"自宅","回復期リハビリ病院","老人保健施設","療養型病院","一般病院",null,null,"自宅","老人保健施設","療養型病院","一般病院","回復期病院名","維持期・かかりつけ医","身障手帳","障害年金","精神障害者保健福祉手帳","療育手帳","明治","大正","昭和","平成"]
["宇部興産中央病院","宇部興産中央病院",null,"介護老人保健施設 豊生苑※","宇部記念病院","宇部記念病院","宇部興産中央病院","宇部興産中央病院","あさひクリニック※","介護老人保健施設 豊生苑※","宇部記念病院","宇部記念病院","宇部興産中央病院","あさひクリニック※","１","１","１","Ａ","33年","元年","元年","元年"]
["山口大学医学部附属病院","宇部第一病院",null,"老人保健施設宇部幸楽苑※","宇部協立病院","宇部協立病院","山口大学医学部附属病院","宇部第一病院","いそやま泌尿器科ｸﾘﾆｯｸ※","老人保健施設宇部幸楽苑※","宇部協立病院","宇部協立病院","宇部第一病院","いそやま泌尿器科ｸﾘﾆｯｸ※","２","２","２","Ｂ","34年","2年","2年","2年"]
["山口労災病院","宇部西リハビリテーション病院",null,"老人保健施設昭和町共生苑※","宇部第一病院","宇部興産中央病院","山口労災病院","宇部西リハビリテーション病院","伊藤医院※","老人保健施設昭和町共生苑※","宇部第一病院","宇部興産中央病院","宇部西リハビリテーション病院","伊藤医院※","３","３","３",null,"35年","3年","3年","3年"]
["--------------------------","宇部リハビリテーション病院",null,"介護老人保健施設寿光園※","宇部西リハビリテーション病院","尾中病院","--------------------------","宇部リハビリテーション病院","稲本内科医院※","介護老人保健施設寿光園","宇部西リハビリテーション病院","尾中病院","宇部リハビリテーション病院","稲本内科医院※","４",null,null,null,"36年","4年","4年","4年"]
["井上医院","--------------------------",null,"老人保健施設老健ふなき※","宇部リハビリテーション病院","小野田赤十字病院","井上医院","--------------------------","井上医院","老人保健施設老健ふなき※","宇部リハビリテーション病院","小野田赤十字病院","--------------------------","井上医院","５",null,null,null,"37年","5年","5年","5年"]
["宇部協立病院","あさひクリニック※",null,"介護老人保健施設 ぺあれんと","尾中病院","厚南セントヒル病院※","宇部協立病院","井上医院","いのうえ内科※","介護老人保健施設 ぺあれんと","尾中病院","厚南セントヒル病院※","井上医院","いのうえ内科※","６",null,null,null,"38年","6年","6年","6年"]
["美祢市立病院","いそやま泌尿器科ｸﾘﾆｯｸ※",null,"美祢市介護老人保健施設グリーンヒル美祢※","小野田赤十字病院","山陽小野田市民病院※","美祢市立病院","宇部協立病院","今釜整形外科","美祢市介護老人保健施設グリーンヒル美祢※","小野田赤十字病院","山陽小野田市民病院","宇部協立病院","今釜整形外科","７",null,null,null,"39年","7年","7年","7年"]
["村重医院","伊藤医院※",null,"小野田赤十字老人保健施設 あんじゅ※","厚南セントヒル病院※","仁心会病院","村重医院","宇部記念病院","内田内科消化器科","小野田赤十字老人保健施設 あんじゅ※","厚南セントヒル病院※","仁心会病院","宇部記念病院","内田内科消化器科","８",null,null,null,"40年","8年","8年","8年"]
[null,"稲本内科医院※",null,"介護老人保健施設 あさ紫苑※","サンポプラ病院","セントヒル病院※",null,"尾中病院","うのしま医院","介護老人保健施設 あさ紫苑※","サンポプラ病院","セントヒル病院※","尾中病院","うのしま医院",null,null,null,null,"41年","9年","9年","9年"]
[null,"井上医院",null,"サテライト型介護老人保健施設あさ紫苑※","シーサイド病院","山口宇部医療センター",null,"小野田赤十字病院","宇部協立病院","サテライト型介護老人保健施設あさ紫苑※","シーサイド病院","山口宇部医療センター","小野田赤十字病院","宇部協立病院",null,null,null,null,"42年","10年","10年","10年"]
[null,"いのうえ内科※",null,"-----自由記載-----","仁心会病院","山口大学医学部附属病院",null,"山陽小野田市民病院※","宇部記念病院","-----自由記載-----","仁心会病院","山口大学医学部附属病院","山陽小野田市民病院","宇部記念病院",null,null,null,null,"43年","11年","11年","11年"]
[null,"今釜整形外科",null,null,"瀬戸病院","山口労災病院",null,"瀬戸病院","宇部興産中央病院",null,"瀬戸病院","山口労災病院","瀬戸病院","宇部興産中央病院",null,null,null,null,"44年","12年","12年","12年"]
[null,"内田内科消化器科",null,null,"セントヒル病院※","-----自由記載-----",null,"長沢病院","宇部第一病院",null,"セントヒル病院※","-----自由記載-----","長沢病院","宇部第一病院",null,null,null,null,"45年","13年","13年","13年"]
[null,"うのしま医院",null,null,"長沢病院",null,null,"ふじもと内科胃腸科医院","宇部西クリニック",null,"長沢病院",null,"ふじもと内科胃腸科医院","宇部西クリニック",null,null,null,null,null,"14年","14年","14年"]
[null,"宇部記念病院",null,null,"村重医院",null,null,"水木神経内科医院※","宇部西リハビリテーション病院",null,"村重医院",null,"水木神経内科医院※","宇部西リハビリテーション病院",null,null,null,null,null,"15年","15年","15年"]
[null,"宇部協立病院",null,null,"森田病院※",null,null,"美祢市立病院","宇部ﾘﾊﾋﾞﾘﾃｰｼｮﾝ病院",null,"森田病院※",null,"美祢市立病院","宇部ﾘﾊﾋﾞﾘﾃｰｼｮﾝ病院",null,null,null,null,null,null,"16年","16年"]
[null,"宇部西クリニック",null,null,"綿田内科病院",null,null,"村重医院","岡本医院※",null,"綿田内科病院",null,"村重医院","岡本医院※",null,null,null,null,null,null,"17年","17年"]
[null,"岡本医院※",null,null,"-----自由記載-----",null,null,"山口労災病院","オクダ内科循環器科",null,"-----自由記載-----",null,"山口大学医学部附属病院","オクダ内科循環器科",null,null,null,null,null,null,"18年","18年"]
[null,"オクダ内科循環器科",null,null,null,null,null,null,"おぐらクリニック※",null,null,null,"山口労災病院","おぐらクリニック※",null,null,null,null,null,null,"19年","19年"]
[null,"おぐらクリニック※",null,null,null,null,null,null,"尾崎循環器内科",null,null,null,null,"尾崎循環器内科",null,null,null,null,null,null,"20年","20年"]
[null,"尾崎循環器内科",null,null,null,null,null,null,"小沢内科医院",null,null,null,null,"小沢内科医院",null,null,null,null,null,null,"21年","21年"]
[null,"小沢内科医院",null,null,null,null,null,null,"尾中病院",null,null,null,null,"尾中病院",null,null,null,null,null,null,"22年","22年"]
[null,"尾中病院",null,null,null,null,null,null,"小野田赤十字病院",null,null,null,null,"小野田赤十字病院",null,null,null,null,null,null,"23年","23年"]
[null,"小野田赤十字病院",null,null,null,null,null,null,"小野田ライフケアクリニック※",null,null,null,null,"小野田ライフケアクリニック※",null,null,null,null,null,null,"24年","24年"]
[null,"小野田ライフケアクリニック※",null,null,null,null,null,null,"小羽山クリニック※",null,null,null,null,"小羽山クリニック※",null,null,null,null,null,null,"25年","25年"]
[null,"小羽山クリニック※",null,null,null,null,null,null,"金沢守クリニック※",null,null,null,null,"金沢守クリニック※",null,null,null,null,null,null,"26年","26年"]
[null,"金沢守クリニック※",null,null,null,null,null,null,"上宇部外科",null,null,null,null,"上宇部外科",null,null,null,null,null,null,"27年","27年"]
[null,"上宇部外科",null,null,null,null,null,null,"河野内科",null,null,null,null,"河野内科",null,null,null,null,null,null,"28年","28年"]
[null,"河野内科",null,null,null,null,null,null,"河原内科※",null,null,null,null,"河原内科※",null,null,null,null,null,null,"29年","29年"]
[null,"河原内科※",null,null,null,null,null,null,"河村医院",null,null,null,null,"河村医院",null,null,null,null,null,null,"30年","30年"]
[null,"河村医院",null,null,null,null,null,null,"きらり藤本内科・神経内科ｸﾘﾆｯｸ※",null,null,null,null,"きらり藤本内科・神経内科ｸﾘﾆｯｸ※",null,null,null,null,null,null,"31年","31年"]
[null,"きらり藤本内科・神経内科ｸﾘﾆｯｸ※",null,null,null,null,null,null,"くが医院",null,null,null,null,"くが医院",null,null,null,null,null,null,"32年","32年"]
[null,"くが医院",null,null,null,null,null,null,"栗栖クリニック",null,null,null,null,"栗栖クリニック",null,null,null,null,null,null,"33年","33年"]
[null,"栗栖クリニック",null,null,null,null,null,null,"くろいし内科クリニック",null,null,null,null,"くろいし内科クリニック",null,null,null,null,null,null,"34年","34年"]
[null,"くろいし内科クリニック",null,null,null,null,null,null,"くろかわクリニック",null,null,null,null,"くろかわクリニック",null,null,null,null,null,null,"35年","35年"]
[null,"くろかわクリニック",null,null,null,null,null,null,"札場クリニック※",null,null,null,null,"札場クリニック※",null,null,null,null,null,null,"36年","36年"]
[null,"札場クリニック※",null,null,null,null,null,null,"サンポプラ病院",null,null,null,null,"サンポプラ病院",null,null,null,null,null,null,"37年","37年"]
[null,"サンポプラ病院",null,null,null,null,null,null,"山陽小野田市民病院",null,null,null,null,"山陽小野田市民病院",null,null,null,null,null,null,"38年","38年"]
[null,"山陽小野田市民病院",null,null,null,null,null,null,"シーサイド病院",null,null,null,null,"シーサイド病院",null,null,null,null,null,null,"39年","39年"]
[null,"シーサイド病院",null,null,null,null,null,null,"しおん内科外科クリニック",null,null,null,null,"しおん内科外科クリニック",null,null,null,null,null,null,"40年","40年"]
[null,"しおん内科外科クリニック",null,null,null,null,null,null,"しながわクリニック",null,null,null,null,"しながわクリニック",null,null,null,null,null,null,"41年","41年"]
[null,"しながわクリニック",null,null,null,null,null,null,"しらさわ内科クリニック",null,null,null,null,"しらさわ内科クリニック",null,null,null,null,null,null,"42年","42年"]
[null,"しらさわ内科クリニック",null,null,null,null,null,null,"仁心会病院",null,null,null,null,"仁心会病院",null,null,null,null,null,null,"43年","43年"]
[null,"仁心会病院",null,null,null,null,null,null,"生協上宇部クリニック※",null,null,null,null,"生協上宇部クリニック※",null,null,null,null,null,null,"44年","44年"]
[null,"生協上宇部クリニック※",null,null,null,null,null,null,"瀬戸病院",null,null,null,null,"瀬戸病院",null,null,null,null,null,null,"45年","45年"]
[null,"瀬戸病院",null,null,null,null,null,null,"たお内科クリニック※",null,null,null,null,"たお内科クリニック※",null,null,null,null,null,null,"46年","46年"]
[null,"たお内科クリニック※",null,null,null,null,null,null,"田中外科※",null,null,null,null,"田中外科※",null,null,null,null,null,null,"47年","47年"]
[null,"田中外科※",null,null,null,null,null,null,"田中内科消化器科※",null,null,null,null,"田中内科消化器科※",null,null,null,null,null,null,"48年","48年"]
[null,"田中内科消化器科※",null,null,null,null,null,null,"たみたに内科・循環器科",null,null,null,null,"たみたに内科・循環器科",null,null,null,null,null,null,"49年","49年"]
[null,"たみたに内科・循環器科",null,null,null,null,null,null,"土屋医院",null,null,null,null,"土屋医院",null,null,null,null,null,null,"50年","50年"]
[null,"土屋医院",null,null,null,null,null,null,"ときわクリニック",null,null,null,null,"ときわクリニック",null,null,null,null,null,null,"51年","51年"]
[null,"ときわクリニック",null,null,null,null,null,null,"徳久内科医院",null,null,null,null,"徳久内科医院",null,null,null,null,null,null,"52年","52年"]
[null,"徳久内科医院",null,null,null,null,null,null,"永田医院※",null,null,null,null,"永田医院※",null,null,null,null,null,null,"53年","53年"]
[null,"長沢病院",null,null,null,null,null,null,"長沢病院",null,null,null,null,"長沢病院",null,null,null,null,null,null,"54年","54年"]
[null,"中島医院※",null,null,null,null,null,null,"中島医院※",null,null,null,null,"中島医院※",null,null,null,null,null,null,"55年","55年"]
[null,"永田医院※",null,null,null,null,null,null,"中村内科※",null,null,null,null,"中村内科※",null,null,null,null,null,null,"56年","56年"]
[null,"中村内科※",null,null,null,null,null,null,"中村内科胃腸科医院",null,null,null,null,"中村内科胃腸科医院",null,null,null,null,null,null,"57年","57年"]
[null,"中村内科胃腸科医院",null,null,null,null,null,null,"中元医院※",null,null,null,null,"中元医院※",null,null,null,null,null,null,"58年","58年"]
[null,"中元医院※",null,null,null,null,null,null,"西垣内医院",null,null,null,null,"西垣内医院",null,null,null,null,null,null,"59年","59年"]
[null,"西垣内医院",null,null,null,null,null,null,"西川医院",null,null,null,null,"西川医院",null,null,null,null,null,null,"60年","60年"]
[null,"西川医院",null,null,null,null,null,null,"ニシムラ内科※",null,null,null,null,"ニシムラ内科※",null,null,null,null,null,null,"61年","61年"]
[null,"ニシムラ内科※",null,null,null,null,null,null,"西村内科医院",null,null,null,null,"西村内科医院",null,null,null,null,null,null,"62年","62年"]
[null,"西村内科医院",null,null,null,null,null,null,"にしむら内科クリニック",null,null,null,null,"にしむら内科クリニック",null,null,null,null,null,null,"63年","63年"]
[null,"にしむら内科クリニック",null,null,null,null,null,null,"野間クリニック※",null,null,null,null,"野間クリニック※",null,null,null,null,null,null,"64年","64年"]
[null,"野間クリニック※",null,null,null,null,null,null,"原田外科医院※",null,null,null,null,"原田外科医院※"]
[null,"早川内科医院※",null,null,null,null,null,null,"早川内科医院※",null,null,null,null,"早川内科医院※"]
[null,"原田外科医院※",null,null,null,null,null,null,"はりま内科胃腸科※",null,null,null,null,"はりま内科胃腸科※"]
[null,"はりま内科胃腸科※",null,null,null,null,null,null,"廣重内科※",null,null,null,null,"廣重内科※"]
[null,"廣重内科※",null,null,null,null,null,null,"開クリニック※",null,null,null,null,"開クリニック※"]
[null,"ひらき内科",null,null,null,null,null,null,"ひらき内科",null,null,null,null,"ひらき内科"]
[null,"開クリニック※",null,null,null,null,null,null,"ふくたクリニック",null,null,null,null,"ふくたクリニック"]
[null,"ふくたクリニック",null,null,null,null,null,null,"フジイ内科医院",null,null,null,null,"フジイ内科医院"]
[null,"フジイ内科医院",null,null,null,null,null,null,"富士消化器内科クリニック※",null,null,null,null,"富士消化器内科クリニック※"]
[null,"富士消化器内科クリニック※",null,null,null,null,null,null,"藤野内科",null,null,null,null,"藤野内科"]
[null,"藤野内科",null,null,null,null,null,null,"藤村内科クリニック※",null,null,null,null,"藤村内科クリニック※"]
[null,"藤村内科クリニック※",null,null,null,null,null,null,"ふじもと内科胃腸科医院",null,null,null,null,"ふじもと内科胃腸科医院"]
[null,"ふじもと内科胃腸科医院",null,null,null,null,null,null,"松岡整形外科",null,null,null,null,"松岡整形外科"]
[null,"松岡整形外科",null,null,null,null,null,null,"三井外科医院※",null,null,null,null,"三井外科医院※"]
[null,"三井外科医院※",null,null,null,null,null,null,"三澤医院※",null,null,null,null,"三澤医院※"]
[null,"水木神経内科医院※",null,null,null,null,null,null,"水木神経内科医院※",null,null,null,null,"水木神経内科医院※"]
[null,"三澤医院※",null,null,null,null,null,null,"美祢市立病院",null,null,null,null,"美祢市立病院"]
[null,"美祢市立病院",null,null,null,null,null,null,"宮川内科医院※",null,null,null,null,"宮川内科医院※"]
[null,"宮川内科医院※",null,null,null,null,null,null,"むべの里診療所※",null,null,null,null,"むべの里診療所※"]
[null,"むべの里診療所※",null,null,null,null,null,null,"村重医院",null,null,null,null,"村重医院"]
[null,"村重医院",null,null,null,null,null,null,"むらた循環器内科",null,null,null,null,"むらた循環器内科"]
[null,"むらた循環器内科",null,null,null,null,null,null,"森田病院※",null,null,null,null,"森田病院※"]
[null,"森田病院※",null,null,null,null,null,null,"矢野外科医院",null,null,null,null,"矢野外科医院"]
[null,"矢野外科医院",null,null,null,null,null,null,"山口大学医学部附属病院",null,null,null,null,"山口大学医学部附属病院"]
[null,"山口大学医学部附属病院",null,null,null,null,null,null,"山口労災病院",null,null,null,null,"山口労災病院"]
[null,"山口労災病院",null,null,null,null,null,null,"山本医院※",null,null,null,null,"山本医院※"]
[null,"山本医院※",null,null,null,null,null,null,"やまもとクリニック",null,null,null,null,"やまもとクリニック"]
[null,"やまもとクリニック",null,null,null,null,null,null,"山本内科",null,null,null,null,"山本内科"]
[null,"山本内科",null,null,null,null,null,null,"よしかわ脳神経外科クリニック",null,null,null,null,"よしかわ脳神経外科クリニック"]
[null,"よしかわ脳神経外科クリニック",null,null,null,null,null,null,"吉武医院※",null,null,null,null,"吉武医院※"]
[null,"吉武医院※",null,null,null,null,null,null,"吉武内科クリニック",null,null,null,null,"吉武内科クリニック"]
[null,"吉武内科クリニック",null,null,null,null,null,null,"吉中内科医院",null,null,null,null,"吉中内科医院"]
[null,"吉中内科医院",null,null,null,null,null,null,"綿田内科病院",null,null,null,null,"綿田内科病院"]
[null,"綿田内科病院",null,null,null,null,null,null,"渡辺内科医院※",null,null,null,null,"渡辺内科医院※"]
[null,"渡辺内科医院※",null,null,null,null,null,null,"-----自由記載-----",null,null,null,null,"老健ふなき※"]
[null,"-----自由記載-----"]

{"sheet":"管理","index":1,"n_rows":20,"n_cols":2,"rows_kept":20,"cut":false,"hidden":true,"merged":[]}
["管理者用ページ　管理者以外は利用しないでください。"]
["急性期シート"]
[]
["回復期シート"]
[]
["維持期シート"]
[]
[]
[]
[]
[]
[]
["※HumanBridge基本情報コピーのボタン使用制御解除"]
[]
[]
[]
[null,"『HumanBridgeの基本情報をコピー 』ボタンを押下すると、"]
[null,"それ以降の連携パスの起動時にHumanBridge上のデータ（氏名や生年月日、住所）を"]
[null,"取得しなくなる。"]
[null,"その代わり、起動時間の短縮が可能となる。"]

{"sheet":"【急性期】入力シート","index":2,"n_rows":162,"n_cols":98,"rows_kept":162,"cut":false,"hidden":true,"merged":[[153,15,154,50],[155,15,155,50],[0,65,0,67],[0,68,0,75],[161,16,162,50],[141,17,141,23],[142,12,142,17],[142,27,142,36],[143,12,143,13],[142,19,142,25],[143,15,143,33],[143,35,143,41],[145,14,145,19],[145,21,145,27],[145,29,145,35],[150,12,150,17],[151,12,151,14],[150,19,150,25],[150,27,150,36],[151,16,151,27],[156,29,156,39],[157,17,157,23],[157,32,157,35],[156,18,156,23],[95,2,97,3],[57,4,57,10],[59,11,59,15],[59,17,59,20],[58,4,58,10],[59,4,59,10],[125,6,125,51],[126,6,126,51],[127,6,127,51],[112,4,112,11],[112,12,112,16],[112,46,112,51],[112,17,112,41],[124,23,124,25],[124,27,124,33],[124,39,124,41],[124,43,124,49],[113,28,113,51],[114,28,114,30],[114,31,114,51],[69,4,69,7],[86,4,86,27],[102,0,112,3],[113,0,128,1],[113,4,113,14],[113,16,113,18],[114,4,114,6],[114,7,114,27],[110,4,110,27],[111,4,111,27],[108,4,108,27],[128,6,128,51],[111,43,111,50],[124,11,124,17],[124,7,124,9],[111,28,111,32],[108,28,108,51],[109,28,109,51],[110,28,110,51],[111,33,111,41],[117,11,117,17],[118,28,118,51],[114,2,114,3],[121,2,123,3],[115,2,118,3],[119,2,119,3],[120,2,120,3],[117,31,117,33],[117,35,117,41],[115,28,115,51],[116,4,116,27],[116,28,116,51],[117,7,117,9],[123,32,123,38],[119,4,119,27],[123,4,123,6],[123,8,123,14],[123,28,123,30],[119,28,119,51],[120,4,120,27],[120,28,120,51],[121,4,121,27],[121,28,121,51],[122,4,122,27],[122,28,122,51],[118,4,118,27],[133,0,133,51],[129,14,129,21],[129,24,129,27],[129,28,129,37],[130,0,132,3],[129,0,129,3],[129,4,129,9],[131,4,131,7],[130,4,130,7],[130,8,130,51],[131,8,131,22],[96,28,96,51],[109,4,109,27],[99,28,99,51],[100,28,100,51],[101,28,101,51],[102,28,102,51],[99,4,99,27],[101,4,101,27],[106,28,106,51],[107,28,107,51],[102,4,102,27],[103,4,103,27],[107,4,107,27],[100,4,100,27],[103,28,103,51],[104,28,104,51],[105,28,105,51],[104,4,104,27],[105,4,105,27],[106,4,106,27],[33,11,33,14],[9,36,9,51],[19,36,19,51],[140,29,140,36],[141,24,141,39],[146,14,146,19],[146,21,146,27],[146,29,146,35],[138,10,138,15],[138,30,138,32],[138,34,138,43],[138,17,138,24],[143,45,143,46],[135,10,136,15],[135,27,135,35],[135,17,135,25],[136,17,136,24],[135,37,135,44],[132,4,132,19],[39,11,39,25],[93,4,93,27],[94,4,94,27],[95,4,95,27],[96,4,96,27],[29,4,29,10],[30,4,30,10],[31,4,31,10],[32,4,32,8],[0,53,0,55],[40,16,40,18],[2,19,2,23],[8,14,8,16],[3,34,3,51],[4,30,4,35],[32,19,32,20],[32,9,32,10],[32,21,32,24],[32,15,32,16],[33,15,33,16],[6,14,6,16],[22,4,22,19],[4,4,4,8],[4,9,4,16],[4,26,4,27],[24,11,24,18],[24,19,24,20],[24,21,24,51],[25,4,25,10],[0,56,0,63],[4,36,4,45],[5,30,5,36],[14,20,14,21],[1,26,1,31],[1,32,1,43],[2,48,2,49],[2,40,2,47],[28,4,28,10],[26,4,26,10],[27,4,27,10],[21,36,21,38],[22,36,22,51],[11,36,13,51],[15,36,18,51],[14,36,14,37],[14,38,14,41],[14,46,14,49],[15,20,15,35],[15,5,15,7],[18,5,18,7],[14,4,14,5],[11,20,13,35],[11,5,11,7],[161,0,162,9],[145,37,145,38],[146,37,146,38],[144,37,144,38],[152,20,152,26],[152,31,152,40],[149,38,149,43],[149,17,149,32],[134,0,157,3],[158,0,160,3],[141,12,141,16],[143,43,143,44],[144,21,144,27],[144,14,144,19],[144,29,144,35],[139,16,139,31],[161,10,161,14],[147,10,147,15],[148,10,148,13],[147,17,147,23],[147,25,147,34],[148,19,148,22],[148,26,148,36],[156,13,156,16],[93,28,93,51],[94,28,94,51],[69,16,69,17],[69,37,69,43],[71,16,71,17],[90,28,90,51],[91,28,91,51],[70,20,70,21],[61,11,61,15],[62,26,62,33],[70,37,70,43],[86,28,86,51],[68,14,68,16],[67,17,67,24],[68,17,68,24],[63,26,63,34],[64,4,65,51],[63,12,63,20],[68,4,68,8],[66,4,66,6],[14,30,14,33],[16,4,17,19],[14,14,14,17],[14,6,14,9],[14,22,14,25],[16,20,17,35],[18,20,18,35],[2,0,2,3],[22,0,22,3],[14,0,14,3],[10,0,10,3],[18,0,18,3],[10,4,10,11],[10,12,10,13],[10,14,10,15],[10,17,10,18],[2,4,2,14],[2,15,2,18],[2,24,2,30],[3,4,3,29],[3,30,3,33],[2,31,2,39],[10,37,10,50],[4,24,4,25],[23,0,39,3],[64,0,66,3],[67,0,85,3],[44,0,55,3],[63,0,63,3],[40,0,43,3],[56,0,62,3],[3,0,3,3],[4,0,4,3],[15,0,15,3],[12,0,13,3],[19,0,19,3],[11,0,11,3],[16,0,17,3],[5,0,8,3],[20,0,21,3],[9,0,9,3],[30,11,30,35],[12,4,13,19],[19,20,19,35],[50,19,50,22],[38,11,38,14],[9,20,9,35],[55,19,55,22],[19,4,19,19],[34,11,34,14],[35,11,35,14],[24,7,24,10],[36,11,36,14],[37,11,37,14],[23,7,23,30],[22,20,22,35],[53,4,53,10],[35,33,35,37],[31,11,31,35],[40,4,40,7],[32,11,32,14],[42,25,42,27],[33,21,33,24],[34,21,34,24],[34,25,34,26],[35,25,35,26],[36,25,36,26],[37,25,37,26],[35,21,35,24],[36,21,36,24],[37,21,37,24],[34,15,34,16],[45,19,45,37],[38,21,38,24],[40,8,40,15],[40,19,40,51],[44,4,44,10],[45,4,45,10],[39,31,39,34],[39,38,39,43],[42,28,42,36],[5,23,5,29],[10,21,10,34],[4,19,4,20],[5,4,5,7],[9,4,9,19],[4,17,4,18],[5,8,5,22],[4,22,4,23],[6,37,6,49],[7,37,7,49],[8,37,8,49],[6,17,6,35],[7,17,7,35],[8,17,8,35],[7,14,7,16],[21,40,21,48],[25,11,25,20],[26,11,26,20],[27,11,27,20],[20,20,21,35],[44,11,44,15],[45,11,45,15],[46,11,46,15],[20,4,21,19],[35,15,35,16],[36,15,36,16],[37,15,37,16],[32,25,32,26],[33,25,33,26],[39,4,39,10],[41,18,41,24],[42,18,42,24],[43,28,43,41],[39,26,39,30],[28,11,28,20],[29,11,29,20],[42,4,42,17],[41,4,41,17],[20,36,20,51],[93,2,94,3],[86,0,86,3],[67,14,67,16],[67,9,67,11],[68,9,68,11],[88,4,88,27],[87,0,101,1],[89,11,89,17],[97,28,97,30],[100,2,101,3],[81,8,82,51],[87,28,87,51],[74,44,74,50],[74,21,74,22],[74,33,74,34],[74,39,74,40],[98,2,99,3],[97,4,97,6],[98,4,98,27],[97,8,97,14],[97,32,97,38],[98,28,98,51],[92,2,92,3],[87,2,90,3],[59,21,59,42],[56,30,56,41],[60,25,60,32],[71,20,71,21],[71,24,71,25],[70,24,70,25],[92,28,92,51],[71,37,71,43],[89,31,89,33],[89,35,89,41],[60,21,60,23],[62,11,62,24],[71,32,71,33],[71,28,71,29],[63,22,63,24],[66,8,66,17],[56,4,56,10],[92,4,92,27],[88,28,88,51],[63,4,63,10],[61,4,61,10],[62,4,62,10],[67,4,67,8],[74,27,74,28],[91,2,91,3],[69,20,69,21],[69,24,69,25],[74,4,74,7],[76,4,76,7],[77,4,77,7],[78,4,78,7],[79,4,79,7],[81,4,81,7],[74,16,74,17],[91,4,91,27],[49,4,49,10],[50,4,50,10],[43,25,43,27],[46,4,46,10],[47,4,47,10],[51,4,51,10],[52,4,52,10],[52,11,52,15],[53,11,53,15],[47,11,47,15],[48,11,48,15],[49,11,49,15],[50,11,50,15],[51,11,51,15],[54,4,54,10],[55,4,55,10],[48,4,48,10],[54,17,54,27],[137,37,137,42],[137,44,137,50],[137,29,137,35],[54,11,54,15],[55,11,55,15],[56,11,56,15],[57,11,57,15],[56,20,56,27],[56,16,56,19],[58,11,58,14],[58,21,58,24],[115,4,115,27],[95,28,95,51],[80,12,80,25],[84,8,85,51],[73,4,73,7],[70,16,70,17],[87,4,87,27],[89,7,89,9],[90,4,90,27]]}
[null,null,null,null,null,null,null,null,null,null,null,null,null,null,null,null,null,null,null,null,null,null,null,null,null,null,null,null,null,null,null,null,null,null,null,null,null,null,null,null,null,null,null,null,null,null,null,null,null,null,null,null,null,"最終更新\n日時",null,null,"2017-12-07T14:27:34",null,null,null,null,null,null,null,null,"登録開始日時",null,null,"2023-04-01T10:04:36"]
["脳外傷地域連携診療計画書【急性期】",null,null,null,null,null,null,null,null,null,null,null,null,null,null,null,null,null,null,null,null,null,null,null,null,null,"急性期病院名（",null,null,null,null,null,null,null,null,null,null,null,null,null,null,null,null,null,"）",null,null,null,null,null,null,"version.1",null,null,null,null,null,null,"非表示列"]
["氏名",null,null,null,null,null,null,null,null,null,null,null,null,null,null,"性別",null,null,null,null,null,null,null,null,"生年月日",null,null,null,null,null,null,null,null,null,null,null,null,null,null,null,{"$f":"TODAY()","v":"2023-04-01"},null,null,null,null,null,null,null,{"$f":"IF(AF3=\"\",\"\",IFERROR(DATEDIF(AF3,AO3,\"y\"),\"\"))","v":""},null,"歳",null,null,"青",null,null,"医師",null,false,null,null,null,"パス中止理由",null,null,null,null,null,null,null,null,null,null,null,null,null,null,null,null,null,null,null,null,null,null,null,null,null,null,null,null,null,null,null,null,null,null,false]
["住所",null,null,null,null,null,null,null,null,null,null,null,null,null,null,null,null,null,null,null,null,null,null,null,null,null,null,null,null,null,"電話番号",null,null,null,""]
["受傷時",null,null,null,"受傷年月日",null,null,null,null,null,null,null,null,null,null,null,null,"時刻",null,null,null,"：",null,null,"年齢",null,{"$f":"IF(AF3=\"\",\"\",IFERROR(DATEDIF(AF3,J5,\"y\"),\"\"))","v":""},null,"歳",null,"受傷日時確度",null,null,null,null,null,null,null,null,null,null,null,null,null,null,null,null,null,null,null,null,null,null,"赤",null,null,"ナース",null,false,null,null,null,null,null,null,null,null,null,null,null,null,null,null,null,null,null,null,null,null,null,null,null,null,null,null,null,null,null,null,null,null,null,null,null,null,null,null,false]
["受傷状況",null,null,null,"受傷原因",null,null,null,null,null,null,null,null,null,null,null,null,null,null,null,null,null,null,"労災の有無"]
[null,null,null,null,null,"交通事故の場合",null,null,null,null,null,null,null,null,"患者方",null,null,null,null,null,null,null,null,null,null,null,null,null,null,null,null,null,null,null,null,null,"(",null,null,null,null,null,null,null,null,null,null,null,null,null,")",null,null,"黄",null,null,"セラピスト",null,false]
[null,null,null,null,null,null,null,null,null,null,null,null,null,null,"相手方",null,null,null,null,null,null,null,null,null,null,null,null,null,null,null,null,null,null,null,null,null,"(",null,null,null,null,null,null,null,null,null,null,null,null,null,")"]
[null,null,null,null,null,"非交通事故の場合",null,null,null,null,null,null,null,null,"原因",null,null,null,null,null,null,null,null,null,null,null,null,null,null,null,null,null,null,null,null,null,"(",null,null,null,null,null,null,null,null,null,null,null,null,null,")",null,null,"緑",null,null,"連携室",null,false]
[null,null,null,null,"搬入時",null,null,null,null,null,null,null,null,null,null,null,null,null,null,null,"最悪時",null,null,null,null,null,null,null,null,null,null,null,null,null,null,null,"退院時"]
["年月日",null,null,null,null,null,null,null,null,null,null,null,"時刻",null,null,null,"：",null,null,null,null,null,null,null,null,null,null,null,null,null,null,null,null,null,null,null,null,null,null,null,null,null,null,null,null,null,null,null,null,null,null,null,null,"灰色",null,null,"自由",null,false]
["全搬送時間",null,null,null,null,{"$f":"IFERROR(IF((E11+(O11& \":\" & R11))-(J5+(T5 & \":\" & W5))<0,\"-\",(E11+(O11& \":\" & R11))-(J5+(T5 & \":\" & W5))),\"-\")","v":"-"},null,null,"分"]
["搬送方法",null,null,null,null,null,null,null,null,null,null,null,null,null,null,null,null,null,null,null,null,null,null,null,null,null,null,null,null,null,null,null,null,null,null,null,null,null,null,null,null,null,null,null,null,null,null,null,null,null,null,null,null,"オレンジ",null,null,"ナースまたは",null,false]
[null,null,null,null,null,null,null,null,null,null,null,null,null,null,null,null,null,null,null,null,null,null,null,null,null,null,null,null,null,null,null,null,null,null,null,null,null,null,null,null,null,null,null,null,null,null,null,null,null,null,null,null,null,null,null,null,"セラピスト",null,null,null,null,null,null,null,null,null,null,null,null,null,null,null,null,null,null,null,null,null,null,null,null,null,null,"gcs",null,null,null,"前回"]
["意識",null,null,null,"JCS（",null,null,null,null,null,"）",null,null,"GCS（",{"$f":"SUM(CG16:CG18)","v":0},null,null,null,"）",null,"JCS（",null,null,null,null,null,"）",null,null,"GCS（",{"$f":"SUM(CH16:CH18)","v":0},null,null,null,"）",null,"JCS（",null,null,null,null,null,"）",null,null,"GCS（",{"$f":"SUM(CI16:CI18)","v":0},null,null,null,"）",null,null,null,null,null,null,null,null,null,null,null,null,null,null,null,null,null,null,null,null,null,null,null,null,null,null,null,null,null,null,null,null,null,"搬","最","退","搬","最","退"]
["血圧（収縮期）",null,null,null,null,null,null,null,"mmHg",null,null,null,null,null,null,null,null,null,null,null,null,null,null,null,null,null,null,null,null,null,null,null,null,null,null,null,null,null,null,null,null,null,null,null,null,null,null,null,null,null,null,null,null,null,null,null,null,null,null,null,null,null,null,null,null,null,null,null,null,null,null,null,null,null,null,null,null,null,null,null,null,null,null,"E",0,0,0,0,0,0]
["瞳孔所見",null,null,null,null,null,null,null,null,null,null,null,null,null,null,null,null,null,null,null,null,null,null,null,null,null,null,null,null,null,null,null,null,null,null,null,null,null,null,null,null,null,null,null,null,null,null,null,null,null,null,null,null,null,null,null,null,null,null,null,null,null,null,null,null,null,null,null,null,null,null,null,null,null,null,null,null,null,null,null,null,null,null,"V",0,0,0,0,0,0]
[null,null,null,null,null,null,null,null,null,null,null,null,null,null,null,null,null,null,null,null,null,null,null,null,null,null,null,null,null,null,null,null,null,null,null,null,null,null,null,null,null,null,null,null,null,null,null,null,null,null,null,null,null,null,null,null,null,null,null,null,null,null,null,null,null,null,null,null,null,null,null,null,null,null,null,null,null,null,null,null,null,null,null,"M",0,0,0,0,0,0]
["酸素飽和度",null,null,null,null,null,null,null,"%"]
["MMT",null,null,null,"右上肢（   ）　左上肢（   ）　右下肢（   ）　左下肢（   ）",null,null,null,null,null,null,null,null,null,null,null,null,null,null,null,"右上肢（   ）　左上肢（   ）　右下肢（   ）　左下肢（   ）",null,null,null,null,null,null,null,null,null,null,null,null,null,null,null,"右上肢（   ）　左上肢（   ）　右下肢（   ）　左下肢（   ）",null,null,null,null,null,null,null,null,null,null,null,null,null,null,null,null,null,null,null,null,null,null,null,null,null,null,null,null,null,null,null,null,null,null,null,null,null,null,null,null,null,null,null,null,null,null,"MMT 入院",{"$f":"MID($E$20,6,1)","v":" "},{"$f":"MID($E$20,15,1)","v":" "},{"$f":"MID($E$20,24,1)","v":" "},{"$f":"MID($E$20,33,1)","v":" "},{"$f":"IF(CG20=\" \",1,0)+IF(CH20=\" \",1,0)+IF(CI20=\" \",1,0)+IF(CJ20=\" \",1,0)","v":4}]
["転帰",null,null,null,null,null,null,null,null,null,null,null,null,null,null,null,null,null,null,null,null,null,null,null,null,null,null,null,null,null,null,null,null,null,null,null,null,null,null,null,null,null,null,null,null,null,null,null,null,null,null,null,null,null,null,null,null,null,null,null,null,null,null,null,null,null,null,null,null,null,null,null,null,null,null,null,null,null,null,null,null,null,null,"　　最悪",{"$f":"MID($U$20,6,1)","v":" "},{"$f":"MID($U$20,15,1)","v":" "},{"$f":"MID($U$20,24,1)","v":" "},{"$f":"MID($U$20,33,1)","v":" "},{"$f":"IF(CG21=\" \",1,0)+IF(CH21=\" \",1,0)+IF(CI21=\" \",1,0)+IF(CJ21=\" \",1,0)","v":4}]
[null,null,null,null,null,null,null,null,null,null,null,null,null,null,null,null,null,null,null,null,null,null,null,null,null,null,null,null,null,null,null,null,null,null,null,null,null,null,null,"(",null,null,null,null,null,null,null,null,null,")",null,null,null,null,null,null,null,null,null,null,null,null,null,null,null,null,null,null,null,null,null,null,null,null,null,null,null,null,null,null,null,null,null,"　　退院",{"$f":"MID($AK$20,6,1)","v":" "},{"$f":"MID($AK$20,15,1)","v":" "},{"$f":"MID($AK$20,24,1)","v":" "},{"$f":"MID($AK$20,33,1)","v":" "},{"$f":"IF(CG22=\" \",1,0)+IF(CH22=\" \",1,0)+IF(CI22=\" \",1,0)+IF(CJ22=\" \",1,0)","v":4}]
["GOS"]
["脳損傷の\n状況",null,null,null,"診断名："]
[null,null,null,null,"CT",null,null,"撮影日",null,null,null,null,null,null,null,null,null,null,null,"所見"]
[null,null,null,null,"頭蓋骨骨折"]
[null,null,null,null,"気脳症"]
[null,null,null,null,"頭蓋内異物"]
[null,null,null,null,"くも膜下出血"]
[null,null,null,null,"脳室内出血"]
[null,null,null,null,"CT分類（TCDB)"]
[null,null,null,null,"腫瘤性病変"]
[null,null,null,null,"血腫の部位",null,null,null,null,"右",null,null,null,null,null,null,null,"mm",null,"左",null,null,null,null,null,null,null,"mm"]
[null,null,null,null,null,"最大厚(mm)",null,null,null,null,null,null,null,null,null,null,null,"mm",null,null,null,null,null,null,null,null,null,"mm"]
[null,null,null,null,null,null,null,null,null,null,null,null,null,null,null,null,null,"mm",null,null,null,null,null,null,null,null,null,"mm"]
[null,null,null,null,null,null,null,null,null,null,null,null,null,null,null,null,null,"mm",null,null,null,null,null,null,null,null,null,"mm"]
[null,null,null,null,null,null,null,null,null,null,null,null,null,null,null,null,null,"mm",null,null,null,null,null,null,null,null,null,"mm"]
[null,null,null,null,null,null,null,null,null,null,null,null,null,null,null,null,null,"mm",null,null,null,null,null,null,null,null,null,"mm"]
[]
[null,null,null,null,"中脳周囲槽",null,null,null,null,null,null,null,null,null,null,null,null,null,null,null,null,null,null,null,null,null,"正中偏位：",null,null,null,null,null,null,null,null,"mm"]
["MRI\n（DAIの場合）",null,null,null,"撮影日",null,null,null,null,null,null,null,null,null,null,null,"所見"]
[null,null,null,null,"脳梁膨大部･脳幹のDAI所見"]
[null,null,null,null,"Microbleeding",null,null,null,null,null,null,null,null,null,null,null,null,null,null,null,null,null,null,null,null,"（場所："]
[null,null,null,null,null,null,null,null,null,null,null,null,null,null,null,null,null,null,null,null,null,null,null,null,null,"数：",null,null,null,null,null,null,null,null,null,null,null,null,null,null,null,null,"）"]
["身体状況等",null,null,null,"Talk&deteriorate"]
[null,null,null,null,"多発外傷",null,null,null,null,null,null,null,null,null,null,null,"（場所：",null,null,null,null,null,null,null,null,null,null,null,null,null,null,null,null,null,null,null,null,null,"）"]
[null,null,null,null,"興奮･安静困難"]
[null,null,null,null,"視野障害"]
[null,null,null,null,"感覚障害"]
[null,null,null,null,"疼痛"]
[null,null,null,null,"拘縮",null,null,null,null,null,null,null,null,null,null,null,"（部位：",null,null,null,null,null,null,"）"]
[null,null,null,null,"嚥下障害"]
[null,null,null,null,"肺炎",null,null,null,null,null,null,null,null,null,null,null,null,null,null,null,null,null,null,null,null,null,null,null,null,null,null,null,null,null,null,null,null,null,null,null,null,null,null,null,null,null,null,null,null,null,null,null,null,"青",null,null,"医師"]
[null,null,null,null,"尿路感染症"]
[null,null,null,null,"その他合併症",null,null,null,null,null,null,null,null,null,null,null,"（",null,null,null,null,null,null,null,null,null,null,null,"）",null,null,null,null,null,null,null,null,null,null,null,null,null,null,null,null,null,null,null,null,null,null,null,null,"赤",null,null,"ナース"]
[null,null,null,null,"その他感染症",null,null,null,null,null,null,null,null,null,null,null,"（部位：",null,null,null,null,null,null,"）"]
["治療",null,null,null,"脳神経外科手術",null,null,null,null,null,null,null,null,null,null,null,"（手術日",null,null,null,null,null,null,null,null,null,null,null,"術式",null,null,null,null,null,null,null,null,null,null,null,null,null,"）",null,null,null,null,null,null,null,null,null,null,"黄",null,null,"セラピスト"]
[null,null,null,null,"頭蓋内圧モニタリング"]
[null,null,null,null,"初圧",null,null,null,null,null,null,null,null,null,null,"mmHg",null,null,"最高圧",null,null,null,null,null,null,"mmHg",null,null,null,null,null,null,null,null,null,null,null,null,null,null,null,null,null,null,null,null,null,null,null,null,null,null,null,"緑",null,null,"連携室"]
[null,null,null,null,"薬物治療",null,null,null,null,null,null,null,null,null,null,null,null,"（薬剤名："]
[null,null,null,null,null,null,null,null,null,null,null,null,null,null,null,null,null,null,null,null,null,null,null,null,"（",null,null,null,null,null,null,null,null,"）",null,null,null,null,null,null,null,null,null,null,null,null,null,null,null,null,null,null,null,"灰色",null,null,"自由"]
[null,null,null,null,"過換気療法"]
[null,null,null,null,"体温管理",null,null,null,null,null,null,null,null,null,null,null,null,null,null,null,null,null,null,null,null,"（",null,null,null,null,null,null,null,null,"）",null,null,null,null,null,null,null,null,null,null,null,null,null,null,null,null,null,null,"オレンジ",null,null,"ナースまたは"]
["禁忌事項",null,null,null,null,null,null,null,null,null,null,"（",null,null,null,null,null,null,null,null,null,"）",null,null,null,"（",null,null,null,null,null,null,null,null,null,"）",null,null,null,null,null,null,null,null,null,null,null,null,null,null,null,null,null,null,null,null,"セラピスト"]
["高次脳\n機能障害"]
[]
[null,null,null,null,null,null,null,"（",null,null,null,null,null,null,null,null,null,null,"）"]
["神経心理学的検査",null,null,null,null,null,null,null,null,null,null,null,"点",null,"実施日"]
[null,null,null,null,null,null,null,null,null,null,null,null,"点",null,"実施日"]
[null,null,null,null,"【知能】",null,null,null,null,null,null,null,null,null,null,"FIQ：",{"$f":"IF('【急性期】WAIS-Ⅲ'!$C$8=\"\",\"\",'【急性期】WAIS-Ⅲ'!$C$8)","v":""},null,null,"VIQ：",{"$f":"IF('【急性期】WAIS-Ⅲ'!$C$6=\"\",\"\",'【急性期】WAIS-Ⅲ'!$C$6)","v":""},null,null,"PIQ：",{"$f":"IF('【急性期】WAIS-Ⅲ'!$C$7=\"\",\"\",'【急性期】WAIS-Ⅲ'!$C$7)","v":""},null,null,null,null,null,null,null,null,null,null,null,"実施日",{"$f":"IF('【急性期】WAIS-Ⅲ'!$C$3=\"\",\"\",'【急性期】WAIS-Ⅲ'!$C$3)","v":""},null,null,null,null,null,null,"←直接入力出来ません。"]
[null,null,null,null,null,null,null,null,null,null,null,null,null,null,null,"FIQ：",{"$f":"IF('【急性期】WISC-Ⅲ'!$C$8=\"\",\"\",'【急性期】WISC-Ⅲ'!$C$8)","v":""},null,null,"VIQ：",{"$f":"IF('【急性期】WISC-Ⅲ'!$C$6=\"\",\"\",'【急性期】WISC-Ⅲ'!$C$6)","v":""},null,null,"PIQ：",{"$f":"IF('【急性期】WISC-Ⅲ'!$C$7=\"\",\"\",'【急性期】WISC-Ⅲ'!$C$7)","v":""},null,null,null,null,null,null,null,null,null,null,null,"実施日",{"$f":"IF('【急性期】WISC-Ⅲ'!$C$3=\"\",\"\",'【急性期】WISC-Ⅲ'!$C$3)","v":""},null,null,null,null,null,null,"←直接入力出来ません。"]
[null,null,null,null,null,null,null,null,null,null,null,null,null,null,null,"FSIQ：",{"$f":"IF('【急性期】WISC-Ⅳ'!$C$6=\"\",\"\",'【急性期】WISC-Ⅳ'!$C$6)","v":""},null,null,"VCI：",{"$f":"IF('【急性期】WISC-Ⅳ'!$C$7=\"\",\"\",'【急性期】WISC-Ⅳ'!$C$7)","v":""},null,null,"PRI：",{"$f":"IF('【急性期】WISC-Ⅳ'!$C$8=\"\",\"\",'【急性期】WISC-Ⅳ'!$C$8)","v":""},null,null,"WMI：",{"$f":"IF('【急性期】WISC-Ⅳ'!$C$9=\"\",\"\",'【急性期】WISC-Ⅳ'!$C$9)","v":""},null,null,"PSI：",{"$f":"IF('【急性期】WISC-Ⅳ'!$C$10=\"\",\"\",'【急性期】WISC-Ⅳ'!$C$10)","v":""},null,null,null,"実施日",{"$f":"IF('【急性期】WISC-Ⅳ'!$C$3=\"\",\"\",'【急性期】WISC-Ⅳ'!$C$3)","v":""},null,null,null,null,null,null,"←直接入力出来ません。"]
[]
[null,null,null,null,"【言語】",null,null,null,null,null,null,null,null,null,null,null,null,null,null,null,null,null,null,null,null,null,null,null,null,null,null,null,null,null,null,null,null,null,null,null,null,null,null,null,"↓直接入力出来ません。"]
[null,null,null,null,"【記憶】",null,null,null,null,null,null,null,null,null,null,"言語性：",{"$f":"IF('【急性期】WMS-R'!$B$25=\"\",\"\",'【急性期】WMS-R'!$B$25)","v":""},null,null,null,"視覚性：",{"$f":"IF('【急性期】WMS-R'!$B$27=\"\",\"\",'【急性期】WMS-R'!$B$27)","v":""},null,null,null,null,"一般的記憶：",{"$f":"IF('【急性期】WMS-R'!$B$29=\"\",\"\",'【急性期】WMS-R'!$B$29)","v":""},null,null,null,null,"注意集中：",{"$f":"IF('【急性期】WMS-R'!$B$31=\"\",\"\",'【急性期】WMS-R'!$B$31)","v":""},null,null,null,null,"遅延再生：",{"$f":"IF('【急性期】WMS-R'!$B$33=\"\",\"\",'【急性期】WMS-R'!$B$33)","v":""},null,null,null,"実施日",{"$f":"IF('【急性期】WMS-R'!$C$3=\"\",\"\",'【急性期】WMS-R'!$C$3)","v":""}]
[]
[null,null,null,null,"【構成】"]
[null,null,null,null,"【注意】"]
[null,null,null,null,"【遂行機能】"]
[null,null,null,null,"【その他】"]
[null,null,null,null,null,null,null,null,null,null,null,"（",null,null,null,null,null,null,null,null,null,null,null,null,null,null,"）"]
[null,null,null,null,"結果・所見"]
[]
[null,null,null,null,"特記事項（日常生活上想定される問題等）"]
[]
[]
["経過",null,null,null,"入院時",null,null,null,null,null,null,null,null,null,null,null,null,null,null,null,null,null,null,null,null,null,null,null,"退院時"]
["看護",null,"食事"]
[null,null,null,null,"　食形態",null,null,null,null,null,null,null,null,null,null,null,null,null,null,null,null,null,null,null,null,null,null,null,"　食形態"]
[null,null,null,null,null,null,null,null,null,null,"（",null,null,null,null,null,null,null,"）",null,null,null,null,null,null,null,null,null,null,null,null,null,null,null,"（",null,null,null,null,null,null,null,"）"]
[]
[null,null,"移乗"]
[null,null,"トイレ"]
[null,null,"入浴"]
[]
[null,null,"移動"]
[]
[null,null,null,null,null,null,null,"（",null,null,null,null,null,null,null,"）",null,null,null,null,null,null,null,null,null,null,null,null,null,null,null,"（",null,null,null,null,null,null,null,"）"]
[null,null,"排尿"]
[]
[null,null,"排便"]
[null,null,null,null,null,null,null,null,null,null,null,null,null,null,null,null,null,null,null,null,null,null,null,null,null,null,null,null,null,null,null,null,null,null,null,null,null,null,null,null,null,null,null,null,null,null,null,null,null,null,null,null,null,"青",null,null,"医師"]
["日常生活機能",null,null,null,"床上安静の指示"]
[null,null,null,null,"寝返り",null,null,null,null,null,null,null,null,null,null,null,null,null,null,null,null,null,null,null,null,null,null,null,null,null,null,null,null,null,null,null,null,null,null,null,null,null,null,null,null,null,null,null,null,null,null,null,null,"赤",null,null,"ナース"]
[null,null,null,null,"起き上がり"]
[null,null,null,null,"座位保持",null,null,null,null,null,null,null,null,null,null,null,null,null,null,null,null,null,null,null,null,null,null,null,null,null,null,null,null,null,null,null,null,null,null,null,null,null,null,null,null,null,null,null,null,null,null,null,null,"黄",null,null,"セラピスト"]
[null,null,null,null,"口腔清潔"]
[null,null,null,null,"衣服の着脱",null,null,null,null,null,null,null,null,null,null,null,null,null,null,null,null,null,null,null,null,null,null,null,null,null,null,null,null,null,null,null,null,null,null,null,null,null,null,null,null,null,null,null,null,null,null,null,null,"緑",null,null,"連携室"]
[null,null,null,null,"他者への意思の伝達"]
[null,null,null,null,"診療・療養上の指示が通じる",null,null,null,null,null,null,null,null,null,null,null,null,null,null,null,null,null,null,null,null,null,null,null,null,null,null,null,null,null,null,null,null,null,null,null,null,null,null,null,null,null,null,null,null,null,null,null,null,"灰色",null,null,"自由"]
[null,null,null,null,"危険行動"]
[null,null,null,null,"身体拘束",null,null,null,null,null,null,null,null,null,null,null,null,null,null,null,null,null,null,null,null,null,null,null,null,null,null,null,null,null,null,null,null,null,null,null,null,null,"(",null,null,null,null,null,null,null,null,")",null,"オレンジ",null,null,"ナースまたは"]
[null,null,null,null,"日常生活特記事項",null,null,null,null,null,null,null,null,null,null,null,null,null,null,null,null,null,null,null,null,null,null,null,null,null,null,null,null,null,null,null,null,null,null,null,null,null,null,null,null,"記入者：",null,null,null,null,null,null,null,null,null,null,"セラピスト"]
["リハビリ",null,null,null,"リハビリ初回評価日",null,null,null,null,null,null,null,null,null,null,"（",null,null,null,"）",null,null,null,null,null,null,null,null,"退院時評価"]
[null,null,"麻痺",null,"Br stage",null,null,"右上肢( 　 )　－手指( 　 )　－下肢( 　 )　　左上肢( 　 )　－手指( 　 )　－下肢( 　 )",null,null,null,null,null,null,null,null,null,null,null,null,null,null,null,null,null,null,null,null,"Br stage",null,null,"右上肢( 　 )　－手指( 　 )　－下肢( 　 )　　左上肢( 　 )　－手指( 　 )　－下肢( 　 )",null,null,null,null,null,null,null,null,null,null,null,null,null,null,null,null,null,null,null,null,null,null,null,null,null,null,null,null,null,null,null,null,null,null,null,null,null,null,null,null,null,null,null,null,null,null,null,null,null,null,null,"Br",{"$f":"MID($H$115,6,1)","v":"　"},{"$f":"MID($H$115,15,1)","v":"　"},{"$f":"MID($H$115,24,1)","v":"　"},{"$f":"MID($H$115,34,1)","v":"　"},{"$f":"MID($H$115,43,1)","v":"　"},{"$f":"MID($H$115,52,1)","v":"　"},{"$f":"IF(CG115=\"　\",1,0)+IF(CH115=\"　\",1,0)+IF(CI115=\"　\",1,0)+IF(CJ115=\"　\",1,0)+IF(CK115=\"　\",1,0)+IF(CL115=\"　\",1,0)","v":6},{"$f":"MID($AF$115,6,1)","v":"　"},{"$f":"MID($AF$115,15,1)","v":"　"},{"$f":"MID($AF$115,24,1)","v":"　"},{"$f":"MID($AF$115,34,1)","v":"　"},{"$f":"MID($AF$115,43,1)","v":"　"},{"$f":"MID($AF$115,52,1)","v":"　"},{"$f":"IF(CN115=\"　\",1,0)+IF(CO115=\"　\",1,0)+IF(CP115=\"　\",1,0)+IF(CQ115=\"　\",1,0)+IF(CR115=\"　\",1,0)+IF(CS115=\"　\",1,0)","v":6}]
[null,null,"食事"]
[null,null,null,null,"　食形態",null,null,null,null,null,null,null,null,null,null,null,null,null,null,null,null,null,null,null,null,null,null,null,"　食形態"]
[null,null,null,null,null,null,null,null,null,null,"（",null,null,null,null,null,null,null,"）",null,null,null,null,null,null,null,null,null,null,null,null,null,null,null,"（",null,null,null,null,null,null,null,"）"]
[]
[null,null,"移乗"]
[null,null,"トイレ"]
[null,null,"移動"]
[]
[null,null,null,null,null,null,null,"（",null,null,null,null,null,null,null,"）",null,null,null,null,null,null,null,null,null,null,null,null,null,null,null,"（",null,null,null,null,null,null,null,"）"]
[null,null,null,null,null,null,null,"担当者",null,null,"（",null,null,null,null,null,null,null,"）",null,null,null,null,"担当者",null,null,"（",null,null,null,null,null,null,null,"）",null,null,null,null,"担当者",null,null,"（",null,null,null,null,null,null,null,"）"]
[]
[]
[]
[]
["説明",null,null,null,null,null,null,null,null,null,null,null,null,"説明日：",null,null,null,null,null,null,null,null,null,null,"主治医："]
["転帰・転院基準",null,null,null,"転院先"]
[null,null,null,null,"転院先（",null,null,null,null,null,null,null,null,null,null,null,null,null,null,null,null,null,null,"）へ情報提供"]
[]
["脳損傷地域連携パス情報提供書"]
["基本情報",null,null,null,"現在の状況"]
[null,null,null,null,"社会復帰",null,null,null,null,null,null,null,null,null,null,null,"（",null,null,null,null,null,null,null,null,null,"）",null,null,null,null,null,null,null,null,null,"（",null,null,null,null,null,null,null,null,"）"]
[null,null,null,null,null,null,null,null,null,null,null,null,null,null,null,null,"（",null,null,null,null,null,null,null,null,"）"]
[null,null,null,null,"生活の場",null,null,null,null,null,null,null,"   （同居者の有無：",null,null,null,null,null,null,null,null,"）",null,null,null,null,null,null,"（",null,null,null,null,null,null,null,"）",null,null,null,null,null,null,"（",null,null,null,null,null,null,null,"）"]
[null,null,null,null,null,null,null,null,null,null,null,null,null,null,null,null,"（",null,null,null,null,null,null,null,null,"）",null,null,null,null,null,null,null,"（",null,null,null,null,null,null,null,null,null,null,"）"]
[null,null,null,null,"社会資源",null,null,null,null,null,null,"保険の種類",null,null,null,null,null,null,null,null,null,null,null,null,null,null,null,null,null,null,null,null,null,null,null,null,null,null,null,null,null,null,null,null,null,null,null,null,null,null,null,null,null,"青",null,null,"医師"]
[null,null,null,null,null,null,null,null,null,null,null,null,null,null,null,null,null,null,null,null,null,null,null,null,null,null,null,null,"（",null,null,null,null,null,null,null,null,"）"]
[null,null,null,null,"退院後の主治医",null,null,null,null,null,null,null,null,null,null,null,null,"（医療機関・医師名：",null,null,null,null,null,null,null,null,null,null,null,null,null,null,null,null,null,null,null,null,null,null,"）",null,null,null,null,null,null,null,null,null,null,null,null,"赤",null,null,"ナース"]
[null,null,null,null,"障害年金",null,null,null,null,null,null,null,null,null,null,null,null,null,"（",null,null,null,null,null,null,null,"）"]
[null,null,null,null,null,null,null,null,null,null,null,null,null,null,"（",null,null,null,null,null,null,null,null,null,null,null,null,null,null,null,null,null,null,null,"(",null,null,null,null,null,null,null,"）","等級：",null,null,null,"級","）",null,null,null,null,"黄",null,null,"セラピスト"]
[null,null,null,null,"身体障害者手帳",null,null,null,null,null,null,null,null,null,null,null,null,null,null,null,"(",null,null,null,null,null,null,null,")",null,null,null,null,null,null,null,"（",null,null,"）級"]
[null,null,null,null,"精神障害者保健福祉手帳",null,null,null,null,null,null,null,null,null,null,null,null,null,null,null,"(",null,null,null,null,null,null,null,")",null,null,null,null,null,null,null,"（",null,null,"）級",null,null,null,null,null,null,null,null,null,null,null,null,null,"緑",null,null,"連携室"]
[null,null,null,null,"療育手帳",null,null,null,null,null,null,null,null,null,null,null,null,null,null,null,"(",null,null,null,null,null,null,null,")",null,null,null,null,null,null,null,"（",null,null,"）級"]
[null,null,null,null,"介護保険",null,null,null,null,null,null,null,null,null,null,null,"（",null,null,null,null,null,null,null,"）",null,null,null,null,null,null,null,null,null,null,null,null,null,null,null,null,null,null,null,null,null,null,null,null,null,null,null,null,"灰色",null,null,"自由"]
[null,null,null,null,null,null,null,null,null,null,null,null,null,null,"介護度：要支援",null,null,null,null,null,null,null,null,"要介護"]
[null,null,null,null,null,null,null,null,null,null,null,null,null,null,null,null,"居宅介護支援事業所（",null,null,null,null,null,null,null,null,null,null,null,null,null,null,null,null,"）",null,"担当者（",null,null,null,null,null,null,null,null,"）",null,null,null,null,null,null,null,null,"オレンジ",null,null,"ナースまたは"]
[null,null,null,null,"障害支援区分",null,null,null,null,null,null,null,null,null,null,null,null,null,"（",null,null,null,null,null,null,null,"）",null,null,null,null,null,null,null,null,null,null,null,null,null,null,null,null,null,null,null,null,null,null,null,null,null,null,null,null,null,"セラピスト"]
[null,null,null,null,null,null,null,null,null,null,null,null,null,null,null,"(",null,null,null,null,null,null,null,null,null,null,null,null,"）"]
[null,null,null,null,null,null,null,null,null,null,null,null,null,null,null,null,null,null,null,"相談支援専門員：担当者（",null,null,null,null,null,null,null,"）",null,null,"事業所（",null,null,null,null,null,null,null,null,null,null,"）"]
[null,null,null,null,"退院後の本人・家族の希望"]
[]
[null,null,null,null,"障害に関する認識"]
[null,null,null,null,"家族状況",null,null,null,null,null,"介護者：",null,null,null,null,null,null,"（",null,null,null,null,null,null,"）",null,"介護力："]
[null,null,null,null,null,null,null,null,null,null,"キーパーソン：氏名",null,null,null,null,null,"(",null,null,null,null,null,null,null,"）",null,"本人との関係：",null,null,null,null,"（",null,null,null,null,"）"]
["説明"]
[]
[]
["医療連携上の特記事項"]

{"sheet":"【急性期】データ管理","index":3,"n_rows":388,"n_cols":20,"rows_kept":388,"cut":false,"hidden":true,"merged":[[1,0,1,2],[1,6,1,7]]}
["データ管理",null,null,null,null,null,null,null,"入力済み:0 未:1"]
["項目名",null,null,"値","備考","印刷文字","計算用",null,"入院/搬入","退院","入力日時","入力担当","ﾁｪｯｸ有","前回入力"]
["急性期病院名",null,null,{"$f":"IF(【急性期】入力シート!$AG$2=\"\",\"\",(【急性期】入力シート!$AG$2))","v":""},null,null,null,null,null,null,null,"N",{"$f":"IF(【急性期】入力シート!$BG$5=FALSE,IF(【急性期】データ管理!K3=0,FALSE,IF(【急性期】データ管理!K3<【急性期】入力シート!$BE$1,TRUE,FALSE)))","v":false}]
["氏名",null,null,{"$f":"IF(【急性期】入力シート!$E$3=\"\",\"\",【急性期】入力シート!$E$3)","v":""},null,null,null,null,null,null,null,"N",{"$f":"IF(【急性期】入力シート!$BG$5=FALSE,IF(【急性期】データ管理!K4=0,FALSE,IF(【急性期】データ管理!K4<【急性期】入力シート!$BE$1,TRUE,FALSE)))","v":false}]
["性別",null,null,0,"1:男　2:女",{"$f":"IF(D5=1,\"男\",IF(D5=2,\"女\",\"\"))","v":""},null,null,null,{"$f":"IF(F5=\"\",1,0)","v":1},null,"N",{"$f":"IF(【急性期】入力シート!$BG$5=FALSE,IF(【急性期】データ管理!K5=0,FALSE,IF(【急性期】データ管理!K5<【急性期】入力シート!$BE$1,TRUE,FALSE)))","v":false},0]
["生年月日",null,null,{"$f":"IF(【急性期】入力シート!$AF$3=\"\",\"\",【急性期】入力シート!$AF$3)","v":""},null,null,null,null,null,null,null,"N",{"$f":"IF(【急性期】入力シート!$BG$5=FALSE,IF(【急性期】データ管理!K6=0,FALSE,IF(【急性期】データ管理!K6<【急性期】入力シート!$BE$1,TRUE,FALSE)))","v":false}]
["住所",null,null,{"$f":"IF(【急性期】入力シート!$E$4=\"\",\"\",【急性期】入力シート!$E$4)","v":""},null,null,null,null,null,null,null,"N",{"$f":"IF(【急性期】入力シート!$BG$5=FALSE,IF(【急性期】データ管理!K7=0,FALSE,IF(【急性期】データ管理!K7<【急性期】入力シート!$BE$1,TRUE,FALSE)))","v":false}]
["電話番号",null,null,{"$f":"IF(【急性期】入力シート!$AI$4=\"\",\"\",【急性期】入力シート!$AI$4)","v":""},null,null,null,null,null,null,null,"N",{"$f":"IF(【急性期】入力シート!$BG$5=FALSE,IF(【急性期】データ管理!K8=0,FALSE,IF(【急性期】データ管理!K8<【急性期】入力シート!$BE$1,TRUE,FALSE)))","v":false}]
["受傷時","年月日",null,{"$f":"IF(【急性期】入力シート!$J$5=\"\",\"\",【急性期】入力シート!$J$5)","v":""},null,null,null,null,null,null,null,"D",{"$f":"IF(【急性期】入力シート!$BG$3=FALSE,IF(【急性期】データ管理!K9=0,FALSE,IF(【急性期】データ管理!K9<【急性期】入力シート!$BE$1,TRUE,FALSE)))","v":false}]
[null,"時刻",null,{"$f":"【急性期】入力シート!T5 & \":\" & 【急性期】入力シート!W5","v":":"},null,null,null,null,null,null,null,"D",{"$f":"IF(【急性期】入力シート!$BG$3=FALSE,IF(【急性期】データ管理!K10=0,FALSE,IF(【急性期】データ管理!K10<【急性期】入力シート!$BE$1,TRUE,FALSE)))","v":false}]
[null,"日時確度",null,0,"1:確定　2:推定　3:不明",{"$f":"IF(D11<>\"\",LOOKUP(D11,{0,1,2,3},{\"\",\"確定\",\"推定\",\"不明\"}),\"\")","v":""},null,null,null,{"$f":"IF(F11=\"\",1,0)","v":1},null,"D",{"$f":"IF(【急性期】入力シート!$BG$3=FALSE,IF(【急性期】データ管理!K11=0,FALSE,IF(【急性期】データ管理!K11<【急性期】入力シート!$BE$1,TRUE,FALSE)))","v":false},0]
["受傷状況","受傷原因",null,0,"1:交通事故　2:非交通事故",{"$f":"IF(D12<>\"\",LOOKUP(D12,{0,1,2},{\"\",\"交通事故\",\"非交通事故\"}),\"\")","v":""},null,null,null,null,null,"D",{"$f":"IF(【急性期】入力シート!$BG$3=FALSE,IF(【急性期】データ管理!K12=0,FALSE,IF(【急性期】データ管理!K12<【急性期】入力シート!$BE$1,TRUE,FALSE)))","v":false},0]
[null,"労災の有無",null,0,"1:無　2:有",{"$f":"IF(D13<>\"\",LOOKUP(D13,{0,1,2},{\"\",\"無\",\"有\"}),\"\")","v":""},null,null,null,null,null,"D",{"$f":"IF(【急性期】入力シート!$BG$3=FALSE,IF(【急性期】データ管理!K13=0,FALSE,IF(【急性期】データ管理!K13<【急性期】入力シート!$BE$1,TRUE,FALSE)))","v":false},0]
[null,"交通事故","患者方",0,"四輪車、二輪車、自転車、歩行者、その他",{"$f":"IF(D14<>\"\",LOOKUP(D14,{0,1,2,3,4,5},{\"\",\"四輪車\",\"二輪車\",\"自転車\",\"歩行者\",\"その他\"}),\"\")","v":""},null,null,null,null,null,"D",{"$f":"IF(【急性期】入力シート!$BG$3=FALSE,IF(【急性期】データ管理!K14=0,FALSE,IF(【急性期】データ管理!K14<【急性期】入力シート!$BE$1,TRUE,FALSE)))","v":false},0]
[null,null,"その他テキスト",{"$f":"IF(【急性期】入力シート!AL7=\"\",\"\",【急性期】入力シート!AL7)","v":""},null,null,null,null,null,null,null,"D",{"$f":"IF(【急性期】入力シート!$BG$3=FALSE,IF(【急性期】データ管理!K15=0,FALSE,IF(【急性期】データ管理!K15<【急性期】入力シート!$BE$1,TRUE,FALSE)))","v":false}]
[null,null,"相手方",0,"四輪車、二輪車、自転車、歩行者、その他",{"$f":"IF(D16<>\"\",LOOKUP(D16,{0,1,2,3,4,5},{\"\",\"四輪車\",\"二輪車\",\"自転車\",\"歩行者\",\"その他\"}),\"\")","v":""},null,null,null,null,null,"D",{"$f":"IF(【急性期】入力シート!$BG$3=FALSE,IF(【急性期】データ管理!K16=0,FALSE,IF(【急性期】データ管理!K16<【急性期】入力シート!$BE$1,TRUE,FALSE)))","v":false},0]
[null,null,"その他テキスト",{"$f":"IF(【急性期】入力シート!AL8=\"\",\"\",【急性期】入力シート!AL8)","v":""},null,null,null,null,null,null,null,"D",{"$f":"IF(【急性期】入力シート!$BG$3=FALSE,IF(【急性期】データ管理!K17=0,FALSE,IF(【急性期】データ管理!K17<【急性期】入力シート!$BE$1,TRUE,FALSE)))","v":false}]
[null,"非交通事故","原因",0,"転倒、転落、墜落、打撲、その他",{"$f":"IF(D18<>\"\",LOOKUP(D18,{0,1,2,3,4,5},{\"\",\"転倒\",\"転落\",\"墜落\",\"打撲\",\"その他\"}),\"\")","v":""},null,null,null,null,null,"D",{"$f":"IF(【急性期】入力シート!$BG$3=FALSE,IF(【急性期】データ管理!K18=0,FALSE,IF(【急性期】データ管理!K18<【急性期】入力シート!$BE$1,TRUE,FALSE)))","v":false},0]
[null,null,"その他テキスト",{"$f":"IF(【急性期】入力シート!AL9=\"\",\"\",【急性期】入力シート!AL9)","v":""},null,null,null,null,null,null,null,"D",{"$f":"IF(【急性期】入力シート!$BG$3=FALSE,IF(【急性期】データ管理!K19=0,FALSE,IF(【急性期】データ管理!K19<【急性期】入力シート!$BE$1,TRUE,FALSE)))","v":false}]
["搬入時","年月日",null,{"$f":"IF(【急性期】入力シート!E11=\"\",\"\",【急性期】入力シート!E11)","v":""},null,null,null,null,null,null,null,"D",{"$f":"IF(【急性期】入力シート!$BG$3=FALSE,IF(【急性期】データ管理!K20=0,FALSE,IF(【急性期】データ管理!K20<【急性期】入力シート!$BE$1,TRUE,FALSE)))","v":false}]
[null,"全搬送時間",null,{"$f":"IF(【急性期】入力シート!F12=\"\",\"\",【急性期】入力シート!F12)","v":"-"},null,null,null,null,null,null,null,"D",{"$f":"IF(【急性期】入力シート!$BG$3=FALSE,IF(【急性期】データ管理!K21=0,FALSE,IF(【急性期】データ管理!K21<【急性期】入力シート!$BE$1,TRUE,FALSE)))","v":false},"-"]
[null,"搬送方法",null,0,"救急車　自家用車　歩行　ドクターカー　ドクターヘリ　不明",{"$f":"IF(D22<>\"\",LOOKUP(D22,{0,1,2,3,4,5,6},{\"\",\"救急車\",\"自家用車\",\"歩行\",\"ドクターカー\",\"ドクターヘリ\",\"不明\"}),\"\")","v":""},null,null,{"$f":"IF(F22=\"\",1,0)","v":1},null,null,"D",{"$f":"IF(【急性期】入力シート!$BG$3=FALSE,IF(【急性期】データ管理!K22=0,FALSE,IF(【急性期】データ管理!K22<【急性期】入力シート!$BE$1,TRUE,FALSE)))","v":false},0]
[null,"意識","JCS",{"$f":"IF(【急性期】入力シート!G15=\"\",\"\",【急性期】入力シート!G15)","v":""},null,null,null,null,null,null,null,"D",{"$f":"IF(【急性期】入力シート!$BG$3=FALSE,IF(【急性期】データ管理!K23=0,FALSE,IF(【急性期】データ管理!K23<【急性期】入力シート!$BE$1,TRUE,FALSE)))","v":false}]
[null,null,"GCS",{"$f":"IF(【急性期】入力シート!O15=0,\"\",【急性期】入力シート!O15)","v":""},null,null,null,null,null,null,null,"D",{"$f":"IF(【急性期】入力シート!$BG$3=FALSE,IF(【急性期】データ管理!K24=0,FALSE,IF(【急性期】データ管理!K24<【急性期】入力シート!$BE$1,TRUE,FALSE)))","v":false}]
[null,null,"血圧",{"$f":"IF(【急性期】入力シート!F16=\"\",\"\",【急性期】入力シート!F16)","v":""},null,null,null,null,null,null,null,"D",{"$f":"IF(【急性期】入力シート!$BG$3=FALSE,IF(【急性期】データ管理!K25=0,FALSE,IF(【急性期】データ管理!K25<【急性期】入力シート!$BE$1,TRUE,FALSE)))","v":false}]
[null,"瞳孔所見",null,0,"両側散大　片側散大　異常なし　検査せず・不明",{"$f":"IF(D26<>\"\",LOOKUP(D26,{0,1,2,3,4},{\"\",\"両側散大\",\"片側散大\",\"異常なし\",\"検査せず・不明\"}),\"\")","v":""},null,null,{"$f":"IF(F26=\"\",1,0)","v":1},null,null,"D",{"$f":"IF(【急性期】入力シート!$BG$3=FALSE,IF(【急性期】データ管理!K26=0,FALSE,IF(【急性期】データ管理!K26<【急性期】入力シート!$BE$1,TRUE,FALSE)))","v":false},0]
[null,"酸素飽和度",null,{"$f":"IF(【急性期】入力シート!F19=\"\",\"\",【急性期】入力シート!F19)","v":""},null,null,null,null,null,null,null,"D",{"$f":"IF(【急性期】入力シート!$BG$3=FALSE,IF(【急性期】データ管理!K27=0,FALSE,IF(【急性期】データ管理!K27<【急性期】入力シート!$BE$1,TRUE,FALSE)))","v":false}]
[null,"MMT",null,{"$f":"【急性期】入力シート!E20","v":"右上肢（   ）　左上肢（   ）　右下肢（   ）　左下肢（   ）"},null,null,null,null,null,null,null,"D",{"$f":"IF(【急性期】入力シート!$BG$3=FALSE,IF(【急性期】データ管理!K28=0,FALSE,IF(【急性期】データ管理!K28<【急性期】入力シート!$BE$1,TRUE,FALSE)))","v":false},"右上肢（   ）　左上肢（   ）　右下肢（   ）　左下肢（   ）",{"$f":"MID($D28,6,1)","v":" "},{"$f":"MID($D28,15,1)","v":" "},{"$f":"MID($D28,24,1)","v":" "},{"$f":"MID($D28,33,1)","v":" "}]
["最悪時","年月日",null,{"$f":"IF(【急性期】入力シート!V11=\"\",\"\",【急性期】入力シート!V11)","v":""},null,null,null,null,null,null,null,"D",{"$f":"IF(【急性期】入力シート!$BG$3=FALSE,IF(【急性期】データ管理!K29=0,FALSE,IF(【急性期】データ管理!K29<【急性期】入力シート!$BE$1,TRUE,FALSE)))","v":false}]
[null,"意識","JCS",{"$f":"IF(【急性期】入力シート!W15=\"\",\"\",【急性期】入力シート!W15)","v":""},null,null,null,null,null,null,null,"D",{"$f":"IF(【急性期】入力シート!$BG$3=FALSE,IF(【急性期】データ管理!K30=0,FALSE,IF(【急性期】データ管理!K30<【急性期】入力シート!$BE$1,TRUE,FALSE)))","v":false}]
[null,null,"GCS",{"$f":"IF(【急性期】入力シート!AE15=0,\"\",【急性期】入力シート!AE15)","v":""},null,null,null,null,null,null,null,"D",{"$f":"IF(【急性期】入力シート!$BG$3=FALSE,IF(【急性期】データ管理!K31=0,FALSE,IF(【急性期】データ管理!K31<【急性期】入力シート!$BE$1,TRUE,FALSE)))","v":false}]
[null,"瞳孔所見",null,0,"両側散大　片側散大　異常なし　検査せず・不明",{"$f":"IF(D32<>\"\",LOOKUP(D32,{0,1,2,3,4},{\"\",\"両側散大\",\"片側散大\",\"異常なし\",\"検査せず・不明\"}),\"\")","v":""},null,null,null,null,null,"D",{"$f":"IF(【急性期】入力シート!$BG$3=FALSE,IF(【急性期】データ管理!K32=0,FALSE,IF(【急性期】データ管理!K32<【急性期】入力シート!$BE$1,TRUE,FALSE)))","v":false},0]
[null,"MMT",null,{"$f":"【急性期】入力シート!U20","v":"右上肢（   ）　左上肢（   ）　右下肢（   ）　左下肢（   ）"},null,null,null,null,null,null,null,"D",{"$f":"IF(【急性期】入力シート!$BG$3=FALSE,IF(【急性期】データ管理!K33=0,FALSE,IF(【急性期】データ管理!K33<【急性期】入力シート!$BE$1,TRUE,FALSE)))","v":false},"右上肢（   ）　左上肢（   ）　右下肢（   ）　左下肢（   ）",{"$f":"MID($D33,6,1)","v":" "},{"$f":"MID($D33,15,1)","v":" "},{"$f":"MID($D33,24,1)","v":" "},{"$f":"MID($D33,33,1)","v":" "}]
["退院時","年月日",null,{"$f":"IF(【急性期】入力シート!AL11=\"\",\"\",【急性期】入力シート!AL11)","v":""},null,null,null,null,null,null,null,"D",{"$f":"IF(【急性期】入力シート!$BG$3=FALSE,IF(【急性期】データ管理!K34=0,FALSE,IF(【急性期】データ管理!K34<【急性期】入力シート!$BE$1,TRUE,FALSE)))","v":false}]
[null,"MMT",null,{"$f":"【急性期】入力シート!AK20","v":"右上肢（   ）　左上肢（   ）　右下肢（   ）　左下肢（   ）"},null,null,null,null,null,null,null,"D",{"$f":"IF(【急性期】入力シート!$BG$3=FALSE,IF(【急性期】データ管理!K35=0,FALSE,IF(【急性期】データ管理!K35<【急性期】入力シート!$BE$1,TRUE,FALSE)))","v":false},"右上肢（   ）　左上肢（   ）　右下肢（   ）　左下肢（   ）",{"$f":"MID($D35,6,1)","v":" "},{"$f":"MID($D35,15,1)","v":" "},{"$f":"MID($D35,24,1)","v":" "},{"$f":"MID($D35,33,1)","v":" "}]
[null,"転帰",null,0,"自宅退院　転院　施設入所　その他",{"$f":"IF(D36<>\"\",LOOKUP(D36,{0,1,2,3,4},{\"\",\"自宅退院\",\"転院\",\"施設入所\",\"その他\"}),\"\")  & IF(D36=4,F37,\"\")","v":""},null,null,null,{"$f":"IF(F36=\"\",1,0)","v":1},null,"D",{"$f":"IF(【急性期】入力シート!$BG$3=FALSE,IF(【急性期】データ管理!K36=0,FALSE,IF(【急性期】データ管理!K36<【急性期】入力シート!$BE$1,TRUE,FALSE)))","v":false},0]
[null,null,"その他テキスト",{"$f":"IF(【急性期】入力シート!AO22=\"\",\"\",【急性期】入力シート!AO22)","v":""},null,{"$f":"\"(\" &D37 &\")\"","v":"()"},null,null,null,null,null,"D",{"$f":"IF(【急性期】入力シート!$BG$3=FALSE,IF(【急性期】データ管理!K37=0,FALSE,IF(【急性期】データ管理!K37<【急性期】入力シート!$BE$1,TRUE,FALSE)))","v":false}]
[null,"GOS",null,0,"GR MD SD VS D",{"$f":"IF(D38<>\"\",LOOKUP(D38,{0,1,2,3,4,5},{\"\",\"GR\",\"MD\",\"SD\",\"VS\",\"D\"}),\"\")","v":""},null,null,null,{"$f":"IF(F38=\"\",1,0)","v":1},null,"D",{"$f":"IF(【急性期】入力シート!$BG$3=FALSE,IF(【急性期】データ管理!K38=0,FALSE,IF(【急性期】データ管理!K38<【急性期】入力シート!$BE$1,TRUE,FALSE)))","v":false},0]
["脳損傷の状況"]
["診断名",null,null,{"$f":"IF(【急性期】入力シート!H24=\"\",\"\",【急性期】入力シート!H24)","v":""},null,null,null,null,null,null,null,"D",{"$f":"IF(【急性期】入力シート!$BG$3=FALSE,IF(【急性期】データ管理!K40=0,FALSE,IF(【急性期】データ管理!K40<【急性期】入力シート!$BE$1,TRUE,FALSE)))","v":false}]
["ＣＴ","撮影日",null,{"$f":"IF(【急性期】入力シート!L25=\"\",\"\",【急性期】入力シート!L25)","v":""},null,null,null,null,null,null,null,"D",{"$f":"IF(【急性期】入力シート!$BG$3=FALSE,IF(【急性期】データ管理!K41=0,FALSE,IF(【急性期】データ管理!K41<【急性期】入力シート!$BE$1,TRUE,FALSE)))","v":false}]
[null,"所見",null,{"$f":"IF(【急性期】入力シート!V25=\"\",\"\",【急性期】入力シート!V25)","v":""},null,null,null,null,null,null,null,"D",{"$f":"IF(【急性期】入力シート!$BG$3=FALSE,IF(【急性期】データ管理!K42=0,FALSE,IF(【急性期】データ管理!K42<【急性期】入力シート!$BE$1,TRUE,FALSE)))","v":false}]
["頭蓋骨骨折",null,null,0,"1無　2:有　3:不明",{"$f":"IF(D43<>\"\",LOOKUP(D43,{0,1,2,3},{\"\",\"無\",\"有\",\"不明\"}),\"\")","v":""},null,null,null,{"$f":"IF(F43=\"\",1,0)","v":1},null,"D",{"$f":"IF(【急性期】入力シート!$BG$3=FALSE,IF(【急性期】データ管理!K43=0,FALSE,IF(【急性期】データ管理!K43<【急性期】入力シート!$BE$1,TRUE,FALSE)))","v":false},0]
["気脳症",null,null,0,"1無　2:有　3:不明",{"$f":"IF(D44<>\"\",LOOKUP(D44,{0,1,2,3},{\"\",\"無\",\"有\",\"不明\"}),\"\")","v":""},null,null,null,1,null,"D",{"$f":"IF(【急性期】入力シート!$BG$3=FALSE,IF(【急性期】データ管理!K44=0,FALSE,IF(【急性期】データ管理!K44<【急性期】入力シート!$BE$1,TRUE,FALSE)))","v":false},0]
["頭蓋内異物",null,null,0,"1無　2:有　3:不明",{"$f":"IF(D45<>\"\",LOOKUP(D45,{0,1,2,3},{\"\",\"無\",\"有\",\"不明\"}),\"\")","v":""},null,null,null,1,null,"D",{"$f":"IF(【急性期】入力シート!$BG$3=FALSE,IF(【急性期】データ管理!K45=0,FALSE,IF(【急性期】データ管理!K45<【急性期】入力シート!$BE$1,TRUE,FALSE)))","v":false},0]
["くも膜下出血",null,null,0,"1無　2:有　3:不明",{"$f":"IF(D46<>\"\",LOOKUP(D46,{0,1,2,3},{\"\",\"無\",\"有\",\"不明\"}),\"\")","v":""},null,null,null,1,null,"D",{"$f":"IF(【急性期】入力シート!$BG$3=FALSE,IF(【急性期】データ管理!K46=0,FALSE,IF(【急性期】データ管理!K46<【急性期】入力シート!$BE$1,TRUE,FALSE)))","v":false},0]
["脳室内出血",null,null,0,"1無　2:有　3:不明",{"$f":"IF(D47<>\"\",LOOKUP(D47,{0,1,2,3},{\"\",\"無\",\"有\",\"不明\"}),\"\")","v":""},null,null,null,1,null,"D",{"$f":"IF(【急性期】入力シート!$BG$3=FALSE,IF(【急性期】データ管理!K47=0,FALSE,IF(【急性期】データ管理!K47<【急性期】入力シート!$BE$1,TRUE,FALSE)))","v":false},0]
["CT分類（TCDB)",null,null,0,"1:DI Ⅰ,2:DI Ⅱ,3:DI Ⅲ,4:DI Ⅳ,5:Evacuated mass,6:non-EM",{"$f":"IF(D48<>\"\",LOOKUP(D48,{0,1,2,3,4,5,6},{\"\",\"DI Ⅰ\",\"DI Ⅱ\",\"DI Ⅲ\",\"DI Ⅳ\",\"Evacuated mass\",\"non-EM\"}),\"\")","v":""},null,null,null,1,null,"D",{"$f":"IF(【急性期】入力シート!$BG$3=FALSE,IF(【急性期】データ管理!K48=0,FALSE,IF(【急性期】データ管理!K48<【急性期】入力シート!$BE$1,TRUE,FALSE)))","v":false},0]
["腫瘤性病変",null,null,0,"1:硬膜外血腫,2:急性硬膜下血腫,3:頭蓋内出血,4:脳挫傷,5:その他",{"$f":"IF(D49<>\"\",LOOKUP(D49,{0,1,2,3,4,5},{\"\",\"硬膜外血腫\",\"急性硬膜下血腫\",\"頭蓋内出血\",\"脳挫傷\",\"その他\"}),\"\")","v":""},null,null,null,1,null,"D",{"$f":"IF(【急性期】入力シート!$BG$3=FALSE,IF(【急性期】データ管理!K49=0,FALSE,IF(【急性期】データ管理!K49<【急性期】入力シート!$BE$1,TRUE,FALSE)))","v":false},0]
["血腫の部位 右","チェック","前頭葉",false,null,{"$f":"IF(D50=TRUE,C50,\"\")","v":""},null,null,null,null,null,"D",{"$f":"IF(【急性期】入力シート!$BG$3=FALSE,IF(【急性期】データ管理!K50=0,FALSE,IF(【急性期】データ管理!K50<【急性期】入力シート!$BE$1,TRUE,FALSE)))","v":false},false]
[null,null,"側頭葉",false,null,{"$f":"IF(D51=TRUE,C51,\"\")","v":""},null,null,null,null,null,null,null,false]
[null,null,"頭頂葉",false,null,"",null,null,null,null,null,null,null,false]
[null,null,"後頭葉",false,null,"",null,null,null,null,null,null,null,false]
[null,null,"基底核",false,null,"",null,null,null,null,null,null,null,false]
[null,null,"脳幹",false,null,"",null,{"$f":"IF(H56<>\"\", MID(H56,2,200),\"\")","v":""},null,null,null,null,null,false]
[null,null,"脳室内",false,null,"",null,{"$f":"  IF(F50<>\"\",\"，\" & F50,\"\")  &  IF(F51<>\"\",\"，\" & F51,\"\")  & IF(F52<>\"\",\"，\" & F52,\"\") & IF(F53<>\"\",\"，\" & F53,\"\") & IF(F54<>\"\",\"，\" & F54,\"\") & IF(F55<>\"\",\"，\" & F55,\"\") & IF(F56<>\"\",\"，\" & F56,\"\")","v":""},null,null,null,null,null,false]
[null,"値","前頭葉",{"$f":"IF(【急性期】入力シート!P33=\"\",\"\",【急性期】入力シート!P33)","v":""},null,null,null,null,null,null,null,"D",{"$f":"IF(【急性期】入力シート!$BG$3=FALSE,IF(【急性期】データ管理!K57=0,FALSE,IF(【急性期】データ管理!K57<【急性期】入力シート!$BE$1,TRUE,FALSE)))","v":false}]
[null,null,"側頭葉",{"$f":"IF(【急性期】入力シート!P34=\"\",\"\",【急性期】入力シート!P34)","v":""},null,null,null,null,null,null,null,"D",{"$f":"IF(【急性期】入力シート!$BG$3=FALSE,IF(【急性期】データ管理!K58=0,FALSE,IF(【急性期】データ管理!K58<【急性期】入力シート!$BE$1,TRUE,FALSE)))","v":false}]
[null,null,"頭頂葉",{"$f":"IF(【急性期】入力シート!P35=\"\",\"\",【急性期】入力シート!P35)","v":""},null,null,null,null,null,null,null,"D",{"$f":"IF(【急性期】入力シート!$BG$3=FALSE,IF(【急性期】データ管理!K59=0,FALSE,IF(【急性期】データ管理!K59<【急性期】入力シート!$BE$1,TRUE,FALSE)))","v":false}]
[null,null,"後頭葉",{"$f":"IF(【急性期】入力シート!P36=\"\",\"\",【急性期】入力シート!P36)","v":""},null,null,null,null,null,null,null,"D",{"$f":"IF(【急性期】入力シート!$BG$3=FALSE,IF(【急性期】データ管理!K60=0,FALSE,IF(【急性期】データ管理!K60<【急性期】入力シート!$BE$1,TRUE,FALSE)))","v":false}]
[null,null,"基底核",{"$f":"IF(【急性期】入力シート!P37=\"\",\"\",【急性期】入力シート!P37)","v":""},null,null,null,null,null,null,null,"D",{"$f":"IF(【急性期】入力シート!$BG$3=FALSE,IF(【急性期】データ管理!K61=0,FALSE,IF(【急性期】データ管理!K61<【急性期】入力シート!$BE$1,TRUE,FALSE)))","v":false}]
[null,null,"脳幹",{"$f":"IF(【急性期】入力シート!P38=\"\",\"\",【急性期】入力シート!P38)","v":""},null,null,null,null,null,null,null,"D",{"$f":"IF(【急性期】入力シート!$BG$3=FALSE,IF(【急性期】データ管理!K62=0,FALSE,IF(【急性期】データ管理!K62<【急性期】入力シート!$BE$1,TRUE,FALSE)))","v":false}]
[null,null,"脳室内→削除",null,null,null,null,null,null,null,null,"D",{"$f":"IF(【急性期】入力シート!$BG$3=FALSE,IF(【急性期】データ管理!K63=0,FALSE,IF(【急性期】データ管理!K63<【急性期】入力シート!$BE$1,TRUE,FALSE)))","v":false}]
["血腫の部位 左","チェック","前頭葉",false,null,{"$f":"IF(D64=TRUE,C64,\"\")","v":""},null,null,null,null,null,null,null,false]
[null,null,"側頭葉",false,null,{"$f":"IF(D65=TRUE,C65,\"\")","v":""},null,null,null,null,null,null,null,false]
[null,null,"頭頂葉",false,null,"",null,null,null,null,null,null,null,false]
[null,null,"後頭葉",false,null,"",null,null,null,null,null,null,null,false]
[null,null,"基底核",false,null,"",null,null,null,null,null,null,null,false]
[null,null,"脳幹",false,null,"",null,{"$f":"IF(H70<>\"\", MID(H70,2,200),\"\")","v":""},null,null,null,null,null,false]
[null,null,"脳室内",false,null,"",null,{"$f":"  IF(F64<>\"\",\"，\" & F64,\"\")  &  IF(F65<>\"\",\"，\" & F65,\"\")  & IF(F66<>\"\",\"，\" & F66,\"\") & IF(F67<>\"\",\"，\" & F67,\"\") & IF(F68<>\"\",\"，\" & F68,\"\") & IF(F69<>\"\",\"，\" & F69,\"\") & IF(F70<>\"\",\"，\" & F70,\"\")","v":""},null,null,null,null,null,false]
[null,"値","前頭葉",{"$f":"IF(【急性期】入力シート!Z33=\"\",\"\",【急性期】入力シート!Z33)","v":""},null,null,null,null,null,null,null,"D",{"$f":"IF(【急性期】入力シート!$BG$3=FALSE,IF(【急性期】データ管理!K71=0,FALSE,IF(【急性期】データ管理!K71<【急性期】入力シート!$BE$1,TRUE,FALSE)))","v":false}]
[null,null,"側頭葉",{"$f":"IF(【急性期】入力シート!Z34=\"\",\"\",【急性期】入力シート!Z34)","v":""},null,null,null,null,null,null,null,"D",{"$f":"IF(【急性期】入力シート!$BG$3=FALSE,IF(【急性期】データ管理!K72=0,FALSE,IF(【急性期】データ管理!K72<【急性期】入力シート!$BE$1,TRUE,FALSE)))","v":false}]
[null,null,"頭頂葉",{"$f":"IF(【急性期】入力シート!Z35=\"\",\"\",【急性期】入力シート!Z35)","v":""},null,null,null,null,null,null,null,"D",{"$f":"IF(【急性期】入力シート!$BG$3=FALSE,IF(【急性期】データ管理!K73=0,FALSE,IF(【急性期】データ管理!K73<【急性期】入力シート!$BE$1,TRUE,FALSE)))","v":false}]
[null,null,"後頭葉",{"$f":"IF(【急性期】入力シート!Z36=\"\",\"\",【急性期】入力シート!Z36)","v":""},null,null,null,null,null,null,null,"D",{"$f":"IF(【急性期】入力シート!$BG$3=FALSE,IF(【急性期】データ管理!K74=0,FALSE,IF(【急性期】データ管理!K74<【急性期】入力シート!$BE$1,TRUE,FALSE)))","v":false}]
[null,null,"基底核",{"$f":"IF(【急性期】入力シート!Z37=\"\",\"\",【急性期】入力シート!Z37)","v":""},null,null,null,null,null,null,null,"D",{"$f":"IF(【急性期】入力シート!$BG$3=FALSE,IF(【急性期】データ管理!K75=0,FALSE,IF(【急性期】データ管理!K75<【急性期】入力シート!$BE$1,TRUE,FALSE)))","v":false}]
[null,null,"脳幹",{"$f":"IF(【急性期】入力シート!Z38=\"\",\"\",【急性期】入力シート!Z38)","v":""},null,null,null,null,null,null,null,"D",{"$f":"IF(【急性期】入力シート!$BG$3=FALSE,IF(【急性期】データ管理!K76=0,FALSE,IF(【急性期】データ管理!K76<【急性期】入力シート!$BE$1,TRUE,FALSE)))","v":false}]
[null,null,"脳室内→削除",null,null,null,null,null,null,null,null,"D",{"$f":"IF(【急性期】入力シート!$BG$3=FALSE,IF(【急性期】データ管理!K77=0,FALSE,IF(【急性期】データ管理!K77<【急性期】入力シート!$BE$1,TRUE,FALSE)))","v":false}]
["中脳周囲槽",null,null,0,"1:正常　2:圧迫　3:消失 4:判定不能",{"$f":"IF(D78<>\"\",LOOKUP(D78,{0,1,2,3,4},{\"\",\"正常\",\"圧迫\",\"消失\",\"判定不能\"}),\"\")","v":""},null,null,null,null,null,"D",{"$f":"IF(【急性期】入力シート!$BG$3=FALSE,IF(【急性期】データ管理!K78=0,FALSE,IF(【急性期】データ管理!K78<【急性期】入力シート!$BE$1,TRUE,FALSE)))","v":false},0]
["正中偏位",null,null,{"$f":"IF(【急性期】入力シート!AF40=\"\",\"\",【急性期】入力シート!AF40)","v":""},null,null,null,null,null,null,null,"D",{"$f":"IF(【急性期】入力シート!$BG$3=FALSE,IF(【急性期】データ管理!K79=0,FALSE,IF(【急性期】データ管理!K79<【急性期】入力シート!$BE$1,TRUE,FALSE)))","v":false}]
["MRI","撮影日",null,{"$f":"IF(【急性期】入力シート!I41=\"\",\"\",【急性期】入力シート!I41)","v":""},null,null,null,null,null,null,null,"D",{"$f":"IF(【急性期】入力シート!$BG$3=FALSE,IF(【急性期】データ管理!K80=0,FALSE,IF(【急性期】データ管理!K80<【急性期】入力シート!$BE$1,TRUE,FALSE)))","v":false}]
[null,"所見",null,{"$f":"IF(【急性期】入力シート!T41=\"\",\"\",【急性期】入力シート!T41)","v":""},null,null,null,null,null,null,null,"D",{"$f":"IF(【急性期】入力シート!$BG$3=FALSE,IF(【急性期】データ管理!K81=0,FALSE,IF(【急性期】データ管理!K81<【急性期】入力シート!$BE$1,TRUE,FALSE)))","v":false}]
[null,"脳梁膨大部･脳幹のDAI所見",null,0,"1無　2:有",{"$f":"IF(D82<>\"\",LOOKUP(D82,{0,1,2},{\"\",\"無\",\"有\"}),\"\")","v":""},null,null,null,null,null,"D",{"$f":"IF(【急性期】入力シート!$BG$3=FALSE,IF(【急性期】データ管理!K82=0,FALSE,IF(【急性期】データ管理!K82<【急性期】入力シート!$BE$1,TRUE,FALSE)))","v":false},0]
[null,"Microbleeding","有無",0,"1無　2:有",{"$f":"IF(D83<>\"\",LOOKUP(D83,{0,1,2},{\"\",\"無\",\"有\"}),\"\")","v":""},null,null,null,null,null,"D",{"$f":"IF(【急性期】入力シート!$BG$3=FALSE,IF(【急性期】データ管理!K83=0,FALSE,IF(【急性期】データ管理!K83<【急性期】入力シート!$BE$1,TRUE,FALSE)))","v":false},0]
[null,"場所",null,{"$f":"IF(【急性期】入力シート!AC43=\"\",\"\",【急性期】入力シート!AC43)","v":""},null,null,null,null,null,null,null,"D",{"$f":"IF(【急性期】入力シート!$BG$3=FALSE,IF(【急性期】データ管理!K84=0,FALSE,IF(【急性期】データ管理!K84<【急性期】入力シート!$BE$1,TRUE,FALSE)))","v":false}]
[null,"数",null,0,"1:1～4　2:5～9　3:10～19 4:20以上",{"$f":"IF(D85<>\"\",LOOKUP(D85,{0,1,2,3,4},{\"\",\":1～4\",\"5～9\",\"10～19\",\"20以上\"}),\"\")","v":""},null,null,null,null,null,"D",{"$f":"IF(【急性期】入力シート!$BG$3=FALSE,IF(【急性期】データ管理!K85=0,FALSE,IF(【急性期】データ管理!K85<【急性期】入力シート!$BE$1,TRUE,FALSE)))","v":false},0]
["身体状況","Talk&deteriorates",null,0,"1無　2:有",{"$f":"IF(D86<>\"\",LOOKUP(D86,{0,1,2},{\"\",\"無\",\"有\"}),\"\")","v":""},null,null,null,null,null,"N",{"$f":"IF(【急性期】入力シート!$BG$5=FALSE,IF(【急性期】データ管理!K86=0,FALSE,IF(【急性期】データ管理!K86<【急性期】入力シート!$BE$1,TRUE,FALSE)))","v":false},0]
[null,"多発外傷",null,0,"1無　2:有",{"$f":"IF(D87<>\"\",LOOKUP(D87,{0,1,2},{\"\",\"無\",\"有\"}),\"\")","v":""},null,null,null,null,null,"N",{"$f":"IF(【急性期】入力シート!$BG$5=FALSE,IF(【急性期】データ管理!K87=0,FALSE,IF(【急性期】データ管理!K87<【急性期】入力シート!$BE$1,TRUE,FALSE)))","v":false},0]
[null,"　場所","顔面",false,null,{"$f":"IF(D88=TRUE,C88,\"\")","v":""},null,null,null,null,null,"N",{"$f":"IF(【急性期】入力シート!$BG$5=FALSE,IF(【急性期】データ管理!K88=0,FALSE,IF(【急性期】データ管理!K88<【急性期】入力シート!$BE$1,TRUE,FALSE)))","v":false},false]
[null,null,"頸部",false,null,"",null,null,null,null,null,null,null,false]
[null,null,"胸部",false,null,"",null,null,null,null,null,null,null,false]
[null,null,"腹部",false,null,"",null,null,null,null,null,null,null,false]
[null,null,"骨盤",false,null,"",null,{"$f":"IF(H93<>\"\", MID(H93,2,200),\"\")","v":""},null,null,null,null,null,false]
[null,null,"四肢",false,null,"",null,{"$f":"  IF(F88<>\"\",\"，\" & F88,\"\")  & IF(F89<>\"\",\"，\" & F89,\"\") & IF(F90<>\"\",\"，\" & F90,\"\") & IF(F91<>\"\",\"，\" & F91,\"\") & IF(F92<>\"\",\"，\" & F92,\"\") & IF(F93<>\"\",\"，\" & F93,\"\")","v":""},null,null,null,null,null,false]
[null,"興奮・安静困難",null,0,"1無　2:有",{"$f":"IF(D94<>\"\",LOOKUP(D94,{0,1,2},{\"\",\"無\",\"有\"}),\"\")","v":""},null,null,null,null,null,"N",{"$f":"IF(【急性期】入力シート!$BG$5=FALSE,IF(【急性期】データ管理!K94=0,FALSE,IF(【急性期】データ管理!K94<【急性期】入力シート!$BE$1,TRUE,FALSE)))","v":false},0]
[null,"視野障害",null,0,"1無　2:有",{"$f":"IF(D95<>\"\",LOOKUP(D95,{0,1,2},{\"\",\"無\",\"有\"}),\"\")","v":""},null,null,null,null,null,"N",{"$f":"IF(【急性期】入力シート!$BG$5=FALSE,IF(【急性期】データ管理!K95=0,FALSE,IF(【急性期】データ管理!K95<【急性期】入力シート!$BE$1,TRUE,FALSE)))","v":false},0]
[null,"感覚障害",null,0,"1無　2:有",{"$f":"IF(D96<>\"\",LOOKUP(D96,{0,1,2},{\"\",\"無\",\"有\"}),\"\")","v":""},null,null,null,null,null,"N",{"$f":"IF(【急性期】入力シート!$BG$5=FALSE,IF(【急性期】データ管理!K96=0,FALSE,IF(【急性期】データ管理!K96<【急性期】入力シート!$BE$1,TRUE,FALSE)))","v":false},0]
[null,"疼痛",null,0,"1無　2:有",{"$f":"IF(D97<>\"\",LOOKUP(D97,{0,1,2},{\"\",\"無\",\"有\"}),\"\")","v":""},null,null,null,null,null,"N",{"$f":"IF(【急性期】入力シート!$BG$5=FALSE,IF(【急性期】データ管理!K97=0,FALSE,IF(【急性期】データ管理!K97<【急性期】入力シート!$BE$1,TRUE,FALSE)))","v":false},0]
[null,"拘縮",null,0,"1無　2:有",{"$f":"IF(D98<>\"\",LOOKUP(D98,{0,1,2},{\"\",\"無\",\"有\"}),\"\")","v":""},null,null,null,null,null,"N",{"$f":"IF(【急性期】入力シート!$BG$5=FALSE,IF(【急性期】データ管理!K98=0,FALSE,IF(【急性期】データ管理!K98<【急性期】入力シート!$BE$1,TRUE,FALSE)))","v":false},0]
[null,null,"部位",{"$f":"IF(【急性期】入力シート!T51=\"\",\"\",【急性期】入力シート!T51)","v":""},null,null,null,null,null,null,null,"N",{"$f":"IF(【急性期】入力シート!$BG$5=FALSE,IF(【急性期】データ管理!K99=0,FALSE,IF(【急性期】データ管理!K99<【急性期】入力シート!$BE$1,TRUE,FALSE)))","v":false}]
[null,"嚥下障害",null,0,"1無　2:有",{"$f":"IF(D100<>\"\",LOOKUP(D100,{0,1,2},{\"\",\"無\",\"有\"}),\"\")","v":""},null,null,null,null,null,"N",{"$f":"IF(【急性期】入力シート!$BG$5=FALSE,IF(【急性期】データ管理!K100=0,FALSE,IF(【急性期】データ管理!K100<【急性期】入力シート!$BE$1,TRUE,FALSE)))","v":false},0]
[null,"肺炎",null,0,"1無　2:有",{"$f":"IF(D101<>\"\",LOOKUP(D101,{0,1,2},{\"\",\"無\",\"有\"}),\"\")","v":""},null,null,null,null,null,"N",{"$f":"IF(【急性期】入力シート!$BG$5=FALSE,IF(【急性期】データ管理!K101=0,FALSE,IF(【急性期】データ管理!K101<【急性期】入力シート!$BE$1,TRUE,FALSE)))","v":false},0]
[null,"尿路感染症",null,0,"1無　2:有",{"$f":"IF(D102<>\"\",LOOKUP(D102,{0,1,2},{\"\",\"無\",\"有\"}),\"\")","v":""},null,null,null,null,null,"N",{"$f":"IF(【急性期】入力シート!$BG$5=FALSE,IF(【急性期】データ管理!K102=0,FALSE,IF(【急性期】データ管理!K102<【急性期】入力シート!$BE$1,TRUE,FALSE)))","v":false},0]
[null,"その他合併症",null,0,"1無　2:有",{"$f":"IF(D103<>\"\",LOOKUP(D103,{0,1,2},{\"\",\"無\",\"有\"}),\"\")","v":""},null,null,null,null,null,"N",{"$f":"IF(【急性期】入力シート!$BG$5=FALSE,IF(【急性期】データ管理!K103=0,FALSE,IF(【急性期】データ管理!K103<【急性期】入力シート!$BE$1,TRUE,FALSE)))","v":false},0]
[null,null,"テキスト",{"$f":"IF(【急性期】入力シート!R55=\"\",\"\",【急性期】入力シート!R55)","v":""},null,null,null,null,null,null,null,"N",{"$f":"IF(【急性期】入力シート!$BG$5=FALSE,IF(【急性期】データ管理!K104=0,FALSE,IF(【急性期】データ管理!K104<【急性期】入力シート!$BE$1,TRUE,FALSE)))","v":false}]
[null,"その他感染症",null,0,"1無　2:有",{"$f":"IF(D105<>\"\",LOOKUP(D105,{0,1,2},{\"\",\"無\",\"有\"}),\"\")","v":""},null,null,null,null,null,"N",{"$f":"IF(【急性期】入力シート!$BG$5=FALSE,IF(【急性期】データ管理!K105=0,FALSE,IF(【急性期】データ管理!K105<【急性期】入力シート!$BE$1,TRUE,FALSE)))","v":false},0]
[null,null,"部位",{"$f":"IF(【急性期】入力シート!T56=\"\",\"\",【急性期】入力シート!T56)","v":""},null,null,null,null,null,null,null,"N",{"$f":"IF(【急性期】入力シート!$BG$5=FALSE,IF(【急性期】データ管理!K106=0,FALSE,IF(【急性期】データ管理!K106<【急性期】入力シート!$BE$1,TRUE,FALSE)))","v":false}]
["治療","脳神経外科手術",null,0,"1無　2:有",{"$f":"IF(D107<>\"\",LOOKUP(D107,{0,1,2},{\"\",\"無\",\"有\"}),\"\")","v":""},null,null,null,null,null,"D",{"$f":"IF(【急性期】入力シート!$BG$3=FALSE,IF(【急性期】データ管理!K107=0,FALSE,IF(【急性期】データ管理!K107<【急性期】入力シート!$BE$1,TRUE,FALSE)))","v":false},0]
[null,null,"手術日",{"$f":"IF(【急性期】入力シート!U57=\"\",\"\",【急性期】入力シート!U57)","v":""},null,null,null,null,null,null,null,"D",{"$f":"IF(【急性期】入力シート!$BG$3=FALSE,IF(【急性期】データ管理!K108=0,FALSE,IF(【急性期】データ管理!K108<【急性期】入力シート!$BE$1,TRUE,FALSE)))","v":false}]
[null,null,"術式",{"$f":"IF(【急性期】入力シート!AE57=\"\",\"\",【急性期】入力シート!AE57)","v":""},null,null,null,null,null,null,null,"D",{"$f":"IF(【急性期】入力シート!$BG$3=FALSE,IF(【急性期】データ管理!K109=0,FALSE,IF(【急性期】データ管理!K109<【急性期】入力シート!$BE$1,TRUE,FALSE)))","v":false}]
[null,"頭蓋内圧モニタリング",null,0,"1無　2:有",{"$f":"IF(D110<>\"\",LOOKUP(D110,{0,1,2},{\"\",\"無\",\"有\"}),\"\")","v":""},null,null,null,null,null,"D",{"$f":"IF(【急性期】入力シート!$BG$3=FALSE,IF(【急性期】データ管理!K110=0,FALSE,IF(【急性期】データ管理!K110<【急性期】入力シート!$BE$1,TRUE,FALSE)))","v":false},0]
[null,"初圧",null,{"$f":"IF(【急性期】入力シート!L59=\"\",\"\",【急性期】入力シート!L59)","v":""},null,null,null,null,null,null,null,"D",{"$f":"IF(【急性期】入力シート!$BG$3=FALSE,IF(【急性期】データ管理!K111=0,FALSE,IF(【急性期】データ管理!K111<【急性期】入力シート!$BE$1,TRUE,FALSE)))","v":false}]
[null,null,"最高圧",{"$f":"IF(【急性期】入力シート!V59=\"\",\"\",【急性期】入力シート!V59)","v":""},null,null,null,null,null,null,null,"D",{"$f":"IF(【急性期】入力シート!$BG$3=FALSE,IF(【急性期】データ管理!K112=0,FALSE,IF(【急性期】データ管理!K112<【急性期】入力シート!$BE$1,TRUE,FALSE)))","v":false}]
[null,"薬物治療",null,0,"1無　2:有",{"$f":"IF(D113<>\"\",LOOKUP(D113,{0,1,2},{\"\",\"無\",\"有\"}),\"\")","v":""},null,null,null,null,null,"D",{"$f":"IF(【急性期】入力シート!$BG$3=FALSE,IF(【急性期】データ管理!K113=0,FALSE,IF(【急性期】データ管理!K113<【急性期】入力シート!$BE$1,TRUE,FALSE)))","v":false},0]
[null,"　薬剤名","高浸透利尿剤",false,null,{"$f":"IF(D114=TRUE,C114,\"\")","v":""},null,null,null,null,null,"D",{"$f":"IF(【急性期】入力シート!$BG$3=FALSE,IF(【急性期】データ管理!K114=0,FALSE,IF(【急性期】データ管理!K114<【急性期】入力シート!$BE$1,TRUE,FALSE)))","v":false},false]
[null,null,"鎮痛・鎮静剤",false,null,{"$f":"IF(D115=TRUE,C115,\"\")","v":""},null,null,null,null,null,null,null,false]
[null,null,"抗てんかん薬",false,null,{"$f":"IF(D116=TRUE,C116,\"\")","v":""},null,null,null,null,null,null,null,false]
[null,null,"バルビツレート療法",false,null,{"$f":"IF(D117=TRUE,C117,\"\")","v":""},null,{"$f":"IF(H118<>\"\", MID(H118,2,200),\"\")","v":""},null,null,null,null,null,false]
[null,null,"その他",false,null,{"$f":"IF(D118=TRUE,IF(D119<>\"\",C118&\"(\" & D119 & \")\",C118),\"\")","v":""},null,{"$f":"  IF(F114<>\"\",\"，\" & F114,\"\") & IF(F115<>\"\",\"，\" & F115,\"\") & IF(F116<>\"\",\"，\" & F116,\"\") & IF(F117<>\"\",\"，\" & F117,\"\") & IF(F118<>\"\",\"，\" & F118,\"\")","v":""},null,null,null,null,null,false]
[null,null,"その他テキスト",{"$f":"IF(【急性期】入力シート!Z61=\"\",\"\",【急性期】入力シート!Z61)","v":""},null,null,null,null,null,null,null,"D",{"$f":"IF(【急性期】入力シート!$BG$3=FALSE,IF(【急性期】データ管理!K119=0,FALSE,IF(【急性期】データ管理!K119<【急性期】入力シート!$BE$1,TRUE,FALSE)))","v":false}]
[null,"過換気療法",null,0,"1無　2:有",{"$f":"IF(D120<>\"\",LOOKUP(D120,{0,1,2},{\"\",\"無\",\"有\"}),\"\")","v":""},null,null,null,null,null,"D",{"$f":"IF(【急性期】入力シート!$BG$3=FALSE,IF(【急性期】データ管理!K120=0,FALSE,IF(【急性期】データ管理!K120<【急性期】入力シート!$BE$1,TRUE,FALSE)))","v":false},0]
[null,"体温管理",null,0,"1:脳低温　2:積極的平温 3:なし 4:その他",{"$f":"IF(D121<>\"\",LOOKUP(D121,{0,1,2,3,4},{\"\",\"脳低温\",\"積極的平温\",\"なし\",\"その他\"}),\"\") & IF(D121=4,F122,\"\")","v":""},null,null,null,null,null,"D",{"$f":"IF(【急性期】入力シート!$BG$3=FALSE,IF(【急性期】データ管理!K121=0,FALSE,IF(【急性期】データ管理!K121<【急性期】入力シート!$BE$1,TRUE,FALSE)))","v":false},0]
[null,null,"その他テキスト",{"$f":"IF(【急性期】入力シート!AA63=\"\",\"\",【急性期】入力シート!AA63)","v":""},null,{"$f":"\"（\" &D122 &\"）\"","v":"（）"},null,null,null,null,null,"D",{"$f":"IF(【急性期】入力シート!$BG$3=FALSE,IF(【急性期】データ管理!K122=0,FALSE,IF(【急性期】データ管理!K122<【急性期】入力シート!$BE$1,TRUE,FALSE)))","v":false}]
["禁忌事項","なし",null,false,null,{"$f":"IF(D123=TRUE,B123,\"\")","v":""},null,null,null,null,null,"N",{"$f":"IF(【急性期】入力シート!$BG$5=FALSE,IF(【急性期】データ管理!K123=0,FALSE,IF(【急性期】データ管理!K123<【急性期】入力シート!$BE$1,TRUE,FALSE)))","v":false},false]
[null,"アレルギー",null,false,null,{"$f":"IF(D124=TRUE,IF(D125<>\"\",B124&\"(\" & D125 & \")\",B124),\"\")","v":""},null,null,null,null,null,null,null,false]
[null,null,"テキスト",{"$f":"IF(【急性期】入力シート!M64=\"\",\"\",【急性期】入力シート!M64)","v":""},null,null,null,{"$f":"IF(H126<>\"\", MID(H126,2,200),\"\")","v":""},null,null,null,"N",{"$f":"IF(【急性期】入力シート!$BG$5=FALSE,IF(【急性期】データ管理!K125=0,FALSE,IF(【急性期】データ管理!K125<【急性期】入力シート!$BE$1,TRUE,FALSE)))","v":false}]
[null,"その他",null,false,null,{"$f":"IF(D126=TRUE,IF(D127<>\"\",B126&\"(\" & D127 & \")\",B126),\"\")","v":""},null,{"$f":"  IF(F123<>\"\",\"，\" & F123,\"\") & IF(F124<>\"\",\"，\" & F124,\"\") & IF(F125<>\"\",\"，\" & F125,\"\") & IF(F126<>\"\",\"，\" & F126,\"\")","v":""},null,null,null,null,null,false]
[null,null,"テキスト",{"$f":"IF(【急性期】入力シート!AA64=\"\",\"\",【急性期】入力シート!AA64)","v":""},null,null,null,null,null,null,null,"N",{"$f":"IF(【急性期】入力シート!$BG$5=FALSE,IF(【急性期】データ管理!K127=0,FALSE,IF(【急性期】データ管理!K127<【急性期】入力シート!$BE$1,TRUE,FALSE)))","v":false}]
["高次脳機能障害","学習・記憶障害",null,false,null,{"$f":"IF(D128=TRUE,B128,\"\")","v":""},null,null,null,null,null,"D",{"$f":"IF(【急性期】入力シート!$BG$3=FALSE,IF(【急性期】データ管理!K128=0,FALSE,IF(【急性期】データ管理!K128<【急性期】入力シート!$BE$1,TRUE,FALSE)))","v":false},false]
[null,"注意障害",null,false,null,{"$f":"IF(D129=TRUE,B129,\"\")","v":""},null,null,null,null,null,null,null,false]
[null,"言語障害（失語、構音障害）",null,false,null,"",null,null,null,null,null,null,null,false]
[null,"失行",null,false,null,"",null,null,null,null,null,null,null,false]
[null,"失認",null,false,null,"",null,null,null,null,null,null,null,false]
[null,"構成障害",null,false,null,"",null,null,null,null,null,null,null,false]
[null,"半側空間無視",null,false,null,"",null,null,null,null,null,null,null,false]
[null,"実行機能障害",null,false,null,"",null,null,null,null,null,null,null,false]
[null,"全般的知能低下",null,false,null,"",null,null,null,null,null,null,null,false]
[null,"病識欠如（病態失認）",null,false,null,"",null,null,null,null,null,null,null,false]
[null,"固執性",null,false,null,"",null,null,null,null,null,null,null,false]
[null,"感情コントロール障害（易怒性等）",null,false,null,"",null,null,null,null,null,null,null,false]
[null,"興奮・脱抑制",null,false,null,"",null,null,null,null,null,null,null,false]
[null,"意欲･自発性低下",null,false,null,"",null,{"$f":"IF(H142<>\"\", MID(H142,2,200),\"\")","v":""},null,null,null,null,null,false]
[null,"その他",null,false,null,{"$f":"IF(D142=TRUE,IF(D143<>\"\",B142&\"（\" & D143 & \"）\",B142),\"\")","v":""},null,{"$f":" IF(F128<>\"\",\"，\" & F128,\"\") &IF(F129<>\"\",\"，\" & F129,\"\") &IF(F130<>\"\",\"，\" & F130,\"\") &IF(F131<>\"\",\"，\" & F131,\"\") &IF(F132<>\"\",\"，\" & F132,\"\") &IF(F133<>\"\",\"，\" & F133,\"\") &IF(F134<>\"\",\"，\" & F134,\"\") &IF(F135<>\"\",\"，\" & F135,\"\") &IF(F136<>\"\",\"，\" & F136,\"\") &IF(F137<>\"\",\"，\" & F137,\"\") & IF(F138<>\"\",\"，\" & F138,\"\") & IF(F139<>\"\",\"，\" & F139,\"\") & IF(F140<>\"\",\"，\" & F140,\"\") & IF(F141<>\"\",\"，\" & F141,\"\") & IF(F142<>\"\",\"，\" & F142,\"\")","v":""},null,null,null,null,null,false]
[null,null,"その他テキスト",{"$f":"IF(【急性期】入力シート!I67=\"\",\"\",【急性期】入力シート!I67)","v":""},null,null,null,null,null,null,null,"D",{"$f":"IF(【急性期】入力シート!$BG$3=FALSE,IF(【急性期】データ管理!K143=0,FALSE,IF(【急性期】データ管理!K143<【急性期】入力シート!$BE$1,TRUE,FALSE)))","v":false}]
["神経心理学的検査","HDS-R",null,false,null,null,null,null,null,null,null,"N",{"$f":"IF(【急性期】入力シート!$BG$5=FALSE,IF(【急性期】データ管理!K144=0,FALSE,IF(【急性期】データ管理!K144<【急性期】入力シート!$BE$1,TRUE,FALSE)))","v":false},false]
[null,null,"点数",{"$f":"IF(【急性期】入力シート!J68=\"\",\"\",【急性期】入力シート!J68)","v":""},null,null,null,null,null,null,null,"N",{"$f":"IF(【急性期】入力シート!$BG$5=FALSE,IF(【急性期】データ管理!K145=0,FALSE,IF(【急性期】データ管理!K145<【急性期】入力シート!$BE$1,TRUE,FALSE)))","v":false}]
[null,null,"実施日",{"$f":"IF(【急性期】入力シート!R68=\"\",\"\",【急性期】入力シート!R68)","v":""},null,null,null,null,null,null,null,"N",{"$f":"IF(【急性期】入力シート!$BG$5=FALSE,IF(【急性期】データ管理!K146=0,FALSE,IF(【急性期】データ管理!K146<【急性期】入力シート!$BE$1,TRUE,FALSE)))","v":false}]
[null,"MMSE",null,false,null,null,null,null,null,null,null,"N",{"$f":"IF(【急性期】入力シート!$BG$5=FALSE,IF(【急性期】データ管理!K147=0,FALSE,IF(【急性期】データ管理!K147<【急性期】入力シート!$BE$1,TRUE,FALSE)))","v":false},false]
[null,null,"点数",{"$f":"IF(【急性期】入力シート!J69=\"\",\"\",【急性期】入力シート!J69)","v":""},null,null,null,null,null,null,null,"N",{"$f":"IF(【急性期】入力シート!$BG$5=FALSE,IF(【急性期】データ管理!K148=0,FALSE,IF(【急性期】データ管理!K148<【急性期】入力シート!$BE$1,TRUE,FALSE)))","v":false}]
[null,null,"実施日",{"$f":"IF(【急性期】入力シート!R69=\"\",\"\",【急性期】入力シート!R69)","v":""},null,null,null,null,null,null,null,"N",{"$f":"IF(【急性期】入力シート!$BG$5=FALSE,IF(【急性期】データ管理!K149=0,FALSE,IF(【急性期】データ管理!K149<【急性期】入力シート!$BE$1,TRUE,FALSE)))","v":false}]
[null,"WAIS-Ⅲ",null,false,null,null,null,null,null,null,null,"N",{"$f":"IF(【急性期】入力シート!$BG$5=FALSE,IF(【急性期】データ管理!K150=0,FALSE,IF(【急性期】データ管理!K150<【急性期】入力シート!$BE$1,TRUE,FALSE)))","v":false},false]
[null,null,"FIQ",{"$f":"【急性期】入力シート!Q70","v":""}]
[null,null,"VIQ",{"$f":"【急性期】入力シート!U70","v":""}]
[null,null,"PIQ",{"$f":"【急性期】入力シート!Y70","v":""}]
[null,null,"実施日",{"$f":"【急性期】入力シート!AL70","v":""}]
[null,"WISC-Ⅲ",null,false,null,null,null,null,null,null,null,"N",{"$f":"IF(【急性期】入力シート!$BG$5=FALSE,IF(【急性期】データ管理!K155=0,FALSE,IF(【急性期】データ管理!K155<【急性期】入力シート!$BE$1,TRUE,FALSE)))","v":false},false]
[null,null,"FIQ",{"$f":"【急性期】入力シート!Q71","v":""}]
[null,null,"VIQ",{"$f":"【急性期】入力シート!U71","v":""}]
[null,null,"PIQ",{"$f":"【急性期】入力シート!Y71","v":""}]
[null,null,"実施日",{"$f":"【急性期】入力シート!AL72","v":""}]
[null,"WISC-Ⅳ",null,false,null,null,null,null,null,null,null,"N",{"$f":"IF(【急性期】入力シート!$BG$5=FALSE,IF(【急性期】データ管理!K160=0,FALSE,IF(【急性期】データ管理!K160<【急性期】入力シート!$BE$1,TRUE,FALSE)))","v":false},false]
[null,null,"FSIQ",{"$f":"【急性期】入力シート!Q72","v":""}]
[null,null,"VCI",{"$f":"【急性期】入力シート!U72","v":""}]
[null,null,"PRI",{"$f":"【急性期】入力シート!Y72","v":""}]
[null,null,"WMI",{"$f":"【急性期】入力シート!AC72","v":""}]
[null,null,"PSI",{"$f":"【急性期】入力シート!AG72","v":""}]
[null,null,"実施日",{"$f":"【急性期】入力シート!AL72","v":""}]
[null,"レーヴン色彩マトリックス検査",null,false,null,null,null,null,null,null,null,"N",{"$f":"IF(【急性期】入力シート!$BG$5=FALSE,IF(【急性期】データ管理!K167=0,FALSE,IF(【急性期】データ管理!K167<【急性期】入力シート!$BE$1,TRUE,FALSE)))","v":false},false]
[null,"COGNISTAT",null,false,null,null,null,null,null,null,null,"N",{"$f":"IF(【急性期】入力シート!$BG$5=FALSE,IF(【急性期】データ管理!K168=0,FALSE,IF(【急性期】データ管理!K168<【急性期】入力シート!$BE$1,TRUE,FALSE)))","v":false},false]
[null,"大脇式精薄児用知能検査",null,false,null,null,null,null,null,null,null,"N",{"$f":"IF(【急性期】入力シート!$BG$5=FALSE,IF(【急性期】データ管理!K169=0,FALSE,IF(【急性期】データ管理!K169<【急性期】入力シート!$BE$1,TRUE,FALSE)))","v":false},false]
[null,"田中・ビネー式知能検査",null,false,null,null,null,null,null,null,null,"N",{"$f":"IF(【急性期】入力シート!$BG$5=FALSE,IF(【急性期】データ管理!K170=0,FALSE,IF(【急性期】データ管理!K170<【急性期】入力シート!$BE$1,TRUE,FALSE)))","v":false},false]
[null,"標準失語症検査",null,false,null,null,null,null,null,null,null,"N",{"$f":"IF(【急性期】入力シート!$BG$5=FALSE,IF(【急性期】データ管理!K171=0,FALSE,IF(【急性期】データ管理!K171<【急性期】入力シート!$BE$1,TRUE,FALSE)))","v":false},false]
[null,"SALA失語症検査",null,false,null,null,null,null,null,null,null,"N",{"$f":"IF(【急性期】入力シート!$BG$5=FALSE,IF(【急性期】データ管理!K172=0,FALSE,IF(【急性期】データ管理!K172<【急性期】入力シート!$BE$1,TRUE,FALSE)))","v":false},false]
[null,"WAB失語症検査",null,false,null,null,null,null,null,null,null,"N",{"$f":"IF(【急性期】入力シート!$BG$5=FALSE,IF(【急性期】データ管理!K173=0,FALSE,IF(【急性期】データ管理!K173<【急性期】入力シート!$BE$1,TRUE,FALSE)))","v":false},false]
[null,"WMS-R",null,false,null,null,null,null,null,null,null,"N",{"$f":"IF(【急性期】入力シート!$BG$5=FALSE,IF(【急性期】データ管理!K174=0,FALSE,IF(【急性期】データ管理!K174<【急性期】入力シート!$BE$1,TRUE,FALSE)))","v":false},false]
[null,null,"言語性"]
[null,null,"視覚性"]
[null,null,"注意集中"]
[null,null,"遅延再生"]
[null,null,"実施日",{"$f":"【急性期】入力シート!AS75","v":""}]
[null,"リバーミード行動記憶検査",null,false,null,null,null,null,null,null,null,"N",{"$f":"IF(【急性期】入力シート!$BG$5=FALSE,IF(【急性期】データ管理!K180=0,FALSE,IF(【急性期】データ管理!K180<【急性期】入力シート!$BE$1,TRUE,FALSE)))","v":false},false]
[null,"三宅式記銘検査",null,false,null,null,null,null,null,null,null,"N",{"$f":"IF(【急性期】入力シート!$BG$5=FALSE,IF(【急性期】データ管理!K181=0,FALSE,IF(【急性期】データ管理!K181<【急性期】入力シート!$BE$1,TRUE,FALSE)))","v":false},false]
[null,"ベントン視覚記銘検査",null,false,null,null,null,null,null,null,null,"N",{"$f":"IF(【急性期】入力シート!$BG$5=FALSE,IF(【急性期】データ管理!K182=0,FALSE,IF(【急性期】データ管理!K182<【急性期】入力シート!$BE$1,TRUE,FALSE)))","v":false},false]
[null,"コース立方体組み合わせテスト",null,false,null,null,null,null,null,null,null,"N",{"$f":"IF(【急性期】入力シート!$BG$5=FALSE,IF(【急性期】データ管理!K183=0,FALSE,IF(【急性期】データ管理!K183<【急性期】入力シート!$BE$1,TRUE,FALSE)))","v":false},false]
[null,"TMT",null,false,null,null,null,null,null,null,null,"N",{"$f":"IF(【急性期】入力シート!$BG$5=FALSE,IF(【急性期】データ管理!K184=0,FALSE,IF(【急性期】データ管理!K184<【急性期】入力シート!$BE$1,TRUE,FALSE)))","v":false},false]
[null,"CAT",null,false,null,null,null,null,null,null,null,"N",{"$f":"IF(【急性期】入力シート!$BG$5=FALSE,IF(【急性期】データ管理!K185=0,FALSE,IF(【急性期】データ管理!K185<【急性期】入力シート!$BE$1,TRUE,FALSE)))","v":false},false]
[null,"D-CAT",null,false,null,null,null,null,null,null,null,"N",{"$f":"IF(【急性期】入力シート!$BG$5=FALSE,IF(【急性期】データ管理!K186=0,FALSE,IF(【急性期】データ管理!K186<【急性期】入力シート!$BE$1,TRUE,FALSE)))","v":false},false]
[null,"PASAT",null,false,null,null,null,null,null,null,null,"N",{"$f":"IF(【急性期】入力シート!$BG$5=FALSE,IF(【急性期】データ管理!K187=0,FALSE,IF(【急性期】データ管理!K187<【急性期】入力シート!$BE$1,TRUE,FALSE)))","v":false},false]
[null,"BAD",null,false,null,null,null,null,null,null,null,"N",{"$f":"IF(【急性期】入力シート!$BG$5=FALSE,IF(【急性期】データ管理!K188=0,FALSE,IF(【急性期】データ管理!K188<【急性期】入力シート!$BE$1,TRUE,FALSE)))","v":false},false]
[null,"ウィスコンシンカード分類課題",null,false,null,null,null,null,null,null,null,"N",{"$f":"IF(【急性期】入力シート!$BG$5=FALSE,IF(【急性期】データ管理!K189=0,FALSE,IF(【急性期】データ管理!K189<【急性期】入力シート!$BE$1,TRUE,FALSE)))","v":false},false]
[null,"前頭葉機能検査（FAB)",null,false,null,null,null,null,null,null,null,"N",{"$f":"IF(【急性期】入力シート!$BG$5=FALSE,IF(【急性期】データ管理!K190=0,FALSE,IF(【急性期】データ管理!K190<【急性期】入力シート!$BE$1,TRUE,FALSE)))","v":false},false]
[null,"BIT(行動性無視検査)",null,false,null,null,null,null,null,null,null,"N",{"$f":"IF(【急性期】入力シート!$BG$5=FALSE,IF(【急性期】データ管理!K191=0,FALSE,IF(【急性期】データ管理!K191<【急性期】入力シート!$BE$1,TRUE,FALSE)))","v":false},false]
[null,"VPTA(標準高次視知覚検査)",null,false,null,null,null,null,null,null,null,"N",{"$f":"IF(【急性期】入力シート!$BG$5=FALSE,IF(【急性期】データ管理!K192=0,FALSE,IF(【急性期】データ管理!K192<【急性期】入力シート!$BE$1,TRUE,FALSE)))","v":false},false]
[null,"SPTA(標準高次動作性検査)",null,false,null,null,null,null,null,null,null,"N",{"$f":"IF(【急性期】入力シート!$BG$5=FALSE,IF(【急性期】データ管理!K193=0,FALSE,IF(【急性期】データ管理!K193<【急性期】入力シート!$BE$1,TRUE,FALSE)))","v":false},false]
[null,"その他",null,false,null,null,null,null,null,null,null,"N",{"$f":"IF(【急性期】入力シート!$BG$5=FALSE,IF(【急性期】データ管理!K194=0,FALSE,IF(【急性期】データ管理!K194<【急性期】入力シート!$BE$1,TRUE,FALSE)))","v":false},false]
[null,null,"その他テキスト",{"$f":"IF(【急性期】入力シート!M81=\"\",\"\",【急性期】入力シート!M81)","v":""},null,{"$f":"IF(D195=\"\",\"\",\"（\"&D195 &\"）\")","v":""},null,null,null,null,null,"N",{"$f":"IF(【急性期】入力シート!$BG$5=FALSE,IF(【急性期】データ管理!K195=0,FALSE,IF(【急性期】データ管理!K195<【急性期】入力シート!$BE$1,TRUE,FALSE)))","v":false}]
[null,"結果・所見",null,{"$f":"IF(【急性期】入力シート!I82=\"\",\"\",【急性期】入力シート!I82)","v":""},null,null,null,null,null,null,null,"N",{"$f":"IF(【急性期】入力シート!$BG$5=FALSE,IF(【急性期】データ管理!K196=0,FALSE,IF(【急性期】データ管理!K196<【急性期】入力シート!$BE$1,TRUE,FALSE)))","v":false}]
[null,"特記事項",null,{"$f":"IF(【急性期】入力シート!I85=\"\",\"\",【急性期】入力シート!I85)","v":""},null,null,null,null,null,null,null,"N",{"$f":"IF(【急性期】入力シート!$BG$5=FALSE,IF(【急性期】データ管理!K197=0,FALSE,IF(【急性期】データ管理!K197<【急性期】入力シート!$BE$1,TRUE,FALSE)))","v":false}]
["入院時　看護","食事",null,0,"1:自立 2:部分介助 3:全介助",{"$f":"IF(D198<>\"\",LOOKUP(D198,{0,1,2,3},{\"\",\"自立\",\"部分介助\",\"全介助\"}),\"\")","v":""},null,null,null,null,null,"N",{"$f":"IF(【急性期】入力シート!$BG$5=FALSE,IF(【急性期】データ管理!K198=0,FALSE,IF(【急性期】データ管理!K198<【急性期】入力シート!$BE$1,TRUE,FALSE)))","v":false},0]
[null,null,"食形態",0,"1:常食 2:きざみ食 3:ペースト食",{"$f":"IF(D199<>\"\",LOOKUP(D199,{0,1,2,3},{\"\",\"常食\",\"きざみ食\",\"ペースト食\"}),\"\")","v":""},null,{"$f":"IF(D199>0, C199 & \"：\" & F199,\"\")","v":""},null,null,null,"N",{"$f":"IF(【急性期】入力シート!$BG$5=FALSE,IF(【急性期】データ管理!K199=0,FALSE,IF(【急性期】データ管理!K199<【急性期】入力シート!$BE$1,TRUE,FALSE)))","v":false},0]
[null,"　　","その他",false,null,{"$f":"IF(D200=TRUE,IF(D201<>\"\",\"(その他：\" & D201 & \")\",C200),\"\")","v":""},null,null,null,null,null,"N",{"$f":"IF(【急性期】入力シート!$BG$5=FALSE,IF(【急性期】データ管理!K200=0,FALSE,IF(【急性期】データ管理!K200<【急性期】入力シート!$BE$1,TRUE,FALSE)))","v":false},false]
[null,null,"その他テキスト",{"$f":"IF(【急性期】入力シート!L90=\"\",\"\",【急性期】入力シート!L90)","v":""},null,null,null,null,null,null,null,"N",{"$f":"IF(【急性期】入力シート!$BG$5=FALSE,IF(【急性期】データ管理!K201=0,FALSE,IF(【急性期】データ管理!K201<【急性期】入力シート!$BE$1,TRUE,FALSE)))","v":false}]
[null,null,"胃管",false,null,{"$f":"IF(D202=TRUE,C202,\"\")","v":""},null,null,null,null,null,"N",{"$f":"IF(【急性期】入力シート!$BG$5=FALSE,IF(【急性期】データ管理!K202=0,FALSE,IF(【急性期】データ管理!K202<【急性期】入力シート!$BE$1,TRUE,FALSE)))","v":false},false]
[null,null,"胃瘻",false,null,{"$f":"IF(D203=TRUE,C203,\"\")","v":""},null,{"$f":"IF(H204<>\"\", MID(H204,2,200),\"\")","v":""},null,null,null,null,null,false]
[null,null,"点滴",false,null,{"$f":"IF(D204=TRUE,C204,\"\")","v":""},null,{"$f":" IF(H199<>\"\",\"，\" & H199,\"\") & IF(F200<>\"\",\" \" & F200,\"\") & IF(F202<>\"\",\"，\" & F202,\"\") & IF(F203<>\"\",\"，\" & F203,\"\") & IF(F204<>\"\",\"，\" & F204,\"\")","v":""},null,null,null,null,null,false]
[null,"移乗",null,0,"1:自立 2:介助監視 3:部分介助 4:全介助",{"$f":"IF(D205<>\"\",LOOKUP(D205,{0,1,2,3,4},{\"\",\"自立\",\"介助監視\",\"部分介助\",\"全介助\"}),\"\")","v":""},null,null,null,null,null,"N",{"$f":"IF(【急性期】入力シート!$BG$5=FALSE,IF(【急性期】データ管理!K205=0,FALSE,IF(【急性期】データ管理!K205<【急性期】入力シート!$BE$1,TRUE,FALSE)))","v":false},0]
[null,"トイレ",null,0,"1:自立 2:部分介助 3:全介助",{"$f":"IF(D206<>\"\",LOOKUP(D206,{0,1,2,3},{\"\",\"自立\",\"部分介助\",\"全介助\"}),\"\")","v":""},null,null,null,null,null,"N",{"$f":"IF(【急性期】入力シート!$BG$5=FALSE,IF(【急性期】データ管理!K206=0,FALSE,IF(【急性期】データ管理!K206<【急性期】入力シート!$BE$1,TRUE,FALSE)))","v":false},0]
[null,"入浴","介助",0,"1:自立 2:部分介助 3:全介助",{"$f":"IF(D207<>\"\",LOOKUP(D207,{0,1,2,3},{\"\",\"自立\",\"部分介助\",\"全介助\"}),\"\")","v":""},null,null,null,null,null,"N",{"$f":"IF(【急性期】入力シート!$BG$5=FALSE,IF(【急性期】データ管理!K207=0,FALSE,IF(【急性期】データ管理!K207<【急性期】入力シート!$BE$1,TRUE,FALSE)))","v":false},0]
[null,null,"方法",0,"1:通常入浴 2:シャワー 3:機械入浴 4:清拭",{"$f":"IF(D208<>\"\",LOOKUP(D208,{0,1,2,3,4},{\"\",\"通常入浴\",\"シャワー\",\"機械入浴\",\"清拭\"}),\"\")","v":""},null,null,null,null,null,"N",{"$f":"IF(【急性期】入力シート!$BG$5=FALSE,IF(【急性期】データ管理!K208=0,FALSE,IF(【急性期】データ管理!K208<【急性期】入力シート!$BE$1,TRUE,FALSE)))","v":false},0]
[null,"移動","介助",0,"1:自立 2:介助監視 3:全介助",{"$f":"IF(D209<>\"\",LOOKUP(D209,{0,1,2,3},{\"\",\"自立\",\"介助監視\",\"全介助\"}),\"\")","v":""},null,null,null,null,null,"N",{"$f":"IF(【急性期】入力シート!$BG$5=FALSE,IF(【急性期】データ管理!K209=0,FALSE,IF(【急性期】データ管理!K209<【急性期】入力シート!$BE$1,TRUE,FALSE)))","v":false},0]
[null,null,"独歩",false,null,{"$f":"IF(D210=TRUE,C210,\"\")","v":""},null,null,null,null,null,"N",{"$f":"IF(【急性期】入力シート!$BG$5=FALSE,IF(【急性期】データ管理!K210=0,FALSE,IF(【急性期】データ管理!K210<【急性期】入力シート!$BE$1,TRUE,FALSE)))","v":false},false]
[null,null,"杖",false,null,{"$f":"IF(D211=TRUE,C211,\"\")","v":""},null,null,null,null,null,null,null,false]
[null,null,"歩行器",false,null,{"$f":"IF(D212=TRUE,C212,\"\")","v":""},null,null,null,null,null,null,null,false]
[null,null,"車いす",false,null,{"$f":"IF(D213=TRUE,C213,\"\")","v":""},null,null,null,null,null,null,null,false]
[null,null,"装具",false,null,{"$f":"IF(D214=TRUE,C214,\"\")","v":""},null,{"$f":"IF(H215<>\"\", MID(H215,2,200),\"\")","v":""},null,null,null,null,null,false]
[null,null,"その他",false,null,{"$f":"IF(D215=TRUE,IF(D216<>\"\",C215&\"(\" & D216 & \")\",C215),\"\")","v":""},"計算用",{"$f":"IF(F210<>\"\",\"，\" & F210,\"\")  & IF(F211<>\"\",\"，\" & F211,\"\") & IF(F212<>\"\",\"，\" & F212,\"\") & IF(F213<>\"\",\"，\" & F213,\"\") & IF(F214<>\"\",\"，\" & F214,\"\") & IF(F215<>\"\",\"，\" & F215,\"\")","v":""},null,null,null,null,null,false]
[null,null,"その他テキスト",{"$f":"IF(【急性期】入力シート!I98=\"\",\"\",【急性期】入力シート!I98)","v":""},null,null,null,null,null,null,null,"N",{"$f":"IF(【急性期】入力シート!$BG$5=FALSE,IF(【急性期】データ管理!K216=0,FALSE,IF(【急性期】データ管理!K216<【急性期】入力シート!$BE$1,TRUE,FALSE)))","v":false}]
[null,"排尿","介助",0,"1:失禁なし 2:時に失禁 3:全介助",{"$f":"IF(D217<>\"\",LOOKUP(D217,{0,1,2,3},{\"\",\"失禁なし\",\"時に失禁\",\"全介助\"}),\"\")","v":""},null,null,null,null,null,"N",{"$f":"IF(【急性期】入力シート!$BG$5=FALSE,IF(【急性期】データ管理!K217=0,FALSE,IF(【急性期】データ管理!K217<【急性期】入力シート!$BE$1,TRUE,FALSE)))","v":false},0]
[null,null,"トイレ",false,null,{"$f":"IF(D218=TRUE,C218,\"\")","v":""},null,null,null,null,null,"N",{"$f":"IF(【急性期】入力シート!$BG$5=FALSE,IF(【急性期】データ管理!K218=0,FALSE,IF(【急性期】データ管理!K218<【急性期】入力シート!$BE$1,TRUE,FALSE)))","v":false},false]
[null,null,"ポータブル",false,null,{"$f":"IF(D219=TRUE,C219,\"\")","v":""},null,null,null,null,null,null,null,false]
[null,null,"尿器",false,null,{"$f":"IF(D220=TRUE,C220,\"\")","v":""},null,null,null,null,null,null,null,false]
[null,null,"おむつ",false,null,{"$f":"IF(D221=TRUE,C221,\"\")","v":""},null,{"$f":"IF(H222<>\"\", MID(H222,2,200),\"\")","v":""},null,null,null,null,null,false]
[null,null,"バルン",false,null,{"$f":"IF(D222=TRUE,C222,\"\")","v":""},"計算用",{"$f":" IF(F218<>\"\",\"，\" & F218,\"\") & IF(F219<>\"\",\"，\" & F219,\"\") & IF(F220<>\"\",\"，\" & F220,\"\") & IF(F221<>\"\",\"，\" & F221,\"\") & IF(F222<>\"\",\"，\" & F222,\"\")","v":""},null,null,null,null,null,false]
[null,"排便","介助",0,"1:失禁なし 2:時に失禁 3:全介助",{"$f":"IF(D223<>\"\",LOOKUP(D223,{0,1,2,3},{\"\",\"失禁なし\",\"時に失禁\",\"全介助\"}),\"\")","v":""},null,null,null,null,null,"N",{"$f":"IF(【急性期】入力シート!$BG$5=FALSE,IF(【急性期】データ管理!K223=0,FALSE,IF(【急性期】データ管理!K223<【急性期】入力シート!$BE$1,TRUE,FALSE)))","v":false},0]
[null,null,"トイレ",false,null,{"$f":"IF(D224=TRUE,C224,\"\")","v":""},null,null,null,null,null,"N",{"$f":"IF(【急性期】入力シート!$BG$5=FALSE,IF(【急性期】データ管理!K224=0,FALSE,IF(【急性期】データ管理!K224<【急性期】入力シート!$BE$1,TRUE,FALSE)))","v":false},false]
[null,null,"ポータブル",false,null,{"$f":"IF(D225=TRUE,C225,\"\")","v":""},null,{"$f":"IF(H226<>\"\", MID(H226,2,200),\"\")","v":""},null,null,null,null,null,false]
[null,null,"おむつ",false,null,{"$f":"IF(D226=TRUE,C226,\"\")","v":""},"計算用",{"$f":"  IF(F224<>\"\",\"，\" & F224,\"\") & IF(F225<>\"\",\"，\" & F225,\"\") & IF(F226<>\"\",\"，\" & F226,\"\")","v":""},null,null,null,null,null,false]
["退院時　看護","食事",null,0,"1:自立 2:部分介助 3:全介助",{"$f":"IF(D227<>\"\",LOOKUP(D227,{0,1,2,3},{\"\",\"自立\",\"部分介助\",\"全介助\"}),\"\")","v":""},null,null,null,null,null,"N",{"$f":"IF(【急性期】入力シート!$BG$5=FALSE,IF(【急性期】データ管理!K227=0,FALSE,IF(【急性期】データ管理!K227<【急性期】入力シート!$BE$1,TRUE,FALSE)))","v":false},0]
[null,null,"食形態",0,"1:常食 2:きざみ食 3:ペースト食",{"$f":"IF(D228<>\"\",LOOKUP(D228,{0,1,2,3},{\"\",\"常食\",\"きざみ食\",\"ペースト食\"}),\"\")","v":""},null,{"$f":"IF(D228>0, C228 & \"：\" & F228,\"\")","v":""},null,null,null,"N",{"$f":"IF(【急性期】入力シート!$BG$5=FALSE,IF(【急性期】データ管理!K228=0,FALSE,IF(【急性期】データ管理!K228<【急性期】入力シート!$BE$1,TRUE,FALSE)))","v":false},0]
[null,"　　","その他",false,null,{"$f":"IF(D229=TRUE,IF(D230<>\"\",\"(その他：\" & D230 & \")\",C229),\"\")","v":""},null,null,null,null,null,"N",{"$f":"IF(【急性期】入力シート!$BG$5=FALSE,IF(【急性期】データ管理!K229=0,FALSE,IF(【急性期】データ管理!K229<【急性期】入力シート!$BE$1,TRUE,FALSE)))","v":false},false]
[null,null,"その他テキスト",{"$f":"IF(【急性期】入力シート!AJ90=\"\",\"\",【急性期】入力シート!AJ90)","v":""},null,null,null,null,null,null,null,"N",{"$f":"IF(【急性期】入力シート!$BG$5=FALSE,IF(【急性期】データ管理!K230=0,FALSE,IF(【急性期】データ管理!K230<【急性期】入力シート!$BE$1,TRUE,FALSE)))","v":false}]
[null,null,"胃管",false,null,{"$f":"IF(D231=TRUE,C231,\"\")","v":""},null,null,null,null,null,"N",{"$f":"IF(【急性期】入力シート!$BG$5=FALSE,IF(【急性期】データ管理!K231=0,FALSE,IF(【急性期】データ管理!K231<【急性期】入力シート!$BE$1,TRUE,FALSE)))","v":false},false]
[null,null,"胃瘻",false,null,{"$f":"IF(D232=TRUE,C232,\"\")","v":""},null,{"$f":"IF(H233<>\"\", MID(H233,2,200),\"\")","v":""},null,null,null,null,null,false]
[null,null,"点滴",false,null,{"$f":"IF(D233=TRUE,C233,\"\")","v":""},null,{"$f":" IF(H228<>\"\",\"，\" & H228,\"\") & IF(F229<>\"\",\" \" & F229,\"\") & IF(F231<>\"\",\"，\" & F231,\"\") & IF(F232<>\"\",\"，\" & F232,\"\") & IF(F233<>\"\",\"，\" & F233,\"\")","v":""},null,null,null,null,null,false]
[null,"移乗",null,0,"1:自立 2:介助監視 3:部分介助 4:全介助",{"$f":"IF(D234<>\"\",LOOKUP(D234,{0,1,2,3,4},{\"\",\"自立\",\"介助監視\",\"部分介助\",\"全介助\"}),\"\")","v":""},null,null,null,null,null,"N",{"$f":"IF(【急性期】入力シート!$BG$5=FALSE,IF(【急性期】データ管理!K234=0,FALSE,IF(【急性期】データ管理!K234<【急性期】入力シート!$BE$1,TRUE,FALSE)))","v":false},0]
[null,"トイレ",null,0,"1:自立 2:部分介助 3:全介助",{"$f":"IF(D235<>\"\",LOOKUP(D235,{0,1,2,3},{\"\",\"自立\",\"部分介助\",\"全介助\"}),\"\")","v":""},null,null,null,null,null,"N",{"$f":"IF(【急性期】入力シート!$BG$5=FALSE,IF(【急性期】データ管理!K235=0,FALSE,IF(【急性期】データ管理!K235<【急性期】入力シート!$BE$1,TRUE,FALSE)))","v":false},0]
[null,"入浴","介助",0,"1:自立 2:部分介助 3:全介助",{"$f":"IF(D236<>\"\",LOOKUP(D236,{0,1,2,3},{\"\",\"自立\",\"部分介助\",\"全介助\"}),\"\")","v":""},null,null,null,null,null,"N",{"$f":"IF(【急性期】入力シート!$BG$5=FALSE,IF(【急性期】データ管理!K236=0,FALSE,IF(【急性期】データ管理!K236<【急性期】入力シート!$BE$1,TRUE,FALSE)))","v":false},0]
[null,null,"方法",0,"1:通常入浴 2:シャワー 3:機械入浴 4:清拭",{"$f":"IF(D237<>\"\",LOOKUP(D237,{0,1,2,3,4},{\"\",\"通常入浴\",\"シャワー\",\"機械入浴\",\"清拭\"}),\"\")","v":""},null,null,null,null,null,"N",{"$f":"IF(【急性期】入力シート!$BG$5=FALSE,IF(【急性期】データ管理!K237=0,FALSE,IF(【急性期】データ管理!K237<【急性期】入力シート!$BE$1,TRUE,FALSE)))","v":false},0]
[null,"移動","介助",0,"1:自立 2:介助監視 3:全介助",{"$f":"IF(D238<>\"\",LOOKUP(D238,{0,1,2,3},{\"\",\"自立\",\"介助監視\",\"全介助\"}),\"\")","v":""},null,null,null,null,null,"N",{"$f":"IF(【急性期】入力シート!$BG$5=FALSE,IF(【急性期】データ管理!K238=0,FALSE,IF(【急性期】データ管理!K238<【急性期】入力シート!$BE$1,TRUE,FALSE)))","v":false},0]
[null,null,"独歩",false,null,{"$f":"IF(D239=TRUE,C239,\"\")","v":""},null,null,null,null,null,"N",{"$f":"IF(【急性期】入力シート!$BG$5=FALSE,IF(【急性期】データ管理!K239=0,FALSE,IF(【急性期】データ管理!K239<【急性期】入力シート!$BE$1,TRUE,FALSE)))","v":false},false]
[null,null,"杖",false,null,{"$f":"IF(D240=TRUE,C240,\"\")","v":""},null,null,null,null,null,null,null,false]
[null,null,"歩行器",false,null,{"$f":"IF(D241=TRUE,C241,\"\")","v":""},null,null,null,null,null,null,null,false]
[null,null,"車いす",false,null,{"$f":"IF(D242=TRUE,C242,\"\")","v":""},null,null,null,null,null,null,null,false]
[null,null,"装具",false,null,{"$f":"IF(D243=TRUE,C243,\"\")","v":""},null,{"$f":"IF(H244<>\"\", MID(H244,2,200),\"\")","v":""},null,null,null,null,null,false]
[null,null,"その他",false,null,{"$f":"IF(D244=TRUE,IF(D245<>\"\",C244&\"(\" & D245 & \")\",C244),\"\")","v":""},"計算用",{"$f":"IF(F239<>\"\",\"，\" & F239,\"\")  & IF(F240<>\"\",\"，\" & F240,\"\") & IF(F241<>\"\",\"，\" & F241,\"\") & IF(F242<>\"\",\"，\" & F242,\"\") & IF(F243<>\"\",\"，\" & F243,\"\") & IF(F244<>\"\",\"，\" & F244,\"\")","v":""},null,null,null,null,null,false]
[null,null,"その他テキスト",{"$f":"IF(【急性期】入力シート!AG98=\"\",\"\",【急性期】入力シート!AG98)","v":""},null,null,null,null,null,null,null,"N",{"$f":"IF(【急性期】入力シート!$BG$5=FALSE,IF(【急性期】データ管理!K245=0,FALSE,IF(【急性期】データ管理!K245<【急性期】入力シート!$BE$1,TRUE,FALSE)))","v":false}]
[null,"排尿","介助",0,"1:失禁なし 2:時に失禁 3:全介助",{"$f":"IF(D246<>\"\",LOOKUP(D246,{0,1,2,3},{\"\",\"失禁なし\",\"時に失禁\",\"全介助\"}),\"\")","v":""},null,null,null,null,null,"N",{"$f":"IF(【急性期】入力シート!$BG$5=FALSE,IF(【急性期】データ管理!K246=0,FALSE,IF(【急性期】データ管理!K246<【急性期】入力シート!$BE$1,TRUE,FALSE)))","v":false},0]
[null,null,"トイレ",false,null,{"$f":"IF(D247=TRUE,C247,\"\")","v":""},null,null,null,null,null,"N",{"$f":"IF(【急性期】入力シート!$BG$5=FALSE,IF(【急性期】データ管理!K247=0,FALSE,IF(【急性期】データ管理!K247<【急性期】入力シート!$BE$1,TRUE,FALSE)))","v":false},false]
[null,null,"ポータブル",false,null,{"$f":"IF(D248=TRUE,C248,\"\")","v":""},null,null,null,null,null,null,null,false]
[null,null,"尿器",false,null,{"$f":"IF(D249=TRUE,C249,\"\")","v":""},null,null,null,null,null,null,null,false]
[null,null,"おむつ",false,null,{"$f":"IF(D250=TRUE,C250,\"\")","v":""},null,{"$f":"IF(H251<>\"\", MID(H251,2,200),\"\")","v":""},null,null,null,null,null,false]
[null,null,"バルン",false,null,{"$f":"IF(D251=TRUE,C251,\"\")","v":""},"計算用",{"$f":" IF(F247<>\"\",\"，\" & F247,\"\") & IF(F248<>\"\",\"，\" & F248,\"\") & IF(F249<>\"\",\"，\" & F249,\"\") & IF(F250<>\"\",\"，\" & F250,\"\") & IF(F251<>\"\",\"，\" & F251,\"\")","v":""},null,null,null,null,null,false]
[null,"排便","介助",0,"1:失禁なし 2:時に失禁 3:全介助",{"$f":"IF(D252<>\"\",LOOKUP(D252,{0,1,2,3},{\"\",\"失禁なし\",\"時に失禁\",\"全介助\"}),\"\")","v":""},null,null,null,null,null,"N",{"$f":"IF(【急性期】入力シート!$BG$5=FALSE,IF(【急性期】データ管理!K252=0,FALSE,IF(【急性期】データ管理!K252<【急性期】入力シート!$BE$1,TRUE,FALSE)))","v":false},0]
[null,null,"トイレ",false,null,{"$f":"IF(D253=TRUE,C253,\"\")","v":""},null,null,null,null,null,"N",{"$f":"IF(【急性期】入力シート!$BG$5=FALSE,IF(【急性期】データ管理!K253=0,FALSE,IF(【急性期】データ管理!K253<【急性期】入力シート!$BE$1,TRUE,FALSE)))","v":false},false]
[null,null,"ポータブル",false,null,{"$f":"IF(D254=TRUE,C254,\"\")","v":""},null,{"$f":"IF(H255<>\"\", MID(H255,2,200),\"\")","v":""},null,null,null,null,null,false]
[null,null,"おむつ",false,null,{"$f":"IF(D255=TRUE,C255,\"\")","v":""},"計算用",{"$f":"  IF(F253<>\"\",\"，\" & F253,\"\") & IF(F254<>\"\",\"，\" & F254,\"\") & IF(F255<>\"\",\"，\" & F255,\"\")","v":""},null,null,null,null,null,false]
["日常生活機能","床上安静の指示",null,0,null,{"$f":"IF(D256<>\"\",LOOKUP(D256,{0,1,2},{\"\",\"なし\",\"あり\"}),\"\")","v":""},null,null,null,null,null,"N",{"$f":"IF(【急性期】入力シート!$BG$5=FALSE,IF(【急性期】データ管理!K256=0,FALSE,IF(【急性期】データ管理!K256<【急性期】入力シート!$BE$1,TRUE,FALSE)))","v":false},0]
[null,"寝返り",null,0,null,{"$f":"IF(D257<>\"\",LOOKUP(D257,{0,1,2,3},{\"\",\"できる\",\"何かにつかまればできる\",\"できない\"}),\"\")","v":""},null,null,null,null,null,"N",{"$f":"IF(【急性期】入力シート!$BG$5=FALSE,IF(【急性期】データ管理!K257=0,FALSE,IF(【急性期】データ管理!K257<【急性期】入力シート!$BE$1,TRUE,FALSE)))","v":false},0]
[null,"起き上がり",null,0,null,{"$f":"IF(D258<>\"\",LOOKUP(D258,{0,1,2},{\"\",\"できる\",\"できない\"}),\"\")","v":""},null,null,null,null,null,"N",{"$f":"IF(【急性期】入力シート!$BG$5=FALSE,IF(【急性期】データ管理!K258=0,FALSE,IF(【急性期】データ管理!K258<【急性期】入力シート!$BE$1,TRUE,FALSE)))","v":false},0]
[null,"座位保持",null,0,null,{"$f":"IF(D259<>\"\",LOOKUP(D259,{0,1,2,3},{\"\",\"できる\",\"支えがあればできる\",\"できない\"}),\"\")","v":""},null,null,null,null,null,"N",{"$f":"IF(【急性期】入力シート!$BG$5=FALSE,IF(【急性期】データ管理!K259=0,FALSE,IF(【急性期】データ管理!K259<【急性期】入力シート!$BE$1,TRUE,FALSE)))","v":false},0]
[null,"口腔清潔",null,0,null,{"$f":"IF(D260<>\"\",LOOKUP(D260,{0,1,2},{\"\",\"できる\",\"できない\"}),\"\")","v":""},null,null,null,null,null,"N",{"$f":"IF(【急性期】入力シート!$BG$5=FALSE,IF(【急性期】データ管理!K260=0,FALSE,IF(【急性期】データ管理!K260<【急性期】入力シート!$BE$1,TRUE,FALSE)))","v":false},0]
[null,"衣服の着脱",null,0,null,{"$f":"IF(D261<>\"\",LOOKUP(D261,{0,1,2,3},{\"\",\"介助なし\",\"一部介助\",\"全介助\"}),\"\")","v":""},null,null,null,null,null,"N",{"$f":"IF(【急性期】入力シート!$BG$5=FALSE,IF(【急性期】データ管理!K261=0,FALSE,IF(【急性期】データ管理!K261<【急性期】入力シート!$BE$1,TRUE,FALSE)))","v":false},0]
[null,"他者への意思の伝達",null,0,null,{"$f":"IF(D262<>\"\",LOOKUP(D262,{0,1,2,3},{\"\",\"できる\",\"出来る時と出来ない時がある\",\"できない\"}),\"\")","v":""},null,null,null,null,null,"N",{"$f":"IF(【急性期】入力シート!$BG$5=FALSE,IF(【急性期】データ管理!K262=0,FALSE,IF(【急性期】データ管理!K262<【急性期】入力シート!$BE$1,TRUE,FALSE)))","v":false},0]
[null,"診療・療養上の指示が通じる",null,0,null,{"$f":"IF(D263<>\"\",LOOKUP(D263,{0,1,2},{\"\",\"はい\",\"いいえ\"}),\"\")","v":""},null,null,null,null,null,"N",{"$f":"IF(【急性期】入力シート!$BG$5=FALSE,IF(【急性期】データ管理!K263=0,FALSE,IF(【急性期】データ管理!K263<【急性期】入力シート!$BE$1,TRUE,FALSE)))","v":false},0]
[null,"危険行動",null,0,null,{"$f":"IF(D264<>\"\",LOOKUP(D264,{0,1,2},{\"\",\"ない\",\"ある\"}),\"\")","v":""},null,null,null,null,null,"N",{"$f":"IF(【急性期】入力シート!$BG$5=FALSE,IF(【急性期】データ管理!K264=0,FALSE,IF(【急性期】データ管理!K264<【急性期】入力シート!$BE$1,TRUE,FALSE)))","v":false},0]
[null,"身体拘束",null,0,null,{"$f":"IF(D265<>\"\",LOOKUP(D265,{0,1,2},{\"\",\"無\",\"有\"}),\"\")","v":""},null,null,null,null,null,"N",{"$f":"IF(【急性期】入力シート!$BG$5=FALSE,IF(【急性期】データ管理!K265=0,FALSE,IF(【急性期】データ管理!K265<【急性期】入力シート!$BE$1,TRUE,FALSE)))","v":false},0]
[null,null,"4点柵",false,null,{"$f":"IF(D266=TRUE,C266,\"\")","v":""},null,null,null,null,null,"N",{"$f":"IF(【急性期】入力シート!$BG$5=FALSE,IF(【急性期】データ管理!K266=0,FALSE,IF(【急性期】データ管理!K266<【急性期】入力シート!$BE$1,TRUE,FALSE)))","v":false},false]
[null,null,"センサー",false,null,{"$f":"IF(D267=TRUE,C267,\"\")","v":""},null,{"$f":"IF(H268<>\"\",  MID(H268,2,200),\"\")","v":""},null,null,null,"N",{"$f":"IF(【急性期】入力シート!$BG$5=FALSE,IF(【急性期】データ管理!K267=0,FALSE,IF(【急性期】データ管理!K267<【急性期】入力シート!$BE$1,TRUE,FALSE)))","v":false},false]
[null,null,"その他",false,null,{"$f":"IF(D268=TRUE,IF(D269=0,C268,  C268 & \"(\" & D269 & \")\"),\"\")","v":""},"計算用",{"$f":" IF(F266<>\"\",\"，\" & F266,\"\") & IF(F267<>\"\",\"，\" & F267,\"\") & IF(F268<>\"\",\"，\" & F268,\"\")","v":""},null,null,null,"N",{"$f":"IF(【急性期】入力シート!$BG$5=FALSE,IF(【急性期】データ管理!K268=0,FALSE,IF(【急性期】データ管理!K268<【急性期】入力シート!$BE$1,TRUE,FALSE)))","v":false},false]
[null,null,"その他テキスト",{"$f":"IF(【急性期】入力シート!AR112=\"\",\"\",【急性期】入力シート!AR112)","v":""},null,null,null,null,null,null,null,"N",{"$f":"IF(【急性期】入力シート!$BG$5=FALSE,IF(【急性期】データ管理!K269=0,FALSE,IF(【急性期】データ管理!K269<【急性期】入力シート!$BE$1,TRUE,FALSE)))","v":false}]
[null,"日常生活特記事項",null,0,null,null,null,null,null,null,null,"N",{"$f":"IF(【急性期】入力シート!$BG$5=FALSE,IF(【急性期】データ管理!K270=0,FALSE,IF(【急性期】データ管理!K270<【急性期】入力シート!$BE$1,TRUE,FALSE)))","v":false},0]
[null,null,"記載",{"$f":"IF(【急性期】入力シート!R113=\"\",\"\",【急性期】入力シート!R113)","v":""},null,null,null,null,null,null,null,"N",{"$f":"IF(【急性期】入力シート!$BG$5=FALSE,IF(【急性期】データ管理!K271=0,FALSE,IF(【急性期】データ管理!K271<【急性期】入力シート!$BE$1,TRUE,FALSE)))","v":false}]
[null,null,"記入者",{"$f":"IF(【急性期】入力シート!AU113=\"\",\"\",【急性期】入力シート!AU113)","v":""},null,null,null,null,null,null,null,"N",{"$f":"IF(【急性期】入力シート!$BG$5=FALSE,IF(【急性期】データ管理!K272=0,FALSE,IF(【急性期】データ管理!K272<【急性期】入力シート!$BE$1,TRUE,FALSE)))","v":false}]
["リハビリ　初回","初回評価日",null,{"$f":"IF(【急性期】入力シート!Q114=\"\",\"\",【急性期】入力シート!Q114)","v":""},null,null,null,null,null,null,null,"S",{"$f":"IF(【急性期】入力シート!$BG$7=FALSE,IF(【急性期】データ管理!K273=0,FALSE,IF(【急性期】データ管理!K273<【急性期】入力シート!$BE$1,TRUE,FALSE)))","v":false},null,"点数"]
[null,"Br stage",null,{"$f":"【急性期】入力シート!H115","v":"右上肢( 　 )　－手指( 　 )　－下肢( 　 )　　左上肢( 　 )　－手指( 　 )　－下肢( 　 )"},null,null,null,null,null,null,null,"S",{"$f":"IF(【急性期】入力シート!$BG$7=FALSE,IF(【急性期】データ管理!K274=0,FALSE,IF(【急性期】データ管理!K274<【急性期】入力シート!$BE$1,TRUE,FALSE)))","v":false},"右上肢( 　 )　－手指( 　 )　－下肢( 　 )　　左上肢( 　 )　－手指( 　 )　－下肢( 　 )",{"$f":"MID($D274,6,1)","v":"　"},{"$f":"MID($D274,15,1)","v":"　"},{"$f":"MID($D274,24,1)","v":"　"},{"$f":"MID($D274,34,1)","v":"　"},{"$f":"MID($D274,43,1)","v":"　"},{"$f":"MID($D274,52,1)","v":"　"}]
[null,"食事",null,0,"1:自立 2:部分介助 3:全介助",{"$f":"IF(D275<>\"\",LOOKUP(D275,{0,1,2,3},{\"\",\"自立\",\"部分介助\",\"全介助\"}),\"\")","v":""},null,null,null,null,null,"S",{"$f":"IF(【急性期】入力シート!$BG$7=FALSE,IF(【急性期】データ管理!K275=0,FALSE,IF(【急性期】データ管理!K275<【急性期】入力シート!$BE$1,TRUE,FALSE)))","v":false},0,{"$f":"IF(O274=\"Ⅵ\",6,IF(O274=\"Ⅴ\",5,IF(O274=\"Ⅳ\",4,IF(O274=\"Ⅲ\",3,IF(O274=\"Ⅱ\",2,IF(O274=\"Ⅰ\",1,IF(O274=\"　\",\"\",\"\")))))))","v":""},{"$f":"IF(P274=\"Ⅵ\",6,IF(P274=\"Ⅴ\",5,IF(P274=\"Ⅳ\",4,IF(P274=\"Ⅲ\",3,IF(P274=\"Ⅱ\",2,IF(P274=\"Ⅰ\",1,IF(P274=\"　\",\"\",\"\")))))))","v":""},"","","",""]
[null,null,"食形態",0,null,{"$f":"IF(D276<>\"\",LOOKUP(D276,{0,1,2,3},{\"\",\"常食\",\"きざみ食\",\"ペースト食\"}),\"\")","v":""},null,{"$f":"IF(D276>0, C276 & \"：\" & F276,\"\")","v":""},null,null,null,"S",{"$f":"IF(【急性期】入力シート!$BG$7=FALSE,IF(【急性期】データ管理!K276=0,FALSE,IF(【急性期】データ管理!K276<【急性期】入力シート!$BE$1,TRUE,FALSE)))","v":false},0]
[null,"　　","その他",false,null,{"$f":"IF(D277=TRUE,IF(D278<>\"\",\"(その他：\" & D278 & \")\",C277),\"\")","v":""},null,null,null,null,null,"S",{"$f":"IF(【急性期】入力シート!$BG$7=FALSE,IF(【急性期】データ管理!K277=0,FALSE,IF(【急性期】データ管理!K277<【急性期】入力シート!$BE$1,TRUE,FALSE)))","v":false},false]
[null,null,"その他テキスト",{"$f":"IF(【急性期】入力シート!L118=\"\",\"\",【急性期】入力シート!L118)","v":""},null,null,null,null,null,null,null,"S",{"$f":"IF(【急性期】入力シート!$BG$7=FALSE,IF(【急性期】データ管理!K278=0,FALSE,IF(【急性期】データ管理!K278<【急性期】入力シート!$BE$1,TRUE,FALSE)))","v":false}]
[null,null,"胃管",false,null,{"$f":"IF(D279=TRUE,C279,\"\")","v":""},null,null,null,null,null,"S",{"$f":"IF(【急性期】入力シート!$BG$7=FALSE,IF(【急性期】データ管理!K279=0,FALSE,IF(【急性期】データ管理!K279<【急性期】入力シート!$BE$1,TRUE,FALSE)))","v":false},false]
[null,null,"胃瘻",false,null,{"$f":"IF(D280=TRUE,C280,\"\")","v":""},null,{"$f":"IF(H281<>\"\", MID(H281,2,200),\"\")","v":""},null,null,null,null,null,false]
[null,null,"点滴",false,null,{"$f":"IF(D281=TRUE,C281,\"\")","v":""},null,{"$f":" IF(H276<>\"\",\"，\" & H276,\"\") & IF(F277<>\"\",\" \" & F277,\"\") & IF(F279<>\"\",\"，\" & F279,\"\") & IF(F280<>\"\",\"，\" & F280,\"\") & IF(F281<>\"\",\"，\" & F281,\"\")","v":""},null,null,null,null,null,false]
[null,"移乗",null,0,"1:自立 2:介助監視 3:部分介助 4:全介助",{"$f":"IF(D282<>\"\",LOOKUP(D282,{0,1,2,3,4},{\"\",\"自立\",\"介助監視\",\"部分介助\",\"全介助\"}),\"\")","v":""},null,null,null,null,null,null,null,0]
[null,"トイレ",null,0,"1:自立 2:部分介助 3:全介助",{"$f":"IF(D283<>\"\",LOOKUP(D283,{0,1,2,3},{\"\",\"自立\",\"部分介助\",\"全介助\"}),\"\")","v":""},null,null,null,null,null,null,null,0]
[null,"移動","介助",0,"1:自立 2:介助監視 3:全介助",{"$f":"IF(D284<>\"\",LOOKUP(D284,{0,1,2,3},{\"\",\"自立\",\"介助監視\",\"全介助\"}),\"\")","v":""},null,null,null,null,null,"S",{"$f":"IF(【急性期】入力シート!$BG$7=FALSE,IF(【急性期】データ管理!K284=0,FALSE,IF(【急性期】データ管理!K284<【急性期】入力シート!$BE$1,TRUE,FALSE)))","v":false},0]
[null,null,"独歩",false,null,{"$f":"IF(D285=TRUE,C285,\"\")","v":""},null,null,null,null,null,"S",{"$f":"IF(【急性期】入力シート!$BG$7=FALSE,IF(【急性期】データ管理!K285=0,FALSE,IF(【急性期】データ管理!K285<【急性期】入力シート!$BE$1,TRUE,FALSE)))","v":false},false]
[null,null,"杖",false,null,{"$f":"IF(D286=TRUE,C286,\"\")","v":""},null,null,null,null,null,null,null,false]
[null,null,"歩行器",false,null,{"$f":"IF(D287=TRUE,C287,\"\")","v":""},null,null,null,null,null,null,null,false]
[null,null,"車いす",false,null,{"$f":"IF(D288=TRUE,C288,\"\")","v":""},null,null,null,null,null,null,null,false]
[null,null,"装具",false,null,{"$f":"IF(D289=TRUE,C289,\"\")","v":""},null,{"$f":"IF(H290<>\"\", MID(H290,2,200),\"\")","v":""},null,null,null,null,null,false]
[null,null,"その他",false,null,{"$f":"IF(D290=TRUE,IF(D291<>\"\",C290&\"(\" & D291 & \")\",C290),\"\")","v":""},"計算用",{"$f":"IF(F285<>\"\",\"，\" & F285,\"\")  & IF(F286<>\"\",\"，\" & F286,\"\") & IF(F287<>\"\",\"，\" & F287,\"\") & IF(F288<>\"\",\"，\" & F288,\"\") & IF(F289<>\"\",\"，\" & F289,\"\") & IF(F290<>\"\",\"，\" & F290,\"\")","v":""},null,null,null,null,null,false]
[null,null,"その他テキスト",{"$f":"IF(【急性期】入力シート!I124=\"\",\"\",【急性期】入力シート!I124)","v":""},null,null,null,null,null,null,null,"S",{"$f":"IF(【急性期】入力シート!$BG$7=FALSE,IF(【急性期】データ管理!K291=0,FALSE,IF(【急性期】データ管理!K291<【急性期】入力シート!$BE$1,TRUE,FALSE)))","v":false},null,"点数"]
["リハビリ　退院時","Br stage",null,{"$f":"【急性期】入力シート!AF115","v":"右上肢( 　 )　－手指( 　 )　－下肢( 　 )　　左上肢( 　 )　－手指( 　 )　－下肢( 　 )"},null,null,null,null,null,null,null,"S",{"$f":"IF(【急性期】入力シート!$BG$7=FALSE,IF(【急性期】データ管理!K292=0,FALSE,IF(【急性期】データ管理!K292<【急性期】入力シート!$BE$1,TRUE,FALSE)))","v":false},"右上肢( 　 )　－手指( 　 )　－下肢( 　 )　　左上肢( 　 )　－手指( 　 )　－下肢( 　 )",{"$f":"MID($D292,6,1)","v":"　"},{"$f":"MID($D292,15,1)","v":"　"},{"$f":"MID($D292,24,1)","v":"　"},{"$f":"MID($D292,34,1)","v":"　"},{"$f":"MID($D292,43,1)","v":"　"},{"$f":"MID($D292,52,1)","v":"　"}]
[null,"食事",null,0,"1:自立 2:部分介助 3:全介助",{"$f":"IF(D293<>\"\",LOOKUP(D293,{0,1,2,3},{\"\",\"自立\",\"部分介助\",\"全介助\"}),\"\")","v":""},null,null,null,null,null,"S",{"$f":"IF(【急性期】入力シート!$BG$7=FALSE,IF(【急性期】データ管理!K293=0,FALSE,IF(【急性期】データ管理!K293<【急性期】入力シート!$BE$1,TRUE,FALSE)))","v":false},0,{"$f":"IF(O292=\"Ⅵ\",6,IF(O292=\"Ⅴ\",5,IF(O292=\"Ⅳ\",4,IF(O292=\"Ⅲ\",3,IF(O292=\"Ⅱ\",2,IF(O292=\"Ⅰ\",1,IF(O292=\"　\",\"\",\"\")))))))","v":""},{"$f":"IF(P292=\"Ⅵ\",6,IF(P292=\"Ⅴ\",5,IF(P292=\"Ⅳ\",4,IF(P292=\"Ⅲ\",3,IF(P292=\"Ⅱ\",2,IF(P292=\"Ⅰ\",1,IF(P292=\"　\",\"\",\"\")))))))","v":""},{"$f":"IF(Q292=\"Ⅵ\",6,IF(Q292=\"Ⅴ\",5,IF(Q292=\"Ⅳ\",4,IF(Q292=\"Ⅲ\",3,IF(Q292=\"Ⅱ\",2,IF(Q292=\"Ⅰ\",1,IF(Q292=\"　\",\"\",\"\")))))))","v":""},{"$f":"IF(R292=\"Ⅵ\",6,IF(R292=\"Ⅴ\",5,IF(R292=\"Ⅳ\",4,IF(R292=\"Ⅲ\",3,IF(R292=\"Ⅱ\",2,IF(R292=\"Ⅰ\",1,IF(R292=\"　\",\"\",\"\")))))))","v":""},{"$f":"IF(S292=\"Ⅵ\",6,IF(S292=\"Ⅴ\",5,IF(S292=\"Ⅳ\",4,IF(S292=\"Ⅲ\",3,IF(S292=\"Ⅱ\",2,IF(S292=\"Ⅰ\",1,IF(S292=\"　\",\"\",\"\")))))))","v":""},{"$f":"IF(T292=\"Ⅵ\",6,IF(T292=\"Ⅴ\",5,IF(T292=\"Ⅳ\",4,IF(T292=\"Ⅲ\",3,IF(T292=\"Ⅱ\",2,IF(T292=\"Ⅰ\",1,IF(T292=\"　\",\"\",\"\")))))))","v":""}]
[null,null,"食形態",0,null,{"$f":"IF(D294<>\"\",LOOKUP(D294,{0,1,2,3},{\"\",\"常食\",\"きざみ食\",\"ペースト食\"}),\"\")","v":""},null,{"$f":"IF(D294>0, C294 & \"：\" & F294,\"\")","v":""},null,null,null,"S",{"$f":"IF(【急性期】入力シート!$BG$7=FALSE,IF(【急性期】データ管理!K294=0,FALSE,IF(【急性期】データ管理!K294<【急性期】入力シート!$BE$1,TRUE,FALSE)))","v":false},0]
[null,"　　","その他",false,null,{"$f":"IF(D295=TRUE,IF(D296<>\"\",\"(その他：\" & D296 & \")\",C295),\"\")","v":""},null,null,null,null,null,"S",{"$f":"IF(【急性期】入力シート!$BG$7=FALSE,IF(【急性期】データ管理!K295=0,FALSE,IF(【急性期】データ管理!K295<【急性期】入力シート!$BE$1,TRUE,FALSE)))","v":false}]
[null,null,"その他テキスト",{"$f":"IF(【急性期】入力シート!AJ118=\"\",\"\",【急性期】入力シート!AJ118)","v":""},null,null,null,null,null,null,null,"S",{"$f":"IF(【急性期】入力シート!$BG$7=FALSE,IF(【急性期】データ管理!K296=0,FALSE,IF(【急性期】データ管理!K296<【急性期】入力シート!$BE$1,TRUE,FALSE)))","v":false}]
[null,null,"胃管",false,null,{"$f":"IF(D297=TRUE,C297,\"\")","v":""},null,null,null,null,null,"S",{"$f":"IF(【急性期】入力シート!$BG$7=FALSE,IF(【急性期】データ管理!K297=0,FALSE,IF(【急性期】データ管理!K297<【急性期】入力シート!$BE$1,TRUE,FALSE)))","v":false},false]
[null,null,"胃瘻",false,null,{"$f":"IF(D298=TRUE,C298,\"\")","v":""},null,{"$f":"IF(H299<>\"\", MID(H299,2,200),\"\")","v":""},null,null,null,null,null,false]
[null,null,"点滴",false,null,{"$f":"IF(D299=TRUE,C299,\"\")","v":""},null,{"$f":" IF(H294<>\"\",\"，\" & H294,\"\") & IF(F295<>\"\",\" \" & F295,\"\") & IF(F297<>\"\",\"，\" & F297,\"\") & IF(F298<>\"\",\"，\" & F298,\"\") & IF(F299<>\"\",\"，\" & F299,\"\")","v":""},null,null,null,null,null,false]
[null,"移乗",null,0,"1:自立 2:介助監視 3:部分介助 4:全介助",{"$f":"IF(D300<>\"\",LOOKUP(D300,{0,1,2,3,4},{\"\",\"自立\",\"介助監視\",\"部分介助\",\"全介助\"}),\"\")","v":""},null,null,null,null,null,null,null,0]
[null,"トイレ",null,0,"1:自立 2:部分介助 3:全介助",{"$f":"IF(D301<>\"\",LOOKUP(D301,{0,1,2,3},{\"\",\"自立\",\"部分介助\",\"全介助\"}),\"\")","v":""},null,null,null,null,null,null,null,0]
[null,"移動","介助",0,"1:自立 2:介助監視 3:全介助",{"$f":"IF(D302<>\"\",LOOKUP(D302,{0,1,2,3},{\"\",\"自立\",\"介助監視\",\"全介助\"}),\"\")","v":""},null,null,null,null,null,"S",{"$f":"IF(【急性期】入力シート!$BG$7=FALSE,IF(【急性期】データ管理!K302=0,FALSE,IF(【急性期】データ管理!K302<【急性期】入力シート!$BE$1,TRUE,FALSE)))","v":false},0]
[null,null,"独歩",false,null,{"$f":"IF(D303=TRUE,C303,\"\")","v":""},null,null,null,null,null,"S",{"$f":"IF(【急性期】入力シート!$BG$7=FALSE,IF(【急性期】データ管理!K303=0,FALSE,IF(【急性期】データ管理!K303<【急性期】入力シート!$BE$1,TRUE,FALSE)))","v":false},false]
[null,null,"杖",false,null,{"$f":"IF(D304=TRUE,C304,\"\")","v":""},null,null,null,null,null,null,null,false]
[null,null,"歩行器",false,null,{"$f":"IF(D305=TRUE,C305,\"\")","v":""},null,null,null,null,null,null,null,false]
[null,null,"車いす",false,null,{"$f":"IF(D306=TRUE,C306,\"\")","v":""},null,null,null,null,null,null,null,false]
[null,null,"装具",false,null,{"$f":"IF(D307=TRUE,C307,\"\")","v":""},null,{"$f":"IF(H308<>\"\", MID(H308,2,200),\"\")","v":""},null,null,null,null,null,false]
[null,null,"その他",false,null,{"$f":"IF(D308=TRUE,IF(D309<>\"\",C308&\"(\" & D309 & \")\",C308),\"\")","v":""},"計算用",{"$f":"IF(F303<>\"\",\"，\" & F303,\"\")  & IF(F304<>\"\",\"，\" & F304,\"\") & IF(F305<>\"\",\"，\" & F305,\"\") & IF(F306<>\"\",\"，\" & F306,\"\") & IF(F307<>\"\",\"，\" & F307,\"\") & IF(F308<>\"\",\"，\" & F308,\"\")","v":""},null,null,null,null,null,false]
[null,null,"その他テキスト",{"$f":"IF(【急性期】入力シート!AG124=\"\",\"\",【急性期】入力シート!AG124)","v":""},null,null,null,null,null,null,null,"S",{"$f":"IF(【急性期】入力シート!$BG$7=FALSE,IF(【急性期】データ管理!K309=0,FALSE,IF(【急性期】データ管理!K309<【急性期】入力シート!$BE$1,TRUE,FALSE)))","v":false}]
["リハビリ","理学療法","チェック",false,null,{"$f":"IF(D310=TRUE,B310,\"\")","v":""},null,null,null,null,null,"S",{"$f":"IF(【急性期】入力シート!$BG$7=FALSE,IF(【急性期】データ管理!K310=0,FALSE,IF(【急性期】データ管理!K310<【急性期】入力シート!$BE$1,TRUE,FALSE)))","v":false},false]
[null,null,"担当者",{"$f":"IF(【急性期】入力シート!L125=\"\",\"\",【急性期】入力シート!L125)","v":""},null,null,null,null,null,null,null,"S",{"$f":"IF(【急性期】入力シート!$BG$7=FALSE,IF(【急性期】データ管理!K311=0,FALSE,IF(【急性期】データ管理!K311<【急性期】入力シート!$BE$1,TRUE,FALSE)))","v":false}]
[null,"作業療法","チェック",false,null,{"$f":"IF(D312=TRUE,B312,\"\")","v":""},null,null,null,null,null,"S",{"$f":"IF(【急性期】入力シート!$BG$7=FALSE,IF(【急性期】データ管理!K312=0,FALSE,IF(【急性期】データ管理!K312<【急性期】入力シート!$BE$1,TRUE,FALSE)))","v":false},false]
[null,null,"担当者",{"$f":"IF(【急性期】入力シート!AB125=\"\",\"\",【急性期】入力シート!AB125)","v":""},null,null,null,{"$f":"IF(H314<>\"\", MID(H314,2,200),\"\")","v":""},null,null,null,"S",{"$f":"IF(【急性期】入力シート!$BG$7=FALSE,IF(【急性期】データ管理!K313=0,FALSE,IF(【急性期】データ管理!K313<【急性期】入力シート!$BE$1,TRUE,FALSE)))","v":false}]
[null,"言語療法","チェック",false,null,{"$f":"IF(D314=TRUE,B314,\"\")","v":""},null,{"$f":" IF(F310<>\"\",\"，\" & F310,\"\") & IF(F312<>\"\",\"，\" & F312,\"\") & IF(F314<>\"\",\"，\" & F314,\"\")","v":""},null,null,null,"S",{"$f":"IF(【急性期】入力シート!$BG$7=FALSE,IF(【急性期】データ管理!K314=0,FALSE,IF(【急性期】データ管理!K314<【急性期】入力シート!$BE$1,TRUE,FALSE)))","v":false},false]
[null,null,"担当者",{"$f":"IF(【急性期】入力シート!AR125=\"\",\"\",【急性期】入力シート!AR125)","v":""},null,null,null,null,null,null,null,"S",{"$f":"IF(【急性期】入力シート!$BG$7=FALSE,IF(【急性期】データ管理!K315=0,FALSE,IF(【急性期】データ管理!K315<【急性期】入力シート!$BE$1,TRUE,FALSE)))","v":false}]
[null,"言語","チェック",false,null,null,null,null,null,null,null,"S",{"$f":"IF(【急性期】入力シート!$BG$7=FALSE,IF(【急性期】データ管理!K316=0,FALSE,IF(【急性期】データ管理!K316<【急性期】入力シート!$BE$1,TRUE,FALSE)))","v":false},false]
[null,null,"内容",{"$f":"IF(【急性期】入力シート!G126=\"\",\"\",【急性期】入力シート!G126)","v":""},null,null,null,null,null,null,null,"S",{"$f":"IF(【急性期】入力シート!$BG$7=FALSE,IF(【急性期】データ管理!K317=0,FALSE,IF(【急性期】データ管理!K317<【急性期】入力シート!$BE$1,TRUE,FALSE)))","v":false}]
[null,"身体","チェック",false,null,null,null,null,null,null,null,"S",{"$f":"IF(【急性期】入力シート!$BG$7=FALSE,IF(【急性期】データ管理!K318=0,FALSE,IF(【急性期】データ管理!K318<【急性期】入力シート!$BE$1,TRUE,FALSE)))","v":false},false]
[null,null,"内容",{"$f":"IF(【急性期】入力シート!G127=\"\",\"\",【急性期】入力シート!G127)","v":""},null,null,null,null,null,null,null,"S",{"$f":"IF(【急性期】入力シート!$BG$7=FALSE,IF(【急性期】データ管理!K319=0,FALSE,IF(【急性期】データ管理!K319<【急性期】入力シート!$BE$1,TRUE,FALSE)))","v":false}]
[null,"認知","チェック",false,null,null,null,null,null,null,null,"S",{"$f":"IF(【急性期】入力シート!$BG$7=FALSE,IF(【急性期】データ管理!K320=0,FALSE,IF(【急性期】データ管理!K320<【急性期】入力シート!$BE$1,TRUE,FALSE)))","v":false},false]
[null,null,"内容",{"$f":"IF(【急性期】入力シート!G128=\"\",\"\",【急性期】入力シート!G128)","v":""},null,null,null,null,null,null,null,"S",{"$f":"IF(【急性期】入力シート!$BG$7=FALSE,IF(【急性期】データ管理!K321=0,FALSE,IF(【急性期】データ管理!K321<【急性期】入力シート!$BE$1,TRUE,FALSE)))","v":false}]
[null,"留意事項","チェック",false,null,null,null,null,null,null,null,"S",{"$f":"IF(【急性期】入力シート!$BG$7=FALSE,IF(【急性期】データ管理!K322=0,FALSE,IF(【急性期】データ管理!K322<【急性期】入力シート!$BE$1,TRUE,FALSE)))","v":false},false]
[null,null,"内容",{"$f":"IF(【急性期】入力シート!G129=\"\",\"\",【急性期】入力シート!G129)","v":""},null,null,null,null,null,null,null,"S",{"$f":"IF(【急性期】入力シート!$BG$7=FALSE,IF(【急性期】データ管理!K323=0,FALSE,IF(【急性期】データ管理!K323<【急性期】入力シート!$BE$1,TRUE,FALSE)))","v":false}]
["説明","連携パス説明",null,false,null,null,null,null,null,null,null,"D",{"$f":"IF(【急性期】入力シート!$BG$3=FALSE,IF(【急性期】データ管理!K324=0,FALSE,IF(【急性期】データ管理!K324<【急性期】入力シート!$BE$1,TRUE,FALSE)))","v":false},false]
[null,"説明日",null,{"$f":"IF(【急性期】入力シート!O130=\"\",\"\",【急性期】入力シート!O130)","v":""},null,null,null,null,null,null,null,"D",{"$f":"IF(【急性期】入力シート!$BG$3=FALSE,IF(【急性期】データ管理!K325=0,FALSE,IF(【急性期】データ管理!K325<【急性期】入力シート!$BE$1,TRUE,FALSE)))","v":false}]
[null,"主治医",null,{"$f":"IF(【急性期】入力シート!AC130=\"\",\"\",【急性期】入力シート!AC130)","v":""},null,null,null,null,null,null,null,"D",{"$f":"IF(【急性期】入力シート!$BG$3=FALSE,IF(【急性期】データ管理!K326=0,FALSE,IF(【急性期】データ管理!K326<【急性期】入力シート!$BE$1,TRUE,FALSE)))","v":false}]
[null,"転院先","区分",{"$f":"IF(【急性期】入力シート!I131=\"\",\"\",【急性期】入力シート!I131)","v":""},null,null,null,null,null,null,null,"R",{"$f":"IF(【急性期】入力シート!$BG$9=FALSE,IF(【急性期】データ管理!K327=0,FALSE,IF(【急性期】データ管理!K327<【急性期】入力シート!$BE$1,TRUE,FALSE)))","v":false}]
[null,null,"施設名",{"$f":"IF(【急性期】入力シート!I132=\"\",\"\",【急性期】入力シート!I132)","v":""},null,null,null,null,null,null,null,"R",{"$f":"IF(【急性期】入力シート!$BG$9=FALSE,IF(【急性期】データ管理!K328=0,FALSE,IF(【急性期】データ管理!K328<【急性期】入力シート!$BE$1,TRUE,FALSE)))","v":false}]
[null,"自宅退院の場合：在宅ケア希望者退院連絡票送付",null,false,null,{"$f":"IF(D329=TRUE,B329,\"\")","v":""},null,null,null,null,null,"R",{"$f":"IF(【急性期】入力シート!$BG$9=FALSE,IF(【急性期】データ管理!K329=0,FALSE,IF(【急性期】データ管理!K329<【急性期】入力シート!$BE$1,TRUE,FALSE)))","v":false},false]
["基本情報","社会復帰",null,0,"1:復職・復学見込み 2:退職・退学 3:転職・転校 4:無職 5:その他",{"$f":"IF(D330<>\"\",LOOKUP(D330,{0,1,2,3,4,5},{\"\",\"復職・復学見込み\",\"退職・退学\",\"転職・転校\",\"無職\",\"その他\"}),\"\") & IF(D330=1,\"（\"&D331&\"）\",\"\") & IF(D330=3,\"（\"&D332&\"）\",\"\")& IF(D330=5,\"（\"&D333&\"）\",\"\")","v":""},null,null,null,null,null,"R",{"$f":"IF(【急性期】入力シート!$BG$9=FALSE,IF(【急性期】データ管理!K330=0,FALSE,IF(【急性期】データ管理!K330<【急性期】入力シート!$BE$1,TRUE,FALSE)))","v":false},0]
[null,null,"復職・復学見込みテキスト",{"$f":"IF(【急性期】入力シート!R136=\"\",\"\",【急性期】入力シート!R136)","v":""},null,null,null,null,null,null,null,"R",{"$f":"IF(【急性期】入力シート!$BG$9=FALSE,IF(【急性期】データ管理!K331=0,FALSE,IF(【急性期】データ管理!K331<【急性期】入力シート!$BE$1,TRUE,FALSE)))","v":false}]
[null,null,"転職・転校テキスト",{"$f":"IF(【急性期】入力シート!AL136=\"\",\"\",【急性期】入力シート!AL136)","v":""},null,null,null,null,null,null,null,"R",{"$f":"IF(【急性期】入力シート!$BG$9=FALSE,IF(【急性期】データ管理!K332=0,FALSE,IF(【急性期】データ管理!K332<【急性期】入力シート!$BE$1,TRUE,FALSE)))","v":false}]
[null,null,"その他テキスト",{"$f":"IF(【急性期】入力シート!R137=\"\",\"\",【急性期】入力シート!R137)","v":""},null,null,null,null,null,null,null,"R",{"$f":"IF(【急性期】入力シート!$BG$9=FALSE,IF(【急性期】データ管理!K333=0,FALSE,IF(【急性期】データ管理!K333<【急性期】入力シート!$BE$1,TRUE,FALSE)))","v":false}]
[null,"生活の場",null,0,"1:在宅 2:介護老人保健施設 3:介護老人福祉施設 4:障害者福祉施設 5:その他",{"$f":"IF(D334<>\"\",LOOKUP(D334,{0,1,2,3,4,5},{\"\",\"在宅\",\"介護老人保健施設\",\"介護老人福祉施設\",\"障害者福祉施設\",\"その他\"}),\"\") & IF(D334=1,\"（\"&F388&\"）\",\"\") & IF(D334=2,\"（\"&D335&\"）\",\"\") & IF(D334=3,\"（\"&D336&\"）\",\"\")& IF(D334=4,\"（\"&D337&\"）\",\"\")& IF(D334=5,\"（\"&D338&\"）\",\"\")","v":""},null,null,null,null,null,"R",{"$f":"IF(【急性期】入力シート!$BG$9=FALSE,IF(【急性期】データ管理!K334=0,FALSE,IF(【急性期】データ管理!K334<【急性期】入力シート!$BE$1,TRUE,FALSE)))","v":false},0]
[null,null,"介護老人保健施設テキスト",{"$f":"IF(【急性期】入力シート!AD138=\"\",\"\",【急性期】入力シート!AD138)","v":""},null,null,null,null,null,null,null,"R",{"$f":"IF(【急性期】入力シート!$BG$9=FALSE,IF(【急性期】データ管理!K335=0,FALSE,IF(【急性期】データ管理!K335<【急性期】入力シート!$BE$1,TRUE,FALSE)))","v":false}]
[null,null,"介護老人福祉施設テキスト",{"$f":"IF(【急性期】入力シート!AS138=\"\",\"\",【急性期】入力シート!AS138)","v":""},null,null,null,null,null,null,null,"R",{"$f":"IF(【急性期】入力シート!$BG$9=FALSE,IF(【急性期】データ管理!K336=0,FALSE,IF(【急性期】データ管理!K336<【急性期】入力シート!$BE$1,TRUE,FALSE)))","v":false}]
[null,null,"障害者福祉施設テキスト",{"$f":"IF(【急性期】入力シート!R139=\"\",\"\",【急性期】入力シート!R139)","v":""},null,null,null,null,null,null,null,"R",{"$f":"IF(【急性期】入力シート!$BG$9=FALSE,IF(【急性期】データ管理!K337=0,FALSE,IF(【急性期】データ管理!K337<【急性期】入力シート!$BE$1,TRUE,FALSE)))","v":false}]
[null,null,"その他テキスト",{"$f":"IF(【急性期】入力シート!AI139=\"\",\"\",【急性期】入力シート!AI139)","v":""},null,null,null,null,null,null,null,"R",{"$f":"IF(【急性期】入力シート!$BG$9=FALSE,IF(【急性期】データ管理!K338=0,FALSE,IF(【急性期】データ管理!K338<【急性期】入力シート!$BE$1,TRUE,FALSE)))","v":false}]
[null,"社会資源","保険の種類",0,"1:国保 2:社保 3:生保 4:後期高齢者",{"$f":"IF(D339<>\"\",LOOKUP(D339,{0,1,2,3,4},{\"\",\"国保\",\"社保\",\"生保\",\"後期高齢者\"}),\"\")","v":""},null,null,null,null,null,"R",{"$f":"IF(【急性期】入力シート!$BG$9=FALSE,IF(【急性期】データ管理!K339=0,FALSE,IF(【急性期】データ管理!K339<【急性期】入力シート!$BE$1,TRUE,FALSE)))","v":false},0]
[null,null,"自立支援",false,null,{"$f":"IF(D340=TRUE,C340,\"\")","v":""},null,null,null,null,null,"R",{"$f":"IF(【急性期】入力シート!$BG$9=FALSE,IF(【急性期】データ管理!K340=0,FALSE,IF(【急性期】データ管理!K340<【急性期】入力シート!$BE$1,TRUE,FALSE)))","v":false},false]
[null,null,"自賠責",false,null,{"$f":"IF(D341=TRUE,C341,\"\")","v":""},null,{"$f":"IF(H342<>\"\", MID(H342,2,200),\"\")","v":""},null,null,null,"R",{"$f":"IF(【急性期】入力シート!$BG$9=FALSE,IF(【急性期】データ管理!K341=0,FALSE,IF(【急性期】データ管理!K341<【急性期】入力シート!$BE$1,TRUE,FALSE)))","v":false},false]
[null,null,"その他",false,null,{"$f":"IF(D342=TRUE,IF(D343<>\"\",C342&\"（\" & D343 & \"）\",C342),\"\")","v":""},"計算用",{"$f":"  IF(F340<>\"\",\"，\" & F340,\"\") & IF(F341<>\"\",\"，\" & F341,\"\") & IF(F342<>\"\",\"，\" & F342,\"\")","v":""},null,null,null,"R",{"$f":"IF(【急性期】入力シート!$BG$9=FALSE,IF(【急性期】データ管理!K342=0,FALSE,IF(【急性期】データ管理!K342<【急性期】入力シート!$BE$1,TRUE,FALSE)))","v":false},false]
[null,null,"その他テキスト",{"$f":"IF(【急性期】入力シート!AD141=\"\",\"\",【急性期】入力シート!AD141)","v":""},null,null,null,null,null,null,null,"R",{"$f":"IF(【急性期】入力シート!$BG$9=FALSE,IF(【急性期】データ管理!K343=0,FALSE,IF(【急性期】データ管理!K343<【急性期】入力シート!$BE$1,TRUE,FALSE)))","v":false}]
[null,"退院後の主治医",null,0,"1無　2:有",{"$f":"IF(D344<>\"\",LOOKUP(D344,{0,1,2},{\"\",\"無\",\"有\"}),\"\")","v":""},null,null,null,null,null,"R",{"$f":"IF(【急性期】入力シート!$BG$9=FALSE,IF(【急性期】データ管理!K344=0,FALSE,IF(【急性期】データ管理!K344<【急性期】入力シート!$BE$1,TRUE,FALSE)))","v":false},0]
[null,null,"医療機関・医師名",{"$f":"IF(【急性期】入力シート!Y142=\"\",\"\",【急性期】入力シート!Y142)","v":""},null,null,null,null,null,null,null,"R",{"$f":"IF(【急性期】入力シート!$BG$9=FALSE,IF(【急性期】データ管理!K345=0,FALSE,IF(【急性期】データ管理!K345<【急性期】入力シート!$BE$1,TRUE,FALSE)))","v":false}]
[null,"障害年金",null,0,"1:非該当 2:無 3:申請中 4:変更申請中 5:有",{"$f":"IF(D346<>\"\",LOOKUP(D346,{0,1,2,3,4,5},{\"\",\"非該当\",\"無\",\"申請中\",\"変更申請中\",\"有\"}),\"\") & IF(D346=2,F347,\"\")& IF(D346=5,\"（\"& F348 & \" \" & D350 & \"級）\",\"\")","v":""},null,null,null,null,null,"R",{"$f":"IF(【急性期】入力シート!$BG$9=FALSE,IF(【急性期】データ管理!K346=0,FALSE,IF(【急性期】データ管理!K346<【急性期】入力シート!$BE$1,TRUE,FALSE)))","v":false},0]
[null,null,"無",0,"1:説明済　2:未説明",{"$f":"IF(D347<>\"\",LOOKUP(D347,{0,1,2},{\"\",\"（説明済）\",\"（未説明）\"}),\"\")","v":""},null,null,null,null,null,"R",{"$f":"IF(【急性期】入力シート!$BG$9=FALSE,IF(【急性期】データ管理!K347=0,FALSE,IF(【急性期】データ管理!K347<【急性期】入力シート!$BE$1,TRUE,FALSE)))","v":false},0]
[null,null,"有",0,"1:障害基礎年金 2:障害共済年金 3:障害厚生年金 4:その他",{"$f":"IF(D348<>\"\",LOOKUP(D348,{0,1,2,3,4},{\"\",\"障害基礎年金\",\"障害共済年金\",\"障害厚生年金\",\"その他\"}),\"\")& IF(D348=4, \"（\" &D349 &\"）\",\"\")","v":""},null,null,null,null,null,"R",{"$f":"IF(【急性期】入力シート!$BG$9=FALSE,IF(【急性期】データ管理!K348=0,FALSE,IF(【急性期】データ管理!K348<【急性期】入力シート!$BE$1,TRUE,FALSE)))","v":false},0]
[null,null,"有その他テキスト",{"$f":"IF(【急性期】入力シート!AJ144=\"\",\"\",【急性期】入力シート!AJ144)","v":""},null,null,null,null,null,null,null,"R",{"$f":"IF(【急性期】入力シート!$BG$9=FALSE,IF(【急性期】データ管理!K349=0,FALSE,IF(【急性期】データ管理!K349<【急性期】入力シート!$BE$1,TRUE,FALSE)))","v":false}]
[null,null,"等級",{"$f":"IF(【急性期】入力シート!AT144=\"\",\"\",【急性期】入力シート!AT144)","v":""},null,null,null,null,null,null,null,"R",{"$f":"IF(【急性期】入力シート!$BG$9=FALSE,IF(【急性期】データ管理!K350=0,FALSE,IF(【急性期】データ管理!K350<【急性期】入力シート!$BE$1,TRUE,FALSE)))","v":false}]
[null,"身体障害者手帳",null,0,"1:無 2:申請中 3:変更申請中 4:有",{"$f":"IF(D351<>\"\",LOOKUP(D351,{0,1,2,3,4},{\"\",\"無\",\"申請中\",\"変更申請中\",\"有\"}),\"\") & IF(D351=2,F352,\"\")& IF(D351=4,\"  \" & D353 & \"級\",\"\")","v":""},null,null,null,null,null,"R",{"$f":"IF(【急性期】入力シート!$BG$9=FALSE,IF(【急性期】データ管理!K351=0,FALSE,IF(【急性期】データ管理!K351<【急性期】入力シート!$BE$1,TRUE,FALSE)))","v":false},0]
[null,null,"申請中",0,"1:説明済　2:未説明",{"$f":"IF(D352<>\"\",LOOKUP(D352,{0,1,2},{\"\",\"(説明済)\",\"(未説明)\"}),\"\")","v":""},null,null,null,null,null,"R",{"$f":"IF(【急性期】入力シート!$BG$9=FALSE,IF(【急性期】データ管理!K352=0,FALSE,IF(【急性期】データ管理!K352<【急性期】入力シート!$BE$1,TRUE,FALSE)))","v":false},0]
[null,null,"有　等級",{"$f":"IF(【急性期】入力シート!AL145=\"\",\"\",【急性期】入力シート!AL145)","v":""},null,null,null,null,null,null,null,"R",{"$f":"IF(【急性期】入力シート!$BG$9=FALSE,IF(【急性期】データ管理!K353=0,FALSE,IF(【急性期】データ管理!K353<【急性期】入力シート!$BE$1,TRUE,FALSE)))","v":false}]
[null,"精神障害者保健福祉手帳",null,0,"1:無 2:申請中 3:変更申請中 4:有",{"$f":"IF(D354<>\"\",LOOKUP(D354,{0,1,2,3,4},{\"\",\"無\",\"申請中\",\"変更申請中\",\"有\"}),\"\")& IF(D354=2,F355,\"\")& IF(D354=4,\"  \" & D356 & \"級\",\"\")","v":""},null,null,null,null,null,"R",{"$f":"IF(【急性期】入力シート!$BG$9=FALSE,IF(【急性期】データ管理!K354=0,FALSE,IF(【急性期】データ管理!K354<【急性期】入力シート!$BE$1,TRUE,FALSE)))","v":false},0]
[null,null,"申請中",0,"1:説明済　2:未説明",{"$f":"IF(D355<>\"\",LOOKUP(D355,{0,1,2},{\"\",\"(説明済)\",\"(未説明)\"}),\"\")","v":""},null,null,null,null,null,"R",{"$f":"IF(【急性期】入力シート!$BG$9=FALSE,IF(【急性期】データ管理!K355=0,FALSE,IF(【急性期】データ管理!K355<【急性期】入力シート!$BE$1,TRUE,FALSE)))","v":false},0]
[null,null,"有　等級",{"$f":"IF(【急性期】入力シート!AL146=\"\",\"\",【急性期】入力シート!AL146)","v":""},null,null,null,null,null,null,null,"R",{"$f":"IF(【急性期】入力シート!$BG$9=FALSE,IF(【急性期】データ管理!K356=0,FALSE,IF(【急性期】データ管理!K356<【急性期】入力シート!$BE$1,TRUE,FALSE)))","v":false}]
[null,"療育手帳",null,0,"1:無 2:申請中 3:変更申請中 4:有",{"$f":"IF(D357<>\"\",LOOKUP(D357,{0,1,2,3,4},{\"\",\"無\",\"申請中\",\"変更申請中\",\"有\"}),\"\")& IF(D357=2,F358,\"\")& IF(D357=4,\"  \" & D359 & \"級\",\"\")","v":""},null,null,null,null,null,"R",{"$f":"IF(【急性期】入力シート!$BG$9=FALSE,IF(【急性期】データ管理!K357=0,FALSE,IF(【急性期】データ管理!K357<【急性期】入力シート!$BE$1,TRUE,FALSE)))","v":false},0]
[null,null,"申請中",0,"1:説明済　2:未説明",{"$f":"IF(D358<>\"\",LOOKUP(D358,{0,1,2},{\"\",\"(説明済)\",\"(未説明)\"}),\"\")","v":""},null,null,null,null,null,"R",{"$f":"IF(【急性期】入力シート!$BG$9=FALSE,IF(【急性期】データ管理!K358=0,FALSE,IF(【急性期】データ管理!K358<【急性期】入力シート!$BE$1,TRUE,FALSE)))","v":false},0]
[null,null,"有　等級",{"$f":"IF(【急性期】入力シート!AL147=\"\",\"\",【急性期】入力シート!AL147)","v":""},null,null,null,null,null,null,null,"R",{"$f":"IF(【急性期】入力シート!$BG$9=FALSE,IF(【急性期】データ管理!K359=0,FALSE,IF(【急性期】データ管理!K359<【急性期】入力シート!$BE$1,TRUE,FALSE)))","v":false}]
[null,"介護保険",null,0,"1:非該当 2:無 3:申請中 4:申請中 5:該当",{"$f":"IF(D360<>\"\",LOOKUP(D360,{0,1,2,3,4,5},{\"\",\"非該当\",\"無\",\"申請中\",\"変更申請中\",\"該当\"}),\"\")& IF(D360=2,F361,\"\")& IF(D360=5,\"（\"&  F362 & \"）\",\"\")","v":""},null,null,null,null,null,"R",{"$f":"IF(【急性期】入力シート!$BG$9=FALSE,IF(【急性期】データ管理!K360=0,FALSE,IF(【急性期】データ管理!K360<【急性期】入力シート!$BE$1,TRUE,FALSE)))","v":false},0]
[null,null,"無",0,"1:説明済　2:未説明",{"$f":"IF(D361<>\"\",LOOKUP(D361,{0,1,2},{\"\",\"(説明済)\",\"(未説明)\"}),\"\")","v":""},null,null,null,null,null,"R",{"$f":"IF(【急性期】入力シート!$BG$9=FALSE,IF(【急性期】データ管理!K361=0,FALSE,IF(【急性期】データ管理!K361<【急性期】入力シート!$BE$1,TRUE,FALSE)))","v":false},0]
[null,null,"該当　介護度",0,null,{"$f":"IF(D362<>\"\",LOOKUP(D362,{0,1,2,3,4,5,6,7},{\"\",\"要支援１\",\"要支援２\",\"要介護１\",\"要介護２\",\"要介護３\",\"要介護４\",\"要介護５\"}),\"\")","v":""},null,null,null,null,null,"R",{"$f":"IF(【急性期】入力シート!$BG$9=FALSE,IF(【急性期】データ管理!K362=0,FALSE,IF(【急性期】データ管理!K362<【急性期】入力シート!$BE$1,TRUE,FALSE)))","v":false},0]
[null,null,"居宅介護支援事業所",{"$f":"IF(【急性期】入力シート!R150=\"\",\"\",【急性期】入力シート!R150)","v":""},null,null,null,null,null,null,null,"R",{"$f":"IF(【急性期】入力シート!$BG$9=FALSE,IF(【急性期】データ管理!K363=0,FALSE,IF(【急性期】データ管理!K363<【急性期】入力シート!$BE$1,TRUE,FALSE)))","v":false}]
[null,null,"担当者",{"$f":"IF(【急性期】入力シート!AM150=\"\",\"\",【急性期】入力シート!AM150)","v":""},null,null,null,null,null,null,null,"R",{"$f":"IF(【急性期】入力シート!$BG$9=FALSE,IF(【急性期】データ管理!K364=0,FALSE,IF(【急性期】データ管理!K364<【急性期】入力シート!$BE$1,TRUE,FALSE)))","v":false}]
[null,"障害支援区分",null,0,"1:非該当 2:無 3:申請中 4:申請中 5:該当",{"$f":"IF(D365<>\"\",LOOKUP(D365,{0,1,2,3,4,5},{\"\",\"非該当\",\"無\",\"申請中\",\"変更申請中\",\"該当\"}),\"\")& IF(D365=2,F366,\"\")& IF(D365=5,\"（\"&  F367 & \"）\",\"\")","v":""},null,null,null,null,null,"R",{"$f":"IF(【急性期】入力シート!$BG$9=FALSE,IF(【急性期】データ管理!K365=0,FALSE,IF(【急性期】データ管理!K365<【急性期】入力シート!$BE$1,TRUE,FALSE)))","v":false},0]
[null,null,"無",0,"1:説明済　2:未説明",{"$f":"IF(D366<>\"\",LOOKUP(D366,{0,1,2},{\"\",\"(説明済)\",\"(未説明)\"}),\"\")","v":""},null,null,null,null,null,"R",{"$f":"IF(【急性期】入力シート!$BG$9=FALSE,IF(【急性期】データ管理!K366=0,FALSE,IF(【急性期】データ管理!K366<【急性期】入力シート!$BE$1,TRUE,FALSE)))","v":false},0]
[null,null,"該当　",0,"1,2,3,4,5,6",{"$f":"IF(D367<>\"\",LOOKUP(D367,{0,1,2,3,4,5,6},{\"\",\"区分１\",\"区分２\",\"区分３\",\"区分４\",\"区分５\",\"区分６\"}),\"\")","v":""},null,null,null,null,null,"R",{"$f":"IF(【急性期】入力シート!$BG$9=FALSE,IF(【急性期】データ管理!K367=0,FALSE,IF(【急性期】データ管理!K367<【急性期】入力シート!$BE$1,TRUE,FALSE)))","v":false},0]
[null,null,"相談支援専門員：担当者",{"$f":"IF(【急性期】入力シート!U153=\"\",\"\",【急性期】入力シート!U153)","v":""},null,null,null,null,null,null,null,"R",{"$f":"IF(【急性期】入力シート!$BG$9=FALSE,IF(【急性期】データ管理!K368=0,FALSE,IF(【急性期】データ管理!K368<【急性期】入力シート!$BE$1,TRUE,FALSE)))","v":false}]
[null,null,"事業所",{"$f":"IF(【急性期】入力シート!AF153=\"\",\"\",【急性期】入力シート!AF153)","v":""},null,null,null,null,null,null,null,"R",{"$f":"IF(【急性期】入力シート!$BG$9=FALSE,IF(【急性期】データ管理!K369=0,FALSE,IF(【急性期】データ管理!K369<【急性期】入力シート!$BE$1,TRUE,FALSE)))","v":false}]
[null,"退院後の本人・家族の希望",null,{"$f":"IF(【急性期】入力シート!P154=\"\",\"\",【急性期】入力シート!P154)","v":""},null,null,null,null,null,null,null,"R",{"$f":"IF(【急性期】入力シート!$BG$9=FALSE,IF(【急性期】データ管理!K370=0,FALSE,IF(【急性期】データ管理!K370<【急性期】入力シート!$BE$1,TRUE,FALSE)))","v":false}]
[null,"家族状況","介護者",0,"1無　2:有",{"$f":"IF(D371<>\"\",LOOKUP(D371,{0,1,2},{\"\",\"無\",\"有\"}),\"\")& IF(D371=2,\"（\"& D372 & \"）\",\"\")","v":""},null,null,null,null,null,"R",{"$f":"IF(【急性期】入力シート!$BG$9=FALSE,IF(【急性期】データ管理!K371=0,FALSE,IF(【急性期】データ管理!K371<【急性期】入力シート!$BE$1,TRUE,FALSE)))","v":false},0]
[null,null,"介護者テキスト",{"$f":"IF(【急性期】入力シート!S157=\"\",\"\",【急性期】入力シート!S157)","v":""},null,null,null,null,null,null,null,"R",{"$f":"IF(【急性期】入力シート!$BG$9=FALSE,IF(【急性期】データ管理!K372=0,FALSE,IF(【急性期】データ管理!K372<【急性期】入力シート!$BE$1,TRUE,FALSE)))","v":false}]
[null,null,"介護力",0,"常時可　夜間のみ可　不可",{"$f":"IF(D373<>\"\",LOOKUP(D373,{0,1,2,3},{\"\",\"常時可\",\"夜間のみ可\",\"不可\"}),\"\")","v":""},null,null,null,null,null,"R",{"$f":"IF(【急性期】入力シート!$BG$9=FALSE,IF(【急性期】データ管理!K373=0,FALSE,IF(【急性期】データ管理!K373<【急性期】入力シート!$BE$1,TRUE,FALSE)))","v":false},0]
[null,null,"キーパーソン支援",{"$f":"IF(【急性期】入力シート!R158=\"\",\"\",【急性期】入力シート!R158)","v":""},null,null,null,null,null,null,null,"R",{"$f":"IF(【急性期】入力シート!$BG$9=FALSE,IF(【急性期】データ管理!K374=0,FALSE,IF(【急性期】データ管理!K374<【急性期】入力シート!$BE$1,TRUE,FALSE)))","v":false}]
[null,null,"本人との関係",{"$f":"IF(【急性期】入力シート!AG158=\"\",\"\",【急性期】入力シート!AG158)","v":""},null,null,null,null,null,null,null,"R",{"$f":"IF(【急性期】入力シート!$BG$9=FALSE,IF(【急性期】データ管理!K375=0,FALSE,IF(【急性期】データ管理!K375<【急性期】入力シート!$BE$1,TRUE,FALSE)))","v":false}]
["説明","ｹｱﾏﾈｼﾞｬｰに情報提供",null,false,null,{"$f":"IF(D376=TRUE,B376,\"\")","v":""},null,null,null,null,null,"R",{"$f":"IF(【急性期】入力シート!$BG$9=FALSE,IF(【急性期】データ管理!K376=0,FALSE,IF(【急性期】データ管理!K376<【急性期】入力シート!$BE$1,TRUE,FALSE)))","v":false},false]
[null,"相談支援専門員に情報提供",null,false,null,{"$f":"IF(D377=TRUE,B377,\"\")","v":""},null,null,null,null,null,"R",{"$f":"IF(【急性期】入力シート!$BG$9=FALSE,IF(【急性期】データ管理!K377=0,FALSE,IF(【急性期】データ管理!K377<【急性期】入力シート!$BE$1,TRUE,FALSE)))","v":false},false]
[null,"居宅サービス計画書案作成済み",null,false,null,"",null,null,null,null,null,"R",{"$f":"IF(【急性期】入力シート!$BG$9=FALSE,IF(【急性期】データ管理!K378=0,FALSE,IF(【急性期】データ管理!K378<【急性期】入力シート!$BE$1,TRUE,FALSE)))","v":false},false]
[null,"サービス等利用計画案作成済み",null,false,null,"",null,{"$f":"IF(H380<>\"\", MID(H380,2,200),\"\")","v":""},null,null,null,"R",{"$f":"IF(【急性期】入力シート!$BG$9=FALSE,IF(【急性期】データ管理!K379=0,FALSE,IF(【急性期】データ管理!K379<【急性期】入力シート!$BE$1,TRUE,FALSE)))","v":false},false]
[null,"在宅ケア希望者退院連絡票送付",null,false,null,"","計算用",{"$f":" IF(F376<>\"\",\"，\" & F376,\"\") & IF(F377<>\"\",\"，\" & F377,\"\") & IF(F378<>\"\",\"，\" & F378,\"\") & IF(F379<>\"\",\"，\" & F379,\"\") & IF(F380<>\"\",\"，\" & F380,\"\")","v":""},null,null,null,"R",{"$f":"IF(【急性期】入力シート!$BG$9=FALSE,IF(【急性期】データ管理!K380=0,FALSE,IF(【急性期】データ管理!K380<【急性期】入力シート!$BE$1,TRUE,FALSE)))","v":false},false]
["医療連携上の特記事項","有無",null,0,null,null,null,null,null,null,null,"R",{"$f":"IF(【急性期】入力シート!$BG$9=FALSE,IF(【急性期】データ管理!K381=0,FALSE,IF(【急性期】データ管理!K381<【急性期】入力シート!$BE$1,TRUE,FALSE)))","v":false},0]
[null,"テキスト",null,{"$f":"IF(【急性期】入力シート!Q162=\"\",\"\",【急性期】入力シート!Q162)","v":""},null,null,null,null,null,null,null,"R",{"$f":"IF(【急性期】入力シート!$BG$9=FALSE,IF(【急性期】データ管理!K382=0,FALSE,IF(【急性期】データ管理!K382<【急性期】入力シート!$BE$1,TRUE,FALSE)))","v":false}]
["退院時","意識","JCS",{"$f":"IF(【急性期】入力シート!AM15=\"\",\"\",【急性期】入力シート!AM15)","v":""},null,null,null,null,null,null,null,"D",{"$f":"IF(【急性期】入力シート!$BG$3=FALSE,IF(【急性期】データ管理!K383=0,FALSE,IF(【急性期】データ管理!K383<【急性期】入力シート!$BE$1,TRUE,FALSE)))","v":false}]
[null,null,"GCS",{"$f":"IF(【急性期】入力シート!AU15=0,\"\",【急性期】入力シート!AU15)","v":""},null,null,null,null,null,null,null,"D",{"$f":"IF(【急性期】入力シート!$BG$3=FALSE,IF(【急性期】データ管理!K384=0,FALSE,IF(【急性期】データ管理!K384<【急性期】入力シート!$BE$1,TRUE,FALSE)))","v":false}]
["急性期入力完了日"]
["正中偏位","右　左",null,0,"1:右　2:左",{"$f":"IF(D386<>\"\",LOOKUP(D386,{0,1,2},{\"\",\"右\",\"左\"}),\"\")","v":""},null,null,null,null,null,"D",{"$f":"IF(【急性期】入力シート!$BG$3=FALSE,IF(【急性期】データ管理!K386=0,FALSE,IF(【急性期】データ管理!K386<【急性期】入力シート!$BE$1,TRUE,FALSE)))","v":false},0]
["基本情報","障害に関する認識",null,{"$f":"IF(【急性期】入力シート!P156=\"\",\"\",【急性期】入力シート!P156)","v":""},null,null,null,null,null,null,null,"R",{"$f":"IF(【急性期】入力シート!$BG$9=FALSE,IF(【急性期】データ管理!K387=0,FALSE,IF(【急性期】データ管理!K387<【急性期】入力シート!$BE$1,TRUE,FALSE)))","v":false}]
[null,"生活の場","同居者の有無",0,"1同居者：無　2:同居者：有",{"$f":"IF(D388<>\"\",LOOKUP(D388,{0,1,2},{\"\",\"同居者：無\",\"同居者：有\"}),\"\")","v":""},null,null,null,null,null,"R",{"$f":"IF(【急性期】入力シート!$BG$9=FALSE,IF(【急性期】データ管理!K388=0,FALSE,IF(【急性期】データ管理!K388<【急性期】入力シート!$BE$1,TRUE,FALSE)))","v":false},0]

{"sheet":"【急性期】印刷","index":4,"n_rows":117,"n_cols":52,"rows_kept":117,"cut":false,"hidden":true,"merged":[[99,25,99,40],[93,0,93,51],[84,32,84,38],[84,39,84,44],[84,45,84,51],[95,4,95,13],[96,4,96,13],[99,4,99,13],[64,4,64,7],[66,28,66,31],[66,32,66,51],[68,8,68,27],[65,4,65,7],[66,4,66,7],[67,4,67,7],[77,4,77,11],[77,46,77,51],[76,43,76,50],[90,0,92,3],[79,2,79,3],[79,4,79,6],[79,28,79,30],[79,31,79,51],[85,6,85,51],[42,27,42,30],[42,9,42,26],[42,31,42,51],[46,42,46,50],[47,42,47,50],[48,42,48,50],[90,4,90,7],[90,8,90,51],[91,4,91,7],[91,8,91,22],[78,4,78,14],[78,28,78,51],[54,4,54,7],[50,4,50,7],[51,4,52,7],[53,4,53,7],[55,4,55,7],[56,4,57,7],[58,4,58,7],[64,28,64,31],[79,7,79,27],[45,12,45,15],[45,33,45,36],[84,2,84,12],[19,32,19,51],[26,18,26,22],[26,4,26,10],[31,15,31,28],[29,34,29,35],[45,37,45,44],[32,37,32,41],[20,42,20,43],[46,4,46,7],[42,4,42,8],[35,30,35,36],[35,43,35,46],[45,8,45,9],[45,29,45,30],[29,18,29,19],[29,20,29,23],[36,13,36,16],[36,17,36,24],[32,30,32,36],[20,32,20,33],[20,38,20,39],[20,48,20,49],[22,38,22,39],[20,4,20,10],[86,6,86,51],[78,16,78,19],[84,19,84,25],[84,26,84,31],[82,28,82,31],[82,32,82,51],[80,2,80,3],[80,4,80,7],[80,8,80,27],[80,28,80,31],[80,32,80,51],[81,32,81,51],[113,0,115,3],[116,0,117,9],[107,25,107,31],[107,37,107,46],[111,33,111,43],[94,0,112,3],[105,22,105,37],[100,4,100,13],[101,4,101,13],[102,4,102,13],[103,4,103,13],[105,43,105,48],[104,4,105,13],[106,4,107,13],[111,4,112,13],[97,4,98,13],[112,23,112,29],[112,39,112,42],[116,10,117,51],[108,4,109,13],[110,4,110,13],[108,14,109,51],[110,14,110,51],[99,17,99,24],[89,0,89,3],[89,11,89,18],[89,19,89,22],[89,23,89,32],[87,6,87,51],[88,6,88,51],[82,2,82,3],[83,2,83,3],[82,4,82,7],[82,8,82,27],[83,4,83,7],[83,8,83,27],[78,0,88,1],[87,2,87,5],[88,2,88,5],[85,2,85,5],[86,2,86,5],[83,28,83,31],[83,32,83,51],[84,13,84,18],[81,2,81,3],[81,4,81,7],[81,8,81,27],[81,28,81,31],[68,2,68,3],[68,28,68,31],[68,32,68,51],[71,0,77,3],[72,4,72,11],[73,4,73,11],[74,4,74,11],[75,4,75,11],[72,28,72,37],[76,28,76,32],[76,33,76,41],[76,4,76,11],[76,12,76,13],[77,12,77,41],[73,28,73,37],[74,28,74,37],[75,28,75,37],[75,40,75,51],[71,4,71,11],[71,28,71,37],[68,4,68,7],[67,2,67,3],[67,28,67,31],[67,32,67,51],[64,0,70,1],[64,2,64,3],[65,2,65,3],[66,2,66,3],[70,2,70,3],[70,4,70,7],[70,8,70,27],[70,28,70,31],[70,32,70,51],[69,2,69,3],[69,4,69,7],[69,8,69,27],[69,28,69,31],[69,32,69,51],[64,8,64,27],[65,8,65,27],[66,8,66,27],[67,8,67,27],[64,32,64,51],[65,28,65,31],[65,32,65,51],[63,0,63,3],[63,4,63,27],[63,28,63,51],[51,16,51,17],[51,21,51,22],[51,34,51,35],[51,40,51,41],[48,16,48,17],[48,21,48,22],[48,26,48,27],[48,31,48,32],[48,36,48,37],[58,8,59,51],[61,8,62,51],[51,28,51,29],[51,45,51,51],[51,23,51,27],[43,0,44,3],[43,4,44,51],[45,0,62,3],[45,16,45,23],[46,16,46,17],[46,21,46,22],[41,4,41,10],[41,23,41,30],[42,0,42,3],[36,0,41,3],[39,4,39,10],[39,13,39,16],[39,17,39,38],[40,4,40,10],[40,11,40,15],[36,27,36,38],[37,4,37,10],[37,11,37,15],[38,4,38,10],[36,4,36,10],[46,26,46,27],[47,16,47,17],[47,21,47,22],[47,26,47,27],[30,0,35,3],[30,4,30,10],[30,11,30,15],[31,4,31,10],[32,4,32,10],[32,11,32,15],[33,4,33,10],[33,11,33,15],[34,4,34,10],[34,11,34,15],[35,4,35,10],[35,11,35,15],[21,4,21,10],[21,11,21,20],[22,4,22,10],[22,11,22,20],[27,0,29,3],[27,4,27,7],[27,8,27,15],[27,16,27,18],[27,19,27,51],[28,4,28,17],[28,18,28,24],[29,4,29,17],[29,24,29,32],[22,48,22,49],[24,4,24,10],[15,0,15,3],[15,4,15,19],[15,20,15,35],[15,36,15,51],[18,21,18,51],[16,0,16,3],[16,4,16,19],[16,20,16,35],[17,0,26,3],[26,23,26,26],[25,4,25,10],[25,11,25,29],[23,38,23,39],[23,48,23,49],[25,38,25,39],[25,48,25,49],[24,38,24,39],[24,48,24,49],[21,48,21,49],[18,11,18,17],[18,18,18,20],[17,4,17,7],[23,4,23,10],[19,11,19,20],[10,0,10,3],[10,8,10,11],[10,24,10,27],[11,0,11,3],[10,4,10,7],[10,16,10,17],[10,32,10,33],[10,20,10,23],[11,4,11,6],[11,20,11,35],[18,7,18,10],[2,0,2,3],[2,4,2,29],[2,30,2,33],[2,34,2,51],[8,0,8,3],[8,4,8,19],[8,20,8,35],[8,36,8,51],[9,0,9,3],[5,37,5,49],[6,37,6,49],[7,37,7,49],[5,17,5,19],[6,17,6,19],[7,17,7,19],[4,0,7,3],[4,4,4,8],[12,0,12,3],[12,4,12,19],[13,0,13,3],[13,4,13,6],[12,20,12,35],[13,20,13,35],[9,4,9,18],[9,20,9,34],[9,36,9,50],[26,30,26,31],[11,36,13,51],[10,36,10,39],[10,40,10,43],[10,48,10,49],[0,0,0,19],[0,20,0,44],[1,24,1,30],[1,0,1,3],[1,4,1,14],[1,15,1,18],[3,0,3,3],[3,4,3,8],[3,9,3,16],[3,17,3,18],[14,0,14,3],[14,4,14,19],[14,20,14,35],[23,11,23,20],[19,4,19,10],[17,8,17,31],[30,42,30,47],[35,40,35,42],[1,19,1,23],[1,31,1,39],[1,40,1,47],[1,48,1,49],[3,24,3,25],[3,26,3,27],[3,30,3,35],[3,36,3,45],[3,19,3,23],[16,36,16,51],[30,30,30,36],[33,30,33,36],[33,37,33,41],[34,30,34,36],[31,30,31,36],[31,37,31,41],[21,38,21,39],[4,23,4,28],[4,29,4,36],[14,36,14,51],[34,40,34,50],[20,11,20,20]]}
["脳外傷地域連携診療計画書【急性期】",null,null,null,null,null,null,null,null,null,null,null,null,null,null,null,null,null,null,null,{"$f":"\"急性期病院名（\" & 【急性期】入力シート!AG2 & \"）\"","v":"急性期病院名（）"}]
["氏名",null,null,null,{"$f":"【急性期】データ管理!D4","v":""},null,null,null,null,null,null,null,null,null,null,"性別",null,null,null,{"$f":"【急性期】データ管理!F5","v":""},null,null,null,null,"生年月日",null,null,null,null,null,null,{"$f":"【急性期】データ管理!D6","v":""},null,null,null,null,null,null,null,null,{"$f":"TODAY()","v":"2023-04-01"},null,null,null,null,null,null,null,{"$f":"IF(AF2=\"\",\"\",IFERROR(DATEDIF(AF2,AO2,\"y\"),\"\"))","v":""},null,"歳"]
["住所",null,null,null,{"$f":"【急性期】データ管理!D7","v":""},null,null,null,null,null,null,null,null,null,null,null,null,null,null,null,null,null,null,null,null,null,null,null,null,null,"電話番号",null,null,null,{"$f":"【急性期】データ管理!D8","v":""}]
["受傷時",null,null,null,"受傷年月日",null,null,null,null,{"$f":"【急性期】データ管理!D9","v":""},null,null,null,null,null,null,null,"時刻",null,{"$f":"【急性期】データ管理!D10","v":":"},null,null,null,null,"年齢",null,{"$f":"IF(AF2=\"\",\"\",IFERROR(DATEDIF(AF2,J4,\"y\"),\"\"))","v":""},null,"歳",null,"受傷日時確度",null,null,null,null,null,{"$f":"【急性期】データ管理!F11","v":""}]
["受傷状況",null,null,null,"受傷原因：",null,null,null,null,{"$f":"【急性期】データ管理!F12","v":""},null,null,null,null,null,null,null,null,null,null,null,null,null,"労災の有無：",null,null,null,null,null,{"$f":"【急性期】データ管理!F13","v":""}]
[null,null,null,null,null,"交通事故の場合",null,null,null,null,null,null,null,null,null,null,"患者方：",{"$f":"【急性期】データ管理!F14","v":""},null,null,{"$f":"IF(【急性期】データ管理!D15=\"\",\"\",\"（\" & 【急性期】データ管理!D15 & \"）\")","v":""}]
[null,null,null,null,null,null,null,null,null,null,null,null,null,null,null,null,"相手方：",{"$f":"【急性期】データ管理!F16","v":""},null,null,{"$f":"IF(【急性期】データ管理!D17=\"\",\"\",\"（\" & 【急性期】データ管理!D17 & \"）\")","v":""}]
[null,null,null,null,null,"非交通事故の場合",null,null,null,null,null,null,null,null,null,null,"原因：",{"$f":"【急性期】データ管理!F18","v":""},null,null,{"$f":"IF(【急性期】データ管理!D19=\"\",\"\",\"（\" & 【急性期】データ管理!D19 & \"）\")","v":""}]
[null,null,null,null,"搬入時",null,null,null,null,null,null,null,null,null,null,null,null,null,null,null,"最悪時",null,null,null,null,null,null,null,null,null,null,null,null,null,null,null,"退院時"]
["年月日",null,null,null,{"$f":"【急性期】データ管理!D20","v":""},null,null,null,null,null,null,null,null,null,null,null,null,null,null,null,{"$f":"【急性期】データ管理!D29","v":""},null,null,null,null,null,null,null,null,null,null,null,null,null,null,null,{"$f":"【急性期】データ管理!D34","v":""}]
["意識",null,null,null,"JCS（",null,null,null,{"$f":"【急性期】データ管理!D23","v":""},null,null,null,"）GCS（",null,null,null,{"$f":"【急性期】データ管理!D24","v":""},null,"）",null,"JCS（",null,null,null,{"$f":"【急性期】データ管理!D30","v":""},null,null,null,"）GCS（",null,null,null,{"$f":"【急性期】データ管理!D31","v":""},null,"）",null,"JCS（",null,null,null,{"$f":"【急性期】データ管理!D383","v":""},null,null,null,"）GCS（",null,null,null,{"$f":"【急性期】データ管理!D384","v":""},null,"）"]
["血圧（収縮期）",null,null,null,{"$f":"【急性期】データ管理!D25","v":""},null,null,"mmHg"]
["瞳孔所見",null,null,null,{"$f":"【急性期】データ管理!F26","v":""},null,null,null,null,null,null,null,null,null,null,null,null,null,null,null,{"$f":"【急性期】データ管理!F32","v":""}]
["酸素飽和度",null,null,null,{"$f":"【急性期】データ管理!D27","v":""},null,null,"%"]
["MMT",null,null,null,{"$f":"【急性期】データ管理!D28","v":"右上肢（   ）　左上肢（   ）　右下肢（   ）　左下肢（   ）"},null,null,null,null,null,null,null,null,null,null,null,null,null,null,null,{"$f":"【急性期】データ管理!D33","v":"右上肢（   ）　左上肢（   ）　右下肢（   ）　左下肢（   ）"},null,null,null,null,null,null,null,null,null,null,null,null,null,null,null,{"$f":"【急性期】データ管理!D35","v":"右上肢（   ）　左上肢（   ）　右下肢（   ）　左下肢（   ）"}]
["転帰",null,null,null,null,null,null,null,null,null,null,null,null,null,null,null,null,null,null,null,null,null,null,null,null,null,null,null,null,null,null,null,null,null,null,null,{"$f":"【急性期】データ管理!F36","v":""}]
["GOS",null,null,null,null,null,null,null,null,null,null,null,null,null,null,null,null,null,null,null,null,null,null,null,null,null,null,null,null,null,null,null,null,null,null,null,{"$f":"【急性期】データ管理!F38","v":""}]
["脳損傷の\n状況",null,null,null,"診断名：",null,null,null,{"$f":"【急性期】データ管理!D40","v":""}]
[null,null,null,null,"CT",null,null,"撮影日",null,null,null,{"$f":"【急性期】データ管理!D41","v":""},null,null,null,null,null,null,"所見：",null,null,{"$f":"【急性期】データ管理!D42","v":""}]
[null,null,null,null,"頭蓋骨骨折",null,null,null,null,null,null,{"$f":"【急性期】データ管理!F43","v":""},null,null,null,null,null,null,null,null,null,null,null,null,null,null,null,null,null,null,null,null,"血腫の部位 最大厚(mm)"]
[null,null,null,null,"気脳症",null,null,null,null,null,null,{"$f":"【急性期】データ管理!F44","v":""},null,null,null,null,null,null,null,null,null,null,null,null,null,null,null,null,null,null,null,null,"右",null,{"$f":"IF(【急性期】データ管理!D50,\"○\",\"\")","v":""},"前頭葉",null,null,{"$f":"【急性期】データ管理!D57","v":""},null,"mm",null,"左",null,{"$f":"IF(【急性期】データ管理!D64,\"○\",\"\")","v":""},"前頭葉",null,null,{"$f":"【急性期】データ管理!D71","v":""},null,"mm"]
[null,null,null,null,"頭蓋内異物",null,null,null,null,null,null,{"$f":"【急性期】データ管理!F45","v":""},null,null,null,null,null,null,null,null,null,null,null,null,null,null,null,null,null,null,null,null,null,null,{"$f":"IF(【急性期】データ管理!D51,\"○\",\"\")","v":""},"側頭葉",null,null,{"$f":"【急性期】データ管理!D58","v":""},null,"mm",null,null,null,{"$f":"IF(【急性期】データ管理!D65,\"○\",\"\")","v":""},"側頭葉",null,null,{"$f":"【急性期】データ管理!D72","v":""},null,"mm"]
[null,null,null,null,"くも膜下出血",null,null,null,null,null,null,{"$f":"【急性期】データ管理!F46","v":""},null,null,null,null,null,null,null,null,null,null,null,null,null,null,null,null,null,null,null,null,null,null,{"$f":"IF(【急性期】データ管理!D52,\"○\",\"\")","v":""},"頭頂葉",null,null,{"$f":"【急性期】データ管理!D59","v":""},null,"mm",null,null,null,{"$f":"IF(【急性期】データ管理!D66,\"○\",\"\")","v":""},"頭頂葉",null,null,{"$f":"【急性期】データ管理!D73","v":""},null,"mm"]
[null,null,null,null,"脳室内出血",null,null,null,null,null,null,{"$f":"【急性期】データ管理!F47","v":""},null,null,null,null,null,null,null,null,null,null,null,null,null,null,null,null,null,null,null,null,null,null,{"$f":"IF(【急性期】データ管理!D53,\"○\",\"\")","v":""},"後頭葉",null,null,{"$f":"【急性期】データ管理!D60","v":""},null,"mm",null,null,null,{"$f":"IF(【急性期】データ管理!D67,\"○\",\"\")","v":""},"後頭葉",null,null,{"$f":"【急性期】データ管理!D74","v":""},null,"mm"]
[null,null,null,null,"CT分類(TCDB)",null,null,null,null,null,null,{"$f":"【急性期】データ管理!F48","v":""},null,null,null,null,null,null,null,null,null,null,null,null,null,null,null,null,null,null,null,null,null,null,{"$f":"IF(【急性期】データ管理!D54,\"○\",\"\")","v":""},"基底核",null,null,{"$f":"【急性期】データ管理!D61","v":""},null,"mm",null,null,null,{"$f":"IF(【急性期】データ管理!D68,\"○\",\"\")","v":""},"基底核",null,null,{"$f":"【急性期】データ管理!D75","v":""},null,"mm"]
[null,null,null,null,"腫瘤性病変",null,null,null,null,null,null,{"$f":"【急性期】データ管理!F49","v":""},null,null,null,null,null,null,null,null,null,null,null,null,null,null,null,null,null,null,null,null,null,null,{"$f":"IF(【急性期】データ管理!D55,\"○\",\"\")","v":""},"脳幹",null,null,{"$f":"【急性期】データ管理!D62","v":""},null,"mm",null,null,null,{"$f":"IF(【急性期】データ管理!D69,\"○\",\"\")","v":""},"脳幹",null,null,{"$f":"【急性期】データ管理!D76","v":""},null,"mm"]
[null,null,null,null,"中脳周囲槽",null,null,null,null,null,null,{"$f":"【急性期】データ管理!F78","v":""},null,null,null,null,null,null,"正中偏位",null,null,null,null,{"$f":"【急性期】データ管理!D79","v":""},null,null,null,"mm",null,null,{"$f":"【急性期】データ管理!F386","v":""},null,null,null,{"$f":"IF(【急性期】データ管理!D56,\"○\",\"\")","v":""},"脳室内",null,null,null,null,null,null,null,null,{"$f":"IF(【急性期】データ管理!D70,\"○\",\"\")","v":""},"脳室内"]
["MRI\n（DAIの場合）",null,null,null,"撮影日",null,null,null,{"$f":"【急性期】データ管理!D80","v":""},null,null,null,null,null,null,null,"所見",null,null,{"$f":"【急性期】データ管理!D81","v":""}]
[null,null,null,null,"脳梁膨大部･脳幹のDAI所見",null,null,null,null,null,null,null,null,null,null,null,null,null,{"$f":"【急性期】データ管理!F82","v":""}]
[null,null,null,null,"Microbleeding",null,null,null,null,null,null,null,null,null,null,null,null,null,{"$f":"【急性期】データ管理!F83","v":""},null,"（場所：",null,null,null,{"$f":"【急性期】データ管理!D84","v":""},null,null,null,null,null,null,null,null,null,"数：",null,{"$f":"【急性期】データ管理!F85","v":""},null,null,null,"）"]
["身体状況等",null,null,null,"Talk&deteriorate",null,null,null,null,null,null,{"$f":"【急性期】データ管理!F86","v":""},null,null,null,null,null,null,null,null,null,null,null,null,null,null,null,null,null,null,"拘縮",null,null,null,null,null,null,{"$f":"【急性期】データ管理!F98","v":""},null,"（部位：",null,null,{"$f":"【急性期】データ管理!D99","v":""},null,null,null,null,null,"）"]
[null,null,null,null,"多発外傷",null,null,null,null,null,null,{"$f":"【急性期】データ管理!F87","v":""},"（場所：",null,null,{"$f":"【急性期】データ管理!H92","v":""},null,null,null,null,null,null,null,null,null,null,null,null,null,"）","嚥下障害",null,null,null,null,null,null,{"$f":"【急性期】データ管理!F100","v":""}]
[null,null,null,null,"興奮･安静困難",null,null,null,null,null,null,{"$f":"【急性期】データ管理!F94","v":""},null,null,null,null,null,null,null,null,null,null,null,null,null,null,null,null,null,null,"肺炎",null,null,null,null,null,null,{"$f":"【急性期】データ管理!F101","v":""}]
[null,null,null,null,"視野障害",null,null,null,null,null,null,{"$f":"【急性期】データ管理!F95","v":""},null,null,null,null,null,null,null,null,null,null,null,null,null,null,null,null,null,null,"尿路感染症",null,null,null,null,null,null,{"$f":"【急性期】データ管理!F102","v":""}]
[null,null,null,null,"感覚障害",null,null,null,null,null,null,{"$f":"【急性期】データ管理!F96","v":""},null,null,null,null,null,null,null,null,null,null,null,null,null,null,null,null,null,null,"その他合併症",null,null,null,null,null,null,{"$f":"【急性期】データ管理!F103","v":""},null,"（",{"$f":"【急性期】データ管理!D104","v":""},null,null,null,null,null,null,null,null,null,null,"）"]
[null,null,null,null,"疼痛",null,null,null,null,null,null,{"$f":"【急性期】データ管理!F97","v":""},null,null,null,null,null,null,null,null,null,null,null,null,null,null,null,null,null,null,"その他感染症",null,null,null,null,null,null,{"$f":"【急性期】データ管理!F105","v":""},null,"（","部位：",null,null,{"$f":"【急性期】データ管理!D106","v":""},null,null,null,"）"]
["治療",null,null,null,"脳神経外科手術",null,null,null,null,null,null,{"$f":"【急性期】データ管理!F107","v":""},null,"（手術日",null,null,null,{"$f":"【急性期】データ管理!D108","v":""},null,null,null,null,null,null,null,"術式",null,{"$f":"【急性期】データ管理!D109","v":""},null,null,null,null,null,null,null,null,null,null,null,"）"]
[null,null,null,null,"頭蓋内圧モニタリング",null,null,null,null,null,null,{"$f":"【急性期】データ管理!F110","v":""}]
[null,null,null,null,"初圧",null,null,null,null,null,null,{"$f":"【急性期】データ管理!D111  & \" mmHg\"","v":" mmHg"},null,null,null,null,null,null,null,null,null,"最高圧：",{"$f":"【急性期】データ管理!D112 & \"　mmHg\"","v":"　mmHg"}]
[null,null,null,null,"薬物治療",null,null,null,null,null,null,{"$f":"【急性期】データ管理!F113","v":""},null,"（薬剤名：",null,null,null,{"$f":"【急性期】データ管理!H117","v":""},null,null,null,null,null,null,null,null,null,null,null,null,null,null,null,null,null,null,null,null,null,")"]
[null,null,null,null,"過換気療法",null,null,null,null,null,null,{"$f":"【急性期】データ管理!F120","v":""}]
[null,null,null,null,"体温管理",null,null,null,null,null,null,{"$f":"【急性期】データ管理!F121","v":""}]
["禁忌事項",null,null,null,"アレルギー：",null,null,null,null,{"$f":"IF(【急性期】データ管理!D124=FALSE,\"なし\",【急性期】データ管理!D125)","v":"なし"},null,null,null,null,null,null,null,null,null,null,null,null,null,null,null,null,null,"その他：",null,null,null,{"$f":"IF(【急性期】データ管理!D126=FALSE,\"なし\",【急性期】データ管理!D127)","v":"なし"}]
["高次脳\n機能障害",null,null,null,{"$f":"【急性期】データ管理!H141","v":""}]
[]
["神経心理学的検査\n(○：実施)",null,null,null,{"$f":"IF(【急性期】データ管理!D144,\"○\",\"\")","v":""},"HDS-R：",null,null,{"$f":"【急性期】データ管理!D145","v":""},null,"点",null,"実施日：",null,null,null,{"$f":"【急性期】データ管理!D146","v":""},null,null,null,null,null,null,null,null,{"$f":"IF(【急性期】データ管理!D147,\"○\",\"\")","v":""},"MMSE：",null,null,{"$f":"【急性期】データ管理!D148","v":""},null,"点",null,"実施日：",null,null,null,{"$f":"【急性期】データ管理!D149","v":""}]
[null,null,null,null,"知能",null,null,null,{"$f":"IF(【急性期】データ管理!D150,\"○\",\"\")","v":""},"WAIS-Ⅲ",null,null,null,null,null,"FIQ：",{"$f":"IF('【急性期】WAIS-Ⅲ'!$C$8=\"\",\"\",'【急性期】WAIS-Ⅲ'!$C$8)","v":""},null,null,null,"VIQ：",{"$f":"IF('【急性期】WAIS-Ⅲ'!$C$6=\"\",\"\",'【急性期】WAIS-Ⅲ'!$C$6)","v":""},null,null,null,"PIQ：",{"$f":"IF('【急性期】WAIS-Ⅲ'!$C$7=\"\",\"\",'【急性期】WAIS-Ⅲ'!$C$7)","v":""},null,null,null,null,null,null,null,null,null,null,null,null,null,null,"実施日：",{"$f":"IF('【急性期】WAIS-Ⅲ'!$C$3=\"\",\"\",'【急性期】WAIS-Ⅲ'!$C$3)","v":""}]
[null,null,null,null,null,null,null,null,{"$f":"IF(【急性期】データ管理!D155,\"○\",\"\")","v":""},"WISC-Ⅲ",null,null,null,null,null,"FIQ：",{"$f":"IF('【急性期】WISC-Ⅲ'!$C$8=\"\",\"\",'【急性期】WISC-Ⅲ'!$C$8)","v":""},null,null,null,"VIQ：",{"$f":"IF('【急性期】WISC-Ⅲ'!$C$6=\"\",\"\",'【急性期】WISC-Ⅲ'!$C$6)","v":""},null,null,null,"PIQ：",{"$f":"IF('【急性期】WISC-Ⅲ'!$C$7=\"\",\"\",'【急性期】WISC-Ⅲ'!$C$7)","v":""},null,null,null,null,null,null,null,null,null,null,null,null,null,null,"実施日：",{"$f":"IF('【急性期】WISC-Ⅲ'!$C$3=\"\",\"\",'【急性期】WISC-Ⅲ'!$C$3)","v":""}]
[null,null,null,null,null,null,null,null,{"$f":"IF(【急性期】データ管理!D160,\"○\",\"\")","v":""},"WISC-Ⅳ",null,null,null,null,null,"FSIQ：",{"$f":"IF('【急性期】WISC-Ⅳ'!$C$6=\"\",\"\",'【急性期】WISC-Ⅳ'!$C$6)","v":""},null,null,null,"VCI：",{"$f":"IF('【急性期】WISC-Ⅳ'!$C$7=\"\",\"\",'【急性期】WISC-Ⅳ'!$C$7)","v":""},null,null,null,"PRI：",{"$f":"IF('【急性期】WISC-Ⅳ'!$C$8=\"\",\"\",'【急性期】WISC-Ⅳ'!$C$8)","v":""},null,null,null,"WMI：",{"$f":"IF('【急性期】WISC-Ⅳ'!$C$9=\"\",\"\",'【急性期】WISC-Ⅳ'!$C$9)","v":""},null,null,null,"PSI：",{"$f":"IF('【急性期】WISC-Ⅳ'!$C$10=\"\",\"\",'【急性期】WISC-Ⅳ'!$C$10)","v":""},null,null,null,null,"実施日：",{"$f":"IF('【急性期】WISC-Ⅳ'!$C$3=\"\",\"\",'【急性期】WISC-Ⅳ'!$C$3)","v":""}]
[null,null,null,null,null,null,null,null,{"$f":"IF(【急性期】データ管理!D167,\"○\",\"\")","v":""},"レーヴン色彩マトリックス検査",null,null,null,null,null,null,null,null,null,null,null,{"$f":"IF(【急性期】データ管理!D168,\"○\",\"\")","v":""},"COGNISTAT",null,null,null,null,null,null,{"$f":"IF(【急性期】データ管理!D169,\"○\",\"\")","v":""},"大脇式精薄児用知能検査",null,null,null,null,null,null,null,null,null,{"$f":"IF(【急性期】データ管理!D170,\"○\",\"\")","v":""},"田中・ビネー式知能検査"]
[null,null,null,null,"言語",null,null,null,{"$f":"IF(【急性期】データ管理!D171,\"○\",\"\")","v":""},"標準失語症検査",null,null,null,null,null,null,null,null,null,null,null,{"$f":"IF(【急性期】データ管理!D172,\"○\",\"\")","v":""},"SALA失語症検査",null,null,null,null,null,null,{"$f":"IF(【急性期】データ管理!D173,\"○\",\"\")","v":""},"WAB失語症検査"]
[null,null,null,null,"記憶",null,null,null,{"$f":"IF(【急性期】データ管理!D174,\"○\",\"\")","v":""},"WMS-R",null,null,null,null,null,"言語性：",{"$f":"IF('【急性期】WMS-R'!$B$25=\"\",\"\",'【急性期】WMS-R'!$B$25)","v":""},null,null,null,"視覚性：",{"$f":"IF('【急性期】WMS-R'!$B$27=\"\",\"\",'【急性期】WMS-R'!$B$27)","v":""},null,"一般的記憶：",null,null,null,null,{"$f":"IF('【急性期】WMS-R'!$B$29=\"\",\"\",'【急性期】WMS-R'!$B$29)","v":""},null,null,null,null,"注意集中：",{"$f":"IF('【急性期】WMS-R'!$B$31=\"\",\"\",'【急性期】WMS-R'!$B$31)","v":""},null,null,null,null,"遅延再生：",{"$f":"IF('【急性期】WMS-R'!$B$33=\"\",\"\",'【急性期】WMS-R'!$B$33)","v":""},null,null,null,"実施日：",{"$f":"IF('【急性期】WMS-R'!$C$3=\"\",\"\",'【急性期】WMS-R'!$C$3)","v":""}]
[null,null,null,null,null,null,null,null,{"$f":"IF(【急性期】データ管理!D180,\"○\",\"\")","v":""},"リバーミード行動記憶検査",null,null,null,null,null,null,null,null,null,{"$f":"IF(【急性期】データ管理!D181,\"○\",\"\")","v":""},"三宅式記銘検査",null,null,null,null,null,null,null,null,{"$f":"IF(【急性期】データ管理!D182,\"○\",\"\")","v":""},"ベントン視覚記銘検査"]
[null,null,null,null,"構成",null,null,null,{"$f":"IF(【急性期】データ管理!D183,\"○\",\"\")","v":""},"コース立方体組み合わせテスト"]
[null,null,null,null,"注意",null,null,null,{"$f":"IF(【急性期】データ管理!D184,\"○\",\"\")","v":""},"TMT",null,null,null,null,null,null,null,{"$f":"IF(【急性期】データ管理!D185,\"○\",\"\")","v":""},"CAT",null,null,null,null,null,null,null,null,null,null,null,{"$f":"IF(【急性期】データ管理!D186,\"○\",\"\")","v":""},"D-CAT",null,null,null,null,null,null,null,{"$f":"IF(【急性期】データ管理!D187,\"○\",\"\")","v":""},"PASAT"]
[null,null,null,null,"遂行機能",null,null,null,{"$f":"IF(【急性期】データ管理!D188,\"○\",\"\")","v":""},"BAD",null,null,null,null,null,null,null,{"$f":"IF(【急性期】データ管理!D189,\"○\",\"\")","v":""},"ウィスコンシンカード分類課題",null,null,null,null,null,null,null,null,null,null,null,{"$f":"IF(【急性期】データ管理!D190,\"○\",\"\")","v":""},"前頭葉機能検査（FAB)"]
[null,null,null,null,"その他",null,null,null,{"$f":"IF(【急性期】データ管理!D191,\"○\",\"\")","v":""},"BIT(行動性無視検査)",null,null,null,null,null,null,null,{"$f":"IF(【急性期】データ管理!D192,\"○\",\"\")","v":""},"VPTA(標準高次視知覚検査)",null,null,null,null,null,null,null,null,null,null,null,{"$f":"IF(【急性期】データ管理!D193,\"○\",\"\")","v":""},"SPTA(標準高次動作性検査)"]
[null,null,null,null,null,null,null,null,{"$f":"IF(【急性期】データ管理!D194,\"○\",\"\")","v":""},"その他",null,null,{"$f":"【急性期】データ管理!F195","v":""}]
[null,null,null,null,"結果・所見",null,null,null,{"$f":"【急性期】データ管理!D196","v":""}]
[]
[null,null,null,null,"特記事項（日常生活上想定される問題等）"]
[null,null,null,null,null,null,null,null,{"$f":"【急性期】データ管理!D197","v":""}]
[]
["経過",null,null,null,"入院時",null,null,null,null,null,null,null,null,null,null,null,null,null,null,null,null,null,null,null,null,null,null,null,"退院時"]
["看護",null,"食事",null,{"$f":"【急性期】データ管理!F198","v":""},null,null,null,{"$f":"【急性期】データ管理!H203","v":""},null,null,null,null,null,null,null,null,null,null,null,null,null,null,null,null,null,null,null,{"$f":"【急性期】データ管理!F227","v":""},null,null,null,{"$f":"【急性期】データ管理!H232","v":""}]
[null,null,"移乗",null,{"$f":"【急性期】データ管理!F205","v":""},null,null,null,null,null,null,null,null,null,null,null,null,null,null,null,null,null,null,null,null,null,null,null,{"$f":"【急性期】データ管理!F234","v":""}]
[null,null,"トイレ",null,{"$f":"【急性期】データ管理!F206","v":""},null,null,null,null,null,null,null,null,null,null,null,null,null,null,null,null,null,null,null,null,null,null,null,{"$f":"【急性期】データ管理!F235","v":""}]
[null,null,"入浴",null,{"$f":"【急性期】データ管理!F207","v":""},null,null,null,{"$f":"【急性期】データ管理!F208","v":""},null,null,null,null,null,null,null,null,null,null,null,null,null,null,null,null,null,null,null,{"$f":"【急性期】データ管理!F236","v":""},null,null,null,{"$f":"【急性期】データ管理!F237","v":""}]
[null,null,"移動",null,{"$f":"【急性期】データ管理!F209","v":""},null,null,null,{"$f":"【急性期】データ管理!H214","v":""},null,null,null,null,null,null,null,null,null,null,null,null,null,null,null,null,null,null,null,{"$f":"【急性期】データ管理!F238","v":""},null,null,null,{"$f":"【急性期】データ管理!H243","v":""}]
[null,null,"排尿",null,{"$f":"【急性期】データ管理!F217","v":""},null,null,null,{"$f":"【急性期】データ管理!H221","v":""},null,null,null,null,null,null,null,null,null,null,null,null,null,null,null,null,null,null,null,{"$f":"【急性期】データ管理!F246","v":""},null,null,null,{"$f":"【急性期】データ管理!H250","v":""}]
[null,null,"排便",null,{"$f":"【急性期】データ管理!F223","v":""},null,null,null,{"$f":"【急性期】データ管理!H225","v":""},null,null,null,null,null,null,null,null,null,null,null,null,null,null,null,null,null,null,null,{"$f":"【急性期】データ管理!F252","v":""},null,null,null,{"$f":"【急性期】データ管理!H254","v":""}]
["日常生活機能",null,null,null,"床上安静の指示",null,null,null,null,null,null,null,{"$f":"【急性期】データ管理!F256","v":""},null,null,null,null,null,null,null,null,null,null,null,null,null,null,null,"衣服の着脱",null,null,null,null,null,null,null,null,null,{"$f":"【急性期】データ管理!F261","v":""}]
[null,null,null,null,"寝返り",null,null,null,null,null,null,null,{"$f":"【急性期】データ管理!F257","v":""},null,null,null,null,null,null,null,null,null,null,null,null,null,null,null,"他者への意思の伝達",null,null,null,null,null,null,null,null,null,{"$f":"【急性期】データ管理!F262","v":""}]
[null,null,null,null,"起き上がり",null,null,null,null,null,null,null,{"$f":"【急性期】データ管理!F258","v":""},null,null,null,null,null,null,null,null,null,null,null,null,null,null,null,"診療・療養上の指示が通じる",null,null,null,null,null,null,null,null,null,{"$f":"【急性期】データ管理!F263","v":""}]
[null,null,null,null,"座位保持",null,null,null,null,null,null,null,{"$f":"【急性期】データ管理!F259","v":""},null,null,null,null,null,null,null,null,null,null,null,null,null,null,null,"危険行動",null,null,null,null,null,null,null,null,null,{"$f":"【急性期】データ管理!F264","v":""}]
[null,null,null,null,"口腔清潔",null,null,null,null,null,null,null,{"$f":"【急性期】データ管理!F260","v":""},null,null,null,null,null,null,null,null,null,null,null,null,null,null,null,"身体拘束",null,null,null,null,null,null,null,null,null,{"$f":"【急性期】データ管理!F265","v":""},null,{"$f":"【急性期】データ管理!H267","v":""}]
[null,null,null,null,"日常機能評価点数",null,null,null,null,null,null,null,{"$f":"日常生活機能評価!AE22","v":0},null,"点"]
[null,null,null,null,"日常生活特記事項",null,null,null,null,null,null,null,{"$f":"IF(【急性期】データ管理!D271=\"\",\"なし\",【急性期】データ管理!D271)","v":"なし"},null,null,null,null,null,null,null,null,null,null,null,null,null,null,null,null,null,null,null,null,null,null,null,null,null,null,null,null,null,null,null,null,"記入者：",{"$f":"【急性期】データ管理!D272","v":""}]
["リハビリ",null,null,null,"リハビリ初回評価日",null,null,null,null,null,null,null,null,null,null,"（",{"$f":"【急性期】データ管理!D273","v":""},null,null,null,"）",null,null,null,null,null,null,null,"退院時評価"]
[null,null,"麻痺",null,"Br stage",null,null,{"$f":"【急性期】データ管理!D274","v":"右上肢( 　 )　－手指( 　 )　－下肢( 　 )　　左上肢( 　 )　－手指( 　 )　－下肢( 　 )"},null,null,null,null,null,null,null,null,null,null,null,null,null,null,null,null,null,null,null,null,"Br stage",null,null,{"$f":"【急性期】データ管理!D292","v":"右上肢( 　 )　－手指( 　 )　－下肢( 　 )　　左上肢( 　 )　－手指( 　 )　－下肢( 　 )"}]
[null,null,"食事",null,{"$f":"【急性期】データ管理!F275","v":""},null,null,null,{"$f":"【急性期】データ管理!H280","v":""},null,null,null,null,null,null,null,null,null,null,null,null,null,null,null,null,null,null,null,{"$f":"【急性期】データ管理!F293","v":""},null,null,null,{"$f":"【急性期】データ管理!H298","v":""}]
[null,null,"移乗",null,{"$f":"【急性期】データ管理!F282","v":""},null,null,null,null,null,null,null,null,null,null,null,null,null,null,null,null,null,null,null,null,null,null,null,{"$f":"【急性期】データ管理!F300","v":""}]
[null,null,"トイレ",null,{"$f":"【急性期】データ管理!F283","v":""},null,null,null,null,null,null,null,null,null,null,null,null,null,null,null,null,null,null,null,null,null,null,null,{"$f":"【急性期】データ管理!F301","v":""}]
[null,null,"移動",null,{"$f":"【急性期】データ管理!F284","v":""},null,null,null,{"$f":"【急性期】データ管理!H289","v":""},null,null,null,null,null,null,null,null,null,null,null,null,null,null,null,null,null,null,null,{"$f":"【急性期】データ管理!F302","v":""},null,null,null,{"$f":"【急性期】データ管理!H307","v":""}]
[null,null,{"$f":"【急性期】データ管理!H313","v":""},null,null,null,null,null,null,null,null,null,null,"理学療法担当者",null,null,null,null,null,{"$f":"【急性期】データ管理!D311","v":""},null,null,null,null,null,null,"作業療法担当者",null,null,null,null,null,{"$f":"【急性期】データ管理!D313","v":""},null,null,null,null,null,null,"言語療法担当者",null,null,null,null,null,{"$f":"【急性期】データ管理!D315","v":""}]
[null,null,"言語",null,null,null,{"$f":"【急性期】データ管理!D317","v":""}]
[null,null,"身体",null,null,null,{"$f":"【急性期】データ管理!D319","v":""}]
[null,null,"認知",null,null,null,{"$f":"【急性期】データ管理!D321","v":""}]
[null,null,"留意事項",null,null,null,{"$f":"【急性期】データ管理!D323","v":""}]
["説明",null,null,null,null,null,null,null,null,null,"連携パス説明日：",{"$f":"【急性期】データ管理!D325","v":""},null,null,null,null,null,null,null,"主治医：",null,null,null,{"$f":"【急性期】データ管理!D326","v":""}]
["転帰・転院基準",null,null,null,"転院先：",null,null,null,{"$f":"【急性期】データ管理!D327","v":""}]
[null,null,null,null,"転院先（",null,null,null,{"$f":"【急性期】データ管理!D328","v":""},null,null,null,null,null,null,null,null,null,null,null,null,null,null,"）へ情報提供"]
[null,null,null,null,{"$f":"【急性期】データ管理!F329","v":""}]
["脳損傷地域連携パス情報提供書"]
["基本情報",null,null,null,"現在の状況"]
[null,null,null,null,"社会復帰",null,null,null,null,null,null,null,null,null,{"$f":"【急性期】データ管理!F330","v":""}]
[null,null,null,null,"生活の場",null,null,null,null,null,null,null,null,null,{"$f":"【急性期】データ管理!F334","v":""}]
[null,null,null,null,"社会資源",null,null,null,null,null,null,null,null,null,"保険の種類：",null,null,null,null,{"$f":"【急性期】データ管理!F339","v":""}]
[null,null,null,null,null,null,null,null,null,null,null,null,null,null,null,null,null,null,null,{"$f":"【急性期】データ管理!H341","v":""}]
[null,null,null,null,"退院後の主治医",null,null,null,null,null,null,null,null,null,{"$f":"【急性期】データ管理!F344","v":""},null,null,"（医療機関・医師名：",null,null,null,null,null,null,null,{"$f":"【急性期】データ管理!D345","v":""},null,null,null,null,null,null,null,null,null,null,null,null,null,null,null,"）"]
[null,null,null,null,"障害年金",null,null,null,null,null,null,null,null,null,{"$f":"【急性期】データ管理!F346","v":""}]
[null,null,null,null,"身体障害者手帳",null,null,null,null,null,null,null,null,null,{"$f":"【急性期】データ管理!F351","v":""}]
[null,null,null,null,"精神障害者保健福祉手帳",null,null,null,null,null,null,null,null,null,{"$f":"【急性期】データ管理!F354","v":""}]
[null,null,null,null,"療育手帳",null,null,null,null,null,null,null,null,null,{"$f":"【急性期】データ管理!F357","v":""}]
[null,null,null,null,"介護保険",null,null,null,null,null,null,null,null,null,{"$f":"【急性期】データ管理!F360","v":""}]
[null,null,null,null,null,null,null,null,null,null,null,null,null,null,"居宅介護支援事業所（",null,null,null,null,null,null,null,{"$f":"【急性期】データ管理!D363","v":""},null,null,null,null,null,null,null,null,null,null,null,null,null,null,null,"）",null,"担当者（",null,null,{"$f":"【急性期】データ管理!D364","v":""},null,null,null,null,null,"）"]
[null,null,null,null,"障害支援区分",null,null,null,null,null,null,null,null,null,{"$f":"【急性期】データ管理!F365","v":""}]
[null,null,null,null,null,null,null,null,null,null,null,null,null,null,"相談支援専門員：担当者（",null,null,null,null,null,null,null,null,null,null,{"$f":"【急性期】データ管理!D368","v":""},null,null,null,null,null,null,"）",null,null,null,"事業所（",{"$f":"【急性期】データ管理!D369","v":""},null,null,null,null,null,null,null,null,null,"）"]
[null,null,null,null,"退院後の\n本人・家族の希望",null,null,null,null,null,null,null,null,null,{"$f":"【急性期】データ管理!D370","v":""}]
[]
[null,null,null,null,"障害に関する認識",null,null,null,null,null,null,null,null,null,{"$f":"【急性期】データ管理!D387","v":""}]
[null,null,null,null,"家族状況",null,null,null,null,null,null,null,null,null,"介護者：",null,null,null,{"$f":"【急性期】データ管理!F371","v":""},null,null,null,null,null,null,null,null,null,null,null,null,null,"介護力：",{"$f":"【急性期】データ管理!F373","v":""}]
[null,null,null,null,null,null,null,null,null,null,null,null,null,null,"キーパーソン：氏名",null,null,null,null,null,null,null,"（",{"$f":"【急性期】データ管理!D374","v":""},null,null,null,null,null,null,"）",null,null,null,null,null,null,null,"本人との関係：（",{"$f":"【急性期】データ管理!D375","v":""},null,null,null,"）"]
["説明\n(○：実施)",null,null,null,{"$f":"IF(【急性期】データ管理!D376=TRUE,\"○\",\"\")","v":""},"ｹｱﾏﾈｼﾞｬｰに情報提供",null,null,null,null,null,null,null,null,null,null,null,null,{"$f":"IF(【急性期】データ管理!D377=TRUE,\"○\",\"\")","v":""},"相談支援専門員に情報提供"]
[null,null,null,null,{"$f":"IF(【急性期】データ管理!D378=TRUE,\"○\",\"\")","v":""},"居宅サービス計画書案作成済み",null,null,null,null,null,null,null,null,null,null,null,null,{"$f":"IF(【急性期】データ管理!D379=TRUE,\"○\",\"\")","v":""},"サービス等利用計画案作成済み"]
[null,null,null,null,{"$f":"IF(【急性期】データ管理!D380=TRUE,\"○\",\"\")","v":""},"在宅ケア希望者退院連絡票送付"]
["医療連携上の特記事項",null,null,null,null,null,null,null,null,null,{"$f":"【急性期】データ管理!D382","v":""}]

{"sheet":"【回復期】入力シート","index":5,"n_rows":140,"n_cols":98,"rows_kept":140,"cut":false,"hidden":true,"merged":[[66,4,66,27],[66,28,66,51],[67,4,67,27],[67,28,67,51],[68,4,68,27],[58,4,58,27],[99,8,99,51],[100,8,100,51],[101,8,101,51],[60,28,60,51],[61,4,61,27],[62,4,62,27],[64,4,64,27],[61,28,61,51],[62,28,62,51],[64,28,64,51],[59,4,59,27],[59,28,59,51],[60,4,60,27],[68,28,68,51],[69,4,69,27],[69,28,69,32],[69,33,69,41],[69,43,69,50],[65,4,65,27],[65,28,65,51],[52,20,52,35],[54,20,54,22],[52,36,52,51],[54,36,54,38],[54,8,54,18],[54,24,54,34],[54,40,54,50],[53,4,53,19],[53,20,53,35],[53,36,53,51],[58,28,58,51],[49,8,49,17],[51,7,51,19],[51,20,51,35],[51,39,51,51],[52,4,52,19],[57,4,57,27],[63,4,63,27],[54,4,54,6],[57,28,57,51],[63,28,63,51],[28,11,28,14],[28,21,28,24],[42,4,42,10],[42,11,42,15],[43,4,43,10],[43,11,43,15],[44,4,44,10],[44,11,44,15],[45,4,45,10],[45,11,45,15],[45,17,45,27],[27,11,27,14],[27,15,27,16],[27,21,27,24],[23,11,23,14],[23,15,23,16],[23,21,23,24],[23,25,23,26],[22,11,22,14],[22,15,22,16],[22,19,22,20],[25,11,25,14],[25,15,25,16],[25,21,25,24],[25,25,25,26],[27,25,27,26],[10,21,10,24],[12,11,12,30],[13,11,13,13],[11,11,11,13],[18,11,18,20],[22,21,22,24],[22,25,22,26],[14,7,14,10],[14,11,14,18],[14,19,14,20],[14,21,14,51],[15,4,15,10],[15,11,15,20],[16,4,16,10],[16,11,16,20],[17,4,17,10],[17,11,17,20],[18,4,18,10],[22,4,22,8],[22,9,22,10],[35,0,46,3],[0,53,0,55],[0,56,0,63],[0,65,0,67],[0,68,0,75],[4,4,4,51],[2,4,2,14],[2,15,2,18],[2,19,2,23],[2,24,2,30],[2,31,2,39],[2,40,2,47],[2,48,2,49],[3,4,3,29],[3,30,3,33],[3,34,3,51],[1,50,1,51],[7,17,7,35],[7,37,7,49],[8,14,8,16],[31,4,31,17],[32,4,32,17],[10,11,10,12],[10,13,10,16],[57,0,70,3],[71,0,89,3],[90,0,93,3],[94,0,95,3],[96,0,96,3],[2,0,2,3],[3,0,3,3],[1,28,1,34],[1,42,1,48],[5,0,9,3],[4,0,4,3],[6,4,6,7],[6,8,6,22],[6,23,6,29],[6,30,6,36],[5,4,5,8],[5,9,5,16],[9,14,9,16],[9,17,9,35],[9,37,9,49],[7,14,7,16],[8,17,8,35],[8,37,8,49],[10,0,13,3],[53,0,53,3],[50,4,50,19],[50,20,50,35],[50,36,50,51],[50,0,50,3],[51,0,51,3],[19,4,19,10],[19,11,19,20],[20,4,20,10],[20,11,20,35],[21,4,21,10],[21,11,21,35],[26,11,26,14],[26,15,26,16],[26,21,26,24],[26,25,26,26],[24,11,24,14],[24,15,24,16],[24,21,24,24],[24,25,24,26],[47,0,49,3],[31,18,31,24],[14,0,29,3],[30,0,34,3],[70,12,70,16],[70,17,70,41],[70,46,70,51],[32,18,32,24],[34,24,34,37],[33,24,33,51],[29,11,29,25],[30,4,30,7],[30,8,30,15],[30,16,30,18],[30,19,30,51],[29,38,29,43],[35,4,35,10],[35,11,35,15],[36,4,36,10],[56,39,56,51],[29,4,29,10],[29,26,29,30],[29,31,29,34],[46,4,46,10],[46,11,46,15],[46,19,46,22],[47,4,48,51],[49,4,49,6],[71,4,71,8],[71,9,71,11],[71,14,71,16],[71,17,71,24],[72,4,72,8],[72,9,72,11],[72,14,72,16],[72,17,72,24],[36,11,36,15],[37,4,37,10],[37,11,37,15],[38,4,38,10],[38,11,38,15],[36,19,36,37],[39,4,39,10],[39,11,39,15],[40,4,40,10],[40,11,40,15],[41,4,41,10],[41,11,41,15],[41,19,41,22],[56,7,56,19],[56,23,56,35],[70,4,70,11],[92,30,92,37],[78,44,78,50],[73,4,73,7],[73,16,73,17],[73,20,73,21],[73,24,73,25],[73,37,73,43],[74,16,74,17],[74,20,74,21],[74,24,74,25],[74,37,74,43],[75,16,75,17],[75,20,75,21],[75,24,75,25],[75,28,75,29],[75,32,75,33],[75,37,75,43],[77,4,77,7],[78,4,78,7],[78,16,78,17],[78,21,78,22],[78,33,78,34],[78,39,78,40],[80,4,80,7],[81,4,81,7],[82,4,82,7],[83,4,83,7],[84,12,84,25],[85,4,85,7],[85,8,86,51],[88,8,89,51],[90,24,90,31],[90,37,90,44],[90,8,90,22],[90,33,90,35],[93,8,93,12],[93,14,93,18],[93,19,93,26],[91,8,91,14],[91,16,91,25],[95,27,95,31],[95,32,95,39],[95,7,95,23],[97,0,101,3],[96,4,96,10],[96,12,96,20],[96,22,96,24],[96,26,96,34],[97,12,97,18],[97,24,97,26],[97,28,97,34],[94,7,94,18],[95,24,95,25],[91,27,91,31],[92,13,92,16],[92,17,92,18],[92,20,92,21],[92,22,92,23],[92,25,92,29],[97,40,97,42],[102,10,102,14],[103,10,103,14],[105,10,105,14],[103,16,103,26],[103,28,103,34],[102,19,102,26],[104,35,104,41],[105,40,105,46],[104,16,104,33],[105,16,105,38],[97,44,97,50],[98,8,98,51],[97,8,97,10],[115,44,115,50],[115,37,115,42],[115,29,115,35],[108,11,108,18],[108,23,108,31],[106,4,106,7],[107,4,107,18],[109,4,109,7],[109,8,109,51],[110,4,110,7],[110,8,110,22],[111,0,111,51],[106,0,108,3],[109,0,110,3],[121,43,121,44],[121,45,121,46],[122,14,122,19],[122,21,122,27],[122,29,122,35],[122,37,122,38],[125,10,125,15],[125,17,125,23],[125,25,125,34],[123,14,123,19],[123,21,123,27],[123,29,123,35],[123,37,123,38],[124,14,124,19],[124,21,124,27],[124,29,124,35],[124,37,124,38],[121,12,121,13],[121,15,121,33],[121,35,121,41],[139,0,140,9],[139,10,139,14],[139,16,140,50],[136,0,138,3],[126,10,126,13],[126,19,126,22],[126,26,126,36],[127,17,127,32],[127,38,127,43],[128,12,128,17],[128,19,128,25],[128,27,128,36],[129,12,129,14],[129,16,129,27],[130,20,130,26],[130,31,130,40],[134,13,134,16],[134,18,134,23],[134,29,134,39],[135,17,135,23],[135,32,135,35],[131,15,132,50],[133,15,133,50],[112,0,135,3],[55,0,55,3],[56,0,56,3],[55,4,55,19],[55,20,55,35],[55,36,55,51],[78,27,78,28],[95,4,95,6],[120,12,120,17],[120,19,120,25],[120,27,120,36],[116,10,116,15],[116,17,116,24],[116,30,116,32],[116,34,116,43],[117,16,117,31],[118,29,118,36],[119,12,119,16],[119,17,119,23],[119,24,119,39],[113,10,114,15],[113,17,113,25],[113,27,113,35],[113,37,113,44],[114,17,114,24]]}
[null,null,null,null,null,null,null,null,null,null,null,null,null,null,null,null,null,null,null,null,null,null,null,null,null,null,null,null,null,null,null,null,null,null,null,null,null,null,null,null,null,null,null,null,null,null,null,null,null,null,null,null,null,"最終更新\n日時",null,null,"2017-12-07T14:27:34"]
["脳外傷地域連携診療計画書【回復期】",null,null,null,null,null,null,null,null,null,null,null,null,null,null,null,null,null,null,null,null,null,"回復期病院名（",null,null,null,null,null,null,null,null,null,null,null,null,"）","急性期病院名（",null,null,null,null,null,null,null,null,null,null,null,null,"）","Ver.1"]
["氏名",null,null,null,null,null,null,null,null,null,null,null,null,null,null,"性別",null,null,null,null,null,null,null,null,"生年月日",null,null,null,null,null,null,null,null,null,null,null,null,null,null,null,{"$f":"TODAY()","v":"2023-04-01"},null,null,null,null,null,null,null,{"$f":"IF(AF3=\"\",\"\",IFERROR(DATEDIF(AF3,AO3,\"y\"),\"\"))","v":""},null,"歳",null,null,"青",null,null,"医師",null,false,null,null,null,"パス中止理由",null,null,null,null,null,null,null,null,null,null,null,null,null,null,null,null,null,null,null,null,null,null,null,null,null,null,null,null,null,null,null,null,null,null,false]
["住所",null,null,null,null,null,null,null,null,null,null,null,null,null,null,null,null,null,null,null,null,null,null,null,null,null,null,null,null,null,"電話番号"]
["診断名",null,null,null,null,null,null,null,null,null,null,null,null,null,null,null,null,null,null,null,null,null,null,null,null,null,null,null,null,null,null,null,null,null,null,null,null,null,null,null,null,null,null,null,null,null,null,null,null,null,null,null,null,"赤",null,null,"ナース",null,false,null,null,null,null,null,null,null,null,null,null,null,null,null,null,null,null,null,null,null,null,null,null,null,null,null,null,null,null,null,null,null,null,null,null,null,null,null,null,false]
["受傷状況",null,null,null,"受傷年月日"]
[null,null,null,null,"受傷原因",null,null,null,null,null,null,null,null,null,null,null,null,null,null,null,null,null,null,"労災の有無",null,null,null,null,null,null,null,null,null,null,null,null,null,null,null,null,null,null,null,null,null,null,null,null,null,null,null,null,null,"黄",null,null,"セラピスト",null,false]
[null,null,null,null,null,"交通事故の場合",null,null,null,null,null,null,null,null,"患者方",null,null,null,null,null,null,null,null,null,null,null,null,null,null,null,null,null,null,null,null,null,"(",null,null,null,null,null,null,null,null,null,null,null,null,null,")"]
[null,null,null,null,null,null,null,null,null,null,null,null,null,null,"相手方",null,null,null,null,null,null,null,null,null,null,null,null,null,null,null,null,null,null,null,null,null,"(",null,null,null,null,null,null,null,null,null,null,null,null,null,")",null,null,"緑",null,null,"連携室",null,false]
[null,null,null,null,null,"非交通事故の場合",null,null,null,null,null,null,null,null,"原因",null,null,null,null,null,null,null,null,null,null,null,null,null,null,null,null,null,null,null,null,null,"(",null,null,null,null,null,null,null,null,null,null,null,null,null,")"]
["搬入時状況",null,null,null,"意識",null,null,null,null,null,null,"JCS（",null,null,null,null,null,"）",null,null,"GCS（",{"$f":"SUM(CG16:CG18)","v":0},null,null,null,"）",null,null,null,null,null,null,null,null,null,null,null,null,null,null,null,null,null,null,null,null,null,null,null,null,null,null,null,"灰色",null,null,"自由",null,false]
[null,null,null,null,"搬入時血圧（収縮期）",null,null,null,null,null,null,null,null,null,"mmHg"]
[null,null,null,null,"瞳孔所見",null,null,null,null,null,null,null,null,null,null,null,null,null,null,null,null,null,null,null,null,null,null,null,null,null,null,null,null,null,null,null,null,null,null,null,null,null,null,null,null,null,null,null,null,null,null,null,null,"オレンジ",null,null,"ナースまたは",null,false]
[null,null,null,null,"酸素飽和度",null,null,null,null,null,null,null,null,null,"%",null,null,null,null,null,null,null,null,null,null,null,null,null,null,null,null,null,null,null,null,null,null,null,null,null,null,null,null,null,null,null,null,null,null,null,null,null,null,null,null,null,"セラピスト"]
["脳損傷の\n状況",null,null,null,"CT",null,null,"撮影日",null,null,null,null,null,null,null,null,null,null,null,"所見"]
[null,null,null,null,"頭蓋骨骨折",null,null,null,null,null,null,null,null,null,null,null,null,null,null,null,null,null,null,null,null,null,null,null,null,null,null,null,null,null,null,null,null,null,null,null,null,null,null,null,null,null,null,null,null,null,null,null,null,null,null,null,null,null,null,null,null,null,null,null,null,null,null,null,null,null,null,null,null,null,null,null,null,null,null,null,null,null,null,"e",0,null,null,0]
[null,null,null,null,"気脳症",null,null,null,null,null,null,null,null,null,null,null,null,null,null,null,null,null,null,null,null,null,null,null,null,null,null,null,null,null,null,null,null,null,null,null,null,null,null,null,null,null,null,null,null,null,null,null,null,null,null,null,null,null,null,null,null,null,null,null,null,null,null,null,null,null,null,null,null,null,null,null,null,null,null,null,null,null,null,"v",0,null,null,0]
[null,null,null,null,"頭蓋内異物",null,null,null,null,null,null,null,null,null,null,null,null,null,null,null,null,null,null,null,null,null,null,null,null,null,null,null,null,null,null,null,null,null,null,null,null,null,null,null,null,null,null,null,null,null,null,null,null,null,null,null,null,null,null,null,null,null,null,null,null,null,null,null,null,null,null,null,null,null,null,null,null,null,null,null,null,null,null,"m",0,null,null,0]
[null,null,null,null,"くも膜下出血"]
[null,null,null,null,"脳室内出血"]
[null,null,null,null,"CT分類（TCDB)"]
[null,null,null,null,"腫瘤性病変"]
[null,null,null,null,"血腫の部位",null,null,null,null,"右",null,null,null,null,null,null,null,"mm",null,"左",null,null,null,null,null,null,null,"mm"]
[null,null,null,null,null,"最大厚(mm)",null,null,null,null,null,null,null,null,null,null,null,"mm",null,null,null,null,null,null,null,null,null,"mm"]
[null,null,null,null,null,null,null,null,null,null,null,null,null,null,null,null,null,"mm",null,null,null,null,null,null,null,null,null,"mm"]
[null,null,null,null,null,null,null,null,null,null,null,null,null,null,null,null,null,"mm",null,null,null,null,null,null,null,null,null,"mm"]
[null,null,null,null,null,null,null,null,null,null,null,null,null,null,null,null,null,"mm",null,null,null,null,null,null,null,null,null,"mm"]
[null,null,null,null,null,null,null,null,null,null,null,null,null,null,null,null,null,"mm",null,null,null,null,null,null,null,null,null,"mm"]
[]
[null,null,null,null,"中脳周囲槽",null,null,null,null,null,null,null,null,null,null,null,null,null,null,null,null,null,null,null,null,null,"正中偏位：",null,null,null,null,null,null,null,null,"mm"]
["MRI\n（DAIの場合）",null,null,null,"撮影日",null,null,null,null,null,null,null,null,null,null,null,"所見"]
[null,null,null,null,"脳梁膨大部･脳幹のDAI所見"]
[null,null,null,null,"Microbleeding"]
[null,null,null,null,null,null,null,null,null,null,null,null,null,null,null,null,null,null,"有の場合",null,null,null,null,"場所"]
[null,null,null,null,null,null,null,null,null,null,null,null,null,null,null,null,null,null,null,null,null,null,null,"数"]
["身体状況等",null,null,null,"Talk&deteriorate"]
[null,null,null,null,"多発外傷",null,null,null,null,null,null,null,null,null,null,null,"（場所：",null,null,null,null,null,null,null,null,null,null,null,null,null,null,null,null,null,null,null,null,null,"）"]
[null,null,null,null,"興奮･安静困難"]
[null,null,null,null,"視野障害"]
[null,null,null,null,"感覚障害"]
[null,null,null,null,"疼痛"]
[null,null,null,null,"拘縮",null,null,null,null,null,null,null,null,null,null,null,"（部位：",null,null,null,null,null,null,"）"]
[null,null,null,null,"嚥下障害"]
[null,null,null,null,"肺炎"]
[null,null,null,null,"尿路感染症"]
[null,null,null,null,"その他合併症",null,null,null,null,null,null,null,null,null,null,null,"（",null,null,null,null,null,null,null,null,null,null,null,"）"]
[null,null,null,null,"その他感染症",null,null,null,null,null,null,null,null,null,null,null,"（部位：",null,null,null,null,null,null,"）"]
["高次脳\n機能障害"]
[]
[null,null,null,null,null,null,null,"（",null,null,null,null,null,null,null,null,null,null,"）"]
["経過",null,null,null,"入院時",null,null,null,null,null,null,null,null,null,null,null,null,null,null,null,"受傷３カ月時",null,null,null,null,null,null,null,null,null,null,null,null,null,null,null,"退院時"]
["日付",null,null,null,"入院日：",null,null,null,null,null,null,null,null,null,null,null,null,null,null,null,null,null,null,null,null,null,null,null,null,null,null,null,null,null,null,null,"退院日："]
[]
["目標"]
[null,null,null,null,null,null,null,"(",null,null,null,null,null,null,null,null,null,null,null,")",null,null,null,"(",null,null,null,null,null,null,null,null,null,null,null,")",null,null,null,"(",null,null,null,null,null,null,null,null,null,null,null,")",null,null,null,null,null,null,null,null,null,null,null,null,null,null,null,null,null,null,null,null,null,null,null,null,null,null,null,null,null,null,null,"MMT 入院",{"$f":"MID($E$56,6,1)","v":" "},{"$f":"MID($E$56,15,1)","v":" "},{"$f":"MID($E$56,24,1)","v":" "},{"$f":"MID($E$56,33,1)","v":" "},{"$f":"IF(CG55=\" \",1,0)+IF(CH55=\" \",1,0)+IF(CI55=\" \",1,0)+IF(CJ55=\" \",1,0)","v":4}]
["MMT",null,null,null,"右上肢（   ）　左上肢（   ）　右下肢（   ）　左下肢（   ）",null,null,null,null,null,null,null,null,null,null,null,null,null,null,null,"右上肢（   ）　左上肢（   ）　右下肢（   ）　左下肢（   ）",null,null,null,null,null,null,null,null,null,null,null,null,null,null,null,"右上肢（   ）　左上肢（   ）　右下肢（   ）　左下肢（   ）",null,null,null,null,null,null,null,null,null,null,null,null,null,null,null,null,null,null,null,null,null,null,null,null,null,null,null,null,null,null,null,null,null,null,null,null,null,null,null,null,null,null,null,null,null,null,"　　最悪",{"$f":"MID($U$56,6,1)","v":" "},{"$f":"MID($U$56,15,1)","v":" "},{"$f":"MID($U$56,24,1)","v":" "},{"$f":"MID($U$56,33,1)","v":" "},{"$f":"IF(CG56=\" \",1,0)+IF(CH56=\" \",1,0)+IF(CI56=\" \",1,0)+IF(CJ56=\" \",1,0)","v":4}]
["麻痺",null,null,null,"Br stage",null,null,"右上肢( 　 )　－手指( 　 )　－下肢( 　 )　　左上肢( 　 )　－手指( 　 )　－下肢( 　 )",null,null,null,null,null,null,null,null,null,null,null,null,"Br stage",null,null,"右上肢( 　 )　－手指( 　 )　－下肢( 　 )　　左上肢( 　 )　－手指( 　 )　－下肢( 　 )",null,null,null,null,null,null,null,null,null,null,null,null,"Br stage",null,null,"右上肢( 　 )　－手指( 　 )　－下肢( 　 )　　左上肢( 　 )　－手指( 　 )　－下肢( 　 )",null,null,null,null,null,null,null,null,null,null,null,null,null,null,null,null,null,null,null,null,null,null,null,null,null,null,null,null,null,null,null,null,null,null,null,null,null,null,null,null,null,null,null,"　　退院",{"$f":"MID($AK$56,6,1)","v":" "},{"$f":"MID($AK$56,15,1)","v":" "},{"$f":"MID($AK$56,24,1)","v":" "},{"$f":"MID($AK$56,33,1)","v":" "},{"$f":"IF(CG57=\" \",1,0)+IF(CH57=\" \",1,0)+IF(CI57=\" \",1,0)+IF(CJ57=\" \",1,0)","v":4}]
["日常生活機能",null,null,null,"床上安静の指示",null,null,null,null,null,null,null,null,null,null,null,null,null,null,null,null,null,null,null,null,null,null,null,null,null,null,null,null,null,null,null,null,null,null,null,null,null,null,null,null,null,null,null,null,null,null,null,null,"青",null,null,"医師",null,null,null,null,null,null,null,null,null,null,null,null,null,null,null,null,null,null,null,null,null,null,null,null,null,null,"Br",{"$f":"MID(H57,6,1)","v":"　"},{"$f":"MID(H57,15,1)","v":"　"},{"$f":"MID(H57,24,1)","v":"　"},{"$f":"MID(H57,34,1)","v":"　"},{"$f":"MID(H57,43,1)","v":"　"},{"$f":"MID(H57,52,1)","v":"　"},{"$f":"IF(CG58=\"　\",1,0)+IF(CH58=\"　\",1,0)+IF(CI58=\"　\",1,0)+IF(CJ58=\"　\",1,0)+IF(CK58=\"　\",1,0)+IF(CL58=\"　\",1,0)","v":6}]
[null,null,null,null,"寝返り",null,null,null,null,null,null,null,null,null,null,null,null,null,null,null,null,null,null,null,null,null,null,null,null,null,null,null,null,null,null,null,null,null,null,null,null,null,null,null,null,null,null,null,null,null,null,null,null,null,null,null,null,null,null,null,null,null,null,null,null,null,null,null,null,null,null,null,null,null,null,null,null,null,null,null,null,null,null,null,{"$f":"MID(X57,6,1)","v":"　"},{"$f":"MID(X57,15,1)","v":"　"},{"$f":"MID(X57,24,1)","v":"　"},{"$f":"MID(X57,34,1)","v":"　"},{"$f":"MID(X57,43,1)","v":"　"},{"$f":"MID(X57,52,1)","v":"　"},{"$f":"IF(CG59=\"　\",1,0)+IF(CH59=\"　\",1,0)+IF(CI59=\"　\",1,0)+IF(CJ59=\"　\",1,0)+IF(CK59=\"　\",1,0)+IF(CL59=\"　\",1,0)","v":6}]
[null,null,null,null,"起き上がり",null,null,null,null,null,null,null,null,null,null,null,null,null,null,null,null,null,null,null,null,null,null,null,null,null,null,null,null,null,null,null,null,null,null,null,null,null,null,null,null,null,null,null,null,null,null,null,null,"赤",null,null,"ナース",null,null,null,null,null,null,null,null,null,null,null,null,null,null,null,null,null,null,null,null,null,null,null,null,null,null,null,{"$f":"MID(AN57,6,1)","v":"　"},{"$f":"MID(AN57,15,1)","v":"　"},{"$f":"MID(AN57,24,1)","v":"　"},{"$f":"MID(AN57,34,1)","v":"　"},{"$f":"MID(AN57,43,1)","v":"　"},{"$f":"MID(AN57,52,1)","v":"　"},{"$f":"IF(CG60=\"　\",1,0)+IF(CH60=\"　\",1,0)+IF(CI60=\"　\",1,0)+IF(CJ60=\"　\",1,0)+IF(CK60=\"　\",1,0)+IF(CL60=\"　\",1,0)","v":6}]
[null,null,null,null,"座位保持"]
[null,null,null,null,"移乗",null,null,null,null,null,null,null,null,null,null,null,null,null,null,null,null,null,null,null,null,null,null,null,null,null,null,null,null,null,null,null,null,null,null,null,null,null,null,null,null,null,null,null,null,null,null,null,null,"黄",null,null,"セラピスト"]
[null,null,null,null,"移動方法"]
[null,null,null,null,"口腔清潔",null,null,null,null,null,null,null,null,null,null,null,null,null,null,null,null,null,null,null,null,null,null,null,null,null,null,null,null,null,null,null,null,null,null,null,null,null,null,null,null,null,null,null,null,null,null,null,null,"緑",null,null,"連携室"]
[null,null,null,null,"食事摂取"]
[null,null,null,null,"衣服の着脱",null,null,null,null,null,null,null,null,null,null,null,null,null,null,null,null,null,null,null,null,null,null,null,null,null,null,null,null,null,null,null,null,null,null,null,null,null,null,null,null,null,null,null,null,null,null,null,null,"灰色",null,null,"自由"]
[null,null,null,null,"他者への意思の伝達"]
[null,null,null,null,"診療・療養上の指示が通じる",null,null,null,null,null,null,null,null,null,null,null,null,null,null,null,null,null,null,null,null,null,null,null,null,null,null,null,null,null,null,null,null,null,null,null,null,null,null,null,null,null,null,null,null,null,null,null,null,"オレンジ",null,null,"ナースまたは"]
[null,null,null,null,"危険行動",null,null,null,null,null,null,null,null,null,null,null,null,null,null,null,null,null,null,null,null,null,null,null,null,null,null,null,null,null,null,null,null,null,null,null,null,null,null,null,null,null,null,null,null,null,null,null,null,null,null,null,"セラピスト"]
[null,null,null,null,"身体拘束",null,null,null,null,null,null,null,null,null,null,null,null,null,null,null,null,null,null,null,null,null,null,null,null,null,null,null,null,null,null,null,null,null,null,null,null,null,"(",null,null,null,null,null,null,null,null,")"]
[null,null,null,null,"日常生活特記事項",null,null,null,null,null,null,null,null,null,null,null,null,null,null,null,null,null,null,null,null,null,null,null,null,null,null,null,null,null,null,null,null,null,null,null,null,null,null,null,null,"記入者："]
["神経心理学的検査",null,null,null,null,null,null,null,null,null,null,null,"点",null,"実施日"]
[null,null,null,null,null,null,null,null,null,null,null,null,"点",null,"実施日"]
[null,null,null,null,"【知能】",null,null,null,null,null,null,null,null,null,null,"FIQ：",{"$f":"IF('【回復期】WAIS-Ⅲ'!$C$8=\"\",\"\",'【回復期】WAIS-Ⅲ'!$C$8)","v":""},null,null,"VIQ：",{"$f":"IF('【回復期】WAIS-Ⅲ'!$C$6=\"\",\"\",'【回復期】WAIS-Ⅲ'!$C$6)","v":""},null,null,"PIQ：",{"$f":"IF('【回復期】WAIS-Ⅲ'!$C$7=\"\",\"\",'【回復期】WAIS-Ⅲ'!$C$7)","v":""},null,null,null,null,null,null,null,null,null,null,null,"実施日",{"$f":"IF('【回復期】WAIS-Ⅲ'!$C$3=\"\",\"\",'【回復期】WAIS-Ⅲ'!$C$3)","v":""},null,null,null,null,null,null,"←直接入力出来ません。"]
[null,null,null,null,null,null,null,null,null,null,null,null,null,null,null,"FIQ：",{"$f":"IF('【回復期】WISC-Ⅲ'!$C$8=\"\",\"\",'【回復期】WISC-Ⅲ'!$C$8)","v":""},null,null,"VIQ：",{"$f":"IF('【回復期】WISC-Ⅲ'!$C$6=\"\",\"\",'【回復期】WISC-Ⅲ'!$C$6)","v":""},null,null,"PIQ：",{"$f":"IF('【回復期】WISC-Ⅲ'!$C$7=\"\",\"\",'【回復期】WISC-Ⅲ'!$C$7)","v":""},null,null,null,null,null,null,null,null,null,null,null,"実施日",{"$f":"IF('【回復期】WISC-Ⅲ'!$C$3=\"\",\"\",'【回復期】WISC-Ⅲ'!$C$3)","v":""},null,null,null,null,null,null,"←直接入力出来ません。"]
[null,null,null,null,null,null,null,null,null,null,null,null,null,null,null,"FSIQ：",{"$f":"IF('【回復期】WISC-Ⅳ'!$C$6=\"\",\"\",'【回復期】WISC-Ⅳ'!$C$6)","v":""},null,null,"VCI：",{"$f":"IF('【回復期】WISC-Ⅳ'!$C$7=\"\",\"\",'【回復期】WISC-Ⅳ'!$C$7)","v":""},null,null,"PRI：",{"$f":"IF('【回復期】WISC-Ⅳ'!$C$8=\"\",\"\",'【回復期】WISC-Ⅳ'!$C$8)","v":""},null,null,"WMI：",{"$f":"IF('【回復期】WISC-Ⅳ'!$C$9=\"\",\"\",'【回復期】WISC-Ⅳ'!$C$9)","v":""},null,null,"PSI：",{"$f":"IF('【回復期】WISC-Ⅳ'!$C$10=\"\",\"\",'【回復期】WISC-Ⅳ'!$C$10)","v":""},null,null,null,"実施日",{"$f":"IF('【回復期】WISC-Ⅳ'!$C$3=\"\",\"\",'【回復期】WISC-Ⅳ'!$C$3)","v":""},null,null,null,null,null,null,"←直接入力出来ません。"]
[]
[null,null,null,null,"【言語】",null,null,null,null,null,null,null,null,null,null,null,null,null,null,null,null,null,null,null,null,null,null,null,null,null,null,null,null,null,null,null,null,null,null,null,null,null,null,null,"↓直接入力出来ません。"]
[null,null,null,null,"【記憶】",null,null,null,null,null,null,null,null,null,null,"言語性：",{"$f":"IF('【回復期】WMS-R'!$B$25=\"\",\"\",'【回復期】WMS-R'!$B$25)","v":""},null,null,null,"視覚性：",{"$f":"IF('【回復期】WMS-R'!$B$27=\"\",\"\",'【回復期】WMS-R'!$B$27)","v":""},null,null,null,null,"一般的記憶：",{"$f":"IF('【回復期】WMS-R'!$B$29=\"\",\"\",'【回復期】WMS-R'!$B$29)","v":""},null,null,null,null,"注意集中：",{"$f":"IF('【回復期】WMS-R'!$B$31=\"\",\"\",'【回復期】WMS-R'!$B$31)","v":""},null,null,null,null,"遅延再生：",{"$f":"IF('【回復期】WMS-R'!$B$33=\"\",\"\",'【回復期】WMS-R'!$B$33)","v":""},null,null,null,"実施日",{"$f":"IF('【回復期】WMS-R'!$C$3=\"\",\"\",'【回復期】WMS-R'!$C$3)","v":""}]
[]
[null,null,null,null,"【構成】"]
[null,null,null,null,"【注意】"]
[null,null,null,null,"【遂行機能】"]
[null,null,null,null,"【その他】"]
[null,null,null,null,null,null,null,null,null,null,null,"（",null,null,null,null,null,null,null,null,null,null,null,null,null,null,"）"]
[null,null,null,null,"結果・所見"]
[]
[null,null,null,null,"特記事項（日常生活上想定される問題等）"]
[]
[]
["栄養・呼吸",null,null,null,null,null,null,"食事形態",null,null,null,null,null,null,null,null,null,null,null,null,null,null,null,"（",null,null,null,null,null,null,null,null,"）",null,null,null,"（",null,null,null,null,null,null,null,null,"）"]
[null,null,null,null,null,null,null,"方法",null,null,null,null,null,null,null,"（",null,null,null,null,null,null,null,null,null,null,"：",null,null,null,null,null,"）"]
[null,null,null,null,null,null,null,null,null,null,null,null,null,"カテーテル：　　　　",null,null,null,null,null,"Ｆｒ",null,null,"ｃｍ　　　",null,null,"最終交換日："]
[null,null,null,null,null,null,null,"気管切開",null,null,null,null,null,null,"最終交換日："]
["排泄"]
[null,null,null,null,"方法：",null,null,null,null,null,null,null,null,null,null,null,null,null,null,null,null,null,null,null,null,null,"Ｆｒ","最終交換日："]
["禁忌事項",null,null,null,null,null,null,null,null,null,null,"（",null,null,null,null,null,null,null,null,null,"）",null,null,null,"（",null,null,null,null,null,null,null,null,null,"）"]
["リハビリ",null,null,null,null,null,null,null,"担当者",null,null,"（",null,null,null,null,null,null,null,"）",null,null,null,null,"担当者",null,null,"（",null,null,null,null,null,null,null,"）",null,null,null,null,"担当者",null,null,"（",null,null,null,null,null,null,null,"）"]
[]
[]
[]
[]
[null,null,null,null,"自宅訪問",null,null,null,null,null,null,null,null,null,null,"(","訪問日：",null,null,null,null,null,null,null,null,null,null,"）"]
[null,null,null,null,"住宅改修必要性",null,null,null,null,null,null,null,null,null,null,"(",null,null,null,null,null,null,null,null,null,null,null,"：",null,null,null,null,null,null,null,"）"]
[null,null,null,null,null,null,null,null,null,null,null,null,null,null,null,"(",null,null,null,null,null,null,null,null,null,null,null,null,null,null,null,null,null,null,"：",null,null,null,null,null,null,null,"）"]
[null,null,null,null,"福祉用具の必要性",null,null,null,null,null,null,null,null,null,null,"(",null,null,null,null,null,null,null,null,null,null,null,null,null,null,null,null,null,null,null,null,null,null,null,"：",null,null,null,null,null,null,null,"）",null,null,null,null,null,"青",null,null,"医師"]
["説明"]
[null,null,null,null,null,null,null,null,null,null,null,null,null,null,null,null,null,null,null,null,null,null,null,null,null,null,null,null,null,null,null,null,null,null,null,null,null,null,null,null,null,null,null,null,null,null,null,null,null,null,null,null,null,"赤",null,null,"ナース"]
[null,null,null,null,null,null,null,null,null,null,"説明日：",null,null,null,null,null,null,null,null,null,null,null,"主治医："]
["転帰・転院基準",null,null,null,"退院先",null,null,null,null,null,null,null,null,null,null,null,null,null,null,null,null,null,null,null,null,null,null,null,null,null,null,null,null,null,null,null,null,null,null,null,null,null,null,null,null,null,null,null,null,null,null,null,null,"黄",null,null,"セラピスト"]
[null,null,null,null,"退院先（",null,null,null,null,null,null,null,null,null,null,null,null,null,null,null,null,null,null,"）へ情報提供"]
["脳損傷地域連携パス情報提供書",null,null,null,null,null,null,null,null,null,null,null,null,null,null,null,null,null,null,null,null,null,null,null,null,null,null,null,null,null,null,null,null,null,null,null,null,null,null,null,null,null,null,null,null,null,null,null,null,null,null,null,null,"緑",null,null,"連携室"]
["基本情報",null,null,null,"現在の状況"]
[null,null,null,null,"社会復帰",null,null,null,null,null,null,null,null,null,null,null,"（",null,null,null,null,null,null,null,null,null,"）",null,null,null,null,null,null,null,null,null,"（",null,null,null,null,null,null,null,null,"）",null,null,null,null,null,null,null,"灰色",null,null,"自由"]
[null,null,null,null,null,null,null,null,null,null,null,null,null,null,null,null,"（",null,null,null,null,null,null,null,null,"）"]
[null,null,null,null,"生活の場",null,null,null,null,null,null,null,"   （同居者の有無：",null,null,null,null,null,null,null,null,")",null,null,null,null,null,null,"（",null,null,null,null,null,null,null,"）",null,null,null,null,null,null,"（",null,null,null,null,null,null,null,"）",null,"オレンジ",null,null,"ナースまたは"]
[null,null,null,null,null,null,null,null,null,null,null,null,null,null,null,null,"（",null,null,null,null,null,null,null,null,"）",null,null,null,null,null,null,null,"（",null,null,null,null,null,null,null,null,null,null,"）",null,null,null,null,null,null,null,null,null,null,null,"セラピスト"]
[null,null,null,null,"社会資源",null,null,null,null,null,null,"保険の種類"]
[null,null,null,null,null,null,null,null,null,null,null,null,null,null,null,null,null,null,null,null,null,null,null,null,null,null,null,null,"（",null,null,null,null,null,null,null,null,"）"]
[null,null,null,null,"退院後の主治医",null,null,null,null,null,null,null,null,null,null,null,null,"（医療機関・医師名：",null,null,null,null,null,null,null,null,null,null,null,null,null,null,null,null,null,null,null,null,null,null,"）"]
[null,null,null,null,"障害年金",null,null,null,null,null,null,null,null,null,null,null,null,null,"（",null,null,null,null,null,null,null,"）"]
[null,null,null,null,null,null,null,null,null,null,null,null,null,null,"（",null,null,null,null,null,null,null,null,null,null,null,null,null,null,null,null,null,null,null,"(",null,null,null,null,null,null,null,"）","等級：",null,null,null,"級","）"]
[null,null,null,null,"身体障害者手帳",null,null,null,null,null,null,null,null,null,null,null,null,null,null,null,"(",null,null,null,null,null,null,null,")",null,null,null,null,null,null,null,"（",null,null,"）級"]
[null,null,null,null,"精神障害者保健福祉手帳",null,null,null,null,null,null,null,null,null,null,null,null,null,null,null,"(",null,null,null,null,null,null,null,")",null,null,null,null,null,null,null,"（",null,null,"）級"]
[null,null,null,null,"療育手帳",null,null,null,null,null,null,null,null,null,null,null,null,null,null,null,"(",null,null,null,null,null,null,null,")",null,null,null,null,null,null,null,"（",null,null,"）級"]
[null,null,null,null,"介護保険",null,null,null,null,null,null,null,null,null,null,null,"（",null,null,null,null,null,null,null,"）"]
[null,null,null,null,null,null,null,null,null,null,null,null,null,null,"介護度：要支援",null,null,null,null,null,null,null,null,"要介護"]
[null,null,null,null,null,null,null,null,null,null,null,null,null,null,null,null,"居宅介護支援事業所（",null,null,null,null,null,null,null,null,null,null,null,null,null,null,null,null,"）",null,"担当者（",null,null,null,null,null,null,null,null,"）"]
[null,null,null,null,"障害支援区分",null,null,null,null,null,null,null,null,null,null,null,null,null,"（",null,null,null,null,null,null,null,"）"]
[null,null,null,null,null,null,null,null,null,null,null,null,null,null,null,"(",null,null,null,null,null,null,null,null,null,null,null,null,"）"]
[null,null,null,null,null,null,null,null,null,null,null,null,null,null,null,null,null,null,null,"相談支援専門員：担当者（",null,null,null,null,null,null,null,"）",null,null,"事業所（",null,null,null,null,null,null,null,null,null,null,"）"]
[null,null,null,null,"退院後の本人・家族の希望"]
[]
[null,null,null,null,"障害に関する認識"]
[null,null,null,null,"家族状況",null,null,null,null,null,"介護者：",null,null,null,null,null,null,"（",null,null,null,null,null,null,"）",null,"介護力："]
[null,null,null,null,null,null,null,null,null,null,"キーパーソン：氏名",null,null,null,null,null,"(",null,null,null,null,null,null,null,"）",null,"本人との関係：",null,null,null,null,"(",null,null,null,null,"）"]
["説明"]
[]
[]
["医療連携上の特記事項"]

{"sheet":"【回復期】印刷","index":6,"n_rows":110,"n_cols":52,"rows_kept":110,"cut":false,"hidden":true,"merged":[[72,0,72,3],[72,4,72,8],[72,9,72,26],[72,27,72,30],[72,31,72,51],[71,4,71,7],[59,4,60,7],[61,4,61,7],[49,21,49,22],[49,26,49,27],[49,42,49,50],[70,4,70,7],[48,0,62,3],[49,4,49,7],[49,16,49,17],[61,8,62,51],[63,0,65,3],[101,4,102,13],[101,14,102,51],[30,0,31,3],[30,4,31,51],[32,4,32,19],[32,20,32,35],[32,36,32,51],[32,0,32,3],[33,0,33,3],[34,0,35,3],[36,4,36,19],[36,20,36,35],[36,36,36,51],[92,25,92,40],[34,4,35,19],[34,20,35,35],[37,7,37,19],[38,7,38,19],[37,23,37,35],[38,23,38,35],[37,39,37,51],[38,39,38,51],[48,16,48,23],[48,29,48,30],[34,36,35,51],[37,4,38,6],[37,20,38,22],[37,36,38,38],[46,12,46,13],[46,28,46,32],[46,33,46,41],[46,43,46,50],[47,46,47,51],[27,11,27,15],[27,30,27,36],[27,37,27,41],[28,4,28,10],[28,11,28,15],[28,30,28,36],[28,40,28,50],[29,4,29,10],[29,11,29,15],[29,30,29,36],[29,40,29,42],[29,43,29,46],[106,0,108,3],[109,0,110,9],[100,25,100,31],[100,37,100,46],[104,4,105,13],[104,33,104,43],[105,23,105,29],[105,39,105,42],[109,10,110,51],[87,0,105,3],[88,4,88,13],[89,4,89,13],[90,4,91,13],[92,4,92,13],[92,17,92,24],[103,4,103,13],[103,14,103,51],[93,4,93,13],[94,4,94,13],[95,4,95,13],[96,4,96,13],[97,4,98,13],[98,22,98,37],[98,43,98,48],[8,24,8,25],[12,0,20,3],[12,7,12,10],[12,11,12,17],[12,18,12,20],[12,21,12,51],[24,42,24,47],[24,30,24,36],[18,4,18,10],[18,38,18,39],[18,48,18,49],[19,4,19,10],[19,11,19,29],[19,38,19,39],[19,48,19,49],[18,11,18,24],[20,4,20,10],[20,18,20,22],[20,23,20,26],[16,38,16,39],[16,48,16,49],[17,4,17,10],[20,30,20,31],[17,11,17,20],[76,4,76,7],[77,4,77,7],[73,40,73,45],[74,4,74,7],[75,4,75,7],[73,16,73,21],[73,28,73,33],[99,4,100,13],[84,0,85,3],[84,4,84,7],[84,8,84,51],[85,4,85,7],[85,8,85,22],[86,0,86,51],[74,8,74,51],[75,8,75,51],[76,8,76,51],[77,8,77,51],[73,0,77,3],[82,4,82,51],[82,0,83,3],[73,22,73,27],[73,34,73,39],[73,46,73,51],[73,4,73,15],[56,4,56,7],[48,33,48,36],[48,37,48,44],[54,23,54,27],[54,28,54,29],[54,34,54,35],[54,40,54,41],[54,45,54,51],[60,12,60,51],[68,15,68,16],[68,18,68,19],[68,20,68,21],[68,29,68,36],[64,8,65,51],[48,8,48,9],[48,12,48,15],[26,4,26,10],[26,11,26,15],[26,30,26,36],[26,37,26,41],[27,4,27,10],[66,0,69,3],[70,0,71,3],[58,4,58,7],[50,42,50,50],[51,16,51,17],[51,21,51,22],[51,26,51,27],[51,31,51,32],[51,36,51,37],[51,42,51,50],[50,16,50,17],[50,21,50,22],[50,26,50,27],[53,4,53,7],[54,4,55,7],[54,16,54,17],[54,21,54,22],[57,4,57,7],[69,16,69,24],[39,0,47,3],[39,4,39,11],[39,28,39,37],[40,4,40,11],[40,28,40,37],[41,4,41,11],[41,28,41,37],[42,4,42,11],[42,28,42,37],[45,4,45,11],[45,28,45,37],[47,4,47,11],[47,12,47,41],[43,4,43,11],[44,4,44,11],[43,28,43,37],[44,28,44,37],[45,40,45,51],[46,4,46,11],[36,0,36,3],[37,0,38,3],[21,0,23,3],[21,4,21,7],[21,8,21,15],[21,16,21,18],[21,19,21,51],[22,4,22,17],[22,18,22,24],[23,4,23,17],[23,18,23,19],[23,20,23,23],[23,24,23,32],[23,34,23,35],[24,0,29,3],[24,4,24,10],[24,11,24,15],[25,4,25,10],[25,15,25,28],[25,30,25,36],[25,37,25,41],[33,8,33,19],[33,20,33,35],[33,40,33,51],[17,38,17,39],[17,48,17,49],[14,32,14,33],[14,38,14,39],[14,42,14,43],[14,48,14,49],[15,4,15,10],[15,11,15,20],[15,38,15,39],[15,48,15,49],[16,4,16,10],[16,11,16,20],[0,28,0,34],[0,43,0,49],[3,0,3,3],[3,4,3,51],[1,24,1,30],[1,31,1,39],[1,40,1,47],[1,48,1,49],[2,0,2,3],[2,4,2,29],[2,30,2,33],[2,34,2,51],[0,0,0,19],[1,0,1,3],[1,4,1,14],[1,15,1,18],[1,19,1,23],[4,0,7,3],[4,4,4,8],[4,23,4,28],[4,29,4,36],[5,17,5,19],[13,4,13,10],[13,11,13,20],[13,32,13,51],[14,4,14,10],[14,11,14,20],[5,37,5,49],[6,17,6,19],[6,37,6,49],[7,17,7,19],[7,37,7,49],[8,13,8,15],[8,4,8,12],[9,4,9,12],[10,4,10,12],[11,4,11,12],[9,13,9,15],[11,13,11,15],[8,0,11,3],[8,16,8,19]]}
["脳外傷地域連携診療計画書【回復期】",null,null,null,null,null,null,null,null,null,null,null,null,null,null,null,null,null,null,null,null,null,null,null,null,null,null,"回復期病院名（",{"$f":"【回復期】データ管理!D3","v":""},null,null,null,null,null,null,"）",null,null,null,null,null,null,"急性期病院名（",{"$f":"【回復期】データ管理!D4","v":""},null,null,null,null,null,null,"）"]
["氏名",null,null,null,{"$f":"【回復期】データ管理!D5","v":""},null,null,null,null,null,null,null,null,null,null,"性別",null,null,null,{"$f":"【回復期】データ管理!F6","v":""},null,null,null,null,"生年月日",null,null,null,null,null,null,{"$f":"【回復期】データ管理!D7","v":""},null,null,null,null,null,null,null,null,{"$f":"TODAY()","v":"2023-04-01"},null,null,null,null,null,null,null,{"$f":"IF(AF2=\"\",\"\",IFERROR(DATEDIF(AF2,AO2,\"y\"),\"\"))","v":""},null,"歳"]
["住所",null,null,null,{"$f":"【回復期】データ管理!D8","v":""},null,null,null,null,null,null,null,null,null,null,null,null,null,null,null,null,null,null,null,null,null,null,null,null,null,"電話番号",null,null,null,{"$f":"【回復期】データ管理!D9","v":""}]
["診断名",null,null,null,{"$f":"【回復期】データ管理!D24","v":""}]
["受傷状況",null,null,null,"受傷原因：",null,null,null,null,{"$f":"【回復期】データ管理!F11","v":""},null,null,null,null,null,null,null,null,null,null,null,null,null,"労災の有無：",null,null,null,null,null,{"$f":"【回復期】データ管理!F12","v":""}]
[null,null,null,null,null,"交通事故の場合",null,null,null,null,null,null,null,null,null,null,"患者方：",{"$f":"【回復期】データ管理!F13","v":""},null,null,{"$f":"IF(【回復期】データ管理!D14=\"\",\"\",\"（\" & 【回復期】データ管理!D14 & \"）\")","v":""}]
[null,null,null,null,null,null,null,null,null,null,null,null,null,null,null,null,"相手方：",{"$f":"【回復期】データ管理!F15","v":""},null,null,{"$f":"IF(【回復期】データ管理!D16=\"\",\"\",\"（\" & 【回復期】データ管理!D16 & \"）\")","v":""}]
[null,null,null,null,null,"非交通事故の場合",null,null,null,null,null,null,null,null,null,null,"原因：",{"$f":"【回復期】データ管理!F17","v":""},null,null,{"$f":"IF(【回復期】データ管理!D18=\"\",\"\",\"（\" & 【回復期】データ管理!D18 & \"）\")","v":""}]
["搬入時\n状況",null,null,null,"意識",null,null,null,null,null,null,null,null,"JCS（",null,null,{"$f":"【回復期】データ管理!D19","v":""},null,null,null,"）GCS（",null,null,null,{"$f":"【回復期】データ管理!D20","v":0},null,"）"]
[null,null,null,null,"搬入時血圧（収縮期）",null,null,null,null,null,null,null,null,{"$f":"【回復期】データ管理!D21","v":""},null,null,"mmHg"]
[null,null,null,null,"瞳孔所見",null,null,null,null,null,null,null,null,{"$f":"【回復期】データ管理!F22","v":""}]
[null,null,null,null,"酸素飽和度",null,null,null,null,null,null,null,null,{"$f":"【回復期】データ管理!D23","v":""},null,null,"%"]
["脳損傷の状況",null,null,null,"CT",null,null,"撮影日",null,null,null,{"$f":"【回復期】データ管理!D25","v":""},null,null,null,null,null,null,"所見：",null,null,{"$f":"【回復期】データ管理!D26","v":""}]
[null,null,null,null,"頭蓋骨骨折",null,null,null,null,null,null,{"$f":"【回復期】データ管理!F27","v":""},null,null,null,null,null,null,null,null,null,null,null,null,null,null,null,null,null,null,null,null,"血腫の部位 最大厚(mm)"]
[null,null,null,null,"気脳症",null,null,null,null,null,null,{"$f":"【回復期】データ管理!F28","v":""},null,null,null,null,null,null,null,null,null,null,null,null,null,null,null,null,null,null,null,null,"右",null,{"$f":"IF(【回復期】データ管理!D34,\"○\",\"\")","v":""},"前頭葉",null,null,{"$f":"【回復期】データ管理!D41","v":""},null,"mm",null,"左",null,{"$f":"IF(【回復期】データ管理!D48,\"○\",\"\")","v":""},"前頭葉",null,null,{"$f":"【回復期】データ管理!D55","v":""},null,"mm"]
[null,null,null,null,"頭蓋内異物",null,null,null,null,null,null,{"$f":"【回復期】データ管理!F29","v":""},null,null,null,null,null,null,null,null,null,null,null,null,null,null,null,null,null,null,null,null,null,null,{"$f":"IF(【回復期】データ管理!D35,\"○\",\"\")","v":""},"側頭葉",null,null,{"$f":"【回復期】データ管理!D42","v":""},null,"mm",null,null,null,{"$f":"IF(【回復期】データ管理!D49,\"○\",\"\")","v":""},"側頭葉",null,null,{"$f":"【回復期】データ管理!D56","v":""},null,"mm"]
[null,null,null,null,"くも膜下出血",null,null,null,null,null,null,{"$f":"【回復期】データ管理!F30","v":""},null,null,null,null,null,null,null,null,null,null,null,null,null,null,null,null,null,null,null,null,null,null,{"$f":"IF(【回復期】データ管理!D36,\"○\",\"\")","v":""},"頭頂葉",null,null,{"$f":"【回復期】データ管理!D43","v":""},null,"mm",null,null,null,{"$f":"IF(【回復期】データ管理!D50,\"○\",\"\")","v":""},"頭頂葉",null,null,{"$f":"【回復期】データ管理!D57","v":""},null,"mm"]
[null,null,null,null,"脳室内出血",null,null,null,null,null,null,{"$f":"【回復期】データ管理!F31","v":""},null,null,null,null,null,null,null,null,null,null,null,null,null,null,null,null,null,null,null,null,null,null,{"$f":"IF(【回復期】データ管理!D37,\"○\",\"\")","v":""},"後頭葉",null,null,{"$f":"【回復期】データ管理!D44","v":""},null,"mm",null,null,null,{"$f":"IF(【回復期】データ管理!D51,\"○\",\"\")","v":""},"後頭葉",null,null,{"$f":"【回復期】データ管理!D58","v":""},null,"mm"]
[null,null,null,null,"CT分類(TCDB)",null,null,null,null,null,null,{"$f":"【回復期】データ管理!F32","v":""},null,null,null,null,null,null,null,null,null,null,null,null,null,null,null,null,null,null,null,null,null,null,{"$f":"IF(【回復期】データ管理!D38,\"○\",\"\")","v":""},"基底核",null,null,{"$f":"【回復期】データ管理!D45","v":""},null,"mm",null,null,null,{"$f":"IF(【回復期】データ管理!D52,\"○\",\"\")","v":""},"基底核",null,null,{"$f":"【回復期】データ管理!D59","v":""},null,"mm"]
[null,null,null,null,"腫瘤性病変",null,null,null,null,null,null,{"$f":"【回復期】データ管理!F33","v":""},null,null,null,null,null,null,null,null,null,null,null,null,null,null,null,null,null,null,null,null,null,null,{"$f":"IF(【回復期】データ管理!D39,\"○\",\"\")","v":""},"脳幹",null,null,{"$f":"【回復期】データ管理!D46","v":""},null,"mm",null,null,null,{"$f":"IF(【回復期】データ管理!D53,\"○\",\"\")","v":""},"脳幹",null,null,{"$f":"【回復期】データ管理!D60","v":""},null,"mm"]
[null,null,null,null,"中脳周囲槽",null,null,null,null,null,null,{"$f":"【回復期】データ管理!F62","v":""},null,null,null,null,null,null,"正中偏位",null,null,null,null,{"$f":"【回復期】データ管理!D63","v":""},null,null,null,"mm",null,null,{"$f":"【回復期】データ管理!F320","v":""},null,null,null,{"$f":"IF(【回復期】データ管理!D40,\"○\",\"\")","v":""},"脳室内",null,null,null,null,null,null,null,null,{"$f":"IF(【回復期】データ管理!D54,\"○\",\"\")","v":""},"脳室内"]
["MRI\n（DAIの場合）",null,null,null,"撮影日",null,null,null,{"$f":"【回復期】データ管理!D64","v":""},null,null,null,null,null,null,null,"所見",null,null,{"$f":"【回復期】データ管理!D65","v":""}]
[null,null,null,null,"脳梁膨大部･脳幹のDAI所見",null,null,null,null,null,null,null,null,null,null,null,null,null,{"$f":"【回復期】データ管理!F66","v":""}]
[null,null,null,null,"Microbleeding",null,null,null,null,null,null,null,null,null,null,null,null,null,{"$f":"【回復期】データ管理!F67","v":""},null,"（場所：",null,null,null,{"$f":"【回復期】データ管理!D68","v":""},null,null,null,null,null,null,null,null,null,"数：",null,{"$f":"【回復期】データ管理!F69","v":""},null,null,null,"）"]
["身体状況等",null,null,null,"Talk&deteriorate",null,null,null,null,null,null,{"$f":"【回復期】データ管理!F70","v":""},null,null,null,null,null,null,null,null,null,null,null,null,null,null,null,null,null,null,"拘縮",null,null,null,null,null,null,{"$f":"【回復期】データ管理!F82","v":""},null,"（部位：",null,null,{"$f":"【回復期】データ管理!D83","v":""},null,null,null,null,null,"）"]
[null,null,null,null,"多発外傷",null,null,null,null,null,null,{"$f":"【回復期】データ管理!F71","v":""},"（場所：",null,null,{"$f":"【回復期】データ管理!H76","v":""},null,null,null,null,null,null,null,null,null,null,null,null,null,"）","嚥下障害",null,null,null,null,null,null,{"$f":"【回復期】データ管理!F84","v":""}]
[null,null,null,null,"興奮･安静困難",null,null,null,null,null,null,{"$f":"【回復期】データ管理!F78","v":""},null,null,null,null,null,null,null,null,null,null,null,null,null,null,null,null,null,null,"肺炎",null,null,null,null,null,null,{"$f":"【回復期】データ管理!F85","v":""}]
[null,null,null,null,"視野障害",null,null,null,null,null,null,{"$f":"【回復期】データ管理!F79","v":""},null,null,null,null,null,null,null,null,null,null,null,null,null,null,null,null,null,null,"尿路感染症",null,null,null,null,null,null,{"$f":"【回復期】データ管理!F86","v":""}]
[null,null,null,null,"感覚障害",null,null,null,null,null,null,{"$f":"【回復期】データ管理!F80","v":""},null,null,null,null,null,null,null,null,null,null,null,null,null,null,null,null,null,null,"その他合併症",null,null,null,null,null,null,{"$f":"【回復期】データ管理!F87","v":""},null,"（",{"$f":"【回復期】データ管理!D88","v":""},null,null,null,null,null,null,null,null,null,null,"）"]
[null,null,null,null,"疼痛",null,null,null,null,null,null,{"$f":"【回復期】データ管理!F81","v":""},null,null,null,null,null,null,null,null,null,null,null,null,null,null,null,null,null,null,"その他感染症",null,null,null,null,null,null,{"$f":"【回復期】データ管理!F89","v":""},null,"（","部位：",null,null,{"$f":"【回復期】データ管理!D90","v":""},null,null,null,"）"]
["高次脳\n機能障害",null,null,null,{"$f":"【回復期】データ管理!H104","v":""}]
[]
["経過",null,null,null,"入院時",null,null,null,null,null,null,null,null,null,null,null,null,null,null,null,"受傷３カ月時",null,null,null,null,null,null,null,null,null,null,null,null,null,null,null,"退院時"]
["日付",null,null,null,"入院日：",null,null,null,{"$f":"【回復期】データ管理!D107","v":""},null,null,null,null,null,null,null,null,null,null,null,{"$f":"【回復期】データ管理!D113","v":""},null,null,null,null,null,null,null,null,null,null,null,null,null,null,null,"退院日：",null,null,null,{"$f":"【回復期】データ管理!D119","v":""}]
["目標",null,null,null,{"$f":"【回復期】データ管理!H108","v":""},null,null,null,null,null,null,null,null,null,null,null,null,null,null,null,{"$f":"【回復期】データ管理!H114","v":""},null,null,null,null,null,null,null,null,null,null,null,null,null,null,null,{"$f":"【回復期】データ管理!H120","v":""}]
[]
["MMT",null,null,null,{"$f":"【回復期】データ管理!D111","v":"右上肢（   ）　左上肢（   ）　右下肢（   ）　左下肢（   ）"},null,null,null,null,null,null,null,null,null,null,null,null,null,null,null,{"$f":"【回復期】データ管理!D117","v":"右上肢（   ）　左上肢（   ）　右下肢（   ）　左下肢（   ）"},null,null,null,null,null,null,null,null,null,null,null,null,null,null,null,{"$f":"【回復期】データ管理!D123","v":"右上肢（   ）　左上肢（   ）　右下肢（   ）　左下肢（   ）"}]
["麻痺",null,null,null,"Br stage",null,null,{"$f":"LEFT(【回復期】入力シート!H57,26)","v":"右上肢( 　 )　－手指( 　 )　－下肢( 　 )"},null,null,null,null,null,null,null,null,null,null,null,null,"Br stage",null,null,{"$f":"LEFT(【回復期】入力シート!X57,26)","v":"右上肢( 　 )　－手指( 　 )　－下肢( 　 )"},null,null,null,null,null,null,null,null,null,null,null,null,"Br stage",null,null,{"$f":"LEFT(【回復期】入力シート!AN57,26)","v":"右上肢( 　 )　－手指( 　 )　－下肢( 　 )"}]
[null,null,null,null,null,null,null,{"$f":"MID(【回復期】入力シート!H57,29,28)","v":"左上肢( 　 )　－手指( 　 )　－下肢( 　 )"},null,null,null,null,null,null,null,null,null,null,null,null,null,null,null,{"$f":"MID(【回復期】入力シート!X57,29,28)","v":"左上肢( 　 )　－手指( 　 )　－下肢( 　 )"},null,null,null,null,null,null,null,null,null,null,null,null,null,null,null,{"$f":"MID(【回復期】入力シート!AN57,29,28)","v":"左上肢( 　 )　－手指( 　 )　－下肢( 　 )"}]
["日常生活機能評価表",null,null,null,"床上安静の指示",null,null,null,null,null,null,null,{"$f":"【回復期】データ管理!F125","v":""},null,null,null,null,null,null,null,null,null,null,null,null,null,null,null,"口腔清潔",null,null,null,null,null,null,null,null,null,{"$f":"【回復期】データ管理!F131","v":""}]
[null,null,null,null,"どちらかの手を胸元まで持ち上げられる",null,null,null,null,null,null,null,{"$f":"日常生活機能評価!BD10","v":""},null,null,null,null,null,null,null,null,null,null,null,null,null,null,null,"食事摂取",null,null,null,null,null,null,null,null,null,{"$f":"【回復期】データ管理!F132","v":""}]
[null,null,null,null,"寝返り",null,null,null,null,null,null,null,{"$f":"【回復期】データ管理!F126","v":""},null,null,null,null,null,null,null,null,null,null,null,null,null,null,null,"衣服の着脱",null,null,null,null,null,null,null,null,null,{"$f":"【回復期】データ管理!F133","v":""}]
[null,null,null,null,"起き上がり",null,null,null,null,null,null,null,{"$f":"【回復期】データ管理!F127","v":""},null,null,null,null,null,null,null,null,null,null,null,null,null,null,null,"他者への意思の伝達",null,null,null,null,null,null,null,null,null,{"$f":"【回復期】データ管理!F134","v":""}]
[null,null,null,null,"座位保持",null,null,null,null,null,null,null,{"$f":"【回復期】データ管理!F128","v":""},null,null,null,null,null,null,null,null,null,null,null,null,null,null,null,"診療・療養上の指示が通じる",null,null,null,null,null,null,null,null,null,{"$f":"【回復期】データ管理!F135","v":""}]
[null,null,null,null,"移乗",null,null,null,null,null,null,null,{"$f":"【回復期】データ管理!F129","v":""},null,null,null,null,null,null,null,null,null,null,null,null,null,null,null,"危険行動",null,null,null,null,null,null,null,null,null,{"$f":"【回復期】データ管理!F136","v":""}]
[null,null,null,null,"移動方法",null,null,null,null,null,null,null,{"$f":"【回復期】データ管理!F130","v":""},null,null,null,null,null,null,null,null,null,null,null,null,null,null,null,"身体拘束",null,null,null,null,null,null,null,null,null,{"$f":"【回復期】データ管理!F137","v":""},null,{"$f":"【回復期】データ管理!H139","v":""}]
[null,null,null,null,"日常機能評価点数",null,null,null,null,null,null,null,{"$f":"日常生活機能評価!AH22","v":0},null,"点"]
[null,null,null,null,"日常生活特記事項",null,null,null,null,null,null,null,{"$f":"IF(【回復期】データ管理!D143=\"\",\"なし\",【回復期】データ管理!D143)","v":"なし"},null,null,null,null,null,null,null,null,null,null,null,null,null,null,null,null,null,null,null,null,null,null,null,null,null,null,null,null,null,null,null,null,"記入者：",{"$f":"【回復期】データ管理!D144","v":""}]
["神経心理学的検査\n(○：実施)",null,null,null,{"$f":"IF(【回復期】データ管理!D145,\"○\",\"\")","v":""},"HDS-R：",null,null,{"$f":"【回復期】データ管理!D146","v":""},null,"点",null,"実施日：",null,null,null,{"$f":"【回復期】データ管理!D147","v":""},null,null,null,null,null,null,null,null,{"$f":"IF(【回復期】データ管理!D148,\"○\",\"\")","v":""},"MMSE：",null,null,{"$f":"【回復期】データ管理!D149","v":""},null,"点",null,"実施日：",null,null,null,{"$f":"【回復期】データ管理!D150","v":""}]
[null,null,null,null,"知能",null,null,null,{"$f":"IF(【回復期】データ管理!D151,\"○\",\"\")","v":""},"WAIS-Ⅲ",null,null,null,null,null,"FIQ：",{"$f":"IF('【回復期】WAIS-Ⅲ'!$C$8=\"\",\"\",'【回復期】WAIS-Ⅲ'!$C$8)","v":""},null,null,null,"VIQ：",{"$f":"IF('【回復期】WAIS-Ⅲ'!$C$6=\"\",\"\",'【回復期】WAIS-Ⅲ'!$C$6)","v":""},null,null,null,"PIQ：",{"$f":"IF('【回復期】WAIS-Ⅲ'!$C$7=\"\",\"\",'【回復期】WAIS-Ⅲ'!$C$7)","v":""},null,null,null,null,null,null,null,null,null,null,null,null,null,null,"実施日：",{"$f":"IF('【回復期】WAIS-Ⅲ'!$C$3=\"\",\"\",'【回復期】WAIS-Ⅲ'!$C$3)","v":""}]
[null,null,null,null,null,null,null,null,{"$f":"IF(【回復期】データ管理!D156,\"○\",\"\")","v":""},"WISC-Ⅲ",null,null,null,null,null,"FIQ：",{"$f":"IF('【回復期】WISC-Ⅲ'!$C$8=\"\",\"\",'【回復期】WISC-Ⅲ'!$C$8)","v":""},null,null,null,"VIQ：",{"$f":"IF('【回復期】WISC-Ⅲ'!$C$6=\"\",\"\",'【回復期】WISC-Ⅲ'!$C$6)","v":""},null,null,null,"PIQ：",{"$f":"IF('【回復期】WISC-Ⅲ'!$C$7=\"\",\"\",'【回復期】WISC-Ⅲ'!$C$7)","v":""},null,null,null,null,null,null,null,null,null,null,null,null,null,null,"実施日：",{"$f":"IF('【回復期】WISC-Ⅲ'!$C$3=\"\",\"\",'【回復期】WISC-Ⅲ'!$C$3)","v":""}]
[null,null,null,null,null,null,null,null,{"$f":"IF(【回復期】データ管理!D161,\"○\",\"\")","v":""},"WISC-Ⅳ",null,null,null,null,null,"FSIQ：",{"$f":"IF('【回復期】WISC-Ⅳ'!$C$6=\"\",\"\",'【回復期】WISC-Ⅳ'!$C$6)","v":""},null,null,null,"VCI：",{"$f":"IF('【回復期】WISC-Ⅳ'!$C$7=\"\",\"\",'【回復期】WISC-Ⅳ'!$C$7)","v":""},null,null,null,"PRI：",{"$f":"IF('【回復期】WISC-Ⅳ'!$C$8=\"\",\"\",'【回復期】WISC-Ⅳ'!$C$8)","v":""},null,null,null,"WMI：",{"$f":"IF('【回復期】WISC-Ⅳ'!$C$9=\"\",\"\",'【回復期】WISC-Ⅳ'!$C$9)","v":""},null,null,null,"PSI：",{"$f":"IF('【回復期】WISC-Ⅳ'!$C$10=\"\",\"\",'【回復期】WISC-Ⅳ'!$C$10)","v":""},null,null,null,null,"実施日：",{"$f":"IF('【回復期】WISC-Ⅳ'!$C$3=\"\",\"\",'【回復期】WISC-Ⅳ'!$C$3)","v":""}]
[null,null,null,null,null,null,null,null,{"$f":"IF(【回復期】データ管理!D168,\"○\",\"\")","v":""},"レーヴン色彩マトリックス検査",null,null,null,null,null,null,null,null,null,null,null,{"$f":"IF(【回復期】データ管理!D169,\"○\",\"\")","v":""},"COGNISTAT",null,null,null,null,null,null,{"$f":"IF(【回復期】データ管理!D170,\"○\",\"\")","v":""},"大脇式精薄児用知能検査",null,null,null,null,null,null,null,null,null,{"$f":"IF(【回復期】データ管理!D171,\"○\",\"\")","v":""},"田中・ビネー式知能検査"]
[null,null,null,null,"言語",null,null,null,{"$f":"IF(【回復期】データ管理!D172,\"○\",\"\")","v":""},"標準失語症検査",null,null,null,null,null,null,null,null,null,null,null,{"$f":"IF(【回復期】データ管理!D173,\"○\",\"\")","v":""},"SALA失語症検査",null,null,null,null,null,null,{"$f":"IF(【回復期】データ管理!D174,\"○\",\"\")","v":""},"WAB失語症検査"]
[null,null,null,null,"記憶",null,null,null,{"$f":"IF(【回復期】データ管理!D175,\"○\",\"\")","v":""},"WMS-R",null,null,null,null,null,"言語性：",{"$f":"IF('【回復期】WMS-R'!$B$25=\"\",\"\",'【回復期】WMS-R'!$B$25)","v":""},null,null,null,"視覚性：",{"$f":"IF('【回復期】WMS-R'!$B$27=\"\",\"\",'【回復期】WMS-R'!$B$27)","v":""},null,"一般的記憶：",null,null,null,null,{"$f":"IF('【回復期】WMS-R'!$B$29=\"\",\"\",'【回復期】WMS-R'!$B$29)","v":""},null,null,null,null,"注意集中：",{"$f":"IF('【回復期】WMS-R'!$B$31=\"\",\"\",'【回復期】WMS-R'!$B$31)","v":""},null,null,null,null,"遅延再生：",{"$f":"IF('【回復期】WMS-R'!$B$33=\"\",\"\",'【回復期】WMS-R'!$B$33)","v":""},null,null,null,"実施日：",{"$f":"IF('【回復期】WMS-R'!$C$3=\"\",\"\",'【回復期】WMS-R'!$C$3)","v":""}]
[null,null,null,null,null,null,null,null,{"$f":"IF(【回復期】データ管理!D181,\"○\",\"\")","v":""},"リバーミード行動記憶検査",null,null,null,null,null,null,null,null,null,{"$f":"IF(【回復期】データ管理!D182,\"○\",\"\")","v":""},"三宅式記銘検査",null,null,null,null,null,null,null,null,{"$f":"IF(【回復期】データ管理!D183,\"○\",\"\")","v":""},"ベントン視覚記銘検査"]
[null,null,null,null,"構成",null,null,null,{"$f":"IF(【回復期】データ管理!D184,\"○\",\"\")","v":""},"コース立方体組み合わせテスト"]
[null,null,null,null,"注意",null,null,null,{"$f":"IF(【回復期】データ管理!D185,\"○\",\"\")","v":""},"TMT",null,null,null,null,null,null,null,{"$f":"IF(【回復期】データ管理!D186,\"○\",\"\")","v":""},"CAT",null,null,null,null,null,null,null,null,null,null,null,{"$f":"IF(【回復期】データ管理!D187,\"○\",\"\")","v":""},"D-CAT",null,null,null,null,null,null,null,{"$f":"IF(【回復期】データ管理!D188,\"○\",\"\")","v":""},"PASAT"]
[null,null,null,null,"遂行機能",null,null,null,{"$f":"IF(【回復期】データ管理!D189,\"○\",\"\")","v":""},"BAD",null,null,null,null,null,null,null,{"$f":"IF(【回復期】データ管理!D190,\"○\",\"\")","v":""},"ウィスコンシンカード分類課題",null,null,null,null,null,null,null,null,null,null,null,{"$f":"IF(【回復期】データ管理!D191,\"○\",\"\")","v":""},"前頭葉機能検査（FAB)"]
[null,null,null,null,"その他",null,null,null,{"$f":"IF(【回復期】データ管理!D192,\"○\",\"\")","v":""},"BIT(行動性無視検査)",null,null,null,null,null,null,null,{"$f":"IF(【回復期】データ管理!D193,\"○\",\"\")","v":""},"VPTA(標準高次視知覚検査)",null,null,null,null,null,null,null,null,null,null,null,{"$f":"IF(【回復期】データ管理!D194,\"○\",\"\")","v":""},"SPTA(標準高次動作性検査)"]
[null,null,null,null,null,null,null,null,{"$f":"IF(【回復期】データ管理!D195,\"○\",\"\")","v":""},"その他",null,null,{"$f":"【回復期】データ管理!F196","v":""}]
[null,null,null,null,"結果・所見",null,null,null,{"$f":"【回復期】データ管理!D197","v":""}]
[]
["神経心理学的検査",null,null,null,"特記事項（日常生活上想定される問題等）"]
[null,null,null,null,null,null,null,null,{"$f":"【回復期】データ管理!D198","v":""}]
[]
["栄養・呼吸",null,null,null,null,null,null,"食事形態",{"$f":"【回復期】データ管理!H202","v":""}]
[null,null,null,null,null,null,null,"方法",{"$f":"【回復期】データ管理!H206","v":""}]
[null,null,null,null,null,null,null,null,null,null,"カテーテル",null,null,null,null,{"$f":"【回復期】データ管理!D212","v":""},null,"Ｆｒ",{"$f":"【回復期】データ管理!D213","v":""},null,"ｃｍ　　　",null,null,null,null,null,null,null,"最終交換日：",{"$f":"【回復期】データ管理!D214","v":""}]
[null,null,null,null,null,null,null,"気管切開",{"$f":"【回復期】データ管理!F215","v":""},null,null,null,null,null,null,"最終交換日：",{"$f":"【回復期】データ管理!D216","v":""}]
["排泄",null,null,null,"動作",null,null,null,{"$f":"【回復期】データ管理!F217","v":""}]
[null,null,null,null,"方法",null,null,null,{"$f":"【回復期】データ管理!H221","v":""}]
["禁忌事項",null,null,null,"アレルギー：",null,null,null,null,{"$f":"IF(【回復期】データ管理!D226=FALSE,\"なし\",【回復期】データ管理!D228)","v":"なし"},null,null,null,null,null,null,null,null,null,null,null,null,null,null,null,null,null,"その他：",null,null,null,{"$f":"IF(【回復期】データ管理!D227=FALSE,\"なし\",【回復期】データ管理!D229)","v":"なし"}]
["リハビリ",null,null,null,{"$f":"【回復期】データ管理!H233","v":""},null,null,null,null,null,null,null,null,null,null,null,"理学療法担当者",null,null,null,null,null,{"$f":"【回復期】データ管理!D231","v":""},null,null,null,null,null,"作業療法担当者",null,null,null,null,null,{"$f":"【回復期】データ管理!D233","v":""},null,null,null,null,null,"言語療法担当者",null,null,null,null,null,{"$f":"【回復期】データ管理!D235","v":""}]
[null,null,null,null,"言語",null,null,null,{"$f":"【回復期】データ管理!D237","v":""}]
[null,null,null,null,"身体",null,null,null,{"$f":"【回復期】データ管理!D239","v":""}]
[null,null,null,null,"認知",null,null,null,{"$f":"【回復期】データ管理!D241","v":""}]
[null,null,null,null,"留意事項",null,null,null,{"$f":"【回復期】データ管理!D243","v":""}]
[null,null,null,null,"自宅訪問",null,null,null,null,null,null,{"$f":"【回復期】データ管理!F244","v":""},null,{"$f":"【回復期】データ管理!F245","v":""}]
[null,null,null,null,"住宅改修必要性",null,null,null,null,null,null,{"$f":"【回復期】データ管理!F246","v":""},null,{"$f":"【回復期】データ管理!H247","v":""}]
[null,null,null,null,null,null,null,null,null,null,null,null,null,{"$f":"【回復期】データ管理!H251","v":""}]
[null,null,null,null,"福祉用具の必要性",null,null,null,null,null,null,{"$f":"【回復期】データ管理!F254","v":""},null,{"$f":"【回復期】データ管理!H257","v":""}]
["説明",null,null,null,{"$f":"【回復期】データ管理!H260","v":""}]
[null,null,null,null,null,null,{"$f":" 【回復期】データ管理!F262","v":""},null,null,null,null,null,null,null,null,null,null,null,null,{"$f":"【回復期】データ管理!F263","v":""}]
["転帰・\n転院基準",null,null,null,"退院先：",null,null,null,{"$f":"【回復期】データ管理!D264","v":""}]
[null,null,null,null,"退院先（",null,null,null,{"$f":"【回復期】データ管理!D265","v":""},null,null,null,null,null,null,null,null,null,null,null,null,null,null,"）へ情報提供"]
["脳損傷地域連携パス情報提供書"]
["基本情報",null,null,null,"現在の状況"]
[null,null,null,null,"社会復帰",null,null,null,null,null,null,null,null,null,{"$f":"【回復期】データ管理!F266","v":""}]
[null,null,null,null,"生活の場",null,null,null,null,null,null,null,null,null,{"$f":"【回復期】データ管理!F270","v":""}]
[null,null,null,null,"社会資源",null,null,null,null,null,null,null,null,null,"保険の種類：",null,null,null,null,{"$f":"【回復期】データ管理!F275","v":""}]
[null,null,null,null,null,null,null,null,null,null,null,null,null,null,null,null,null,null,null,{"$f":"【回復期】データ管理!H277","v":""}]
[null,null,null,null,"退院後の主治医",null,null,null,null,null,null,null,null,null,{"$f":"【回復期】データ管理!F280","v":""},null,null,"（医療機関・医師名：",null,null,null,null,null,null,null,{"$f":"【回復期】データ管理!D281","v":""},null,null,null,null,null,null,null,null,null,null,null,null,null,null,null,"）"]
[null,null,null,null,"障害年金",null,null,null,null,null,null,null,null,null,{"$f":"【回復期】データ管理!F282","v":""}]
[null,null,null,null,"身体障害者手帳",null,null,null,null,null,null,null,null,null,{"$f":"【回復期】データ管理!F287","v":""}]
[null,null,null,null,"精神障害者保健福祉手帳",null,null,null,null,null,null,null,null,null,{"$f":"【回復期】データ管理!F290","v":""}]
[null,null,null,null,"療育手帳",null,null,null,null,null,null,null,null,null,{"$f":"【回復期】データ管理!F293","v":""}]
[null,null,null,null,"介護保険",null,null,null,null,null,null,null,null,null,{"$f":"【回復期】データ管理!F296","v":""}]
[null,null,null,null,null,null,null,null,null,null,null,null,null,null,"居宅介護支援事業所（",null,null,null,null,null,null,null,{"$f":"【回復期】データ管理!D299","v":""},null,null,null,null,null,null,null,null,null,null,null,null,null,null,null,"）",null,"担当者（",null,null,{"$f":"【回復期】データ管理!D300","v":""},null,null,null,null,null,"）"]
[null,null,null,null,"障害支援区分",null,null,null,null,null,null,null,null,null,{"$f":"【回復期】データ管理!F301","v":""}]
[null,null,null,null,null,null,null,null,null,null,null,null,null,null,"相談支援専門員：担当者（",null,null,null,null,null,null,null,null,null,null,{"$f":"【回復期】データ管理!D304","v":""},null,null,null,null,null,null,"）",null,null,null,"事業所（",{"$f":"【回復期】データ管理!D305","v":""},null,null,null,null,null,null,null,null,null,"）"]
[null,null,null,null,"退院後の\n本人・家族の希望",null,null,null,null,null,null,null,null,null,{"$f":"【回復期】データ管理!D306","v":""}]
[]
[null,null,null,null,"障害に関する認識",null,null,null,null,null,null,null,null,null,{"$f":"【回復期】データ管理!D321","v":""}]
[null,null,null,null,"家族状況",null,null,null,null,null,null,null,null,null,"介護者：",null,null,null,{"$f":"【回復期】データ管理!F307","v":""},null,null,null,null,null,null,null,null,null,null,null,null,null,"介護力：",{"$f":"【回復期】データ管理!F309","v":""}]
[null,null,null,null,null,null,null,null,null,null,null,null,null,null,"キーパーソン：氏名",null,null,null,null,null,null,null,"（",{"$f":"【回復期】データ管理!D310","v":""},null,null,null,null,null,null,"）",null,null,null,null,null,null,null,"本人との関係：（",{"$f":"【回復期】データ管理!D311","v":""},null,null,null,"）"]
["説明\n(○：実施)",null,null,null,{"$f":"IF(【回復期】データ管理!D312=TRUE,\"○\",\"\")","v":""},"ｹｱﾏﾈｼﾞｬｰに情報提供",null,null,null,null,null,null,null,null,null,null,null,null,{"$f":"IF(【回復期】データ管理!D313=TRUE,\"○\",\"\")","v":""},"相談支援専門員に情報提供"]
[null,null,null,null,{"$f":"IF(【回復期】データ管理!D314=TRUE,\"○\",\"\")","v":""},"居宅サービス計画書案作成済み",null,null,null,null,null,null,null,null,null,null,null,null,{"$f":"IF(【回復期】データ管理!D315=TRUE,\"○\",\"\")","v":""},"サービス等利用計画案作成済み"]
[null,null,null,null,{"$f":"IF(【回復期】データ管理!D316=TRUE,\"○\",\"\")","v":""},"在宅ケア希望者退院連絡票送付"]
["医療連携上の特記事項",null,null,null,null,null,null,null,null,null,{"$f":"【回復期】データ管理!D318","v":""}]

{"sheet":"【回復期】データ管理","index":7,"n_rows":325,"n_cols":20,"rows_kept":325,"cut":false,"hidden":true,"merged":[[1,0,1,2],[1,6,1,7],[260,1,260,2]]}
["データ管理",null,null,null,null,null,null,null,"入力済み:0 未:1"]
["項目名",null,null,"値","備考","印刷文字","計算用",null,"入院/搬入","退院","入力日時","入力担当","ﾁｪｯｸ有","前回入力"]
["回復期病院名",null,null,{"$f":"IF(【回復期】入力シート!AC2=\"\",\"\",【回復期】入力シート!AC2)","v":""},null,null,null,null,null,null,null,"N",{"$f":"IF(【回復期】入力シート!$BG$5=FALSE,IF(【回復期】データ管理!K3=0,FALSE,IF(【回復期】データ管理!K3<【回復期】入力シート!$BE$1,TRUE,FALSE)))","v":false}]
["急性期病院名",null,null,{"$f":"IF(【回復期】入力シート!AQ2=\"\",\"\",【回復期】入力シート!AQ2)","v":""},null,null,null,null,null,null,null,"N",{"$f":"IF(【回復期】入力シート!$BG$5=FALSE,IF(【回復期】データ管理!K4=0,FALSE,IF(【回復期】データ管理!K4<【回復期】入力シート!$BE$1,TRUE,FALSE)))","v":false}]
["氏名",null,null,{"$f":"IF(【回復期】入力シート!E3=\"\",\"\",【回復期】入力シート!E3)","v":""},null,null,null,null,null,null,null,"N",{"$f":"IF(【回復期】入力シート!$BG$5=FALSE,IF(【回復期】データ管理!K5=0,FALSE,IF(【回復期】データ管理!K5<【回復期】入力シート!$BE$1,TRUE,FALSE)))","v":false}]
["性別",null,null,0,"1:男　2:女",{"$f":"IF(D6=1,\"男\",IF(D6=2,\"女\",\"\"))","v":""},null,null,null,{"$f":"IF(F6=\"\",1,0)","v":1},null,"N",{"$f":"IF(【回復期】入力シート!$BG$5=FALSE,IF(【回復期】データ管理!K6=0,FALSE,IF(【回復期】データ管理!K6<【回復期】入力シート!$BE$1,TRUE,FALSE)))","v":false},0]
["生年月日",null,null,{"$f":"IF(【回復期】入力シート!AF3=\"\",\"\",【回復期】入力シート!AF3)","v":""},null,null,null,null,null,null,null,"N",{"$f":"IF(【回復期】入力シート!$BG$5=FALSE,IF(【回復期】データ管理!K7=0,FALSE,IF(【回復期】データ管理!K7<【回復期】入力シート!$BE$1,TRUE,FALSE)))","v":false}]
["住所",null,null,{"$f":"IF(【回復期】入力シート!E4=\"\",\"\",【回復期】入力シート!E4)","v":""},null,null,null,null,null,null,null,"N",{"$f":"IF(【回復期】入力シート!$BG$5=FALSE,IF(【回復期】データ管理!K8=0,FALSE,IF(【回復期】データ管理!K8<【回復期】入力シート!$BE$1,TRUE,FALSE)))","v":false}]
["電話番号",null,null,{"$f":"IF(【回復期】入力シート!AI4=\"\",\"\",【回復期】入力シート!AI4)","v":""},null,null,null,null,null,null,null,"N",{"$f":"IF(【回復期】入力シート!$BG$5=FALSE,IF(【回復期】データ管理!K9=0,FALSE,IF(【回復期】データ管理!K9<【回復期】入力シート!$BE$1,TRUE,FALSE)))","v":false}]
["受傷時","年月日",null,{"$f":"IF(【回復期】入力シート!J6=\"\",\"\",【回復期】入力シート!J6)","v":""},null,null,null,null,null,null,null,"D",{"$f":"IF(【回復期】入力シート!$BG$3=FALSE,IF(【回復期】データ管理!K10=0,FALSE,IF(【回復期】データ管理!K10<【回復期】入力シート!$BE$1,TRUE,FALSE)))","v":false}]
["受傷状況","受傷原因",null,0,"1:交通事故　2:非交通事故",{"$f":"IF(D11<>\"\",LOOKUP(D11,{0,1,2},{\"\",\"交通事故\",\"非交通事故\"}),\"\")","v":""},null,null,null,null,null,"D",{"$f":"IF(【回復期】入力シート!$BG$3=FALSE,IF(【回復期】データ管理!K11=0,FALSE,IF(【回復期】データ管理!K11<【回復期】入力シート!$BE$1,TRUE,FALSE)))","v":false},0]
[null,"労災の有無",null,0,"1:無　2:有",{"$f":"IF(D12<>\"\",LOOKUP(D12,{0,1,2},{\"\",\"無\",\"有\"}),\"\")","v":""},null,null,null,null,null,"D",{"$f":"IF(【回復期】入力シート!$BG$3=FALSE,IF(【回復期】データ管理!K12=0,FALSE,IF(【回復期】データ管理!K12<【回復期】入力シート!$BE$1,TRUE,FALSE)))","v":false},0]
[null,"交通事故","患者方",0,"四輪車、二輪車、自転車、歩行者、その他",{"$f":"IF(D13<>\"\",LOOKUP(D13,{0,1,2,3,4,5},{\"\",\"四輪車\",\"二輪車\",\"自転車\",\"歩行者\",\"その他\"}),\"\")","v":""},null,null,null,null,null,"D",{"$f":"IF(【回復期】入力シート!$BG$3=FALSE,IF(【回復期】データ管理!K13=0,FALSE,IF(【回復期】データ管理!K13<【回復期】入力シート!$BE$1,TRUE,FALSE)))","v":false},0]
[null,null,"その他テキスト",{"$f":"IF(【回復期】入力シート!AL8=\"\",\"\",【回復期】入力シート!AL8)","v":""},null,null,null,null,null,null,null,"D",{"$f":"IF(【回復期】入力シート!$BG$3=FALSE,IF(【回復期】データ管理!K14=0,FALSE,IF(【回復期】データ管理!K14<【回復期】入力シート!$BE$1,TRUE,FALSE)))","v":false}]
[null,null,"相手方",0,"四輪車、二輪車、自転車、歩行者、その他",{"$f":"IF(D15<>\"\",LOOKUP(D15,{0,1,2,3,4,5},{\"\",\"四輪車\",\"二輪車\",\"自転車\",\"歩行者\",\"その他\"}),\"\")","v":""},null,null,null,null,null,"D",{"$f":"IF(【回復期】入力シート!$BG$3=FALSE,IF(【回復期】データ管理!K15=0,FALSE,IF(【回復期】データ管理!K15<【回復期】入力シート!$BE$1,TRUE,FALSE)))","v":false},0]
[null,null,"その他テキスト",{"$f":"IF(【回復期】入力シート!AL9=\"\",\"\",【回復期】入力シート!AL9)","v":""},null,null,null,null,null,null,null,"D",{"$f":"IF(【回復期】入力シート!$BG$3=FALSE,IF(【回復期】データ管理!K16=0,FALSE,IF(【回復期】データ管理!K16<【回復期】入力シート!$BE$1,TRUE,FALSE)))","v":false}]
[null,"非交通事故","原因",0,"転倒、転落、墜落、打撲、その他",{"$f":"IF(D17<>\"\",LOOKUP(D17,{0,1,2,3,4,5},{\"\",\"転倒\",\"転落\",\"墜落\",\"打撲\",\"その他\"}),\"\")","v":""},null,null,null,null,null,"D",{"$f":"IF(【回復期】入力シート!$BG$3=FALSE,IF(【回復期】データ管理!K17=0,FALSE,IF(【回復期】データ管理!K17<【回復期】入力シート!$BE$1,TRUE,FALSE)))","v":false},0]
[null,null,"その他テキスト",{"$f":"IF(【回復期】入力シート!AL10=\"\",\"\",【回復期】入力シート!AL10)","v":""},null,null,null,null,null,null,null,"D",{"$f":"IF(【回復期】入力シート!$BG$3=FALSE,IF(【回復期】データ管理!K18=0,FALSE,IF(【回復期】データ管理!K18<【回復期】入力シート!$BE$1,TRUE,FALSE)))","v":false}]
["搬入時の状況","意識","JCS",{"$f":"IF(【回復期】入力シート!N11=\"\",\"\",【回復期】入力シート!N11)","v":""},null,null,null,null,null,null,null,"D",{"$f":"IF(【回復期】入力シート!$BG$3=FALSE,IF(【回復期】データ管理!K19=0,FALSE,IF(【回復期】データ管理!K19<【回復期】入力シート!$BE$1,TRUE,FALSE)))","v":false}]
[null,null,"GCS",{"$f":"IF(【回復期】入力シート!V11=\"\",\"\",【回復期】入力シート!V11)","v":0},null,null,null,null,null,null,null,"D",{"$f":"IF(【回復期】入力シート!$BG$3=FALSE,IF(【回復期】データ管理!K20=0,FALSE,IF(【回復期】データ管理!K20<【回復期】入力シート!$BE$1,TRUE,FALSE)))","v":false},0]
[null,"搬入時血圧（収縮期）",null,{"$f":"IF(【回復期】入力シート!L12=\"\",\"\",【回復期】入力シート!L12)","v":""},null,null,null,null,null,null,null,"D",{"$f":"IF(【回復期】入力シート!$BG$3=FALSE,IF(【回復期】データ管理!K21=0,FALSE,IF(【回復期】データ管理!K21<【回復期】入力シート!$BE$1,TRUE,FALSE)))","v":false}]
[null,"瞳孔所見",null,0,"両側散大　片側散大　異常なし　検査せず・不明",{"$f":"IF(D22<>\"\",LOOKUP(D22,{0,1,2,3,4},{\"\",\"両側散大\",\"片側散大\",\"異常なし\",\"検査せず・不明\"}),\"\")","v":""},null,null,{"$f":"IF(F22=\"\",1,0)","v":1},null,null,"D",{"$f":"IF(【回復期】入力シート!$BG$3=FALSE,IF(【回復期】データ管理!K22=0,FALSE,IF(【回復期】データ管理!K22<【回復期】入力シート!$BE$1,TRUE,FALSE)))","v":false},0]
[null,"酸素飽和度",null,{"$f":"IF(【回復期】入力シート!L14=\"\",\"\",【回復期】入力シート!L14)","v":""},null,null,null,null,null,null,null,"D",{"$f":"IF(【回復期】入力シート!$BG$3=FALSE,IF(【回復期】データ管理!K23=0,FALSE,IF(【回復期】データ管理!K23<【回復期】入力シート!$BE$1,TRUE,FALSE)))","v":false}]
["診断名",null,null,{"$f":"IF(【回復期】入力シート!E5=\"\",\"\",【回復期】入力シート!E5)","v":""},null,null,null,null,null,null,null,"D",{"$f":"IF(【回復期】入力シート!$BG$3=FALSE,IF(【回復期】データ管理!K24=0,FALSE,IF(【回復期】データ管理!K24<【回復期】入力シート!$BE$1,TRUE,FALSE)))","v":false}]
["ＣＴ","撮影日",null,{"$f":"IF(【回復期】入力シート!L15=\"\",\"\",【回復期】入力シート!L15)","v":""},null,null,null,null,null,null,null,"D",{"$f":"IF(【回復期】入力シート!$BG$3=FALSE,IF(【回復期】データ管理!K25=0,FALSE,IF(【回復期】データ管理!K25<【回復期】入力シート!$BE$1,TRUE,FALSE)))","v":false}]
[null,"所見",null,{"$f":"IF(【回復期】入力シート!V15=\"\",\"\",【回復期】入力シート!V15)","v":""},null,null,null,null,null,null,null,"D",{"$f":"IF(【回復期】入力シート!$BG$3=FALSE,IF(【回復期】データ管理!K26=0,FALSE,IF(【回復期】データ管理!K26<【回復期】入力シート!$BE$1,TRUE,FALSE)))","v":false}]
["頭蓋骨骨折",null,null,0,"1無　2:有　3:不明",{"$f":"IF(D27<>\"\",LOOKUP(D27,{0,1,2,3},{\"\",\"無\",\"有\",\"不明\"}),\"\")","v":""},null,null,null,{"$f":"IF(F27=\"\",1,0)","v":1},null,"D",{"$f":"IF(【回復期】入力シート!$BG$3=FALSE,IF(【回復期】データ管理!K27=0,FALSE,IF(【回復期】データ管理!K27<【回復期】入力シート!$BE$1,TRUE,FALSE)))","v":false},0]
["気脳症",null,null,0,"1無　2:有　3:不明",{"$f":"IF(D28<>\"\",LOOKUP(D28,{0,1,2,3},{\"\",\"無\",\"有\",\"不明\"}),\"\")","v":""},null,null,null,1,null,"D",{"$f":"IF(【回復期】入力シート!$BG$3=FALSE,IF(【回復期】データ管理!K28=0,FALSE,IF(【回復期】データ管理!K28<【回復期】入力シート!$BE$1,TRUE,FALSE)))","v":false},0]
["頭蓋内異物",null,null,0,"1無　2:有　3:不明",{"$f":"IF(D29<>\"\",LOOKUP(D29,{0,1,2,3},{\"\",\"無\",\"有\",\"不明\"}),\"\")","v":""},null,null,null,1,null,"D",{"$f":"IF(【回復期】入力シート!$BG$3=FALSE,IF(【回復期】データ管理!K29=0,FALSE,IF(【回復期】データ管理!K29<【回復期】入力シート!$BE$1,TRUE,FALSE)))","v":false},0]
["くも膜下出血",null,null,0,"1無　2:有　3:不明",{"$f":"IF(D30<>\"\",LOOKUP(D30,{0,1,2,3},{\"\",\"無\",\"有\",\"不明\"}),\"\")","v":""},null,null,null,1,null,"D",{"$f":"IF(【回復期】入力シート!$BG$3=FALSE,IF(【回復期】データ管理!K30=0,FALSE,IF(【回復期】データ管理!K30<【回復期】入力シート!$BE$1,TRUE,FALSE)))","v":false},0]
["脳室内出血",null,null,0,"1無　2:有　3:不明",{"$f":"IF(D31<>\"\",LOOKUP(D31,{0,1,2,3},{\"\",\"無\",\"有\",\"不明\"}),\"\")","v":""},null,null,null,1,null,"D",{"$f":"IF(【回復期】入力シート!$BG$3=FALSE,IF(【回復期】データ管理!K31=0,FALSE,IF(【回復期】データ管理!K31<【回復期】入力シート!$BE$1,TRUE,FALSE)))","v":false},0]
["CT分類（TCDB)",null,null,0,null,{"$f":"IF(D32<>\"\",LOOKUP(D32,{0,1,2,3,4,5,6},{\"\",\"DI Ⅰ\",\"DI Ⅱ\",\"DI Ⅲ\",\"DI Ⅳ\",\"Evacuated mass\",\"non-EM\"}),\"\")","v":""},null,null,null,1,null,"D",{"$f":"IF(【回復期】入力シート!$BG$3=FALSE,IF(【回復期】データ管理!K32=0,FALSE,IF(【回復期】データ管理!K32<【回復期】入力シート!$BE$1,TRUE,FALSE)))","v":false},0]
["Mass lesion",null,null,0,null,{"$f":"IF(D33<>\"\",LOOKUP(D33,{0,1,2,3,4,5},{\"\",\"硬膜外血腫\",\"急性硬膜下血腫\",\"頭蓋内出血\",\"脳挫傷\",\"その他\"}),\"\")","v":""},null,null,null,1,null,"D",{"$f":"IF(【回復期】入力シート!$BG$3=FALSE,IF(【回復期】データ管理!K33=0,FALSE,IF(【回復期】データ管理!K33<【回復期】入力シート!$BE$1,TRUE,FALSE)))","v":false},0]
["血腫の部位 右","チェック","前頭葉",false,null,{"$f":"IF(D34=TRUE,C34,\"\")","v":""},null,null,null,null,null,"D",{"$f":"IF(【回復期】入力シート!$BG$3=FALSE,IF(【回復期】データ管理!K34=0,FALSE,IF(【回復期】データ管理!K34<【回復期】入力シート!$BE$1,TRUE,FALSE)))","v":false},false]
[null,null,"側頭葉",false,null,{"$f":"IF(D35=TRUE,C35,\"\")","v":""},null,null,null,null,null,null,null,false]
[null,null,"頭頂葉",false,null,"",null,null,null,null,null,null,null,false]
[null,null,"後頭葉",false,null,"",null,null,null,null,null,null,null,false]
[null,null,"基底核",false,null,"",null,null,null,null,null,null,null,false]
[null,null,"脳幹",false,null,"",null,{"$f":"IF(H40<>\"\", MID(H40,2,200),\"\")","v":""},null,null,null,null,null,false]
[null,null,"脳室内",false,null,"",null,{"$f":"  IF(F34<>\"\",\"，\" & F34,\"\")  &  IF(F35<>\"\",\"，\" & F35,\"\")  & IF(F36<>\"\",\"，\" & F36,\"\") & IF(F37<>\"\",\"，\" & F37,\"\") & IF(F38<>\"\",\"，\" & F38,\"\") & IF(F39<>\"\",\"，\" & F39,\"\") & IF(F40<>\"\",\"，\" & F40,\"\")","v":""},null,null,null,null,null,false]
[null,"値","前頭葉",{"$f":"IF(【回復期】入力シート!P23=\"\",\"\",【回復期】入力シート!P23)","v":""},null,null,null,null,null,null,null,"D",{"$f":"IF(【回復期】入力シート!$BG$3=FALSE,IF(【回復期】データ管理!K41=0,FALSE,IF(【回復期】データ管理!K41<【回復期】入力シート!$BE$1,TRUE,FALSE)))","v":false}]
[null,null,"側頭葉",{"$f":"IF(【回復期】入力シート!P24=\"\",\"\",【回復期】入力シート!P24)","v":""},null,null,null,null,null,null,null,"D",{"$f":"IF(【回復期】入力シート!$BG$3=FALSE,IF(【回復期】データ管理!K42=0,FALSE,IF(【回復期】データ管理!K42<【回復期】入力シート!$BE$1,TRUE,FALSE)))","v":false}]
[null,null,"頭頂葉",{"$f":"IF(【回復期】入力シート!P25=\"\",\"\",【回復期】入力シート!P25)","v":""},null,null,null,null,null,null,null,"D",{"$f":"IF(【回復期】入力シート!$BG$3=FALSE,IF(【回復期】データ管理!K43=0,FALSE,IF(【回復期】データ管理!K43<【回復期】入力シート!$BE$1,TRUE,FALSE)))","v":false}]
[null,null,"後頭葉",{"$f":"IF(【回復期】入力シート!P26=\"\",\"\",【回復期】入力シート!P26)","v":""},null,null,null,null,null,null,null,"D",{"$f":"IF(【回復期】入力シート!$BG$3=FALSE,IF(【回復期】データ管理!K44=0,FALSE,IF(【回復期】データ管理!K44<【回復期】入力シート!$BE$1,TRUE,FALSE)))","v":false}]
[null,null,"基底核",{"$f":"IF(【回復期】入力シート!P27=\"\",\"\",【回復期】入力シート!P27)","v":""},null,null,null,null,null,null,null,"D",{"$f":"IF(【回復期】入力シート!$BG$3=FALSE,IF(【回復期】データ管理!K45=0,FALSE,IF(【回復期】データ管理!K45<【回復期】入力シート!$BE$1,TRUE,FALSE)))","v":false}]
[null,null,"脳幹",{"$f":"IF(【回復期】入力シート!P28=\"\",\"\",【回復期】入力シート!P28)","v":""},null,null,null,null,null,null,null,"D",{"$f":"IF(【回復期】入力シート!$BG$3=FALSE,IF(【回復期】データ管理!K46=0,FALSE,IF(【回復期】データ管理!K46<【回復期】入力シート!$BE$1,TRUE,FALSE)))","v":false}]
[null,null,"脳室内→削除",null,null,null,null,null,null,null,null,"D",{"$f":"IF(【回復期】入力シート!$BG$3=FALSE,IF(【回復期】データ管理!K47=0,FALSE,IF(【回復期】データ管理!K47<【回復期】入力シート!$BE$1,TRUE,FALSE)))","v":false}]
["血腫の部位 左","チェック","前頭葉",false,null,{"$f":"IF(D48=TRUE,C48,\"\")","v":""},null,null,null,null,null,null,null,false]
[null,null,"側頭葉",false,null,{"$f":"IF(D49=TRUE,C49,\"\")","v":""},null,null,null,null,null,null,null,false]
[null,null,"頭頂葉",false,null,"",null,null,null,null,null,null,null,false]
[null,null,"後頭葉",false,null,"",null,null,null,null,null,null,null,false]
[null,null,"基底核",false,null,"",null,null,null,null,null,null,null,false]
[null,null,"脳幹",false,null,"",null,{"$f":"IF(H54<>\"\", MID(H54,2,200),\"\")","v":""},null,null,null,null,null,false]
[null,null,"脳室内",false,null,"",null,{"$f":"  IF(F48<>\"\",\"，\" & F48,\"\")  &  IF(F49<>\"\",\"，\" & F49,\"\")  & IF(F50<>\"\",\"，\" & F50,\"\") & IF(F51<>\"\",\"，\" & F51,\"\") & IF(F52<>\"\",\"，\" & F52,\"\") & IF(F53<>\"\",\"，\" & F53,\"\") & IF(F54<>\"\",\"，\" & F54,\"\")","v":""},null,null,null,null,null,false]
[null,"値","前頭葉",{"$f":"IF(【回復期】入力シート!Z23=\"\",\"\",【回復期】入力シート!Z23)","v":""},null,null,null,null,null,null,null,"D",{"$f":"IF(【回復期】入力シート!$BG$3=FALSE,IF(【回復期】データ管理!K55=0,FALSE,IF(【回復期】データ管理!K55<【回復期】入力シート!$BE$1,TRUE,FALSE)))","v":false}]
[null,null,"側頭葉",{"$f":"IF(【回復期】入力シート!Z24=\"\",\"\",【回復期】入力シート!Z24)","v":""},null,null,null,null,null,null,null,"D",{"$f":"IF(【回復期】入力シート!$BG$3=FALSE,IF(【回復期】データ管理!K56=0,FALSE,IF(【回復期】データ管理!K56<【回復期】入力シート!$BE$1,TRUE,FALSE)))","v":false}]
[null,null,"頭頂葉",{"$f":"IF(【回復期】入力シート!Z25=\"\",\"\",【回復期】入力シート!Z25)","v":""},null,null,null,null,null,null,null,"D",{"$f":"IF(【回復期】入力シート!$BG$3=FALSE,IF(【回復期】データ管理!K57=0,FALSE,IF(【回復期】データ管理!K57<【回復期】入力シート!$BE$1,TRUE,FALSE)))","v":false}]
[null,null,"後頭葉",{"$f":"IF(【回復期】入力シート!Z26=\"\",\"\",【回復期】入力シート!Z26)","v":""},null,null,null,null,null,null,null,"D",{"$f":"IF(【回復期】入力シート!$BG$3=FALSE,IF(【回復期】データ管理!K58=0,FALSE,IF(【回復期】データ管理!K58<【回復期】入力シート!$BE$1,TRUE,FALSE)))","v":false}]
[null,null,"基底核",{"$f":"IF(【回復期】入力シート!Z27=\"\",\"\",【回復期】入力シート!Z27)","v":""},null,null,null,null,null,null,null,"D",{"$f":"IF(【回復期】入力シート!$BG$3=FALSE,IF(【回復期】データ管理!K59=0,FALSE,IF(【回復期】データ管理!K59<【回復期】入力シート!$BE$1,TRUE,FALSE)))","v":false}]
[null,null,"脳幹",{"$f":"IF(【回復期】入力シート!Z28=\"\",\"\",【回復期】入力シート!Z28)","v":""},null,null,null,null,null,null,null,"D",{"$f":"IF(【回復期】入力シート!$BG$3=FALSE,IF(【回復期】データ管理!K60=0,FALSE,IF(【回復期】データ管理!K60<【回復期】入力シート!$BE$1,TRUE,FALSE)))","v":false}]
[null,null,"脳室内→削除",null,null,null,null,null,null,null,null,"D",{"$f":"IF(【回復期】入力シート!$BG$3=FALSE,IF(【回復期】データ管理!K61=0,FALSE,IF(【回復期】データ管理!K61<【回復期】入力シート!$BE$1,TRUE,FALSE)))","v":false}]
["中脳周囲槽",null,null,0,"1:正常　2:圧迫　3:消失 4:判定不能",{"$f":"IF(D62<>\"\",LOOKUP(D62,{0,1,2,3,4},{\"\",\"正常\",\"圧迫\",\"消失\",\"判定不能\"}),\"\")","v":""},null,null,null,null,null,"D",{"$f":"IF(【回復期】入力シート!$BG$3=FALSE,IF(【回復期】データ管理!K62=0,FALSE,IF(【回復期】データ管理!K62<【回復期】入力シート!$BE$1,TRUE,FALSE)))","v":false},0]
["正中偏位",null,null,{"$f":"IF(【回復期】入力シート!AF30=\"\",\"\",【回復期】入力シート!AF30)","v":""},null,null,null,null,null,null,null,"D",{"$f":"IF(【回復期】入力シート!$BG$3=FALSE,IF(【回復期】データ管理!K63=0,FALSE,IF(【回復期】データ管理!K63<【回復期】入力シート!$BE$1,TRUE,FALSE)))","v":false}]
["MRI","撮影日",null,{"$f":"IF(【回復期】入力シート!I31=\"\",\"\",【回復期】入力シート!I31)","v":""},null,null,null,null,null,null,null,"D",{"$f":"IF(【回復期】入力シート!$BG$3=FALSE,IF(【回復期】データ管理!K64=0,FALSE,IF(【回復期】データ管理!K64<【回復期】入力シート!$BE$1,TRUE,FALSE)))","v":false}]
[null,"所見",null,{"$f":"IF(【回復期】入力シート!T31=\"\",\"\",【回復期】入力シート!T31)","v":""},null,null,null,null,null,null,null,"D",{"$f":"IF(【回復期】入力シート!$BG$3=FALSE,IF(【回復期】データ管理!K65=0,FALSE,IF(【回復期】データ管理!K65<【回復期】入力シート!$BE$1,TRUE,FALSE)))","v":false}]
[null,"脳梁膨大部･脳幹のDAI所見",null,0,"1無　2:有",{"$f":"IF(D66<>\"\",LOOKUP(D66,{0,1,2},{\"\",\"無\",\"有\"}),\"\")","v":""},null,null,null,null,null,"D",{"$f":"IF(【回復期】入力シート!$BG$3=FALSE,IF(【回復期】データ管理!K66=0,FALSE,IF(【回復期】データ管理!K66<【回復期】入力シート!$BE$1,TRUE,FALSE)))","v":false},0]
[null,"Microbleeding","有無",0,"1無　2:有",{"$f":"IF(D67<>\"\",LOOKUP(D67,{0,1,2},{\"\",\"無\",\"有\"}),\"\")","v":""},null,null,null,null,null,"D",{"$f":"IF(【回復期】入力シート!$BG$3=FALSE,IF(【回復期】データ管理!K67=0,FALSE,IF(【回復期】データ管理!K67<【回復期】入力シート!$BE$1,TRUE,FALSE)))","v":false},0]
[null,"場所",null,{"$f":"IF(【回復期】入力シート!Y34=\"\",\"\",【回復期】入力シート!Y34)","v":""},null,null,null,null,null,null,null,"D",{"$f":"IF(【回復期】入力シート!$BG$3=FALSE,IF(【回復期】データ管理!K68=0,FALSE,IF(【回復期】データ管理!K68<【回復期】入力シート!$BE$1,TRUE,FALSE)))","v":false}]
[null,"数",null,0,"1:1～4　2:5～9　3:10～19 4:20以上",{"$f":"IF(D69<>\"\",LOOKUP(D69,{0,1,2,3,4},{\"\",\":1～4\",\"5～9\",\"10～19\",\"20以上\"}),\"\")","v":""},null,null,null,null,null,"D",{"$f":"IF(【回復期】入力シート!$BG$3=FALSE,IF(【回復期】データ管理!K69=0,FALSE,IF(【回復期】データ管理!K69<【回復期】入力シート!$BE$1,TRUE,FALSE)))","v":false},0]
["身体状況","Talk&deteriorates",null,0,"1無　2:有",{"$f":"IF(D70<>\"\",LOOKUP(D70,{0,1,2},{\"\",\"無\",\"有\"}),\"\")","v":""},null,null,null,null,null,"N",{"$f":"IF(【回復期】入力シート!$BG$5=FALSE,IF(【回復期】データ管理!K70=0,FALSE,IF(【回復期】データ管理!K70<【回復期】入力シート!$BE$1,TRUE,FALSE)))","v":false},0]
[null,"多発外傷",null,0,"1無　2:有",{"$f":"IF(D71<>\"\",LOOKUP(D71,{0,1,2},{\"\",\"無\",\"有\"}),\"\")","v":""},null,null,null,null,null,"N",{"$f":"IF(【回復期】入力シート!$BG$5=FALSE,IF(【回復期】データ管理!K71=0,FALSE,IF(【回復期】データ管理!K71<【回復期】入力シート!$BE$1,TRUE,FALSE)))","v":false},0]
[null,"　場所","顔面",false,null,{"$f":"IF(D72=TRUE,C72,\"\")","v":""},null,null,null,null,null,"N",{"$f":"IF(【回復期】入力シート!$BG$5=FALSE,IF(【回復期】データ管理!K72=0,FALSE,IF(【回復期】データ管理!K72<【回復期】入力シート!$BE$1,TRUE,FALSE)))","v":false},false]
[null,null,"頸部",false,null,"",null,null,null,null,null,null,null,false]
[null,null,"胸部",false,null,"",null,null,null,null,null,null,null,false]
[null,null,"腹部",false,null,"",null,null,null,null,null,null,null,false]
[null,null,"骨盤",false,null,"",null,{"$f":"IF(H77<>\"\", MID(H77,2,200),\"\")","v":""},null,null,null,null,null,false]
[null,null,"四肢",false,null,"",null,{"$f":"  IF(F72<>\"\",\"，\" & F72,\"\")  & IF(F73<>\"\",\"，\" & F73,\"\") & IF(F74<>\"\",\"，\" & F74,\"\") & IF(F75<>\"\",\"，\" & F75,\"\") & IF(F76<>\"\",\"，\" & F76,\"\") & IF(F77<>\"\",\"，\" & F77,\"\")","v":""},null,null,null,null,null,false]
[null,"興奮・安静困難",null,0,"1無　2:有",{"$f":"IF(D78<>\"\",LOOKUP(D78,{0,1,2},{\"\",\"無\",\"有\"}),\"\")","v":""},null,null,null,null,null,"N",{"$f":"IF(【回復期】入力シート!$BG$5=FALSE,IF(【回復期】データ管理!K78=0,FALSE,IF(【回復期】データ管理!K78<【回復期】入力シート!$BE$1,TRUE,FALSE)))","v":false},0]
[null,"視野障害",null,0,"1無　2:有",{"$f":"IF(D79<>\"\",LOOKUP(D79,{0,1,2},{\"\",\"無\",\"有\"}),\"\")","v":""},null,null,null,null,null,"N",{"$f":"IF(【回復期】入力シート!$BG$5=FALSE,IF(【回復期】データ管理!K79=0,FALSE,IF(【回復期】データ管理!K79<【回復期】入力シート!$BE$1,TRUE,FALSE)))","v":false},0]
[null,"感覚障害",null,0,"1無　2:有",{"$f":"IF(D80<>\"\",LOOKUP(D80,{0,1,2},{\"\",\"無\",\"有\"}),\"\")","v":""},null,null,null,null,null,"N",{"$f":"IF(【回復期】入力シート!$BG$5=FALSE,IF(【回復期】データ管理!K80=0,FALSE,IF(【回復期】データ管理!K80<【回復期】入力シート!$BE$1,TRUE,FALSE)))","v":false},0]
[null,"疼痛",null,0,"1無　2:有",{"$f":"IF(D81<>\"\",LOOKUP(D81,{0,1,2},{\"\",\"無\",\"有\"}),\"\")","v":""},null,null,null,null,null,"N",{"$f":"IF(【回復期】入力シート!$BG$5=FALSE,IF(【回復期】データ管理!K81=0,FALSE,IF(【回復期】データ管理!K81<【回復期】入力シート!$BE$1,TRUE,FALSE)))","v":false},0]
[null,"拘縮",null,0,"1無　2:有",{"$f":"IF(D82<>\"\",LOOKUP(D82,{0,1,2},{\"\",\"無\",\"有\"}),\"\")","v":""},null,null,null,null,null,"N",{"$f":"IF(【回復期】入力シート!$BG$5=FALSE,IF(【回復期】データ管理!K82=0,FALSE,IF(【回復期】データ管理!K82<【回復期】入力シート!$BE$1,TRUE,FALSE)))","v":false},0]
[null,null,"部位",{"$f":"IF(【回復期】入力シート!T42=\"\",\"\",【回復期】入力シート!T42)","v":""},null,null,null,null,null,null,null,"N",{"$f":"IF(【回復期】入力シート!$BG$5=FALSE,IF(【回復期】データ管理!K83=0,FALSE,IF(【回復期】データ管理!K83<【回復期】入力シート!$BE$1,TRUE,FALSE)))","v":false}]
[null,"嚥下障害",null,0,"1無　2:有",{"$f":"IF(D84<>\"\",LOOKUP(D84,{0,1,2},{\"\",\"無\",\"有\"}),\"\")","v":""},null,null,null,null,null,"N",{"$f":"IF(【回復期】入力シート!$BG$5=FALSE,IF(【回復期】データ管理!K84=0,FALSE,IF(【回復期】データ管理!K84<【回復期】入力シート!$BE$1,TRUE,FALSE)))","v":false},0]
[null,"肺炎",null,0,"1無　2:有",{"$f":"IF(D85<>\"\",LOOKUP(D85,{0,1,2},{\"\",\"無\",\"有\"}),\"\")","v":""},null,null,null,null,null,"N",{"$f":"IF(【回復期】入力シート!$BG$5=FALSE,IF(【回復期】データ管理!K85=0,FALSE,IF(【回復期】データ管理!K85<【回復期】入力シート!$BE$1,TRUE,FALSE)))","v":false},0]
[null,"尿路感染症",null,0,"1無　2:有",{"$f":"IF(D86<>\"\",LOOKUP(D86,{0,1,2},{\"\",\"無\",\"有\"}),\"\")","v":""},null,null,null,null,null,"N",{"$f":"IF(【回復期】入力シート!$BG$5=FALSE,IF(【回復期】データ管理!K86=0,FALSE,IF(【回復期】データ管理!K86<【回復期】入力シート!$BE$1,TRUE,FALSE)))","v":false},0]
[null,"その他合併症",null,0,"1無　2:有",{"$f":"IF(D87<>\"\",LOOKUP(D87,{0,1,2},{\"\",\"無\",\"有\"}),\"\")","v":""},null,null,null,null,null,"N",{"$f":"IF(【回復期】入力シート!$BG$5=FALSE,IF(【回復期】データ管理!K87=0,FALSE,IF(【回復期】データ管理!K87<【回復期】入力シート!$BE$1,TRUE,FALSE)))","v":false},0]
[null,null,"テキスト",{"$f":"IF(【回復期】入力シート!R46=\"\",\"\",【回復期】入力シート!R46)","v":""},null,null,null,null,null,null,null,"N",{"$f":"IF(【回復期】入力シート!$BG$5=FALSE,IF(【回復期】データ管理!K88=0,FALSE,IF(【回復期】データ管理!K88<【回復期】入力シート!$BE$1,TRUE,FALSE)))","v":false}]
[null,"その他感染症",null,0,"1無　2:有",{"$f":"IF(D89<>\"\",LOOKUP(D89,{0,1,2},{\"\",\"無\",\"有\"}),\"\")","v":""},null,null,null,null,null,"N",{"$f":"IF(【回復期】入力シート!$BG$5=FALSE,IF(【回復期】データ管理!K89=0,FALSE,IF(【回復期】データ管理!K89<【回復期】入力シート!$BE$1,TRUE,FALSE)))","v":false},0]
[null,null,"部位",{"$f":"IF(【回復期】入力シート!T47=\"\",\"\",【回復期】入力シート!T47)","v":""},null,null,null,null,null,null,null,"N",{"$f":"IF(【回復期】入力シート!$BG$5=FALSE,IF(【回復期】データ管理!K90=0,FALSE,IF(【回復期】データ管理!K90<【回復期】入力シート!$BE$1,TRUE,FALSE)))","v":false}]
["高次脳機能障害","学習・記憶障害",null,false,null,{"$f":"IF(D91=TRUE,B91,\"\")","v":""},null,null,null,null,null,"D",{"$f":"IF(【回復期】入力シート!$BG$3=FALSE,IF(【回復期】データ管理!K91=0,FALSE,IF(【回復期】データ管理!K91<【回復期】入力シート!$BE$1,TRUE,FALSE)))","v":false},false]
[null,"注意障害",null,false,null,{"$f":"IF(D92=TRUE,B92,\"\")","v":""},null,null,null,null,null,null,null,false]
[null,"言語障害（失語、構音障害）",null,false,null,"",null,null,null,null,null,null,null,false]
[null,"失行",null,false,null,"",null,null,null,null,null,null,null,false]
[null,"失認",null,false,null,"",null,null,null,null,null,null,null,false]
[null,"構成障害",null,false,null,"",null,null,null,null,null,null,null,false]
[null,"半側空間無視",null,false,null,"",null,null,null,null,null,null,null,false]
[null,"実行機能障害",null,false,null,"",null,null,null,null,null,null,null,false]
[null,"全般的知能低下",null,false,null,"",null,null,null,null,null,null,null,false]
[null,"病識欠如（病態失認）",null,false,null,"",null,null,null,null,null,null,null,false]
[null,"固執性",null,false,null,"",null,null,null,null,null,null,null,false]
[null,"感情コントロール障害（易怒性等）",null,false,null,"",null,null,null,null,null,null,null,false]
[null,"興奮・脱抑制",null,false,null,"",null,null,null,null,null,null,null,false]
[null,"意欲･自発性低下",null,false,null,{"$f":"IF(D104=TRUE,B104,\"\")","v":""},null,{"$f":"IF(H105<>\"\", MID(H105,2,200),\"\")","v":""},null,null,null,null,null,false]
[null,"その他",null,false,null,{"$f":"IF(D105=TRUE,IF(D106<>\"\",B105&\"（\" & D106 & \"）\",B105),\"\")","v":""},null,{"$f":" IF(F91<>\"\",\"，\" & F91,\"\") &IF(F92<>\"\",\"，\" & F92,\"\") &IF(F93<>\"\",\"，\" & F93,\"\") &IF(F94<>\"\",\"，\" & F94,\"\") &IF(F95<>\"\",\"，\" & F95,\"\") &IF(F96<>\"\",\"，\" & F96,\"\") &IF(F97<>\"\",\"，\" & F97,\"\") &IF(F98<>\"\",\"，\" & F98,\"\") &IF(F99<>\"\",\"，\" & F99,\"\") &IF(F100<>\"\",\"，\" & F100,\"\") & IF(F101<>\"\",\"，\" & F101,\"\") & IF(F102<>\"\",\"，\" & F102,\"\") & IF(F103<>\"\",\"，\" & F103,\"\") & IF(F104<>\"\",\"，\" & F104,\"\") & IF(F105<>\"\",\"，\" & F105,\"\")","v":""},null,null,null,null,null,false]
[null,null,"その他テキスト",{"$f":"IF(【回復期】入力シート!I50=\"\",\"\",【回復期】入力シート!I50)","v":""},null,null,null,null,null,null,null,"D",{"$f":"IF(【回復期】入力シート!$BG$3=FALSE,IF(【回復期】データ管理!K106=0,FALSE,IF(【回復期】データ管理!K106<【回復期】入力シート!$BE$1,TRUE,FALSE)))","v":false}]
["入院時","日付",null,{"$f":"IF(【回復期】入力シート!H52=\"\",\"\",【回復期】入力シート!H52)","v":""},null,null,null,null,null,null,null,"D",{"$f":"IF(【回復期】入力シート!$BG$3=FALSE,IF(【回復期】データ管理!K107=0,FALSE,IF(【回復期】データ管理!K107<【回復期】入力シート!$BE$1,TRUE,FALSE)))","v":false}]
[null,"目標","日常生活拡大に向けたリハビリ",false,null,{"$f":"IF(D108=TRUE,C108,\"\")","v":""},null,{"$f":"IF(H109<>\"\", MID(H109,2,200),\"\")","v":""},null,null,null,"D",{"$f":"IF(【回復期】入力シート!$BG$3=FALSE,IF(【回復期】データ管理!K108=0,FALSE,IF(【回復期】データ管理!K108<【回復期】入力シート!$BE$1,TRUE,FALSE)))","v":false},false]
[null,null,"その他",false,null,{"$f":"IF(D109=TRUE,IF(D110<>\"\",C109&\"(\" & D110 & \")\",C109),\"\")","v":""},null,{"$f":"  IF(F108<>\"\",CHAR(10) & F108,\"\") &  IF(F323<>\"\",CHAR(10) & F323,\"\") & IF(F109<>\"\",CHAR(10) & F109,\"\")","v":""},null,null,null,"D",{"$f":"IF(【回復期】入力シート!$BG$3=FALSE,IF(【回復期】データ管理!K109=0,FALSE,IF(【回復期】データ管理!K109<【回復期】入力シート!$BE$1,TRUE,FALSE)))","v":false},false]
[null,null,"その他テキスト",{"$f":"IF(【回復期】入力シート!I55=\"\",\"\",【回復期】入力シート!I55)","v":""},null,null,null,null,null,null,null,"D",{"$f":"IF(【回復期】入力シート!$BG$3=FALSE,IF(【回復期】データ管理!K110=0,FALSE,IF(【回復期】データ管理!K110<【回復期】入力シート!$BE$1,TRUE,FALSE)))","v":false}]
[null,"MMT",null,{"$f":"【回復期】入力シート!E56","v":"右上肢（   ）　左上肢（   ）　右下肢（   ）　左下肢（   ）"},null,null,null,null,null,null,null,"D",{"$f":"IF(【回復期】入力シート!$BG$3=FALSE,IF(【回復期】データ管理!K111=0,FALSE,IF(【回復期】データ管理!K111<【回復期】入力シート!$BE$1,TRUE,FALSE)))","v":false},"右上肢（   ）　左上肢（   ）　右下肢（   ）　左下肢（   ）",{"$f":"MID($D111,6,1)","v":" "},{"$f":"MID($D111,15,1)","v":" "},{"$f":"MID($D111,24,1)","v":" "},{"$f":"MID($D111,33,1)","v":" "}]
[null,"BrStage",null,{"$f":"【回復期】入力シート!H57","v":"右上肢( 　 )　－手指( 　 )　－下肢( 　 )　　左上肢( 　 )　－手指( 　 )　－下肢( 　 )"},null,null,null,null,null,null,null,"S",{"$f":"IF(【回復期】入力シート!$BG$7=FALSE,IF(【回復期】データ管理!K112=0,FALSE,IF(【回復期】データ管理!K112<【回復期】入力シート!$BE$1,TRUE,FALSE)))","v":false},"右上肢( 　 )　－手指( 　 )　－下肢( 　 )　　左上肢( 　 )　－手指( 　 )　－下肢( 　 )",{"$f":"MID($D112,6,1)","v":"　"},{"$f":"MID($D112,15,1)","v":"　"},{"$f":"MID($D112,24,1)","v":"　"},{"$f":"MID($D112,34,1)","v":"　"},{"$f":"MID($D112,43,1)","v":"　"},{"$f":"MID($D112,52,1)","v":"　"}]
["受傷３カ月時","日付",null,{"$f":"IF(【回復期】入力シート!U52=\"\",\"\",【回復期】入力シート!U52)","v":""},null,null,null,null,null,null,null,"D",{"$f":"IF(【回復期】入力シート!$BG$3=FALSE,IF(【回復期】データ管理!K113=0,FALSE,IF(【回復期】データ管理!K113<【回復期】入力シート!$BE$1,TRUE,FALSE)))","v":false},null,{"$f":"IF(O112=\"Ⅵ\",6,IF(O112=\"Ⅴ\",5,IF(O112=\"Ⅳ\",4,IF(O112=\"Ⅲ\",3,IF(O112=\"Ⅱ\",2,IF(O112=\"Ⅰ\",1,IF(O112=\"　\",\"\",\"\")))))))","v":""},{"$f":"IF(P112=\"Ⅵ\",6,IF(P112=\"Ⅴ\",5,IF(P112=\"Ⅳ\",4,IF(P112=\"Ⅲ\",3,IF(P112=\"Ⅱ\",2,IF(P112=\"Ⅰ\",1,IF(P112=\"　\",\"\",\"\")))))))","v":""},"","","",""]
[null,"目標","日常生活拡大に向けたリハビリ",false,null,{"$f":"IF(D114=TRUE,C114,\"\")","v":""},null,{"$f":"IF(H115<>\"\", MID(H115,2,200),\"\")","v":""},null,null,null,"D",{"$f":"IF(【回復期】入力シート!$BG$3=FALSE,IF(【回復期】データ管理!K114=0,FALSE,IF(【回復期】データ管理!K114<【回復期】入力シート!$BE$1,TRUE,FALSE)))","v":false},false]
[null,null,"その他",false,null,{"$f":"IF(D115=TRUE,IF(D116<>\"\",C115&\"(\" & D116 & \")\",C115),\"\")","v":""},null,{"$f":"  IF(F114<>\"\",CHAR(10) & F114,\"\") &  IF(F324<>\"\",CHAR(10) & F324,\"\") & IF(F115<>\"\",CHAR(10) & F115,\"\")","v":""},null,null,null,"D",{"$f":"IF(【回復期】入力シート!$BG$3=FALSE,IF(【回復期】データ管理!K115=0,FALSE,IF(【回復期】データ管理!K115<【回復期】入力シート!$BE$1,TRUE,FALSE)))","v":false},false]
[null,null,"その他テキスト",{"$f":"IF(【回復期】入力シート!Y55=\"\",\"\",【回復期】入力シート!Y55)","v":""},null,null,null,null,null,null,null,"D",{"$f":"IF(【回復期】入力シート!$BG$3=FALSE,IF(【回復期】データ管理!K116=0,FALSE,IF(【回復期】データ管理!K116<【回復期】入力シート!$BE$1,TRUE,FALSE)))","v":false}]
[null,"MMT",null,{"$f":"【回復期】入力シート!U56","v":"右上肢（   ）　左上肢（   ）　右下肢（   ）　左下肢（   ）"},null,null,null,null,null,null,null,"D",{"$f":"IF(【回復期】入力シート!$BG$3=FALSE,IF(【回復期】データ管理!K117=0,FALSE,IF(【回復期】データ管理!K117<【回復期】入力シート!$BE$1,TRUE,FALSE)))","v":false},"右上肢（   ）　左上肢（   ）　右下肢（   ）　左下肢（   ）",{"$f":"MID($D117,6,1)","v":" "},{"$f":"MID($D117,15,1)","v":" "},{"$f":"MID($D117,24,1)","v":" "},{"$f":"MID($D117,33,1)","v":" "}]
[null,"BrStage",null,{"$f":"【回復期】入力シート!X57","v":"右上肢( 　 )　－手指( 　 )　－下肢( 　 )　　左上肢( 　 )　－手指( 　 )　－下肢( 　 )"},null,null,null,null,null,null,null,"S",{"$f":"IF(【回復期】入力シート!$BG$7=FALSE,IF(【回復期】データ管理!K118=0,FALSE,IF(【回復期】データ管理!K118<【回復期】入力シート!$BE$1,TRUE,FALSE)))","v":false},"右上肢( 　 )　－手指( 　 )　－下肢( 　 )　　左上肢( 　 )　－手指( 　 )　－下肢( 　 )",{"$f":"MID($D118,6,1)","v":"　"},{"$f":"MID($D118,15,1)","v":"　"},{"$f":"MID($D118,24,1)","v":"　"},{"$f":"MID($D118,34,1)","v":"　"},{"$f":"MID($D118,43,1)","v":"　"},{"$f":"MID($D118,52,1)","v":"　"}]
["退院時","日付",null,{"$f":"IF(【回復期】入力シート!AN52=\"\",\"\",【回復期】入力シート!AN52)","v":""},null,null,null,null,null,null,null,"D",{"$f":"IF(【回復期】入力シート!$BG$3=FALSE,IF(【回復期】データ管理!K119=0,FALSE,IF(【回復期】データ管理!K119<【回復期】入力シート!$BE$1,TRUE,FALSE)))","v":false},null,{"$f":"IF(O118=\"Ⅵ\",6,IF(O118=\"Ⅴ\",5,IF(O118=\"Ⅳ\",4,IF(O118=\"Ⅲ\",3,IF(O118=\"Ⅱ\",2,IF(O118=\"Ⅰ\",1,IF(O118=\"　\",\"\",\"\")))))))","v":""},{"$f":"IF(P118=\"Ⅵ\",6,IF(P118=\"Ⅴ\",5,IF(P118=\"Ⅳ\",4,IF(P118=\"Ⅲ\",3,IF(P118=\"Ⅱ\",2,IF(P118=\"Ⅰ\",1,IF(P118=\"　\",\"\",\"\")))))))","v":""},{"$f":"IF(Q118=\"Ⅵ\",6,IF(Q118=\"Ⅴ\",5,IF(Q118=\"Ⅳ\",4,IF(Q118=\"Ⅲ\",3,IF(Q118=\"Ⅱ\",2,IF(Q118=\"Ⅰ\",1,IF(Q118=\"　\",\"\",\"\")))))))","v":""},{"$f":"IF(R118=\"Ⅵ\",6,IF(R118=\"Ⅴ\",5,IF(R118=\"Ⅳ\",4,IF(R118=\"Ⅲ\",3,IF(R118=\"Ⅱ\",2,IF(R118=\"Ⅰ\",1,IF(R118=\"　\",\"\",\"\")))))))","v":""},{"$f":"IF(S118=\"Ⅵ\",6,IF(S118=\"Ⅴ\",5,IF(S118=\"Ⅳ\",4,IF(S118=\"Ⅲ\",3,IF(S118=\"Ⅱ\",2,IF(S118=\"Ⅰ\",1,IF(S118=\"　\",\"\",\"\")))))))","v":""},{"$f":"IF(T118=\"Ⅵ\",6,IF(T118=\"Ⅴ\",5,IF(T118=\"Ⅳ\",4,IF(T118=\"Ⅲ\",3,IF(T118=\"Ⅱ\",2,IF(T118=\"Ⅰ\",1,IF(T118=\"　\",\"\",\"\")))))))","v":""}]
[null,"目標","日常生活拡大に向けたリハビリ",false,null,{"$f":"IF(D120=TRUE,C120,\"\")","v":""},null,{"$f":"IF(H121<>\"\", MID(H121,2,200),\"\")","v":""},null,null,null,"D",{"$f":"IF(【回復期】入力シート!$BG$3=FALSE,IF(【回復期】データ管理!K120=0,FALSE,IF(【回復期】データ管理!K120<【回復期】入力シート!$BE$1,TRUE,FALSE)))","v":false},false]
[null,null,"その他",false,null,{"$f":"IF(D121=TRUE,IF(D122<>\"\",C121&\"(\" & D122 & \")\",C121),\"\")","v":""},null,{"$f":"  IF(F120<>\"\",CHAR(10) & F120,\"\") & IF(F325<>\"\",CHAR(10) & F325,\"\") & IF(F121<>\"\",CHAR(10) & F121,\"\")","v":""},null,null,null,"D",{"$f":"IF(【回復期】入力シート!$BG$3=FALSE,IF(【回復期】データ管理!K121=0,FALSE,IF(【回復期】データ管理!K121<【回復期】入力シート!$BE$1,TRUE,FALSE)))","v":false},false]
[null,null,"その他テキスト",{"$f":"IF(【回復期】入力シート!AO55=\"\",\"\",【回復期】入力シート!AO55)","v":""},null,null,null,null,null,null,null,"D",{"$f":"IF(【回復期】入力シート!$BG$3=FALSE,IF(【回復期】データ管理!K122=0,FALSE,IF(【回復期】データ管理!K122<【回復期】入力シート!$BE$1,TRUE,FALSE)))","v":false}]
[null,"MMT",null,{"$f":"【回復期】入力シート!AK56","v":"右上肢（   ）　左上肢（   ）　右下肢（   ）　左下肢（   ）"},null,null,null,null,null,null,null,"D",{"$f":"IF(【回復期】入力シート!$BG$3=FALSE,IF(【回復期】データ管理!K123=0,FALSE,IF(【回復期】データ管理!K123<【回復期】入力シート!$BE$1,TRUE,FALSE)))","v":false},"右上肢（   ）　左上肢（   ）　右下肢（   ）　左下肢（   ）",{"$f":"MID($D123,6,1)","v":" "},{"$f":"MID($D123,15,1)","v":" "},{"$f":"MID($D123,24,1)","v":" "},{"$f":"MID($D123,33,1)","v":" "}]
[null,"BrStage",null,{"$f":"【回復期】入力シート!AN57","v":"右上肢( 　 )　－手指( 　 )　－下肢( 　 )　　左上肢( 　 )　－手指( 　 )　－下肢( 　 )"},null,null,null,null,null,null,null,"S",{"$f":"IF(【回復期】入力シート!$BG$7=FALSE,IF(【回復期】データ管理!K124=0,FALSE,IF(【回復期】データ管理!K124<【回復期】入力シート!$BE$1,TRUE,FALSE)))","v":false},"右上肢( 　 )　－手指( 　 )　－下肢( 　 )　　左上肢( 　 )　－手指( 　 )　－下肢( 　 )",{"$f":"MID($D124,6,1)","v":"　"},{"$f":"MID($D124,15,1)","v":"　"},{"$f":"MID($D124,24,1)","v":"　"},{"$f":"MID($D124,34,1)","v":"　"},{"$f":"MID($D124,43,1)","v":"　"},{"$f":"MID($D124,52,1)","v":"　"}]
["日常生活機能","床上安静の指示",null,0,null,{"$f":"IF(D125<>\"\",LOOKUP(D125,{0,1,2},{\"\",\"なし\",\"あり\"}),\"\")","v":""},{"$f":"IF(E125<>\"\",LOOKUP(E125,{0,1,2},{\"\",\"なし\",\"あり\"}),\"\")","v":""},null,null,null,null,"N",{"$f":"IF(【回復期】入力シート!$BG$5=FALSE,IF(【回復期】データ管理!K125=0,FALSE,IF(【回復期】データ管理!K125<【回復期】入力シート!$BE$1,TRUE,FALSE)))","v":false},0,{"$f":"IF(O124=\"Ⅵ\",6,IF(O124=\"Ⅴ\",5,IF(O124=\"Ⅳ\",4,IF(O124=\"Ⅲ\",3,IF(O124=\"Ⅱ\",2,IF(O124=\"Ⅰ\",1,IF(O124=\"　\",\"\",\"\")))))))","v":""},{"$f":"IF(P124=\"Ⅵ\",6,IF(P124=\"Ⅴ\",5,IF(P124=\"Ⅳ\",4,IF(P124=\"Ⅲ\",3,IF(P124=\"Ⅱ\",2,IF(P124=\"Ⅰ\",1,IF(P124=\"　\",\"\",\"\")))))))","v":""},{"$f":"IF(Q124=\"Ⅵ\",6,IF(Q124=\"Ⅴ\",5,IF(Q124=\"Ⅳ\",4,IF(Q124=\"Ⅲ\",3,IF(Q124=\"Ⅱ\",2,IF(Q124=\"Ⅰ\",1,IF(Q124=\"　\",\"\",\"\")))))))","v":""},{"$f":"IF(R124=\"Ⅵ\",6,IF(R124=\"Ⅴ\",5,IF(R124=\"Ⅳ\",4,IF(R124=\"Ⅲ\",3,IF(R124=\"Ⅱ\",2,IF(R124=\"Ⅰ\",1,IF(R124=\"　\",\"\",\"\")))))))","v":""},{"$f":"IF(S124=\"Ⅵ\",6,IF(S124=\"Ⅴ\",5,IF(S124=\"Ⅳ\",4,IF(S124=\"Ⅲ\",3,IF(S124=\"Ⅱ\",2,IF(S124=\"Ⅰ\",1,IF(S124=\"　\",\"\",\"\")))))))","v":""},{"$f":"IF(T124=\"Ⅵ\",6,IF(T124=\"Ⅴ\",5,IF(T124=\"Ⅳ\",4,IF(T124=\"Ⅲ\",3,IF(T124=\"Ⅱ\",2,IF(T124=\"Ⅰ\",1,IF(T124=\"　\",\"\",\"\")))))))","v":""}]
[null,"寝返り",null,0,null,{"$f":"IF(D126<>\"\",LOOKUP(D126,{0,1,2,3},{\"\",\"できる\",\"何かにつかまればできる\",\"できない\"}),\"\")","v":""},{"$f":"IF(E126<>\"\",LOOKUP(E126,{0,1,2,3},{\"\",\"できる\",\"何かにつかまればできる\",\"できない\"}),\"\")","v":""},null,null,null,null,"N",{"$f":"IF(【回復期】入力シート!$BG$5=FALSE,IF(【回復期】データ管理!K126=0,FALSE,IF(【回復期】データ管理!K126<【回復期】入力シート!$BE$1,TRUE,FALSE)))","v":false},0]
[null,"起き上がり",null,0,null,{"$f":"IF(D127<>\"\",LOOKUP(D127,{0,1,2},{\"\",\"できる\",\"できない\"}),\"\")","v":""},{"$f":"IF(E127<>\"\",LOOKUP(E127,{0,1,2},{\"\",\"できる\",\"できない\"}),\"\")","v":""},null,null,null,null,"N",{"$f":"IF(【回復期】入力シート!$BG$5=FALSE,IF(【回復期】データ管理!K127=0,FALSE,IF(【回復期】データ管理!K127<【回復期】入力シート!$BE$1,TRUE,FALSE)))","v":false},0]
[null,"座位保持",null,0,null,{"$f":"IF(D128<>\"\",LOOKUP(D128,{0,1,2,3},{\"\",\"できる\",\"支えがあればできる\",\"できない\"}),\"\")","v":""},{"$f":"IF(E128<>\"\",LOOKUP(E128,{0,1,2,3},{\"\",\"できる\",\"支えがあればできる\",\"できない\"}),\"\")","v":""},null,null,null,null,"N",{"$f":"IF(【回復期】入力シート!$BG$5=FALSE,IF(【回復期】データ管理!K128=0,FALSE,IF(【回復期】データ管理!K128<【回復期】入力シート!$BE$1,TRUE,FALSE)))","v":false},0]
[null,"移乗",null,0,null,{"$f":"IF(D129<>\"\",LOOKUP(D129,{0,1,2,3},{\"\",\"できる\",\"見守り・一部介助が必要\",\"できない\"}),\"\")","v":""},null,null,null,null,null,"N",{"$f":"IF(【回復期】入力シート!$BG$5=FALSE,IF(【回復期】データ管理!K129=0,FALSE,IF(【回復期】データ管理!K129<【回復期】入力シート!$BE$1,TRUE,FALSE)))","v":false},0]
[null,"移動方法",null,0,null,{"$f":"IF(D130<>\"\",LOOKUP(D130,{0,1,2},{\"\",\"介助を要しない移動\",\"介助を要する移動（搬送を含む）\"}),\"\")","v":""},null,null,null,null,null,"N",{"$f":"IF(【回復期】入力シート!$BG$5=FALSE,IF(【回復期】データ管理!K130=0,FALSE,IF(【回復期】データ管理!K130<【回復期】入力シート!$BE$1,TRUE,FALSE)))","v":false},0]
[null,"口腔清潔",null,0,null,{"$f":"IF(D131<>\"\",LOOKUP(D131,{0,1,2},{\"\",\"できる\",\"できない\"}),\"\")","v":""},{"$f":"IF(E131<>\"\",LOOKUP(E131,{0,1,2},{\"\",\"できる\",\"できない\"}),\"\")","v":""},null,null,null,null,"N",{"$f":"IF(【回復期】入力シート!$BG$5=FALSE,IF(【回復期】データ管理!K131=0,FALSE,IF(【回復期】データ管理!K131<【回復期】入力シート!$BE$1,TRUE,FALSE)))","v":false},0]
[null,"食事摂取",null,0,null,{"$f":"IF(D132<>\"\",LOOKUP(D132,{0,1,2,3},{\"\",\"介助なし\",\"一部介助\",\"全介助\"}),\"\")","v":""},null,null,null,null,null,"N",{"$f":"IF(【回復期】入力シート!$BG$5=FALSE,IF(【回復期】データ管理!K132=0,FALSE,IF(【回復期】データ管理!K132<【回復期】入力シート!$BE$1,TRUE,FALSE)))","v":false},0]
[null,"衣服の着脱",null,0,null,{"$f":"IF(D133<>\"\",LOOKUP(D133,{0,1,2,3},{\"\",\"介助なし\",\"一部介助\",\"全介助\"}),\"\")","v":""},{"$f":"IF(E133<>\"\",LOOKUP(E133,{0,1,2,3},{\"\",\"介助なし\",\"一部介助\",\"全介助\"}),\"\")","v":""},null,null,null,null,"N",{"$f":"IF(【回復期】入力シート!$BG$5=FALSE,IF(【回復期】データ管理!K133=0,FALSE,IF(【回復期】データ管理!K133<【回復期】入力シート!$BE$1,TRUE,FALSE)))","v":false},0]
[null,"他者への意思の伝達",null,0,null,{"$f":"IF(D134<>\"\",LOOKUP(D134,{0,1,2,3},{\"\",\"できる\",\"出来る時と出来ない時がある\",\"できない\"}),\"\")","v":""},{"$f":"IF(E134<>\"\",LOOKUP(E134,{0,1,2,3},{\"\",\"できる\",\"出来る時と出来ない時がある\",\"できない\"}),\"\")","v":""},null,null,null,null,"N",{"$f":"IF(【回復期】入力シート!$BG$5=FALSE,IF(【回復期】データ管理!K134=0,FALSE,IF(【回復期】データ管理!K134<【回復期】入力シート!$BE$1,TRUE,FALSE)))","v":false},0]
[null,"診療・療養上の指示が通じる",null,0,null,{"$f":"IF(D135<>\"\",LOOKUP(D135,{0,1,2},{\"\",\"はい\",\"いいえ\"}),\"\")","v":""},{"$f":"IF(E135<>\"\",LOOKUP(E135,{0,1,2},{\"\",\"はい\",\"いいえ\"}),\"\")","v":""},null,null,null,null,"N",{"$f":"IF(【回復期】入力シート!$BG$5=FALSE,IF(【回復期】データ管理!K135=0,FALSE,IF(【回復期】データ管理!K135<【回復期】入力シート!$BE$1,TRUE,FALSE)))","v":false},0]
[null,"危険行動",null,0,null,{"$f":"IF(D136<>\"\",LOOKUP(D136,{0,1,2},{\"\",\"ない\",\"ある\"}),\"\")","v":""},{"$f":"IF(E136<>\"\",LOOKUP(E136,{0,1,2},{\"\",\"ない\",\"ある\"}),\"\")","v":""},null,null,null,null,"N",{"$f":"IF(【回復期】入力シート!$BG$5=FALSE,IF(【回復期】データ管理!K136=0,FALSE,IF(【回復期】データ管理!K136<【回復期】入力シート!$BE$1,TRUE,FALSE)))","v":false},0]
[null,"身体拘束",null,0,null,{"$f":"IF(D137<>\"\",LOOKUP(D137,{0,1,2},{\"\",\"無\",\"有\"}),\"\")","v":""},{"$f":"IF(E137<>\"\",LOOKUP(E137,{0,1,2},{\"\",\"無\",\"有\"}),\"\")","v":""},null,null,null,null,"N",{"$f":"IF(【回復期】入力シート!$BG$5=FALSE,IF(【回復期】データ管理!K137=0,FALSE,IF(【回復期】データ管理!K137<【回復期】入力シート!$BE$1,TRUE,FALSE)))","v":false},0]
[null,null,"4点柵",false,null,{"$f":"IF(D138=TRUE,C138,\"\")","v":""},null,null,null,null,null,"N",{"$f":"IF(【回復期】入力シート!$BG$5=FALSE,IF(【回復期】データ管理!K138=0,FALSE,IF(【回復期】データ管理!K138<【回復期】入力シート!$BE$1,TRUE,FALSE)))","v":false},false]
[null,null,"センサー",false,null,{"$f":"IF(D139=TRUE,C139,\"\")","v":""},null,{"$f":"IF(H140<>\"\",  MID(H140,2,200),\"\")","v":""},null,null,null,"N",{"$f":"IF(【回復期】入力シート!$BG$5=FALSE,IF(【回復期】データ管理!K139=0,FALSE,IF(【回復期】データ管理!K139<【回復期】入力シート!$BE$1,TRUE,FALSE)))","v":false},false]
[null,null,"その他",false,null,{"$f":"IF(D140=TRUE,IF(D141=0,C140,  C140 & \"(\" & D141 & \")\"),\"\")","v":""},"計算用",{"$f":" IF(F138<>\"\",\"，\" & F138,\"\") & IF(F139<>\"\",\"，\" & F139,\"\") & IF(F140<>\"\",\"，\" & F140,\"\")","v":""},null,null,null,"N",{"$f":"IF(【回復期】入力シート!$BG$5=FALSE,IF(【回復期】データ管理!K140=0,FALSE,IF(【回復期】データ管理!K140<【回復期】入力シート!$BE$1,TRUE,FALSE)))","v":false},false]
[null,null,"その他テキスト",{"$f":"IF(【回復期】入力シート!AR70=\"\",\"\",【回復期】入力シート!AR70)","v":""},null,null,null,null,null,null,null,"N",{"$f":"IF(【回復期】入力シート!$BG$5=FALSE,IF(【回復期】データ管理!K141=0,FALSE,IF(【回復期】データ管理!K141<【回復期】入力シート!$BE$1,TRUE,FALSE)))","v":false}]
[null,"日常生活特記事項",null,0,null,null,null,null,null,null,null,"N",{"$f":"IF(【回復期】入力シート!$BG$5=FALSE,IF(【回復期】データ管理!K142=0,FALSE,IF(【回復期】データ管理!K142<【回復期】入力シート!$BE$1,TRUE,FALSE)))","v":false},0]
[null,null,"記載",{"$f":"IF(【回復期】入力シート!R71=\"\",\"\",【回復期】入力シート!R71)","v":""},null,null,null,null,null,null,null,"N",{"$f":"IF(【回復期】入力シート!$BG$5=FALSE,IF(【回復期】データ管理!K143=0,FALSE,IF(【回復期】データ管理!K143<【回復期】入力シート!$BE$1,TRUE,FALSE)))","v":false}]
[null,null,"記入者",{"$f":"IF(【回復期】入力シート!AU71=\"\",\"\",【回復期】入力シート!AU71)","v":""},null,null,null,null,null,null,null,"N",{"$f":"IF(【回復期】入力シート!$BG$5=FALSE,IF(【回復期】データ管理!K144=0,FALSE,IF(【回復期】データ管理!K144<【回復期】入力シート!$BE$1,TRUE,FALSE)))","v":false}]
["神経心理学的検査","HDS-R",null,false,null,null,null,null,null,null,null,"N",{"$f":"IF(【回復期】入力シート!$BG$5=FALSE,IF(【回復期】データ管理!K145=0,FALSE,IF(【回復期】データ管理!K145<【回復期】入力シート!$BE$1,TRUE,FALSE)))","v":false},false]
[null,null,"点数",{"$f":"IF(【回復期】入力シート!J72=\"\",\"\",【回復期】入力シート!J72)","v":""},null,null,null,null,null,null,null,"N",{"$f":"IF(【回復期】入力シート!$BG$5=FALSE,IF(【回復期】データ管理!K146=0,FALSE,IF(【回復期】データ管理!K146<【回復期】入力シート!$BE$1,TRUE,FALSE)))","v":false}]
[null,null,"実施日",{"$f":"IF(【回復期】入力シート!R72=\"\",\"\",【回復期】入力シート!R72)","v":""},null,null,null,null,null,null,null,"N",{"$f":"IF(【回復期】入力シート!$BG$5=FALSE,IF(【回復期】データ管理!K147=0,FALSE,IF(【回復期】データ管理!K147<【回復期】入力シート!$BE$1,TRUE,FALSE)))","v":false}]
[null,"MMSE",null,false,null,null,null,null,null,null,null,"N",{"$f":"IF(【回復期】入力シート!$BG$5=FALSE,IF(【回復期】データ管理!K148=0,FALSE,IF(【回復期】データ管理!K148<【回復期】入力シート!$BE$1,TRUE,FALSE)))","v":false},false]
[null,null,"点数",{"$f":"IF(【回復期】入力シート!J73=\"\",\"\",【回復期】入力シート!J73)","v":""},null,null,null,null,null,null,null,"N",{"$f":"IF(【回復期】入力シート!$BG$5=FALSE,IF(【回復期】データ管理!K149=0,FALSE,IF(【回復期】データ管理!K149<【回復期】入力シート!$BE$1,TRUE,FALSE)))","v":false}]
[null,null,"実施日",{"$f":"IF(【回復期】入力シート!R73=\"\",\"\",【回復期】入力シート!R73)","v":""},null,null,null,null,null,null,null,"N",{"$f":"IF(【回復期】入力シート!$BG$5=FALSE,IF(【回復期】データ管理!K150=0,FALSE,IF(【回復期】データ管理!K150<【回復期】入力シート!$BE$1,TRUE,FALSE)))","v":false}]
[null,"WAIS-Ⅲ",null,false,null,null,null,null,null,null,null,"N",{"$f":"IF(【回復期】入力シート!$BG$5=FALSE,IF(【回復期】データ管理!K151=0,FALSE,IF(【回復期】データ管理!K151<【回復期】入力シート!$BE$1,TRUE,FALSE)))","v":false},false]
[null,null,"FIQ",{"$f":"【回復期】入力シート!Q74","v":""}]
[null,null,"VIQ",{"$f":"【回復期】入力シート!U74","v":""}]
[null,null,"PIQ",{"$f":"【回復期】入力シート!Y74","v":""}]
[null,null,"実施日",{"$f":"【回復期】入力シート!AL74","v":""}]
[null,"WISC-Ⅲ",null,false,null,null,null,null,null,null,null,"N",{"$f":"IF(【回復期】入力シート!$BG$5=FALSE,IF(【回復期】データ管理!K156=0,FALSE,IF(【回復期】データ管理!K156<【回復期】入力シート!$BE$1,TRUE,FALSE)))","v":false},false]
[null,null,"FIQ",{"$f":"【回復期】入力シート!Q75","v":""}]
[null,null,"VIQ",{"$f":"【回復期】入力シート!U75","v":""}]
[null,null,"PIQ",{"$f":"【回復期】入力シート!Y75","v":""}]
[null,null,"実施日",{"$f":"【回復期】入力シート!AL75","v":""}]
[null,"WISC-Ⅳ",null,false,null,null,null,null,null,null,null,"N",{"$f":"IF(【回復期】入力シート!$BG$5=FALSE,IF(【回復期】データ管理!K161=0,FALSE,IF(【回復期】データ管理!K161<【回復期】入力シート!$BE$1,TRUE,FALSE)))","v":false},false]
[null,null,"FSIQ",{"$f":"【回復期】入力シート!Q76","v":""}]
[null,null,"VCI",{"$f":"【回復期】入力シート!U76","v":""}]
[null,null,"PRI",{"$f":"【回復期】入力シート!Y76","v":""}]
[null,null,"WMI",{"$f":"【回復期】入力シート!AC76","v":""}]
[null,null,"PSI",{"$f":"【回復期】入力シート!AG76","v":""}]
[null,null,"実施日",{"$f":"【回復期】入力シート!AL76","v":""}]
[null,"レーヴン色彩マトリックス検査",null,false,null,null,null,null,null,null,null,"N",{"$f":"IF(【回復期】入力シート!$BG$5=FALSE,IF(【回復期】データ管理!K168=0,FALSE,IF(【回復期】データ管理!K168<【回復期】入力シート!$BE$1,TRUE,FALSE)))","v":false},false]
[null,"COGNISTAT",null,false,null,null,null,null,null,null,null,"N",{"$f":"IF(【回復期】入力シート!$BG$5=FALSE,IF(【回復期】データ管理!K169=0,FALSE,IF(【回復期】データ管理!K169<【回復期】入力シート!$BE$1,TRUE,FALSE)))","v":false},false]
[null,"大脇式精薄児用知能検査",null,false,null,null,null,null,null,null,null,"N",{"$f":"IF(【回復期】入力シート!$BG$5=FALSE,IF(【回復期】データ管理!K170=0,FALSE,IF(【回復期】データ管理!K170<【回復期】入力シート!$BE$1,TRUE,FALSE)))","v":false},false]
[null,"田中・ビネー式知能検査",null,false,null,null,null,null,null,null,null,"N",{"$f":"IF(【回復期】入力シート!$BG$5=FALSE,IF(【回復期】データ管理!K171=0,FALSE,IF(【回復期】データ管理!K171<【回復期】入力シート!$BE$1,TRUE,FALSE)))","v":false},false]
[null,"標準失語症検査",null,false,null,null,null,null,null,null,null,"N",{"$f":"IF(【回復期】入力シート!$BG$5=FALSE,IF(【回復期】データ管理!K172=0,FALSE,IF(【回復期】データ管理!K172<【回復期】入力シート!$BE$1,TRUE,FALSE)))","v":false},false]
[null,"SALA失語症検査",null,false,null,null,null,null,null,null,null,"N",{"$f":"IF(【回復期】入力シート!$BG$5=FALSE,IF(【回復期】データ管理!K173=0,FALSE,IF(【回復期】データ管理!K173<【回復期】入力シート!$BE$1,TRUE,FALSE)))","v":false},false]
[null,"WAB失語症検査",null,false,null,null,null,null,null,null,null,"N",{"$f":"IF(【回復期】入力シート!$BG$5=FALSE,IF(【回復期】データ管理!K174=0,FALSE,IF(【回復期】データ管理!K174<【回復期】入力シート!$BE$1,TRUE,FALSE)))","v":false},false]
[null,"WMS-R",null,false,null,null,null,null,null,null,null,"N",{"$f":"IF(【回復期】入力シート!$BG$5=FALSE,IF(【回復期】データ管理!K175=0,FALSE,IF(【回復期】データ管理!K175<【回復期】入力シート!$BE$1,TRUE,FALSE)))","v":false},false]
[null,null,"言語性"]
[null,null,"視覚性"]
[null,null,"注意集中"]
[null,null,"遅延再生"]
[null,null,"実施日",{"$f":"【回復期】入力シート!AS79","v":""}]
[null,"リバーミード行動記憶検査",null,false,null,null,null,null,null,null,null,"N",{"$f":"IF(【回復期】入力シート!$BG$5=FALSE,IF(【回復期】データ管理!K181=0,FALSE,IF(【回復期】データ管理!K181<【回復期】入力シート!$BE$1,TRUE,FALSE)))","v":false},false]
[null,"三宅式記銘検査",null,false,null,null,null,null,null,null,null,"N",{"$f":"IF(【回復期】入力シート!$BG$5=FALSE,IF(【回復期】データ管理!K182=0,FALSE,IF(【回復期】データ管理!K182<【回復期】入力シート!$BE$1,TRUE,FALSE)))","v":false},false]
[null,"ベントン視覚記銘検査",null,false,null,null,null,null,null,null,null,"N",{"$f":"IF(【回復期】入力シート!$BG$5=FALSE,IF(【回復期】データ管理!K183=0,FALSE,IF(【回復期】データ管理!K183<【回復期】入力シート!$BE$1,TRUE,FALSE)))","v":false},false]
[null,"コース立方体組み合わせテスト",null,false,null,null,null,null,null,null,null,"N",{"$f":"IF(【回復期】入力シート!$BG$5=FALSE,IF(【回復期】データ管理!K184=0,FALSE,IF(【回復期】データ管理!K184<【回復期】入力シート!$BE$1,TRUE,FALSE)))","v":false},false]
[null,"TMT",null,false,null,null,null,null,null,null,null,"N",{"$f":"IF(【回復期】入力シート!$BG$5=FALSE,IF(【回復期】データ管理!K185=0,FALSE,IF(【回復期】データ管理!K185<【回復期】入力シート!$BE$1,TRUE,FALSE)))","v":false},false]
[null,"CAT",null,false,null,null,null,null,null,null,null,"N",{"$f":"IF(【回復期】入力シート!$BG$5=FALSE,IF(【回復期】データ管理!K186=0,FALSE,IF(【回復期】データ管理!K186<【回復期】入力シート!$BE$1,TRUE,FALSE)))","v":false},false]
[null,"D-CAT",null,false,null,null,null,null,null,null,null,"N",{"$f":"IF(【回復期】入力シート!$BG$5=FALSE,IF(【回復期】データ管理!K187=0,FALSE,IF(【回復期】データ管理!K187<【回復期】入力シート!$BE$1,TRUE,FALSE)))","v":false},false]
[null,"PASAT",null,false,null,null,null,null,null,null,null,"N",{"$f":"IF(【回復期】入力シート!$BG$5=FALSE,IF(【回復期】データ管理!K188=0,FALSE,IF(【回復期】データ管理!K188<【回復期】入力シート!$BE$1,TRUE,FALSE)))","v":false},false]
[null,"BAD",null,false,null,null,null,null,null,null,null,"N",{"$f":"IF(【回復期】入力シート!$BG$5=FALSE,IF(【回復期】データ管理!K189=0,FALSE,IF(【回復期】データ管理!K189<【回復期】入力シート!$BE$1,TRUE,FALSE)))","v":false},false]
[null,"ウィスコンシンカード分類課題",null,false,null,null,null,null,null,null,null,"N",{"$f":"IF(【回復期】入力シート!$BG$5=FALSE,IF(【回復期】データ管理!K190=0,FALSE,IF(【回復期】データ管理!K190<【回復期】入力シート!$BE$1,TRUE,FALSE)))","v":false},false]
[null,"前頭葉機能検査（FAB)",null,false,null,null,null,null,null,null,null,"N",{"$f":"IF(【回復期】入力シート!$BG$5=FALSE,IF(【回復期】データ管理!K191=0,FALSE,IF(【回復期】データ管理!K191<【回復期】入力シート!$BE$1,TRUE,FALSE)))","v":false},false]
[null,"BIT(行動性無視検査)",null,false,null,null,null,null,null,null,null,"N",{"$f":"IF(【回復期】入力シート!$BG$5=FALSE,IF(【回復期】データ管理!K192=0,FALSE,IF(【回復期】データ管理!K192<【回復期】入力シート!$BE$1,TRUE,FALSE)))","v":false},false]
[null,"VPTA(標準高次視知覚検査)",null,false,null,null,null,null,null,null,null,"N",{"$f":"IF(【回復期】入力シート!$BG$5=FALSE,IF(【回復期】データ管理!K193=0,FALSE,IF(【回復期】データ管理!K193<【回復期】入力シート!$BE$1,TRUE,FALSE)))","v":false},false]
[null,"SPTA(標準高次動作性検査)",null,false,null,null,null,null,null,null,null,"N",{"$f":"IF(【回復期】入力シート!$BG$5=FALSE,IF(【回復期】データ管理!K194=0,FALSE,IF(【回復期】データ管理!K194<【回復期】入力シート!$BE$1,TRUE,FALSE)))","v":false},false]
[null,"その他",null,false,null,null,null,null,null,null,null,"N",{"$f":"IF(【回復期】入力シート!$BG$5=FALSE,IF(【回復期】データ管理!K195=0,FALSE,IF(【回復期】データ管理!K195<【回復期】入力シート!$BE$1,TRUE,FALSE)))","v":false},false]
[null,null,"その他テキスト",{"$f":"IF(【回復期】入力シート!M85=\"\",\"\",【回復期】入力シート!M85)","v":""},null,{"$f":"IF(D196=\"\",\"\",\"（\"&D196 &\"）\")","v":""},null,null,null,null,null,"N",{"$f":"IF(【回復期】入力シート!$BG$5=FALSE,IF(【回復期】データ管理!K196=0,FALSE,IF(【回復期】データ管理!K196<【回復期】入力シート!$BE$1,TRUE,FALSE)))","v":false}]
[null,"結果・所見",null,{"$f":"IF(【回復期】入力シート!I86=\"\",\"\",【回復期】入力シート!I86)","v":""},null,null,null,null,null,null,null,"N",{"$f":"IF(【回復期】入力シート!$BG$5=FALSE,IF(【回復期】データ管理!K197=0,FALSE,IF(【回復期】データ管理!K197<【回復期】入力シート!$BE$1,TRUE,FALSE)))","v":false}]
[null,"特記事項",null,{"$f":"IF(【回復期】入力シート!I89=\"\",\"\",【回復期】入力シート!I89)","v":""},null,null,null,null,null,null,null,"N",{"$f":"IF(【回復期】入力シート!$BG$5=FALSE,IF(【回復期】データ管理!K198=0,FALSE,IF(【回復期】データ管理!K198<【回復期】入力シート!$BE$1,TRUE,FALSE)))","v":false}]
["栄養・呼吸","食事形態","普通食",false,null,{"$f":"IF(D199=TRUE,C199,\"\")","v":""},null,null,null,null,null,"N",{"$f":"IF(【回復期】入力シート!$BG$5=FALSE,IF(【回復期】データ管理!K199=0,FALSE,IF(【回復期】データ管理!K199<【回復期】入力シート!$BE$1,TRUE,FALSE)))","v":false},false]
[null,null,"きざみ食",false,null,{"$f":"IF(D200=TRUE,C200,\"\")","v":""},null,null,null,null,null,null,null,false]
[null,null,"とろみ食",false,null,{"$f":"IF(D201=TRUE,C201,\"\")","v":""},null,null,null,null,null,null,null,false]
[null,null,"治療食",false,null,{"$f":"IF(D202=TRUE,IF(D204<>\"\",C202&\"(\" & D204 & \")\",C202),\"\")","v":""},null,{"$f":"IF(H203<>\"\", MID(H203,2,200),\"\")","v":""},null,null,null,null,null,false]
[null,null,"その他",false,null,{"$f":"IF(D203=TRUE,IF(D205<>\"\",C203&\"(\" & D205 & \")\",C203),\"\")","v":""},null,{"$f":" IF(F199<>\"\",\"，\" & F199,\"\") & IF(F200<>\"\",\"，\" & F200,\"\") & IF(F201<>\"\",\"，\" & F201,\"\") & IF(F202<>\"\",\"，\" & F202,\"\") & IF(F203<>\"\",\"，\" & F203,\"\")","v":""},null,null,null,null,null,false]
[null,null,"治療食テキスト",{"$f":"IF(【回復期】入力シート!Y91=\"\",\"\",【回復期】入力シート!Y91)","v":""},null,null,null,null,null,null,null,"N",{"$f":"IF(【回復期】入力シート!$BG$5=FALSE,IF(【回復期】データ管理!K204=0,FALSE,IF(【回復期】データ管理!K204<【回復期】入力シート!$BE$1,TRUE,FALSE)))","v":false}]
[null,null,"その他テキスト",{"$f":"IF(【回復期】入力シート!AL91=\"\",\"\",【回復期】入力シート!AL91)","v":""},null,null,null,null,null,null,null,"N",{"$f":"IF(【回復期】入力シート!$BG$5=FALSE,IF(【回復期】データ管理!K205=0,FALSE,IF(【回復期】データ管理!K205<【回復期】入力シート!$BE$1,TRUE,FALSE)))","v":false}]
[null,"方法","経口",false,null,{"$f":"IF(D206=TRUE,C206,\"\")","v":""},null,{"$f":"IF(H207<>\"\", MID(H207,2,200),\"\")","v":""},null,null,null,"N",{"$f":"IF(【回復期】入力シート!$BG$5=FALSE,IF(【回復期】データ管理!K206=0,FALSE,IF(【回復期】データ管理!K206<【回復期】入力シート!$BE$1,TRUE,FALSE)))","v":false},false]
[null,null,"経管",false,null,{"$f":"IF(D207=TRUE,C207,\"\")","v":""},null,{"$f":"IF(F206<>\"\",\"，\"&F206,\"\")&IF(F207<>\"\",\"，\"&F207,\"\")&IF(H209<>\"\",\"（\"&H209&\"）\",\"\")","v":""},null,null,null,null,null,false]
[null,null,"胃管",false,null,{"$f":"IF(D208=TRUE,C208,\"\")","v":""},null,null,null,null,null,"N",{"$f":"IF(【回復期】入力シート!$BG$5=FALSE,IF(【回復期】データ管理!K208=0,FALSE,IF(【回復期】データ管理!K208<【回復期】入力シート!$BE$1,TRUE,FALSE)))","v":false},false]
[null,null,"胃瘻",false,null,{"$f":"IF(D209=TRUE,C209,\"\")","v":""},null,{"$f":"IF(H210<>\"\", MID(H210,2,200),\"\")","v":""},null,null,null,null,null,false]
[null,null,"その他",false,null,{"$f":"IF(D210=TRUE,IF(D211<>\"\",C210&\"：\" & D211 & \"\",C210),\"\")","v":""},null,{"$f":" IF(F208<>\"\",\"，\" & F208,\"\") & IF(F209<>\"\",\"，\" & F209,\"\") & IF(F210<>\"\",\"，\" & F210,\"\")","v":""},null,null,null,null,null,false]
[null,null,"その他テキスト",{"$f":"IF(【回復期】入力シート!AB92=\"\",\"\",【回復期】入力シート!AB92)","v":""},null,null,null,null,null,null,null,"N",{"$f":"IF(【回復期】入力シート!$BG$5=FALSE,IF(【回復期】データ管理!K211=0,FALSE,IF(【回復期】データ管理!K211<【回復期】入力シート!$BE$1,TRUE,FALSE)))","v":false}]
[null,"カテーテル","Fr",{"$f":"IF(【回復期】入力シート!R93=\"\",\"\",【回復期】入力シート!R93)","v":""},null,null,null,null,null,null,null,"N",{"$f":"IF(【回復期】入力シート!$BG$5=FALSE,IF(【回復期】データ管理!K212=0,FALSE,IF(【回復期】データ管理!K212<【回復期】入力シート!$BE$1,TRUE,FALSE)))","v":false}]
[null,null,"cm",{"$f":"IF(【回復期】入力シート!U93=\"\",\"\",【回復期】入力シート!U93)","v":""},null,null,null,null,null,null,null,"N",{"$f":"IF(【回復期】入力シート!$BG$5=FALSE,IF(【回復期】データ管理!K213=0,FALSE,IF(【回復期】データ管理!K213<【回復期】入力シート!$BE$1,TRUE,FALSE)))","v":false}]
[null,null,"最終交換日",{"$f":"IF(【回復期】入力シート!AE93=\"\",\"\",【回復期】入力シート!AE93)","v":""},null,null,null,null,null,null,null,"N",{"$f":"IF(【回復期】入力シート!$BG$5=FALSE,IF(【回復期】データ管理!K214=0,FALSE,IF(【回復期】データ管理!K214<【回復期】入力シート!$BE$1,TRUE,FALSE)))","v":false}]
[null,"気管切開",null,0,"1無　2:有",{"$f":"IF(D215<>\"\",LOOKUP(D215,{0,1,2},{\"\",\"無\",\"有\"}),\"\")","v":""},null,null,null,null,null,"N",{"$f":"IF(【回復期】入力シート!$BG$5=FALSE,IF(【回復期】データ管理!K215=0,FALSE,IF(【回復期】データ管理!K215<【回復期】入力シート!$BE$1,TRUE,FALSE)))","v":false},0]
[null,null,"最終交換日",{"$f":"IF(【回復期】入力シート!T94=\"\",\"\",【回復期】入力シート!T94)","v":""},null,null,null,null,null,null,null,"N",{"$f":"IF(【回復期】入力シート!$BG$5=FALSE,IF(【回復期】データ管理!K216=0,FALSE,IF(【回復期】データ管理!K216<【回復期】入力シート!$BE$1,TRUE,FALSE)))","v":false}]
["排泄","介助",null,0,"1:自立 2:一部介助 3:全介助",{"$f":"IF(D217<>\"\",LOOKUP(D217,{0,1,2,3},{\"\",\"自立\",\"一部介助\",\"全介助\"}),\"\")","v":""},null,null,null,null,null,"N",{"$f":"IF(【回復期】入力シート!$BG$5=FALSE,IF(【回復期】データ管理!K217=0,FALSE,IF(【回復期】データ管理!K217<【回復期】入力シート!$BE$1,TRUE,FALSE)))","v":false},0]
[null,"方法","トイレ",false,null,{"$f":"IF(D218=TRUE,C218,\"\")","v":""},null,null,null,null,null,"N",{"$f":"IF(【回復期】入力シート!$BG$5=FALSE,IF(【回復期】データ管理!K218=0,FALSE,IF(【回復期】データ管理!K218<【回復期】入力シート!$BE$1,TRUE,FALSE)))","v":false},false]
[null,null,"ポータブルトイレ",false,null,{"$f":"IF(D219=TRUE,C219,\"\")","v":""},null,null,null,null,null,null,null,false]
[null,null,"尿器",false,null,{"$f":"IF(D220=TRUE,C220,\"\")","v":""},null,null,null,null,null,null,null,false]
[null,null,"オムツ",false,null,{"$f":"IF(D221=TRUE,C221,\"\")","v":""},null,{"$f":"IF(H222<>\"\", MID(H222,2,200),\"\")","v":""},null,null,null,null,null,false]
[null,null,"バルン",false,null,{"$f":"IF(D222=TRUE,C222 & F223 & F224,\"\")","v":""},null,{"$f":" IF(F218<>\"\",\"，\" & F218,\"\") & IF(F219<>\"\",\"，\" & F219,\"\") & IF(F220<>\"\",\"，\" & F220,\"\") & IF(F221<>\"\",\"，\" & F221,\"\") & IF(F222<>\"\",\"，\" & F222,\"\")","v":""},null,null,null,null,null,false]
[null,null,"バルン　Fr",{"$f":"IF(【回復期】入力シート!Y96=\"\",\"\",【回復期】入力シート!Y96)","v":""},null,{"$f":"IF(D223=\"\",\"\",\"　\" &  D223 & \" Fr\")","v":""},null,null,null,null,null,"N",{"$f":"IF(【回復期】入力シート!$BG$5=FALSE,IF(【回復期】データ管理!K223=0,FALSE,IF(【回復期】データ管理!K223<【回復期】入力シート!$BE$1,TRUE,FALSE)))","v":false}]
[null,null,"バルン　最終交換日",{"$f":"IF(【回復期】入力シート!AG96=\"\",\"\",【回復期】入力シート!AG96)","v":""},null,{"$f":"IF(D224=\"\",\"\",\"　最終交換日：\"&TEXT(D224,\"ggge年m月d日\"))","v":""},null,null,null,null,null,"N",{"$f":"IF(【回復期】入力シート!$BG$5=FALSE,IF(【回復期】データ管理!K224=0,FALSE,IF(【回復期】データ管理!K224<【回復期】入力シート!$BE$1,TRUE,FALSE)))","v":false}]
["禁忌事項","なし",null,false,null,{"$f":"IF(D225=TRUE,B225,\"\")","v":""},null,null,null,null,null,"N",{"$f":"IF(【回復期】入力シート!$BG$5=FALSE,IF(【回復期】データ管理!K225=0,FALSE,IF(【回復期】データ管理!K225<【回復期】入力シート!$BE$1,TRUE,FALSE)))","v":false},false]
[null,"アレルギー",null,false,null,{"$f":"IF(D226=TRUE,IF(D228<>\"\",B226&\"(\" & D228 & \")\",B226),\"\")","v":""},null,null,null,null,null,null,null,false]
[null,"その他",null,false,null,{"$f":"IF(D227=TRUE,IF(D229<>\"\",B227&\"(\" & D229 & \")\",B227),\"\")","v":""},null,{"$f":"  IF(F225<>\"\",\"，\" & F225,\"\") & IF(F226<>\"\",\"，\" & F226,\"\") & IF(F228<>\"\",\"，\" & F228,\"\") & IF(F227<>\"\",\"，\" & F227,\"\")","v":""},null,null,null,null,null,false]
[null,"アレルギー","テキスト",{"$f":"IF(【回復期】入力シート!M97=\"\",\"\",【回復期】入力シート!M97)","v":""},null,null,null,{"$f":"IF(H227<>\"\", MID(H227,2,200),\"\")","v":""},null,null,null,"N",{"$f":"IF(【回復期】入力シート!$BG$5=FALSE,IF(【回復期】データ管理!K228=0,FALSE,IF(【回復期】データ管理!K228<【回復期】入力シート!$BE$1,TRUE,FALSE)))","v":false}]
[null,"その他","テキスト",{"$f":"IF(【回復期】入力シート!AA97=\"\",\"\",【回復期】入力シート!AA97)","v":""},null,null,null,null,null,null,null,"N",{"$f":"IF(【回復期】入力シート!$BG$5=FALSE,IF(【回復期】データ管理!K229=0,FALSE,IF(【回復期】データ管理!K229<【回復期】入力シート!$BE$1,TRUE,FALSE)))","v":false}]
["リハビリ","理学療法","チェック",false,null,{"$f":"IF(D230=TRUE,B230,\"\")","v":""},null,null,null,null,null,"S",{"$f":"IF(【回復期】入力シート!$BG$7=FALSE,IF(【回復期】データ管理!K230=0,FALSE,IF(【回復期】データ管理!K230<【回復期】入力シート!$BE$1,TRUE,FALSE)))","v":false},false]
[null,null,"担当者",{"$f":"IF(【回復期】入力シート!M98=\"\",\"\",【回復期】入力シート!M98)","v":""},null,null,null,null,null,null,null,"S",{"$f":"IF(【回復期】入力シート!$BG$7=FALSE,IF(【回復期】データ管理!K231=0,FALSE,IF(【回復期】データ管理!K231<【回復期】入力シート!$BE$1,TRUE,FALSE)))","v":false}]
[null,"作業療法","チェック",false,null,{"$f":"IF(D232=TRUE,B232,\"\")","v":""},null,null,null,null,null,"S",{"$f":"IF(【回復期】入力シート!$BG$7=FALSE,IF(【回復期】データ管理!K232=0,FALSE,IF(【回復期】データ管理!K232<【回復期】入力シート!$BE$1,TRUE,FALSE)))","v":false},false]
[null,null,"担当者",{"$f":"IF(【回復期】入力シート!AC98=\"\",\"\",【回復期】入力シート!AC98)","v":""},null,null,null,{"$f":"IF(H234<>\"\", MID(H234,2,200),\"\")","v":""},null,null,null,"S",{"$f":"IF(【回復期】入力シート!$BG$7=FALSE,IF(【回復期】データ管理!K233=0,FALSE,IF(【回復期】データ管理!K233<【回復期】入力シート!$BE$1,TRUE,FALSE)))","v":false}]
[null,"言語療法","チェック",false,null,{"$f":"IF(D234=TRUE,B234,\"\")","v":""},null,{"$f":" IF(F230<>\"\",\"，\" & F230,\"\") & IF(F232<>\"\",\"，\" & F232,\"\") & IF(F234<>\"\",\"，\" & F234,\"\")","v":""},null,null,null,"S",{"$f":"IF(【回復期】入力シート!$BG$7=FALSE,IF(【回復期】データ管理!K234=0,FALSE,IF(【回復期】データ管理!K234<【回復期】入力シート!$BE$1,TRUE,FALSE)))","v":false},false]
[null,null,"担当者",{"$f":"IF(【回復期】入力シート!AS98=\"\",\"\",【回復期】入力シート!AS98)","v":""},null,null,null,null,null,null,null,"S",{"$f":"IF(【回復期】入力シート!$BG$7=FALSE,IF(【回復期】データ管理!K235=0,FALSE,IF(【回復期】データ管理!K235<【回復期】入力シート!$BE$1,TRUE,FALSE)))","v":false}]
[null,"言語","チェック",false,null,null,null,null,null,null,null,"S",{"$f":"IF(【回復期】入力シート!$BG$7=FALSE,IF(【回復期】データ管理!K236=0,FALSE,IF(【回復期】データ管理!K236<【回復期】入力シート!$BE$1,TRUE,FALSE)))","v":false},false]
[null,null,"内容",{"$f":"IF(【回復期】入力シート!I99=\"\",\"\",【回復期】入力シート!I99)","v":""},null,null,null,null,null,null,null,"S",{"$f":"IF(【回復期】入力シート!$BG$7=FALSE,IF(【回復期】データ管理!K237=0,FALSE,IF(【回復期】データ管理!K237<【回復期】入力シート!$BE$1,TRUE,FALSE)))","v":false}]
[null,"身体","チェック",false,null,null,null,null,null,null,null,"S",{"$f":"IF(【回復期】入力シート!$BG$7=FALSE,IF(【回復期】データ管理!K238=0,FALSE,IF(【回復期】データ管理!K238<【回復期】入力シート!$BE$1,TRUE,FALSE)))","v":false},false]
[null,null,"内容",{"$f":"IF(【回復期】入力シート!I100=\"\",\"\",【回復期】入力シート!I100)","v":""},null,null,null,null,null,null,null,"S",{"$f":"IF(【回復期】入力シート!$BG$7=FALSE,IF(【回復期】データ管理!K239=0,FALSE,IF(【回復期】データ管理!K239<【回復期】入力シート!$BE$1,TRUE,FALSE)))","v":false}]
[null,"認知","チェック",false,null,null,null,null,null,null,null,"S",{"$f":"IF(【回復期】入力シート!$BG$7=FALSE,IF(【回復期】データ管理!K240=0,FALSE,IF(【回復期】データ管理!K240<【回復期】入力シート!$BE$1,TRUE,FALSE)))","v":false},false]
[null,null,"内容",{"$f":"IF(【回復期】入力シート!I101=\"\",\"\",【回復期】入力シート!I101)","v":""},null,null,null,null,null,null,null,"S",{"$f":"IF(【回復期】入力シート!$BG$7=FALSE,IF(【回復期】データ管理!K241=0,FALSE,IF(【回復期】データ管理!K241<【回復期】入力シート!$BE$1,TRUE,FALSE)))","v":false}]
[null,"留意事項","チェック",false,null,null,null,null,null,null,null,"S",{"$f":"IF(【回復期】入力シート!$BG$7=FALSE,IF(【回復期】データ管理!K242=0,FALSE,IF(【回復期】データ管理!K242<【回復期】入力シート!$BE$1,TRUE,FALSE)))","v":false},false]
[null,null,"内容",{"$f":"IF(【回復期】入力シート!I102=\"\",\"\",【回復期】入力シート!I102)","v":""},null,null,null,null,null,null,null,"S",{"$f":"IF(【回復期】入力シート!$BG$7=FALSE,IF(【回復期】データ管理!K243=0,FALSE,IF(【回復期】データ管理!K243<【回復期】入力シート!$BE$1,TRUE,FALSE)))","v":false}]
["自宅訪問","有無",null,0,"1無　2:有",{"$f":"IF(D244<>\"\",LOOKUP(D244,{0,1,2},{\"\",\"無\",\"有\"}),\"\")","v":""},null,null,null,null,null,"S",{"$f":"IF(【回復期】入力シート!$BG$7=FALSE,IF(【回復期】データ管理!K244=0,FALSE,IF(【回復期】データ管理!K244<【回復期】入力シート!$BE$1,TRUE,FALSE)))","v":false},0]
[null,"訪問日",null,{"$f":"IF(【回復期】入力シート!T103=\"\",\"\",【回復期】入力シート!T103)","v":""},null,{"$f":"IF(D245=\"\",\"\",\"（訪問日：\"&TEXT(D245,\"ggge年m月d日）\"))","v":""},null,null,null,null,null,"S",{"$f":"IF(【回復期】入力シート!$BG$7=FALSE,IF(【回復期】データ管理!K245=0,FALSE,IF(【回復期】データ管理!K245<【回復期】入力シート!$BE$1,TRUE,FALSE)))","v":false}]
["自宅改修必要性","有無",null,0,"1無　2:有",{"$f":"IF(D246<>\"\",LOOKUP(D246,{0,1,2},{\"\",\"無\",\"有\"}),\"\")","v":""},null,null,null,null,null,"S",{"$f":"IF(【回復期】入力シート!$BG$7=FALSE,IF(【回復期】データ管理!K246=0,FALSE,IF(【回復期】データ管理!K246<【回復期】入力シート!$BE$1,TRUE,FALSE)))","v":false},0]
[null,"有の区分",null,0,"1:改修済 2:準備中 3:その他",{"$f":"IF(D247<>\"\",LOOKUP(D247,{0,1,2,3},{\"\",\"改修済\",\"準備中\",\"その他\"}),\"\")  & F248","v":""},null,{"$f":"IF(F247=\"\",\"\", \"（\"& F247 & \"）\")","v":""},null,null,null,"S",{"$f":"IF(【回復期】入力シート!$BG$7=FALSE,IF(【回復期】データ管理!K247=0,FALSE,IF(【回復期】データ管理!K247<【回復期】入力シート!$BE$1,TRUE,FALSE)))","v":false},0]
[null,"その他テキスト",null,{"$f":"IF(【回復期】入力シート!AC104=\"\",\"\",【回復期】入力シート!AC104)","v":""},null,{"$f":"IF(D247=3,\"：\" & D248,\"\")","v":""},null,null,null,null,null,"S",{"$f":"IF(【回復期】入力シート!$BG$7=FALSE,IF(【回復期】データ管理!K248=0,FALSE,IF(【回復期】データ管理!K248<【回復期】入力シート!$BE$1,TRUE,FALSE)))","v":false}]
[null,"手すりの配置",null,false,null,{"$f":"IF(D249=TRUE,B249,\"\")","v":""},null,null,null,null,null,"S",{"$f":"IF(【回復期】入力シート!$BG$7=FALSE,IF(【回復期】データ管理!K249=0,FALSE,IF(【回復期】データ管理!K249<【回復期】入力シート!$BE$1,TRUE,FALSE)))","v":false},false]
[null,"トイレ改修",null,false,null,{"$f":"IF(D250=TRUE,B250,\"\")","v":""},null,null,null,null,null,null,null,false]
[null,"浴室の改修",null,false,null,{"$f":"IF(D251=TRUE,B251,\"\")","v":""},null,{"$f":"IF(H252<>\"\", \"（\" & MID(H252,2,200) & \"）\",\"\")","v":""},null,null,null,null,null,false]
[null,"その他",null,false,null,{"$f":"IF(D252=TRUE,IF(D253<>\"\",B252&\"：\" & D253 & \"\",B252),\"\")","v":""},null,{"$f":"   IF(F249<>\"\",\"，\" & F249,\"\") & IF(F250<>\"\",\"，\" & F250,\"\") & IF(F251<>\"\",\"，\" & F251,\"\") & IF(F252<>\"\",\"，\" & F252,\"\")","v":""},null,null,null,null,null,false]
[null,null,"テキスト",{"$f":"IF(【回復期】入力シート!AJ105=\"\",\"\",【回復期】入力シート!AJ105)","v":""},null,null,null,null,null,null,null,"S",{"$f":"IF(【回復期】入力シート!$BG$7=FALSE,IF(【回復期】データ管理!K253=0,FALSE,IF(【回復期】データ管理!K253<【回復期】入力シート!$BE$1,TRUE,FALSE)))","v":false}]
["福祉用具の必要性","有無",null,0,"1無　2:有",{"$f":"IF(D254<>\"\",LOOKUP(D254,{0,1,2},{\"\",\"無\",\"有\"}),\"\")","v":""},null,null,null,null,null,"S",{"$f":"IF(【回復期】入力シート!$BG$7=FALSE,IF(【回復期】データ管理!K254=0,FALSE,IF(【回復期】データ管理!K254<【回復期】入力シート!$BE$1,TRUE,FALSE)))","v":false},0]
[null,"ベッドの利用",null,false,null,{"$f":"IF(D255=TRUE,B255,\"\")","v":""},null,null,null,null,null,"S",{"$f":"IF(【回復期】入力シート!$BG$7=FALSE,IF(【回復期】データ管理!K255=0,FALSE,IF(【回復期】データ管理!K255<【回復期】入力シート!$BE$1,TRUE,FALSE)))","v":false},false]
[null,"入浴補助具の利用",null,false,null,{"$f":"IF(D256=TRUE,B256,\"\")","v":""},null,null,null,null,null,null,null,false]
[null,"ポータブルトイレの利用",null,false,null,{"$f":"IF(D257=TRUE,B257,\"\")","v":""},null,{"$f":"IF(H258<>\"\", \"（\" & MID(H258,2,200) & \"）\",\"\")","v":""},null,null,null,null,null,false]
[null,"その他",null,false,null,{"$f":"IF(D258=TRUE,IF(D259<>\"\",B258&\"：\" & D259 & \"\",B258),\"\")","v":""},null,{"$f":"   IF(F255<>\"\",\"，\" & F255,\"\") & IF(F256<>\"\",\"，\" & F256,\"\") & IF(F257<>\"\",\"，\" & F257,\"\") & IF(F258<>\"\",\"，\" & F258,\"\")","v":""},null,null,null,null,null,false]
[null,null,"テキスト",{"$f":"IF(【回復期】入力シート!AO106=\"\",\"\",【回復期】入力シート!AO106)","v":""},null,null,null,null,null,null,null,"S",{"$f":"IF(【回復期】入力シート!$BG$7=FALSE,IF(【回復期】データ管理!K259=0,FALSE,IF(【回復期】データ管理!K259<【回復期】入力シート!$BE$1,TRUE,FALSE)))","v":false}]
["説明","症状説明",null,false,null,{"$f":"IF(D260=TRUE,B260,\"\")","v":""},null,{"$f":"IF(H261<>\"\", MID(H261,2,200),\"\")","v":""},null,null,null,"D",{"$f":"IF(【回復期】入力シート!$BG$3=FALSE,IF(【回復期】データ管理!K260=0,FALSE,IF(【回復期】データ管理!K260<【回復期】入力シート!$BE$1,TRUE,FALSE)))","v":false},false]
[null,"退院・転院後のリハビリ・服薬・栄養に関する説明",null,false,null,{"$f":"IF(D261=TRUE,B261,\"\")","v":""},null,{"$f":" IF(F260<>\"\",\"，\" & F260,\"\") & IF(F261<>\"\",\"，\" & F261,\"\")","v":""},null,null,null,"D",{"$f":"IF(【回復期】入力シート!$BG$3=FALSE,IF(【回復期】データ管理!K261=0,FALSE,IF(【回復期】データ管理!K261<【回復期】入力シート!$BE$1,TRUE,FALSE)))","v":false},false]
[null,"説明日",null,{"$f":"IF(【回復期】入力シート!L109=\"\",\"\",【回復期】入力シート!L109)","v":""},null,{"$f":"IF(D262=\"\",\"\",\"説明日：\"&TEXT(D262,\"ggge年m月d日\"))","v":""},null,null,null,null,null,"D",{"$f":"IF(【回復期】入力シート!$BG$3=FALSE,IF(【回復期】データ管理!K262=0,FALSE,IF(【回復期】データ管理!K262<【回復期】入力シート!$BE$1,TRUE,FALSE)))","v":false}]
[null,"主治医",null,{"$f":"IF(【回復期】入力シート!X109=\"\",\"\",【回復期】入力シート!X109)","v":""},null,{"$f":"IF(D263=\"\",\"\",\"主治医：\"&D263)","v":""},null,null,null,null,null,"D",{"$f":"IF(【回復期】入力シート!$BG$3=FALSE,IF(【回復期】データ管理!K263=0,FALSE,IF(【回復期】データ管理!K263<【回復期】入力シート!$BE$1,TRUE,FALSE)))","v":false}]
["転帰・転院基準","転院先","区分",{"$f":"IF(【回復期】入力シート!I110=\"\",\"\",【回復期】入力シート!I110)","v":""},null,null,null,null,null,null,null,"R",{"$f":"IF(【回復期】入力シート!$BG$9=FALSE,IF(【回復期】データ管理!K264=0,FALSE,IF(【回復期】データ管理!K264<【回復期】入力シート!$BE$1,TRUE,FALSE)))","v":false}]
[null,null,"施設名",{"$f":"IF(【回復期】入力シート!I111=\"\",\"\",【回復期】入力シート!I111)","v":""},null,null,null,null,null,null,null,"R",{"$f":"IF(【回復期】入力シート!$BG$9=FALSE,IF(【回復期】データ管理!K265=0,FALSE,IF(【回復期】データ管理!K265<【回復期】入力シート!$BE$1,TRUE,FALSE)))","v":false}]
["基本情報","社会復帰",null,0,"1:復職・復学見込み 2:退職・退学 3:転職・転校 4:無職 5:その他",{"$f":"IF(D266<>\"\",LOOKUP(D266,{0,1,2,3,4,5},{\"\",\"復職・復学見込み\",\"退職・退学\",\"転職・転校\",\"無職\",\"その他\"}),\"\") & IF(D266=1,\"（\"&D267&\"）\",\"\") & IF(D266=3,\"（\"&D268&\"）\",\"\")& IF(D266=5,\"（\"&D269&\"）\",\"\")","v":""},null,null,null,null,null,"R",{"$f":"IF(【回復期】入力シート!$BG$9=FALSE,IF(【回復期】データ管理!K266=0,FALSE,IF(【回復期】データ管理!K266<【回復期】入力シート!$BE$1,TRUE,FALSE)))","v":false},0]
[null,null,"復職・復学見込みテキスト",{"$f":"IF(【回復期】入力シート!R114=\"\",\"\",【回復期】入力シート!R114)","v":""},null,null,null,null,null,null,null,"R",{"$f":"IF(【回復期】入力シート!$BG$9=FALSE,IF(【回復期】データ管理!K267=0,FALSE,IF(【回復期】データ管理!K267<【回復期】入力シート!$BE$1,TRUE,FALSE)))","v":false}]
[null,null,"転職・転校テキスト",{"$f":"IF(【回復期】入力シート!AL114=\"\",\"\",【回復期】入力シート!AL114)","v":""},null,null,null,null,null,null,null,"R",{"$f":"IF(【回復期】入力シート!$BG$9=FALSE,IF(【回復期】データ管理!K268=0,FALSE,IF(【回復期】データ管理!K268<【回復期】入力シート!$BE$1,TRUE,FALSE)))","v":false}]
[null,null,"その他テキスト",{"$f":"IF(【回復期】入力シート!R115=\"\",\"\",【回復期】入力シート!R115)","v":""},null,null,null,null,null,null,null,"R",{"$f":"IF(【回復期】入力シート!$BG$9=FALSE,IF(【回復期】データ管理!K269=0,FALSE,IF(【回復期】データ管理!K269<【回復期】入力シート!$BE$1,TRUE,FALSE)))","v":false}]
[null,"生活の場",null,0,"1:在宅 2:介護老人保健施設 3:介護老人福祉施設 4:障害者福祉施設 5:その他",{"$f":"IF(D270<>\"\",LOOKUP(D270,{0,1,2,3,4,5},{\"\",\"在宅\",\"介護老人保健施設\",\"介護老人福祉施設\",\"障害者福祉施設\",\"その他\"}),\"\") & IF(D270=1,\"（\"&F322&\"）\",\"\") & IF(D270=2,\"（\"&D271&\"）\",\"\") & IF(D270=3,\"（\"&D272&\"）\",\"\")& IF(D270=4,\"（\"&D273&\"）\",\"\")& IF(D270=5,\"（\"&D274&\"）\",\"\")","v":""},null,null,null,null,null,"R",{"$f":"IF(【回復期】入力シート!$BG$9=FALSE,IF(【回復期】データ管理!K270=0,FALSE,IF(【回復期】データ管理!K270<【回復期】入力シート!$BE$1,TRUE,FALSE)))","v":false},0]
[null,null,"介護老人保健施設テキスト",{"$f":"IF(【回復期】入力シート!AD116=\"\",\"\",【回復期】入力シート!AD116)","v":""},null,null,null,null,null,null,null,"R",{"$f":"IF(【回復期】入力シート!$BG$9=FALSE,IF(【回復期】データ管理!K271=0,FALSE,IF(【回復期】データ管理!K271<【回復期】入力シート!$BE$1,TRUE,FALSE)))","v":false}]
[null,null,"介護老人福祉施設テキスト",{"$f":"IF(【回復期】入力シート!AS116=\"\",\"\",【回復期】入力シート!AS116)","v":""},null,null,null,null,null,null,null,"R",{"$f":"IF(【回復期】入力シート!$BG$9=FALSE,IF(【回復期】データ管理!K272=0,FALSE,IF(【回復期】データ管理!K272<【回復期】入力シート!$BE$1,TRUE,FALSE)))","v":false}]
[null,null,"障害者福祉施設テキスト",{"$f":"IF(【回復期】入力シート!R117=\"\",\"\",【回復期】入力シート!R117)","v":""},null,null,null,null,null,null,null,"R",{"$f":"IF(【回復期】入力シート!$BG$9=FALSE,IF(【回復期】データ管理!K273=0,FALSE,IF(【回復期】データ管理!K273<【回復期】入力シート!$BE$1,TRUE,FALSE)))","v":false}]
[null,null,"その他テキスト",{"$f":"IF(【回復期】入力シート!AI117=\"\",\"\",【回復期】入力シート!AI117)","v":""},null,null,null,null,null,null,null,"R",{"$f":"IF(【回復期】入力シート!$BG$9=FALSE,IF(【回復期】データ管理!K274=0,FALSE,IF(【回復期】データ管理!K274<【回復期】入力シート!$BE$1,TRUE,FALSE)))","v":false}]
[null,"社会資源","保険の種類",0,"1:国保 2:社保 3:生保 4:後期高齢者",{"$f":"IF(D275<>\"\",LOOKUP(D275,{0,1,2,3,4},{\"\",\"国保\",\"社保\",\"生保\",\"後期高齢者\"}),\"\")","v":""},null,null,null,null,null,"R",{"$f":"IF(【回復期】入力シート!$BG$9=FALSE,IF(【回復期】データ管理!K275=0,FALSE,IF(【回復期】データ管理!K275<【回復期】入力シート!$BE$1,TRUE,FALSE)))","v":false},0]
[null,null,"自立支援",false,null,{"$f":"IF(D276=TRUE,C276,\"\")","v":""},null,null,null,null,null,"R",{"$f":"IF(【回復期】入力シート!$BG$9=FALSE,IF(【回復期】データ管理!K276=0,FALSE,IF(【回復期】データ管理!K276<【回復期】入力シート!$BE$1,TRUE,FALSE)))","v":false},false]
[null,null,"自賠責",false,null,{"$f":"IF(D277=TRUE,C277,\"\")","v":""},null,{"$f":"IF(H278<>\"\", MID(H278,2,200),\"\")","v":""},null,null,null,"R",{"$f":"IF(【回復期】入力シート!$BG$9=FALSE,IF(【回復期】データ管理!K277=0,FALSE,IF(【回復期】データ管理!K277<【回復期】入力シート!$BE$1,TRUE,FALSE)))","v":false},false]
[null,null,"その他",false,null,{"$f":"IF(D278=TRUE,IF(D279<>\"\",C278&\"（\" & D279 & \"）\",C278),\"\")","v":""},"計算用",{"$f":"  IF(F276<>\"\",\"，\" & F276,\"\") & IF(F277<>\"\",\"，\" & F277,\"\") & IF(F278<>\"\",\"，\" & F278,\"\")","v":""},null,null,null,"R",{"$f":"IF(【回復期】入力シート!$BG$9=FALSE,IF(【回復期】データ管理!K278=0,FALSE,IF(【回復期】データ管理!K278<【回復期】入力シート!$BE$1,TRUE,FALSE)))","v":false},false]
[null,null,"その他テキスト",{"$f":"IF(【回復期】入力シート!AD119=\"\",\"\",【回復期】入力シート!AD119)","v":""},null,null,null,null,null,null,null,"R",{"$f":"IF(【回復期】入力シート!$BG$9=FALSE,IF(【回復期】データ管理!K279=0,FALSE,IF(【回復期】データ管理!K279<【回復期】入力シート!$BE$1,TRUE,FALSE)))","v":false}]
[null,"退院後の主治医",null,0,"1無　2:有",{"$f":"IF(D280<>\"\",LOOKUP(D280,{0,1,2},{\"\",\"無\",\"有\"}),\"\")","v":""},null,null,null,null,null,"R",{"$f":"IF(【回復期】入力シート!$BG$9=FALSE,IF(【回復期】データ管理!K280=0,FALSE,IF(【回復期】データ管理!K280<【回復期】入力シート!$BE$1,TRUE,FALSE)))","v":false},0]
[null,null,"医療機関・医師名",{"$f":"IF(【回復期】入力シート!Y120=\"\",\"\",【回復期】入力シート!Y120)","v":""},null,null,null,null,null,null,null,"R",{"$f":"IF(【回復期】入力シート!$BG$9=FALSE,IF(【回復期】データ管理!K281=0,FALSE,IF(【回復期】データ管理!K281<【回復期】入力シート!$BE$1,TRUE,FALSE)))","v":false}]
[null,"障害年金",null,0,"1:非該当 2:無 3:申請中 4:変更申請中 5:有",{"$f":"IF(D282<>\"\",LOOKUP(D282,{0,1,2,3,4,5},{\"\",\"非該当\",\"無\",\"申請中\",\"変更申請中\",\"有\"}),\"\") & IF(D282=2,F283,\"\")& IF(D282=5,\"（\"& F284 & \" 等級\" & D286 & \"級）\",\"\")","v":""},null,null,null,null,null,"R",{"$f":"IF(【回復期】入力シート!$BG$9=FALSE,IF(【回復期】データ管理!K282=0,FALSE,IF(【回復期】データ管理!K282<【回復期】入力シート!$BE$1,TRUE,FALSE)))","v":false},0]
[null,null,"無",0,"1:説明済　2:未説明",{"$f":"IF(D283<>\"\",LOOKUP(D283,{0,1,2},{\"\",\"（説明済）\",\"（未説明）\"}),\"\")","v":""},null,null,null,null,null,"R",{"$f":"IF(【回復期】入力シート!$BG$9=FALSE,IF(【回復期】データ管理!K283=0,FALSE,IF(【回復期】データ管理!K283<【回復期】入力シート!$BE$1,TRUE,FALSE)))","v":false},0]
[null,null,"有",0,"1:障害基礎年金 2:障害共済年金 3:障害厚生年金 4:その他",{"$f":"IF(D284<>\"\",LOOKUP(D284,{0,1,2,3,4},{\"\",\"障害基礎年金\",\"障害共済年金\",\"障害厚生年金\",\"その他\"}),\"\")& IF(D284=4, \"（\" &D285 &\"）\",\"\")","v":""},null,null,null,null,null,"R",{"$f":"IF(【回復期】入力シート!$BG$9=FALSE,IF(【回復期】データ管理!K284=0,FALSE,IF(【回復期】データ管理!K284<【回復期】入力シート!$BE$1,TRUE,FALSE)))","v":false},0]
[null,null,"有その他テキスト",{"$f":"IF(【回復期】入力シート!AJ122=\"\",\"\",【回復期】入力シート!AJ122)","v":""},null,null,null,null,null,null,null,"R",{"$f":"IF(【回復期】入力シート!$BG$9=FALSE,IF(【回復期】データ管理!K285=0,FALSE,IF(【回復期】データ管理!K285<【回復期】入力シート!$BE$1,TRUE,FALSE)))","v":false}]
[null,null,"等級",{"$f":"IF(【回復期】入力シート!AT122=\"\",\"\",【回復期】入力シート!AT122)","v":""},null,null,null,null,null,null,null,"R",{"$f":"IF(【回復期】入力シート!$BG$9=FALSE,IF(【回復期】データ管理!K286=0,FALSE,IF(【回復期】データ管理!K286<【回復期】入力シート!$BE$1,TRUE,FALSE)))","v":false}]
[null,"身体障害者手帳",null,0,"1:無 2:申請中 3:変更申請中 4:有",{"$f":"IF(D287<>\"\",LOOKUP(D287,{0,1,2,3,4},{\"\",\"無\",\"申請中\",\"変更申請中\",\"有\"}),\"\") & IF(D287=2,F288,\"\")& IF(D287=4,\"  \" & D289 & \"級\",\"\")","v":""},null,null,null,null,null,"R",{"$f":"IF(【回復期】入力シート!$BG$9=FALSE,IF(【回復期】データ管理!K287=0,FALSE,IF(【回復期】データ管理!K287<【回復期】入力シート!$BE$1,TRUE,FALSE)))","v":false},0]
[null,null,"申請中",0,"1:説明済　2:未説明",{"$f":"IF(D288<>\"\",LOOKUP(D288,{0,1,2},{\"\",\"(説明済)\",\"(未説明)\"}),\"\")","v":""},null,null,null,null,null,"R",{"$f":"IF(【回復期】入力シート!$BG$9=FALSE,IF(【回復期】データ管理!K288=0,FALSE,IF(【回復期】データ管理!K288<【回復期】入力シート!$BE$1,TRUE,FALSE)))","v":false},0]
[null,null,"有　等級",{"$f":"IF(【回復期】入力シート!AL123=\"\",\"\",【回復期】入力シート!AL123)","v":""},null,null,null,null,null,null,null,"R",{"$f":"IF(【回復期】入力シート!$BG$9=FALSE,IF(【回復期】データ管理!K289=0,FALSE,IF(【回復期】データ管理!K289<【回復期】入力シート!$BE$1,TRUE,FALSE)))","v":false}]
[null,"精神障害者保健福祉手帳",null,0,"1:無 2:申請中 3:変更申請中 4:有",{"$f":"IF(D290<>\"\",LOOKUP(D290,{0,1,2,3,4},{\"\",\"無\",\"申請中\",\"変更申請中\",\"有\"}),\"\")& IF(D290=2,F291,\"\")& IF(D290=4,\"  \" & D292 & \"級\",\"\")","v":""},null,null,null,null,null,"R",{"$f":"IF(【回復期】入力シート!$BG$9=FALSE,IF(【回復期】データ管理!K290=0,FALSE,IF(【回復期】データ管理!K290<【回復期】入力シート!$BE$1,TRUE,FALSE)))","v":false},0]
[null,null,"申請中",0,"1:説明済　2:未説明",{"$f":"IF(D291<>\"\",LOOKUP(D291,{0,1,2},{\"\",\"(説明済)\",\"(未説明)\"}),\"\")","v":""},null,null,null,null,null,"R",{"$f":"IF(【回復期】入力シート!$BG$9=FALSE,IF(【回復期】データ管理!K291=0,FALSE,IF(【回復期】データ管理!K291<【回復期】入力シート!$BE$1,TRUE,FALSE)))","v":false},0]
[null,null,"有　等級",{"$f":"IF(【回復期】入力シート!AL124=\"\",\"\",【回復期】入力シート!AL124)","v":""},null,null,null,null,null,null,null,"R",{"$f":"IF(【回復期】入力シート!$BG$9=FALSE,IF(【回復期】データ管理!K292=0,FALSE,IF(【回復期】データ管理!K292<【回復期】入力シート!$BE$1,TRUE,FALSE)))","v":false}]
[null,"療育手帳",null,0,"1:無 2:申請中 3:変更申請中 4:有",{"$f":"IF(D293<>\"\",LOOKUP(D293,{0,1,2,3,4},{\"\",\"無\",\"申請中\",\"変更申請中\",\"有\"}),\"\")& IF(D293=2,F294,\"\")& IF(D293=4,\"  \" & D295 & \"級\",\"\")","v":""},null,null,null,null,null,"R",{"$f":"IF(【回復期】入力シート!$BG$9=FALSE,IF(【回復期】データ管理!K293=0,FALSE,IF(【回復期】データ管理!K293<【回復期】入力シート!$BE$1,TRUE,FALSE)))","v":false},0]
[null,null,"申請中",0,"1:説明済　2:未説明",{"$f":"IF(D294<>\"\",LOOKUP(D294,{0,1,2},{\"\",\"(説明済)\",\"(未説明)\"}),\"\")","v":""},null,null,null,null,null,"R",{"$f":"IF(【回復期】入力シート!$BG$9=FALSE,IF(【回復期】データ管理!K294=0,FALSE,IF(【回復期】データ管理!K294<【回復期】入力シート!$BE$1,TRUE,FALSE)))","v":false},0]
[null,null,"有　等級",{"$f":"IF(【回復期】入力シート!AL125=\"\",\"\",【回復期】入力シート!AL125)","v":""},null,null,null,null,null,null,null,"R",{"$f":"IF(【回復期】入力シート!$BG$9=FALSE,IF(【回復期】データ管理!K295=0,FALSE,IF(【回復期】データ管理!K295<【回復期】入力シート!$BE$1,TRUE,FALSE)))","v":false}]
[null,"介護保険",null,0,"1:非該当 2:無 3:申請中 4:申請中 5:該当",{"$f":"IF(D296<>\"\",LOOKUP(D296,{0,1,2,3,4,5},{\"\",\"非該当\",\"無\",\"申請中\",\"変更申請中\",\"該当\"}),\"\")& IF(D296=2,F297,\"\")& IF(D296=5,\"（\"&  F298 & \"）\",\"\")","v":""},null,null,null,null,null,"R",{"$f":"IF(【回復期】入力シート!$BG$9=FALSE,IF(【回復期】データ管理!K296=0,FALSE,IF(【回復期】データ管理!K296<【回復期】入力シート!$BE$1,TRUE,FALSE)))","v":false},0]
[null,null,"無",0,"1:説明済　2:未説明",{"$f":"IF(D297<>\"\",LOOKUP(D297,{0,1,2},{\"\",\"(説明済)\",\"(未説明)\"}),\"\")","v":""},null,null,null,null,null,"R",{"$f":"IF(【回復期】入力シート!$BG$9=FALSE,IF(【回復期】データ管理!K297=0,FALSE,IF(【回復期】データ管理!K297<【回復期】入力シート!$BE$1,TRUE,FALSE)))","v":false},0]
[null,null,"該当　介護度",0,null,{"$f":"IF(D298<>\"\",LOOKUP(D298,{0,1,2,3,4,5,6,7},{\"\",\"要支援１\",\"要支援２\",\"要介護１\",\"要介護２\",\"要介護３\",\"要介護４\",\"要介護５\"}),\"\")","v":""},null,null,null,null,null,"R",{"$f":"IF(【回復期】入力シート!$BG$9=FALSE,IF(【回復期】データ管理!K298=0,FALSE,IF(【回復期】データ管理!K298<【回復期】入力シート!$BE$1,TRUE,FALSE)))","v":false},0]
[null,null,"居宅介護支援事業所",{"$f":"IF(【回復期】入力シート!R128=\"\",\"\",【回復期】入力シート!R128)","v":""},null,null,null,null,null,null,null,"R",{"$f":"IF(【回復期】入力シート!$BG$9=FALSE,IF(【回復期】データ管理!K299=0,FALSE,IF(【回復期】データ管理!K299<【回復期】入力シート!$BE$1,TRUE,FALSE)))","v":false}]
[null,null,"担当者",{"$f":"IF(【回復期】入力シート!AM128=\"\",\"\",【回復期】入力シート!AM128)","v":""},null,null,null,null,null,null,null,"R",{"$f":"IF(【回復期】入力シート!$BG$9=FALSE,IF(【回復期】データ管理!K300=0,FALSE,IF(【回復期】データ管理!K300<【回復期】入力シート!$BE$1,TRUE,FALSE)))","v":false}]
[null,"障害支援区分",null,0,"1:非該当 2:無 3:申請中 4:申請中 5:該当",{"$f":"IF(D301<>\"\",LOOKUP(D301,{0,1,2,3,4,5},{\"\",\"非該当\",\"無\",\"申請中\",\"変更申請中\",\"該当\"}),\"\")& IF(D301=2,F302,\"\")& IF(D301=5,\"（\"&  F303 & \"）\",\"\")","v":""},null,null,null,null,null,"R",{"$f":"IF(【回復期】入力シート!$BG$9=FALSE,IF(【回復期】データ管理!K301=0,FALSE,IF(【回復期】データ管理!K301<【回復期】入力シート!$BE$1,TRUE,FALSE)))","v":false},0]
[null,null,"無",0,"1:説明済　2:未説明",{"$f":"IF(D302<>\"\",LOOKUP(D302,{0,1,2},{\"\",\"(説明済)\",\"(未説明)\"}),\"\")","v":""},null,null,null,null,null,"R",{"$f":"IF(【回復期】入力シート!$BG$9=FALSE,IF(【回復期】データ管理!K302=0,FALSE,IF(【回復期】データ管理!K302<【回復期】入力シート!$BE$1,TRUE,FALSE)))","v":false},0]
[null,null,"該当　",0,"1,2,3,4,5,6",{"$f":"IF(D303<>\"\",LOOKUP(D303,{0,1,2,3,4,5,6},{\"\",\"区分１\",\"区分２\",\"区分３\",\"区分４\",\"区分５\",\"区分６\"}),\"\")","v":""},null,null,null,null,null,"R",{"$f":"IF(【回復期】入力シート!$BG$9=FALSE,IF(【回復期】データ管理!K303=0,FALSE,IF(【回復期】データ管理!K303<【回復期】入力シート!$BE$1,TRUE,FALSE)))","v":false},0]
[null,null,"相談支援専門員：担当者",{"$f":"IF(【回復期】入力シート!U131=\"\",\"\",【回復期】入力シート!U131)","v":""},null,null,null,null,null,null,null,"R",{"$f":"IF(【回復期】入力シート!$BG$9=FALSE,IF(【回復期】データ管理!K304=0,FALSE,IF(【回復期】データ管理!K304<【回復期】入力シート!$BE$1,TRUE,FALSE)))","v":false}]
[null,null,"事業所",{"$f":"IF(【回復期】入力シート!AF131=\"\",\"\",【回復期】入力シート!AF131)","v":""},null,null,null,null,null,null,null,"R",{"$f":"IF(【回復期】入力シート!$BG$9=FALSE,IF(【回復期】データ管理!K305=0,FALSE,IF(【回復期】データ管理!K305<【回復期】入力シート!$BE$1,TRUE,FALSE)))","v":false}]
[null,"退院後の本人・家族の希望",null,{"$f":"IF(【回復期】入力シート!P132=\"\",\"\",【回復期】入力シート!P132)","v":""},null,null,null,null,null,null,null,"R",{"$f":"IF(【回復期】入力シート!$BG$9=FALSE,IF(【回復期】データ管理!K306=0,FALSE,IF(【回復期】データ管理!K306<【回復期】入力シート!$BE$1,TRUE,FALSE)))","v":false}]
[null,"家族状況","介護者",0,"1無　2:有",{"$f":"IF(D307<>\"\",LOOKUP(D307,{0,1,2},{\"\",\"無\",\"有\"}),\"\")& IF(D307=2,\"（\"& D308 & \"）\",\"\")","v":""},null,null,null,null,null,"R",{"$f":"IF(【回復期】入力シート!$BG$9=FALSE,IF(【回復期】データ管理!K307=0,FALSE,IF(【回復期】データ管理!K307<【回復期】入力シート!$BE$1,TRUE,FALSE)))","v":false},0]
[null,null,"介護者テキスト",{"$f":"IF(【回復期】入力シート!S135=\"\",\"\",【回復期】入力シート!S135)","v":""},null,null,null,null,null,null,null,"R",{"$f":"IF(【回復期】入力シート!$BG$9=FALSE,IF(【回復期】データ管理!K308=0,FALSE,IF(【回復期】データ管理!K308<【回復期】入力シート!$BE$1,TRUE,FALSE)))","v":false}]
[null,null,"介護力",0,"常時可　夜間のみ可　不可",{"$f":"IF(D309<>\"\",LOOKUP(D309,{0,1,2,3},{\"\",\"常時可\",\"夜間のみ可\",\"不可\"}),\"\")","v":""},null,null,null,null,null,"R",{"$f":"IF(【回復期】入力シート!$BG$9=FALSE,IF(【回復期】データ管理!K309=0,FALSE,IF(【回復期】データ管理!K309<【回復期】入力シート!$BE$1,TRUE,FALSE)))","v":false},0]
[null,null,"キーパーソン支援",{"$f":"IF(【回復期】入力シート!R136=\"\",\"\",【回復期】入力シート!R136)","v":""},null,null,null,null,null,null,null,"R",{"$f":"IF(【回復期】入力シート!$BG$9=FALSE,IF(【回復期】データ管理!K310=0,FALSE,IF(【回復期】データ管理!K310<【回復期】入力シート!$BE$1,TRUE,FALSE)))","v":false}]
[null,null,"本人との関係",{"$f":"IF(【回復期】入力シート!AG136=\"\",\"\",【回復期】入力シート!AG136)","v":""},null,null,null,null,null,null,null,"R",{"$f":"IF(【回復期】入力シート!$BG$9=FALSE,IF(【回復期】データ管理!K311=0,FALSE,IF(【回復期】データ管理!K311<【回復期】入力シート!$BE$1,TRUE,FALSE)))","v":false}]
["説明","ｹｱﾏﾈｼﾞｬｰに情報提供",null,false,null,null,null,null,null,null,null,"R",{"$f":"IF(【回復期】入力シート!$BG$9=FALSE,IF(【回復期】データ管理!K312=0,FALSE,IF(【回復期】データ管理!K312<【回復期】入力シート!$BE$1,TRUE,FALSE)))","v":false},false]
[null,"相談支援専門員に情報提供",null,false,null,null,null,null,null,null,null,"R",{"$f":"IF(【回復期】入力シート!$BG$9=FALSE,IF(【回復期】データ管理!K313=0,FALSE,IF(【回復期】データ管理!K313<【回復期】入力シート!$BE$1,TRUE,FALSE)))","v":false},false]
[null,"居宅サービス計画書案作成済み",null,false,null,null,null,null,null,null,null,"R",{"$f":"IF(【回復期】入力シート!$BG$9=FALSE,IF(【回復期】データ管理!K314=0,FALSE,IF(【回復期】データ管理!K314<【回復期】入力シート!$BE$1,TRUE,FALSE)))","v":false},false]
[null,"サービス等利用計画案作成済み",null,false,null,null,null,null,null,null,null,"R",{"$f":"IF(【回復期】入力シート!$BG$9=FALSE,IF(【回復期】データ管理!K315=0,FALSE,IF(【回復期】データ管理!K315<【回復期】入力シート!$BE$1,TRUE,FALSE)))","v":false},false]
[null,"在宅ケア希望者退院連絡票送付",null,false,null,null,null,null,null,null,null,"R",{"$f":"IF(【回復期】入力シート!$BG$9=FALSE,IF(【回復期】データ管理!K316=0,FALSE,IF(【回復期】データ管理!K316<【回復期】入力シート!$BE$1,TRUE,FALSE)))","v":false},false]
["医療連携上の特記事項","有無",null,0,null,null,null,null,null,null,null,"R",{"$f":"IF(【回復期】入力シート!$BG$9=FALSE,IF(【回復期】データ管理!K317=0,FALSE,IF(【回復期】データ管理!K317<【回復期】入力シート!$BE$1,TRUE,FALSE)))","v":false},0]
[null,"テキスト",null,{"$f":"IF(【回復期】入力シート!Q140=\"\",\"\",【回復期】入力シート!Q140)","v":""},null,null,null,null,null,null,null,"R",{"$f":"IF(【回復期】入力シート!$BG$9=FALSE,IF(【回復期】データ管理!K318=0,FALSE,IF(【回復期】データ管理!K318<【回復期】入力シート!$BE$1,TRUE,FALSE)))","v":false}]
["回復期入力完了日"]
["正中偏位","右　左",null,0,"1:右　2:左",{"$f":"IF(D320<>\"\",LOOKUP(D320,{0,1,2},{\"\",\"右\",\"左\"}),\"\")","v":""},null,null,null,null,null,"D",{"$f":"IF(【回復期】入力シート!$BG$3=FALSE,IF(【回復期】データ管理!K320=0,FALSE,IF(【回復期】データ管理!K320<【回復期】入力シート!$BE$1,TRUE,FALSE)))","v":false},0]
["基本情報","障害に関する認識",null,{"$f":"IF(【回復期】入力シート!P134=\"\",\"\",【回復期】入力シート!P134)","v":""},null,null,null,null,null,null,null,"R",{"$f":"IF(【回復期】入力シート!$BG$9=FALSE,IF(【回復期】データ管理!K321=0,FALSE,IF(【回復期】データ管理!K321<【回復期】入力シート!$BE$1,TRUE,FALSE)))","v":false}]
[null,"生活の場","同居者の有無",0,"1同居者：無　2:同居者：有",{"$f":"IF(D322<>\"\",LOOKUP(D322,{0,1,2},{\"\",\"同居者：無\",\"同居者：有\"}),\"\")","v":""},null,null,null,null,null,"R",{"$f":"IF(【回復期】入力シート!$BG$9=FALSE,IF(【回復期】データ管理!K322=0,FALSE,IF(【回復期】データ管理!K322<【回復期】入力シート!$BE$1,TRUE,FALSE)))","v":false},0]
["入院時","目標","復学や復職に向けたリハビリ",false,{"$f":"IF(C323=TRUE,B323,\"\")","v":""},"",{"$f":"IF(G324<>\"\", MID(G324,2,200),\"\")","v":""},null,null,null,null,"D",{"$f":"IF(【回復期】入力シート!$BG$3=FALSE,IF(【回復期】データ管理!K323=0,FALSE,IF(【回復期】データ管理!K323<【回復期】入力シート!$BE$1,TRUE,FALSE)))","v":false},false]
["受傷３カ月時","目標","復学や復職に向けたリハビリ",false,"","",{"$f":"IF(G325<>\"\", MID(G325,2,200),\"\")","v":""},null,null,null,null,"D",{"$f":"IF(【回復期】入力シート!$BG$3=FALSE,IF(【回復期】データ管理!K324=0,FALSE,IF(【回復期】データ管理!K324<【回復期】入力シート!$BE$1,TRUE,FALSE)))","v":false},false]
["退院時","目標","復学や復職に向けたリハビリ",false,"","",{"$f":"IF(G326<>\"\", MID(G326,2,200),\"\")","v":""},null,null,null,null,"D",{"$f":"IF(【回復期】入力シート!$BG$3=FALSE,IF(【回復期】データ管理!K325=0,FALSE,IF(【回復期】データ管理!K325<【回復期】入力シート!$BE$1,TRUE,FALSE)))","v":false},false]

{"sheet":"【維持期】入力シート","index":8,"n_rows":129,"n_cols":58,"rows_kept":129,"cut":false,"hidden":false,"merged":[[94,0,96,3],[95,12,95,19],[95,37,95,44],[96,8,96,15],[97,0,100,3],[97,4,97,51],[98,4,100,51],[101,0,106,3],[102,4,102,7],[102,28,102,50],[96,24,96,31],[110,0,111,3],[112,0,113,3],[114,0,114,3],[114,4,114,18],[112,36,112,45],[114,20,114,21],[103,30,103,50],[104,4,104,7],[104,23,106,51],[105,5,105,12],[106,4,106,6],[107,0,109,3],[107,17,107,24],[108,17,108,38],[109,17,109,38],[116,10,116,14],[116,19,116,26],[113,11,113,26],[113,31,113,36],[110,4,110,8],[111,34,111,44],[110,10,110,44],[111,10,111,32],[112,11,112,25],[112,29,112,32],[128,0,129,9],[128,10,128,14],[128,16,129,50],[115,0,115,3],[116,0,127,3],[122,23,122,30],[123,4,123,9],[127,4,127,13],[127,18,127,26],[126,4,126,14],[117,28,117,34],[118,14,118,31],[118,33,118,39],[119,10,119,14],[120,14,120,36],[120,38,120,44],[121,4,121,18],[124,4,124,12],[125,4,125,12],[122,8,122,15],[117,10,117,14],[117,16,117,26],[115,4,115,18],[115,20,115,21],[0,53,0,55],[0,56,0,63],[65,16,65,21],[65,22,65,29],[65,30,65,33],[33,44,33,50],[18,4,19,51],[20,4,20,6],[20,8,20,17],[3,40,3,47],[38,4,38,7],[39,12,39,25],[33,39,33,40],[3,48,3,49],[2,0,2,6],[2,7,2,16],[2,28,2,37],[3,0,3,3],[3,4,3,14],[60,30,60,33],[61,16,61,21],[45,0,46,3],[47,0,51,3],[45,8,45,12],[21,0,21,3],[21,4,21,51],[27,17,27,24],[28,4,28,7],[22,0,22,3],[23,0,25,3],[24,8,25,51],[23,13,23,17],[18,0,20,3],[22,5,22,12],[28,16,28,17],[28,20,28,21],[28,24,28,25],[28,37,28,43],[26,0,44,3],[26,4,26,8],[26,9,26,11],[26,14,26,16],[26,17,26,24],[27,4,27,8],[27,9,27,11],[27,14,27,16],[40,4,40,7],[40,8,41,51],[4,0,4,3],[4,4,4,29],[4,30,4,33],[4,34,4,51],[5,0,5,3],[5,4,5,51],[6,0,17,3],[6,4,6,10],[6,11,6,15],[7,4,7,10],[7,11,7,15],[7,19,7,37],[8,4,8,10],[8,11,8,15],[9,4,9,10],[9,11,9,15],[10,4,10,10],[10,11,10,15],[11,4,11,10],[11,11,11,15],[17,4,17,10],[17,11,17,15],[17,19,17,22],[14,4,14,10],[3,15,3,18],[3,19,3,23],[3,24,3,30],[3,31,3,39],[12,4,12,10],[12,11,12,15],[12,19,12,22],[13,4,13,10],[13,11,13,15],[71,4,71,15],[53,16,53,19],[70,16,70,24],[16,17,16,27],[64,16,64,21],[64,22,64,29],[30,24,30,25],[30,28,30,29],[45,14,45,46],[46,8,46,19],[47,4,47,8],[48,9,49,16],[49,18,49,25],[51,23,51,30],[29,16,29,17],[29,20,29,21],[29,24,29,25],[32,4,32,7],[33,4,33,7],[33,16,33,17],[33,21,33,22],[33,33,33,34],[30,20,30,21],[30,32,30,33],[14,11,14,15],[15,4,15,10],[15,11,15,15],[16,4,16,10],[16,11,16,15],[62,16,62,21],[62,22,62,29],[63,16,63,21],[63,22,63,29],[35,4,35,7],[36,4,36,7],[37,4,37,7],[53,4,53,15],[54,4,55,15],[33,27,33,28],[30,16,30,17],[30,37,30,43],[57,16,57,21],[57,22,57,29],[58,16,58,21],[58,22,58,29],[58,30,58,33],[59,16,59,21],[59,22,59,29],[53,38,53,51],[55,16,55,21],[55,22,55,29],[55,30,55,33],[55,34,55,39],[55,40,55,47],[55,48,55,51],[43,8,44,51],[53,34,53,37],[76,0,77,3],[76,7,76,18],[77,4,77,6],[77,7,77,23],[77,24,77,25],[77,27,77,31],[77,32,77,39],[59,40,59,47],[60,34,60,39],[60,40,60,47],[74,25,74,29],[74,30,74,37],[75,8,75,12],[75,14,75,18],[75,19,75,26],[67,22,67,29],[70,34,70,42],[68,16,68,21],[68,22,68,29],[69,16,69,20],[70,26,70,32],[64,34,64,39],[64,40,64,47],[68,34,68,39],[67,16,67,21],[72,0,75,3],[72,8,72,22],[72,24,72,31],[72,33,72,35],[72,37,72,44],[73,8,73,14],[73,16,73,25],[73,27,73,31],[74,13,74,16],[74,17,74,18],[74,20,74,21],[74,22,74,23],[52,0,71,3],[68,40,68,47],[69,34,69,38],[66,16,66,21],[66,22,66,29],[66,30,66,33],[70,44,70,50],[67,40,67,47],[71,34,71,51],[71,16,71,33],[56,16,56,21],[86,26,86,49],[87,28,87,45],[91,8,91,27],[78,0,91,3],[78,40,78,42],[78,44,78,50],[79,8,79,51],[80,8,80,51],[81,8,81,51],[82,8,82,51],[83,4,83,51],[84,26,84,38],[85,26,85,41],[89,5,89,11],[78,8,78,10],[78,12,78,18],[78,24,78,26],[78,28,78,34],[92,0,93,3],[92,26,92,33],[92,42,92,49],[93,11,93,18],[93,24,93,31],[93,4,93,9],[92,35,92,40],[93,20,93,22],[92,4,92,6],[92,18,92,24],[68,30,68,33],[56,48,56,51],[57,48,57,51],[59,48,59,51],[62,48,62,51],[63,48,63,51],[67,48,67,51],[68,48,68,51],[64,48,64,51],[65,34,65,39],[65,40,65,47],[65,48,65,51],[66,34,66,39],[66,40,66,47],[66,48,66,51],[58,48,58,51],[61,48,61,51],[56,34,56,39],[56,40,56,47],[67,34,67,39],[57,40,57,47],[58,34,58,39],[58,40,58,47],[62,34,62,39],[9,53,9,55],[5,53,5,55],[56,30,56,33],[57,30,57,33],[59,30,59,33],[62,30,62,33],[63,30,63,33],[67,30,67,33],[56,22,56,29],[62,40,62,47],[64,30,64,33],[60,48,60,51],[63,34,63,39],[63,40,63,47],[57,34,57,39],[59,34,59,39],[61,22,61,29],[61,30,61,33],[61,34,61,39],[61,40,61,47],[53,20,53,33],[29,37,29,43],[60,16,60,21],[60,22,60,29]]}
[null,null,null,null,null,null,null,null,null,null,null,null,null,null,null,null,null,null,null,null,null,null,null,null,null,null,null,null,null,null,null,null,null,null,null,null,null,null,null,null,null,null,null,null,null,null,null,null,null,null,null,null,null,"最終更新\n日時",null,null,"2017-12-07T14:27:34"]
["脳外傷地域連携診療計画書【維持期】"]
["紹介元病院名（",null,null,null,null,null,null,null,null,null,null,null,null,null,null,null,null,"）","⇒維持期・かかりつけ医（",null,null,null,null,null,null,null,null,null,null,null,null,null,null,null,null,null,null,null,"）",null,null,null,null,null,null,null,null,null,null,null,null,"version.1"]
["氏名",null,null,null,null,null,null,null,null,null,null,null,null,null,null,"性別",null,null,null,null,null,null,null,null,"生年月日",null,null,null,null,null,null,null,null,null,null,null,null,null,null,null,{"$f":"TODAY()","v":"2023-04-01"},null,null,null,null,null,null,null,{"$f":"IF(AF4=\"\",\"\",IFERROR(DATEDIF(AF4,AO4,\"y\"),\"\"))","v":""},null,"歳"]
["住所",null,null,null,null,null,null,null,null,null,null,null,null,null,null,null,null,null,null,null,null,null,null,null,null,null,null,null,null,null,"電話番号",null,null,null,null,null,null,null,null,null,null,null,null,null,null,null,null,null,null,null,null,null,null,null,null,null,false]
["診断名",null,null,null,null,null,null,null,null,null,null,null,null,null,null,null,null,null,null,null,null,null,null,null,null,null,null,null,null,null,null,null,null,null,null,null,null,null,null,null,null,null,null,null,null,null,null,null,null,null,null,null,null,"赤",null,null,null,"1ヶ月目必須項目"]
["身体状況等",null,null,null,"Talk&deteriorate"]
[null,null,null,null,"多発外傷",null,null,null,null,null,null,null,null,null,null,null,"（場所：",null,null,null,null,null,null,null,null,null,null,null,null,null,null,null,null,null,null,null,null,null,"）",null,null,null,null,null,null,null,null,null,null,null,null,null,null,"黄",null,null,null,"3ヶ月目必須項目"]
[null,null,null,null,"興奮･安静困難"]
[null,null,null,null,"視野障害",null,null,null,null,null,null,null,null,null,null,null,null,null,null,null,null,null,null,null,null,null,null,null,null,null,null,null,null,null,null,null,null,null,null,null,null,null,null,null,null,null,null,null,null,null,null,null,null,"オレンジ",null,null,null,"3ヶ月目要記入項目"]
[null,null,null,null,"感覚障害"]
[null,null,null,null,"疼痛",null,null,null,null,null,null,null,null,null,null,null,null,null,null,null,null,null,null,null,null,null,null,null,null,null,null,null,null,null,null,null,null,null,null,null,null,null,null,null,null,null,null,null,null,null,null,null,null,"灰色",null,null,null,"その他"]
[null,null,null,null,"拘縮",null,null,null,null,null,null,null,null,null,null,null,"（部位：",null,null,null,null,null,null,"）"]
[null,null,null,null,"嚥下障害"]
[null,null,null,null,"肺炎"]
[null,null,null,null,"尿路感染症"]
[null,null,null,null,"その他合併症",null,null,null,null,null,null,null,null,null,null,null,"（",null,null,null,null,null,null,null,null,null,null,null,"）"]
[null,null,null,null,"その他感染症",null,null,null,null,null,null,null,null,null,null,null,"（部位：",null,null,null,null,null,null,"）"]
["高次脳\n機能障害"]
[]
[null,null,null,null,null,null,null,"（",null,null,null,null,null,null,null,null,null,null,"）"]
["経過",null,null,null,"維持期移行後３カ月の状況"]
["評価日"]
["処置",null,null,null,"経過中の症状変動の有無"]
[null,null,null,null,"症状と原因"]
[]
["神経心理学的検査",null,null,null,null,null,null,null,null,null,null,null,"点",null,"実施日"]
[null,null,null,null,null,null,null,null,null,null,null,null,"点",null,"実施日"]
[null,null,null,null,"【知能】",null,null,null,null,null,null,null,null,null,null,"FIQ：",{"$f":"IF('【維持期】WAIS-Ⅲ'!$C$8=\"\",\"\",'【維持期】WAIS-Ⅲ'!$C$8)","v":""},null,null,"VIQ：",{"$f":"IF('【維持期】WAIS-Ⅲ'!$C$6=\"\",\"\",'【維持期】WAIS-Ⅲ'!$C$6)","v":""},null,null,"PIQ：",{"$f":"IF('【維持期】WAIS-Ⅲ'!$C$7=\"\",\"\",'【維持期】WAIS-Ⅲ'!$C$7)","v":""},null,null,null,null,null,null,null,null,null,null,null,"実施日",{"$f":"IF('【維持期】WAIS-Ⅲ'!$C$3=\"\",\"\",'【維持期】WAIS-Ⅲ'!$C$3)","v":""},null,null,null,null,null,null,"←直接入力出来ません。"]
[null,null,null,null,null,null,null,null,null,null,null,null,null,null,null,"FIQ：",{"$f":"IF('【維持期】WISC-Ⅲ'!$C$8=\"\",\"\",'【維持期】WISC-Ⅲ'!$C$8)","v":""},null,null,"VIQ：",{"$f":"IF('【維持期】WISC-Ⅲ'!$C$6=\"\",\"\",'【維持期】WISC-Ⅲ'!$C$6)","v":""},null,null,"PIQ：",{"$f":"IF('【維持期】WISC-Ⅲ'!$C$7=\"\",\"\",'【維持期】WISC-Ⅲ'!$C$7)","v":""},null,null,null,null,null,null,null,null,null,null,null,"実施日",{"$f":"IF('【維持期】WISC-Ⅲ'!$C$3=\"\",\"\",'【維持期】WISC-Ⅲ'!$C$3)","v":""},null,null,null,null,null,null,"←直接入力出来ません。"]
[null,null,null,null,null,null,null,null,null,null,null,null,null,null,null,"FSIQ：",{"$f":"IF('【維持期】WISC-Ⅳ'!$C$6=\"\",\"\",'【維持期】WISC-Ⅳ'!$C$6)","v":""},null,null,"VCI：",{"$f":"IF('【維持期】WISC-Ⅳ'!$C$7=\"\",\"\",'【維持期】WISC-Ⅳ'!$C$7)","v":""},null,null,"PRI：",{"$f":"IF('【維持期】WISC-Ⅳ'!$C$8=\"\",\"\",'【維持期】WISC-Ⅳ'!$C$8)","v":""},null,null,"WMI：",{"$f":"IF('【維持期】WISC-Ⅳ'!$C$9=\"\",\"\",'【維持期】WISC-Ⅳ'!$C$9)","v":""},null,null,"PSI：",{"$f":"IF('【維持期】WISC-Ⅳ'!$C$10=\"\",\"\",'【維持期】WISC-Ⅳ'!$C$10)","v":""},null,null,null,"実施日",{"$f":"IF('【維持期】WISC-Ⅳ'!$C$3=\"\",\"\",'【維持期】WISC-Ⅳ'!$C$3)","v":""},null,null,null,null,null,null,"←直接入力出来ません。"]
[]
[null,null,null,null,"【言語】",null,null,null,null,null,null,null,null,null,null,null,null,null,null,null,null,null,null,null,null,null,null,null,null,null,null,null,null,null,null,null,null,null,null,null,null,null,null,null,"↓直接入力出来ません。"]
[null,null,null,null,"【記憶】",null,null,null,null,null,null,null,null,null,null,"言語性：",{"$f":"IF('【維持期】WMS-R'!$B$25=\"\",\"\",'【維持期】WMS-R'!$B$25)","v":""},null,null,null,"視覚性：",{"$f":"IF('【維持期】WMS-R'!$B$27=\"\",\"\",'【維持期】WMS-R'!$B$27)","v":""},null,null,null,null,"一般的記憶：",{"$f":"IF('【維持期】WMS-R'!$B$29=\"\",\"\",'【維持期】WMS-R'!$B$29)","v":""},null,null,null,null,"注意集中：",{"$f":"IF('【維持期】WMS-R'!$B$31=\"\",\"\",'【維持期】WMS-R'!$B$31)","v":""},null,null,null,null,"遅延再生：",{"$f":"IF('【維持期】WMS-R'!$B$33=\"\",\"\",'【維持期】WMS-R'!$B$33)","v":""},null,null,null,"実施日",{"$f":"IF('【維持期】WMS-R'!$C$3=\"\",\"\",'【維持期】WMS-R'!$C$3)","v":""}]
[]
[null,null,null,null,"【構成】"]
[null,null,null,null,"【注意】"]
[null,null,null,null,"【遂行機能】"]
[null,null,null,null,"【その他】"]
[null,null,null,null,null,null,null,null,null,null,null,"（",null,null,null,null,null,null,null,null,null,null,null,null,null,null,"）"]
[null,null,null,null,"結果・所見"]
[]
[null,null,null,null,"特記事項（日常生活上想定される問題等）"]
[]
[]
["内服",null,null,null,"内服",null,null,null,null,null,null,null,null,"(",null,null,null,null,null,null,null,null,null,null,null,null,null,null,null,null,null,null,null,null,null,null,null,null,null,null,null,null,null,null,null,null,null,")"]
[null,null,null,null,"服薬管理"]
["治療"]
[null,null,null,null,null,"（治療）　"]
[null,null,null,null,null,null,null,null,null,null,null,null,null,null,null,null,null,"（",null,null,null,null,null,null,null,null,"）"]
[]
[null,null,null,null,null,null,null,null,null,null,null,null,null,null,null,null,null,"★かかりつけ医（",null,null,null,null,null,null,null,null,null,null,null,null,null,")","病院・医院"]
["日常生活機能評価表",null,null,null,"計画管理病院もしくは、退院時指導料Ⅰ算定病院を退院後１カ月以内に計画管理病院へ日常生活機能評価表までを記入し返信"]
[null,null,null,null,"日付",null,null,null,null,null,null,null,null,null,null,null,"１ヶ月目：",null,null,null,null,null,null,null,null,null,null,null,null,null,null,null,null,null,"３ヶ月目："]
[null,null,null,null,"患者の状況"]
[null,null,null,null,null,null,null,null,null,null,null,null,null,null,null,null,"０点",null,null,null,null,null,"１点",null,null,null,null,null,null,null,"２点",null,null,null,"０点",null,null,null,null,null,"１点",null,null,null,null,null,null,null,"２点"]
[null,null,null,null,"床上安静の指示"]
[null,null,null,null,"どちらかの手を胸元まで持ち上げられる"]
[null,null,null,null,"寝返り"]
[null,null,null,null,"起き上がり"]
[null,null,null,null,"座位保持"]
[null,null,null,null,"移乗"]
[null,null,null,null,"移動方法"]
[null,null,null,null,"口腔清潔"]
[null,null,null,null,"食事摂取"]
[null,null,null,null,"衣服の着脱"]
[null,null,null,null,"他者への意思の伝達"]
[null,null,null,null,"診療・療養上の指示が通じる"]
[null,null,null,null,"危険行動"]
[null,null,null,null,null,null,null,null,null,null,null,null,"身体拘束"]
[null,null,null,null,null,null,null,null,null,null,null,null,null,null,null,null,null,null,null,null,null,null,null,null,null,"(",null,null,null,null,null,null,null,")",null,null,null,null,null,null,null,null,null,"(",null,null,null,null,null,null,null,")"]
[null,null,null,null,"合計点",null,null,null,null,null,null,null,null,null,null,null,{"$f":"日常生活機能評価!AK22","v":0},null,null,null,null,null,null,null,null,null,null,null,null,null,null,null,null,null,{"$f":"日常生活機能評価!AN22","v":0}]
["栄養・呼吸",null,null,null,null,null,null,"食事形態",null,null,null,null,null,null,null,null,null,null,null,null,null,null,null,"（",null,null,null,null,null,null,null,null,"）",null,null,null,"（",null,null,null,null,null,null,null,null,"）"]
[null,null,null,null,null,null,null,"方法",null,null,null,null,null,null,null,"（",null,null,null,null,null,null,null,null,null,null,"：",null,null,null,null,null,"）"]
[null,null,null,null,null,null,null,null,null,null,null,null,null,"カテーテル：　　　　",null,null,null,null,null,"Ｆｒ",null,null,"ｃｍ　　　",null,null,"最終交換日："]
[null,null,null,null,null,null,null,"気管切開",null,null,null,null,null,null,"最終交換日："]
["排泄"]
[null,null,null,null,"方法：",null,null,null,null,null,null,null,null,null,null,null,null,null,null,null,null,null,null,null,null,null,"Ｆｒ","最終交換日："]
["リハビリ",null,null,null,null,null,null,null,"担当者",null,null,"（",null,null,null,null,null,null,null,"）",null,null,null,null,"担当者",null,null,"（",null,null,null,null,null,null,null,"）",null,null,null,null,"担当者",null,null,"（",null,null,null,null,null,null,null,"）"]
[]
[]
[]
[]
[null,null,null,null,"生活機能に合わせたリハビリ"]
[null,null,null,null,null,null,null,null,null,null,null,null,null,null,null,null,null,null,null,null,null,null,null,null,null,"（"]
[null,null,null,null,null,null,null,null,null,null,null,null,null,null,null,null,null,null,null,null,null,null,null,null,null,null,null,null,null,null,null,null,null,null,null,null,null,null,null,null,null,null,"）"]
[null,null,null,null,null,null,null,null,null,null,null,null,"（",null,null,null,null,null,"）",null,null,null,null,null,null,"（",null,null,null,null,null,null,null,null,null,null,null,null,null,null,null,null,null,null,null,null,null,null,null,null,null,"）"]
[null,null,null,null,null,null,null,null,null,null,null,null,null,null,null,null,null,null,null,null,null,null,null,null,null,"（","内容：",null,null,null,null,null,null,null,null,null,null,null,null,null,null,null,null,null,null,null,"）"]
[null,null,null,null,null,null,null,null,null,null,null,null,null,null,null,null,null,null,null,null,null,null,null,null,null,"（",null,null,null,null,null,")"]
[null,null,null,null,null,null,null,null,null,null,null,null,"（",null,null,null,null,null,"）"]
[]
[null,null,null,null,null,null,null,"（",null,null,null,null,null,null,null,null,null,null,null,null,null,null,null,null,null,null,null,null,"）"]
["現在の\n生活の場所",null,null,null,null,null,null,"（同居者の有無",null,null,null,null,"：",null,null,null,null,"）",null,null,null,null,null,null,null,"（",null,null,null,null,null,null,null,null,")",null,null,null,null,null,null,"（",null,null,null,null,null,null,null,null,")"]
[null,null,null,null,null,null,null,null,null,null,"(",null,null,null,null,null,null,null,null,")",null,null,null,"(",null,null,null,null,null,null,null,null,")"]
["説明"]
[null,null,null,null,null,null,null,null,null,null,null,"（",null,null,null,null,null,null,null,null,"）",null,null,null,null,null,null,null,null,"（通所リハ利用の場合",null,null,null,null,null,null,"（",null,null,null,null,null,null,null,null,"）"]
[null,null,null,null,null,"説明日：",null,null,null,null,null,null,null,null,null,null,null,null,null,"説明を行った者："]
["目標",null,null,null,"今後の生活目標\n"]
[]
[]
[]
["(転帰・転院基準)",null,null,null,"【施設入所の場合：今後の方向性】",null,null,null,null,null,null,null,null,null,null,null,null,null,null,null,null,null,null,"サービスの利用"]
[null,null,null,null,null,null,null,null,null,null,null,null,null,null,null,null,null,null,null,null,null,null,null,null,"事業所名："]
[null,null,null,null,"　(ケアハウス・グループホーム含む)",null,null,null,null,null,null,null,null,null,null,null,null,null,null,null,null,null,null,null,"サービスの種類："]
[]
[null,null,null,null,"(",null,null,null,null,null,null,null,null," )"]
[]
["中核症状",null,null,null,"【短期記憶】"]
[null,null,null,null,"【日常の意思決定を行うための認知能力】"]
[null,null,null,null,"【自分の意思の伝達能力】"]
["周辺症状",null,null,null,null,null,null,null,null,"→"]
[null,null,null,null,null,null,null,null,null,null,null,null,null,null,null,null,null,null,null,null,null,null,null,null,null,null,null,null,null,null,null,null,null,"(",null,null,null,null,null,null,null,null,null,null,null,"）"]
["介護保険",null,null,null,"要介護認定の申請",null,null,null,null,null,null,null,null,null,null,null,null,null,null,null,null,null,null,null,null,null,"（要支援",null,null,null,null,null,null,null,null,"要介護",null,null,null,null,null,null,null,null,null,null,"）"]
[null,null,null,null,"居宅介護支援事業（",null,null,null,null,null,null,null,null,null,null,null,null,null,null,null,null,null,null,null,null,null,null,"）","担当者（",null,null,null,null,null,null,null,null,"）"]
["身障手帳",null,null,null,null,null,null,null,null,null,null,null,null,null,null,null,null,null,null,"(",null,null,")級"]
["精神手帳",null,null,null,null,null,null,null,null,null,null,null,null,null,null,null,null,null,null,"(",null,null,")級"]
["施設入所の場合",null,null,null,"自宅訪問",null,null,null,null,null,null,null,null,null,null,"(","訪問日：",null,null,null,null,null,null,null,null,null,null,"）"]
[null,null,null,null,"住宅改修必要性",null,null,null,null,null,null,null,null,null,null,"(",null,null,null,null,null,null,null,null,null,null,null,"：",null,null,null,null,null,null,null,"）"]
[null,null,null,null,null,null,null,null,null,null,null,null,null,"(",null,null,null,null,null,null,null,null,null,null,null,null,null,null,null,null,null,null,"：",null,null,null,null,null,null,null,"）"]
[null,null,null,null,"福祉用具の必要性"]
[null,null,null,null,null,null,null,null,null,null,null,null,null,"(",null,null,null,null,null,null,null,null,null,null,null,null,null,null,null,null,null,null,null,null,null,null,null,"：",null,null,null,null,null,null,null,"）"]
[]
[null,null,null,null,null,"説明日：",null,null,null,null,null,null,null,null,null,null,null,"説明を行った者：（"]
[]
[]
[]
[]
[]
["医療連携上の特記事項"]

{"sheet":"【維持期】印刷","index":9,"n_rows":115,"n_cols":52,"rows_kept":115,"cut":false,"hidden":true,"merged":[[114,0,115,9],[97,0,98,3],[99,0,100,3],[101,0,101,3],[102,0,102,3],[103,0,113,3],[85,0,86,3],[87,0,90,3],[91,0,93,3],[94,0,96,3],[87,4,87,51],[88,4,90,51],[97,4,97,5],[100,12,100,27],[100,33,100,39],[114,10,115,51],[112,4,112,21],[107,22,107,51],[94,4,94,18],[95,4,95,18],[96,4,96,18],[113,4,113,21],[111,4,111,21],[110,4,110,21],[63,0,64,3],[68,4,68,7],[68,8,68,51],[54,20,54,32],[54,33,54,35],[54,36,54,48],[54,49,54,51],[86,25,86,39],[66,8,66,51],[58,36,58,51],[57,20,57,35],[57,36,57,51],[58,4,58,19],[55,49,55,51],[55,20,55,32],[55,33,55,35],[55,36,55,48],[69,4,69,7],[54,4,54,19],[65,0,82,3],[65,22,65,27],[65,28,65,33],[65,34,65,39],[65,40,65,45],[14,4,14,14],[27,4,27,7],[28,4,29,7],[52,20,52,32],[52,33,52,35],[51,20,51,32],[65,16,65,21],[66,4,66,7],[84,0,84,3],[83,0,83,3],[64,4,64,7],[82,10,82,31],[51,4,51,19],[52,4,52,19],[67,4,67,7],[67,8,67,51],[70,4,70,51],[59,0,62,3],[61,15,61,16],[61,18,61,19],[61,20,61,21],[61,29,61,36],[62,16,62,24],[69,8,69,51],[15,8,16,51],[15,4,15,7],[38,12,38,19],[42,20,42,35],[42,36,42,51],[43,20,43,32],[43,33,43,35],[41,25,41,35],[41,41,41,51],[33,8,34,51],[18,4,18,7],[18,16,18,17],[18,21,18,22],[41,4,41,19],[42,4,42,19],[43,4,43,19],[18,26,18,27],[18,42,18,50],[25,4,25,7],[26,4,26,7],[19,26,19,27],[19,42,19,50],[20,16,20,17],[43,49,43,51],[65,46,65,51],[63,4,63,7],[65,4,65,15],[35,0,36,3],[37,0,39,3],[40,0,58,3],[45,20,45,32],[45,33,45,35],[46,20,46,32],[46,33,46,35],[47,20,47,32],[47,33,47,35],[48,20,48,32],[53,20,53,32],[53,33,53,35],[48,33,48,35],[49,20,49,32],[49,33,49,35],[50,20,50,32],[56,14,57,19],[58,20,58,35],[47,36,47,48],[49,36,49,48],[52,36,52,48],[43,36,43,48],[49,49,49,51],[50,36,50,48],[50,49,50,51],[51,36,51,48],[51,49,51,51],[30,4,30,7],[30,8,31,51],[40,4,40,51],[44,36,44,48],[44,49,44,51],[45,36,45,48],[45,49,45,51],[46,36,46,48],[46,49,46,51],[23,28,23,29],[23,34,23,35],[23,40,23,41],[23,45,23,51],[53,4,53,19],[55,4,55,19],[44,20,44,32],[50,33,50,35],[44,33,44,35],[29,12,29,51],[44,4,44,19],[45,4,45,19],[46,4,46,19],[47,4,47,19],[48,4,48,19],[49,4,49,19],[50,4,50,19],[47,49,47,51],[48,36,48,48],[48,49,48,51],[53,36,53,48],[53,49,53,51],[52,49,52,51],[51,33,51,35],[17,29,17,30],[17,33,17,36],[17,37,17,44],[10,0,11,3],[10,4,11,51],[12,0,12,3],[12,4,12,51],[14,0,16,3],[17,0,34,3],[17,8,17,9],[17,12,17,15],[17,16,17,23],[19,16,19,17],[19,21,19,22],[22,4,22,7],[23,4,24,7],[23,16,23,17],[23,21,23,22],[20,21,20,22],[20,26,20,27],[20,31,20,32],[20,36,20,37],[20,42,20,50],[23,23,23,27],[2,0,2,3],[2,4,2,29],[2,30,2,33],[2,34,2,51],[3,0,3,3],[3,4,3,51],[7,37,7,41],[13,0,13,3],[9,4,9,10],[9,11,9,15],[9,30,9,36],[9,40,9,42],[9,43,9,46],[13,4,13,13],[8,40,8,50],[8,4,8,10],[8,11,8,15],[8,30,8,36],[4,0,9,3],[4,4,4,10],[4,11,4,15],[4,30,4,36],[4,42,4,47],[5,4,5,10],[0,26,0,32],[0,44,0,50],[1,0,1,3],[1,4,1,14],[1,15,1,18],[1,19,1,23],[1,24,1,30],[1,31,1,39],[1,40,1,47],[1,48,1,49],[5,30,5,36],[5,37,5,41],[6,4,6,10],[6,11,6,15],[5,16,5,28],[6,30,6,36],[6,37,6,41],[7,4,7,10],[7,11,7,15],[7,30,7,36],[109,4,109,21],[108,4,108,21],[107,4,107,21],[106,4,106,11],[103,4,103,11],[104,4,105,11],[86,8,86,16],[85,4,85,51],[97,6,98,51]]}
["脳外傷地域連携診療計画書【維持期】",null,null,null,null,null,null,null,null,null,null,null,null,null,null,null,null,null,null,null,null,null,null,null,null,"紹介元病院名（",{"$f":"【維持期】データ管理!D4","v":""},null,null,null,null,null,null,"）",null,null,null,null,null,null,null,null,null,"⇒維持期・かかりつけ医（",{"$f":"【維持期】データ管理!D3","v":""},null,null,null,null,null,null,"）"]
["氏名",null,null,null,{"$f":"【維持期】データ管理!D5","v":""},null,null,null,null,null,null,null,null,null,null,"性別",null,null,null,{"$f":"【維持期】データ管理!F6","v":""},null,null,null,null,"生年月日",null,null,null,null,null,null,{"$f":"【維持期】データ管理!D7","v":""},null,null,null,null,null,null,null,null,{"$f":"TODAY()","v":"2023-04-01"},null,null,null,null,null,null,null,{"$f":"IF(AF2=\"\",\"\",IFERROR(DATEDIF(AF2,AO2,\"y\"),\"\"))","v":""},null,"歳"]
["住所",null,null,null,{"$f":"【維持期】データ管理!D8","v":""},null,null,null,null,null,null,null,null,null,null,null,null,null,null,null,null,null,null,null,null,null,null,null,null,null,"電話番号",null,null,null,{"$f":"【維持期】データ管理!D9","v":""}]
["診断名",null,null,null,{"$f":"【維持期】データ管理!D10","v":""}]
["身体状況等",null,null,null,"Talk&deteriorate",null,null,null,null,null,null,{"$f":"【維持期】データ管理!F11","v":""},null,null,null,null,null,null,null,null,null,null,null,null,null,null,null,null,null,null,"拘縮",null,null,null,null,null,null,{"$f":"【維持期】データ管理!F23","v":""},null,"（部位：",null,null,{"$f":"【維持期】データ管理!D24","v":""},null,null,null,null,null,"）"]
[null,null,null,null,"多発外傷",null,null,null,null,null,null,{"$f":"【維持期】データ管理!F12","v":""},null,null,null,"（場所：",{"$f":"【維持期】データ管理!H17","v":""},null,null,null,null,null,null,null,null,null,null,null,null,"）","嚥下障害",null,null,null,null,null,null,{"$f":"【維持期】データ管理!F25","v":""}]
[null,null,null,null,"興奮･安静困難",null,null,null,null,null,null,{"$f":"【維持期】データ管理!F19","v":""},null,null,null,null,null,null,null,null,null,null,null,null,null,null,null,null,null,null,"肺炎",null,null,null,null,null,null,{"$f":"【維持期】データ管理!F26","v":""}]
[null,null,null,null,"視野障害",null,null,null,null,null,null,{"$f":"【維持期】データ管理!F20","v":""},null,null,null,null,null,null,null,null,null,null,null,null,null,null,null,null,null,null,"尿路感染症",null,null,null,null,null,null,{"$f":"【維持期】データ管理!F27","v":""}]
[null,null,null,null,"感覚障害",null,null,null,null,null,null,{"$f":"【維持期】データ管理!F21","v":""},null,null,null,null,null,null,null,null,null,null,null,null,null,null,null,null,null,null,"その他合併症",null,null,null,null,null,null,{"$f":"【維持期】データ管理!F28","v":""},null,"（",{"$f":"【維持期】データ管理!D29","v":""},null,null,null,null,null,null,null,null,null,null,"）"]
[null,null,null,null,"疼痛",null,null,null,null,null,null,{"$f":"【維持期】データ管理!F22","v":""},null,null,null,null,null,null,null,null,null,null,null,null,null,null,null,null,null,null,"その他感染症",null,null,null,null,null,null,{"$f":"【維持期】データ管理!F30","v":""},null,"（","部位：",null,null,{"$f":"【維持期】データ管理!D31","v":""},null,null,null,"）"]
["高次脳\n機能障害",null,null,null,{"$f":"【維持期】データ管理!H45","v":""}]
[]
["経過",null,null,null,"維持期移行後３カ月の状況"]
["評価日",null,null,null,{"$f":"【維持期】データ管理!D48","v":""}]
["処置",null,null,null,"経過中の症状変動の有無：",null,null,null,null,null,null,null,null,null,null,{"$f":"【維持期】データ管理!F49","v":""}]
[null,null,null,null,"症状と原因",null,null,null,{"$f":"【維持期】データ管理!D50","v":""}]
[]
["神経心理学的検査\n(○：実施)",null,null,null,{"$f":"IF(【維持期】データ管理!D51,\"○\",\"\")","v":""},"HDS-R：",null,null,{"$f":"【維持期】データ管理!D52","v":""},null,"点",null,"実施日：",null,null,null,{"$f":"【維持期】データ管理!D53","v":""},null,null,null,null,null,null,null,null,{"$f":"IF(【維持期】データ管理!D54,\"○\",\"\")","v":""},"MMSE：",null,null,{"$f":"【維持期】データ管理!D55","v":""},null,"点",null,"実施日：",null,null,null,{"$f":"【維持期】データ管理!D56","v":""}]
[null,null,null,null,"知能",null,null,null,{"$f":"IF(【維持期】データ管理!D57,\"○\",\"\")","v":""},"WAIS-Ⅲ",null,null,null,null,null,"FIQ：",{"$f":"IF('【維持期】WAIS-Ⅲ'!$C$8=\"\",\"\",'【維持期】WAIS-Ⅲ'!$C$8)","v":""},null,null,null,"VIQ：",{"$f":"IF('【維持期】WAIS-Ⅲ'!$C$6=\"\",\"\",'【維持期】WAIS-Ⅲ'!$C$6)","v":""},null,null,null,"PIQ：",{"$f":"IF('【維持期】WAIS-Ⅲ'!$C$7=\"\",\"\",'【維持期】WAIS-Ⅲ'!$C$7)","v":""},null,null,null,null,null,null,null,null,null,null,null,null,null,null,"実施日：",{"$f":"IF('【維持期】WAIS-Ⅲ'!$C$3=\"\",\"\",'【維持期】WAIS-Ⅲ'!$C$3)","v":""}]
[null,null,null,null,null,null,null,null,{"$f":"IF(【維持期】データ管理!D62,\"○\",\"\")","v":""},"WISC-Ⅲ",null,null,null,null,null,"FIQ：",{"$f":"IF('【維持期】WISC-Ⅲ'!$C$8=\"\",\"\",'【維持期】WISC-Ⅲ'!$C$8)","v":""},null,null,null,"VIQ：",{"$f":"IF('【維持期】WISC-Ⅲ'!$C$6=\"\",\"\",'【維持期】WISC-Ⅲ'!$C$6)","v":""},null,null,null,"PIQ：",{"$f":"IF('【維持期】WISC-Ⅲ'!$C$7=\"\",\"\",'【維持期】WISC-Ⅲ'!$C$7)","v":""},null,null,null,null,null,null,null,null,null,null,null,null,null,null,"実施日：",{"$f":"IF('【維持期】WISC-Ⅲ'!$C$3=\"\",\"\",'【維持期】WISC-Ⅲ'!$C$3)","v":""}]
[null,null,null,null,null,null,null,null,{"$f":"IF(【維持期】データ管理!D67,\"○\",\"\")","v":""},"WISC-Ⅳ",null,null,null,null,null,"FSIQ：",{"$f":"IF('【維持期】WISC-Ⅳ'!$C$6=\"\",\"\",'【維持期】WISC-Ⅳ'!$C$6)","v":""},null,null,null,"VCI：",{"$f":"IF('【維持期】WISC-Ⅳ'!$C$7=\"\",\"\",'【維持期】WISC-Ⅳ'!$C$7)","v":""},null,null,null,"PRI：",{"$f":"IF('【維持期】WISC-Ⅳ'!$C$8=\"\",\"\",'【維持期】WISC-Ⅳ'!$C$8)","v":""},null,null,null,"WMI：",{"$f":"IF('【維持期】WISC-Ⅳ'!$C$9=\"\",\"\",'【維持期】WISC-Ⅳ'!$C$9)","v":""},null,null,null,"PSI：",{"$f":"IF('【維持期】WISC-Ⅳ'!$C$10=\"\",\"\",'【維持期】WISC-Ⅳ'!$C$10)","v":""},null,null,null,null,"実施日：",{"$f":"IF('【維持期】WISC-Ⅳ'!$C$3=\"\",\"\",'【維持期】WISC-Ⅳ'!$C$3)","v":""}]
[null,null,null,null,null,null,null,null,{"$f":"IF(【維持期】データ管理!D74,\"○\",\"\")","v":""},"レーヴン色彩マトリックス検査",null,null,null,null,null,null,null,null,null,null,null,{"$f":"IF(【維持期】データ管理!D75,\"○\",\"\")","v":""},"COGNISTAT",null,null,null,null,null,null,{"$f":"IF(【維持期】データ管理!D76,\"○\",\"\")","v":""},"大脇式精薄児用知能検査",null,null,null,null,null,null,null,null,null,{"$f":"IF(【維持期】データ管理!D77,\"○\",\"\")","v":""},"田中・ビネー式知能検査"]
[null,null,null,null,"言語",null,null,null,{"$f":"IF(【維持期】データ管理!D78,\"○\",\"\")","v":""},"標準失語症検査",null,null,null,null,null,null,null,null,null,null,null,{"$f":"IF(【維持期】データ管理!D79,\"○\",\"\")","v":""},"SALA失語症検査",null,null,null,null,null,null,{"$f":"IF(【維持期】データ管理!D80,\"○\",\"\")","v":""},"WAB失語症検査"]
[null,null,null,null,"記憶",null,null,null,{"$f":"IF(【維持期】データ管理!D81,\"○\",\"\")","v":""},"WMS-R",null,null,null,null,null,"言語性：",{"$f":"IF('【維持期】WMS-R'!$B$25=\"\",\"\",'【維持期】WMS-R'!$B$25)","v":""},null,null,null,"視覚性：",{"$f":"IF('【維持期】WMS-R'!$B$27=\"\",\"\",'【維持期】WMS-R'!$B$27)","v":""},null,"一般的記憶：",null,null,null,null,{"$f":"IF('【維持期】WMS-R'!$B$29=\"\",\"\",'【維持期】WMS-R'!$B$29)","v":""},null,null,null,null,"注意集中：",{"$f":"IF('【維持期】WMS-R'!$B$31=\"\",\"\",'【維持期】WMS-R'!$B$31)","v":""},null,null,null,null,"遅延再生：",{"$f":"IF('【維持期】WMS-R'!$B$33=\"\",\"\",'【維持期】WMS-R'!$B$33)","v":""},null,null,null,"実施日：",{"$f":"IF('【維持期】WMS-R'!$C$3=\"\",\"\",'【維持期】WMS-R'!$C$3)","v":""}]
[null,null,null,null,null,null,null,null,{"$f":"IF(【維持期】データ管理!D87,\"○\",\"\")","v":""},"リバーミード行動記憶検査",null,null,null,null,null,null,null,null,null,{"$f":"IF(【維持期】データ管理!D88,\"○\",\"\")","v":""},"三宅式記銘検査",null,null,null,null,null,null,null,null,{"$f":"IF(【維持期】データ管理!D89,\"○\",\"\")","v":""},"ベントン視覚記銘検査"]
[null,null,null,null,"構成",null,null,null,{"$f":"IF(【維持期】データ管理!D90,\"○\",\"\")","v":""},"コース立方体組み合わせテスト"]
[null,null,null,null,"注意",null,null,null,{"$f":"IF(【維持期】データ管理!D91,\"○\",\"\")","v":""},"TMT",null,null,null,null,null,null,null,{"$f":"IF(【維持期】データ管理!D92,\"○\",\"\")","v":""},"CAT",null,null,null,null,null,null,null,null,null,null,null,{"$f":"IF(【維持期】データ管理!D93,\"○\",\"\")","v":""},"D-CAT",null,null,null,null,null,null,null,{"$f":"IF(【維持期】データ管理!D94,\"○\",\"\")","v":""},"PASAT"]
[null,null,null,null,"遂行機能",null,null,null,{"$f":"IF(【維持期】データ管理!D95,\"○\",\"\")","v":""},"BAD",null,null,null,null,null,null,null,{"$f":"IF(【維持期】データ管理!D96,\"○\",\"\")","v":""},"ウィスコンシンカード分類課題",null,null,null,null,null,null,null,null,null,null,null,{"$f":"IF(【維持期】データ管理!D97,\"○\",\"\")","v":""},"前頭葉機能検査（FAB)"]
[null,null,null,null,"その他",null,null,null,{"$f":"IF(【維持期】データ管理!D98,\"○\",\"\")","v":""},"BIT(行動性無視検査)",null,null,null,null,null,null,null,{"$f":"IF(【維持期】データ管理!D99,\"○\",\"\")","v":""},"VPTA(標準高次視知覚検査)",null,null,null,null,null,null,null,null,null,null,null,{"$f":"IF(【維持期】データ管理!D100,\"○\",\"\")","v":""},"SPTA(標準高次動作性検査)"]
[null,null,null,null,null,null,null,null,{"$f":"IF(【維持期】データ管理!D101,\"○\",\"\")","v":""},"その他",null,null,{"$f":"【維持期】データ管理!F102","v":""}]
[null,null,null,null,"結果・所見",null,null,null,{"$f":"【維持期】データ管理!D103","v":""}]
[]
[null,null,null,null,"特記事項（日常生活上想定される問題等）"]
[null,null,null,null,null,null,null,null,{"$f":"【維持期】データ管理!D104","v":""}]
[]
["内服",null,null,null,"内服",null,null,null,{"$f":"【維持期】データ管理!F105","v":""}]
[null,null,null,null,"服薬管理",null,null,null,{"$f":"【維持期】データ管理!F107","v":""}]
["治療",null,null,null,{"$f":"【維持期】データ管理!F108","v":""}]
[null,null,null,null,null,"★かかりつけ医（",null,null,null,null,null,null,{"$f":"【維持期】データ管理!D114","v":""},null,null,null,null,null,null,null,")","病院・医院"]
[]
["日常生活機能評価表",null,null,null,"計画管理病院もしくは、退院時指導料Ⅰ算定病院を退院後１カ月以内に計画管理病院へ日常生活機能評価表までを記入し返信"]
[null,null,null,null,"日付",null,null,null,null,null,null,null,null,null,null,null,null,null,null,null,"１ヶ月目：",null,null,null,null,{"$f":"【維持期】データ管理!D115","v":""},null,null,null,null,null,null,null,null,null,null,"３ヶ月目：",null,null,null,null,{"$f":"【維持期】データ管理!D134","v":""}]
[null,null,null,null,"患者の状況",null,null,null,null,null,null,null,null,null,null,null,null,null,null,null,"得点",null,null,null,null,null,null,null,null,null,null,null,null,null,null,null,"得点"]
[null,null,null,null,"床上安静の指示",null,null,null,null,null,null,null,null,null,null,null,null,null,null,null,{"$f":"【維持期】データ管理!F116","v":""},null,null,null,null,null,null,null,null,null,null,null,null,{"$f":"日常生活機能評価!AK9","v":""},null,null,{"$f":"【維持期】データ管理!F135","v":""},null,null,null,null,null,null,null,null,null,null,null,null,{"$f":"日常生活機能評価!AN9","v":""}]
[null,null,null,null,"どちらかの手を胸元まで持ち上げられる",null,null,null,null,null,null,null,null,null,null,null,null,null,null,null,{"$f":"【維持期】データ管理!F117","v":""},null,null,null,null,null,null,null,null,null,null,null,null,{"$f":"日常生活機能評価!AK10","v":""},null,null,{"$f":"【維持期】データ管理!F136","v":""},null,null,null,null,null,null,null,null,null,null,null,null,{"$f":"日常生活機能評価!AN10","v":""}]
[null,null,null,null,"寝返り",null,null,null,null,null,null,null,null,null,null,null,null,null,null,null,{"$f":"【維持期】データ管理!F118","v":""},null,null,null,null,null,null,null,null,null,null,null,null,{"$f":"日常生活機能評価!AK11","v":""},null,null,{"$f":"【維持期】データ管理!F137","v":""},null,null,null,null,null,null,null,null,null,null,null,null,{"$f":"日常生活機能評価!AN11","v":""}]
[null,null,null,null,"起き上がり",null,null,null,null,null,null,null,null,null,null,null,null,null,null,null,{"$f":"【維持期】データ管理!F119","v":""},null,null,null,null,null,null,null,null,null,null,null,null,{"$f":"日常生活機能評価!AK12","v":""},null,null,{"$f":"【維持期】データ管理!F138","v":""},null,null,null,null,null,null,null,null,null,null,null,null,{"$f":"日常生活機能評価!AN12","v":""}]
[null,null,null,null,"座位保持",null,null,null,null,null,null,null,null,null,null,null,null,null,null,null,{"$f":"【維持期】データ管理!F120","v":""},null,null,null,null,null,null,null,null,null,null,null,null,{"$f":"日常生活機能評価!AK13","v":""},null,null,{"$f":"【維持期】データ管理!F139","v":""},null,null,null,null,null,null,null,null,null,null,null,null,{"$f":"日常生活機能評価!AN13","v":""}]
[null,null,null,null,"移乗",null,null,null,null,null,null,null,null,null,null,null,null,null,null,null,{"$f":"【維持期】データ管理!F121","v":""},null,null,null,null,null,null,null,null,null,null,null,null,{"$f":"日常生活機能評価!AK14","v":""},null,null,{"$f":"【維持期】データ管理!F140","v":""},null,null,null,null,null,null,null,null,null,null,null,null,{"$f":"日常生活機能評価!AN14","v":""}]
[null,null,null,null,"移動方法",null,null,null,null,null,null,null,null,null,null,null,null,null,null,null,{"$f":"【維持期】データ管理!F122","v":""},null,null,null,null,null,null,null,null,null,null,null,null,{"$f":"日常生活機能評価!AK15","v":""},null,null,{"$f":"【維持期】データ管理!F141","v":""},null,null,null,null,null,null,null,null,null,null,null,null,{"$f":"日常生活機能評価!AN15","v":""}]
[null,null,null,null,"口腔清潔",null,null,null,null,null,null,null,null,null,null,null,null,null,null,null,{"$f":"【維持期】データ管理!F123","v":""},null,null,null,null,null,null,null,null,null,null,null,null,{"$f":"日常生活機能評価!AK16","v":""},null,null,{"$f":"【維持期】データ管理!F142","v":""},null,null,null,null,null,null,null,null,null,null,null,null,{"$f":"日常生活機能評価!AN16","v":""}]
[null,null,null,null,"食事摂取",null,null,null,null,null,null,null,null,null,null,null,null,null,null,null,{"$f":"【維持期】データ管理!F124","v":""},null,null,null,null,null,null,null,null,null,null,null,null,{"$f":"日常生活機能評価!AK17","v":""},null,null,{"$f":"【維持期】データ管理!F143","v":""},null,null,null,null,null,null,null,null,null,null,null,null,{"$f":"日常生活機能評価!AN17","v":""}]
[null,null,null,null,"衣服の着脱",null,null,null,null,null,null,null,null,null,null,null,null,null,null,null,{"$f":"【維持期】データ管理!F125","v":""},null,null,null,null,null,null,null,null,null,null,null,null,{"$f":"日常生活機能評価!AK18","v":""},null,null,{"$f":"【維持期】データ管理!F144","v":""},null,null,null,null,null,null,null,null,null,null,null,null,{"$f":"日常生活機能評価!AN18","v":""}]
[null,null,null,null,"他者への意思の伝達",null,null,null,null,null,null,null,null,null,null,null,null,null,null,null,{"$f":"【維持期】データ管理!F126","v":""},null,null,null,null,null,null,null,null,null,null,null,null,{"$f":"日常生活機能評価!AK19","v":""},null,null,{"$f":"【維持期】データ管理!F145","v":""},null,null,null,null,null,null,null,null,null,null,null,null,{"$f":"日常生活機能評価!AN19","v":""}]
[null,null,null,null,"診療・療養上の指示が通じる",null,null,null,null,null,null,null,null,null,null,null,null,null,null,null,{"$f":"【維持期】データ管理!F127","v":""},null,null,null,null,null,null,null,null,null,null,null,null,{"$f":"日常生活機能評価!AK20","v":""},null,null,{"$f":"【維持期】データ管理!F146","v":""},null,null,null,null,null,null,null,null,null,null,null,null,{"$f":"日常生活機能評価!AN20","v":""}]
[null,null,null,null,"危険行動",null,null,null,null,null,null,null,null,null,null,null,null,null,null,null,{"$f":"【維持期】データ管理!F128","v":""},null,null,null,null,null,null,null,null,null,null,null,null,{"$f":"日常生活機能評価!AK21","v":""},null,null,{"$f":"【維持期】データ管理!F147","v":""},null,null,null,null,null,null,null,null,null,null,null,null,{"$f":"日常生活機能評価!AN21","v":""}]
[null,null,null,null,null,null,null,null,null,null,null,null,null,null,"身体拘束",null,null,null,null,null,{"$f":"【維持期】データ管理!F129","v":""},null,null,null,null,null,null,null,null,null,null,null,null,null,null,null,{"$f":"【維持期】データ管理!F148","v":""}]
[null,null,null,null,null,null,null,null,null,null,null,null,null,null,null,null,null,null,null,null,{"$f":"【維持期】データ管理!H131","v":""},null,null,null,null,null,null,null,null,null,null,null,null,null,null,null,{"$f":"【維持期】データ管理!H150","v":""}]
[null,null,null,null,"合計点",null,null,null,null,null,null,null,null,null,null,null,null,null,null,null,{"$f":"SUM(AH44:AJ56)","v":0},null,null,null,null,null,null,null,null,null,null,null,null,null,null,null,{"$f":"SUM(AX44:AZ56)","v":0}]
["栄養・呼吸",null,null,null,null,null,null,"食事形態",{"$f":"【維持期】データ管理!H156","v":""}]
[null,null,null,null,null,null,null,"方法",{"$f":"【維持期】データ管理!H160","v":""}]
[null,null,null,null,null,null,null,null,null,null,"カテーテル",null,null,null,null,{"$f":"【維持期】データ管理!D166","v":""},null,"Ｆｒ",{"$f":"【維持期】データ管理!D167","v":""},null,"ｃｍ　　　",null,null,null,null,null,null,null,"最終交換日：",{"$f":"【維持期】データ管理!D168","v":""}]
[null,null,null,null,null,null,null,"気管切開",{"$f":"【維持期】データ管理!F169","v":""},null,null,null,null,null,null,"最終交換日：",{"$f":"【維持期】データ管理!D170","v":""}]
["排泄",null,null,null,"動作",null,null,null,{"$f":"【維持期】データ管理!F171","v":""}]
[null,null,null,null,"方法",null,null,null,{"$f":"【維持期】データ管理!H175","v":""}]
["リハビリ",null,null,null,{"$f":"【維持期】データ管理!H182","v":""},null,null,null,null,null,null,null,null,null,null,null,"理学療法担当者",null,null,null,null,null,{"$f":"【維持期】データ管理!D180","v":""},null,null,null,null,null,"作業療法担当者",null,null,null,null,null,{"$f":"【維持期】データ管理!D182","v":""},null,null,null,null,null,"言語療法担当者",null,null,null,null,null,{"$f":"【維持期】データ管理!D184","v":""}]
[null,null,null,null,"言語",null,null,null,{"$f":"【維持期】データ管理!D186","v":""}]
[null,null,null,null,"身体",null,null,null,{"$f":"【維持期】データ管理!D188","v":""}]
[null,null,null,null,"認知",null,null,null,{"$f":"【維持期】データ管理!D190","v":""}]
[null,null,null,null,"留意事項",null,null,null,{"$f":"【維持期】データ管理!D192","v":""}]
[null,null,null,null,"生活機能に合わせたリハビリ　(○：該当)"]
[null,null,null,null,{"$f":"IF(【維持期】データ管理!D193,\"○\",\"\")","v":""},"医療保険"]
[null,null,null,null,{"$f":"IF(【維持期】データ管理!D194,\"○\",\"\")","v":""},"介護保険",null,null,null,null,null,"種類：",null,null,{"$f":"【維持期】データ管理!F195","v":""}]
[null,null,null,null,{"$f":"IF(【維持期】データ管理!D200,\"○\",\"\")","v":""},"通所リハビリ",null,null,null,null,null,{"$f":"【維持期】データ管理!H204","v":""}]
[null,null,null,null,{"$f":"IF(【維持期】データ管理!D206,\"○\",\"\")","v":""},"通所介護",null,null,null,null,null,{"$f":"【維持期】データ管理!H210","v":""}]
[null,null,null,null,{"$f":"IF(【維持期】データ管理!D212,\"○\",\"\")","v":""},"訪問介護",null,null,null,null,null,"（内容：",null,null,"：",{"$f":"【維持期】データ管理!F213","v":""}]
[null,null,null,null,{"$f":"IF(【維持期】データ管理!D214,\"○\",\"\")","v":""},"訪問リハビリ",null,null,null,null,null,{"$f":"【維持期】データ管理!F215","v":""}]
[null,null,null,null,{"$f":"IF(【維持期】データ管理!D216,\"○\",\"\")","v":""},"機能訓練事業"]
[null,null,null,null,{"$f":"IF(【維持期】データ管理!D217,\"○\",\"\")","v":""},"ＡＤＬ・ＩＡＤＬ訓練"]
[null,null,null,null,{"$f":"IF(【維持期】データ管理!D218,\"○\",\"\")","v":""},"住環境整備"]
[null,null,null,null,{"$f":"IF(【維持期】データ管理!D219,\"○\",\"\")","v":""},"補装具の検討・作製"]
[null,null,null,null,{"$f":"IF(【維持期】データ管理!D220,\"○\",\"\")","v":""},"役割・趣味活動開発"]
[null,null,null,null,{"$f":"IF(【維持期】データ管理!D221,\"○\",\"\")","v":""},"その他",null,null,null,"（",{"$f":"【維持期】データ管理!D222","v":""},null,null,null,null,null,null,null,null,null,null,null,null,null,null,null,null,null,null,null,null,null,"）"]
["現在の",null,null,null,{"$f":"【維持期】データ管理!F223","v":""}]
["生活の場所"]
["説明",null,null,null,{"$f":"【維持期】データ管理!H230","v":""}]
[null,null,null,null,"説明日：",null,null,null,{"$f":"【維持期】データ管理!D233","v":""},null,null,null,null,null,null,null,null,null,null,null,null,null,null,null,"説明を行った者：",{"$f":"【維持期】データ管理!D234","v":""}]
["目標",null,null,null,"今後の生活目標\n"]
[null,null,null,null,{"$f":"【維持期】データ管理!D235","v":""}]
[]
[]
["(転帰・転院基準)",null,null,null,"【施設入所の場合：今後の方向性】",null,null,null,null,null,null,null,null,null,null,null,null,null,null,null,null,"サービスの利用"]
[null,null,null,null,null,{"$f":"【維持期】データ管理!F236","v":""},null,null,null,null,null,null,null,null,null,null,null,null,null,null,null,null,"事業所名：",null,null,null,null,{"$f":"【維持期】データ管理!D238","v":""}]
[null,null,null,null,null,null,null,null,null,null,null,null,null,null,null,null,null,null,null,null,null,null,"サービスの種類：",null,null,null,null,null,null,{"$f":"【維持期】データ管理!D239","v":""}]
["中核症状",null,null,null,"短期記憶",null,null,null,null,null,null,null,null,null,null,null,null,null,null,{"$f":"【維持期】データ管理!F241","v":""}]
[null,null,null,null,"日常の意思決定を行うための認知能力",null,null,null,null,null,null,null,null,null,null,null,null,null,null,{"$f":"【維持期】データ管理!F242","v":""}]
[null,null,null,null,"自分の意思の伝達能力",null,null,null,null,null,null,null,null,null,null,null,null,null,null,{"$f":"【維持期】データ管理!F243","v":""}]
["周辺症状",null,null,null,{"$f":"【維持期】データ管理!F244","v":""},null,{"$f":"【維持期】データ管理!H255","v":""}]
[]
["介護保険",null,null,null,"要介護認定の申請：",null,null,null,null,null,null,null,{"$f":"【維持期】データ管理!F258","v":""}]
[null,null,null,null,"居宅介護支援事業（",null,null,null,null,null,null,null,{"$f":"【維持期】データ管理!D260","v":""},null,null,null,null,null,null,null,null,null,null,null,null,null,null,null,"）","担当者（",null,null,null,{"$f":"【維持期】データ管理!D261","v":""},null,null,null,null,null,null,"）"]
["身障手帳",null,null,null,{"$f":"【維持期】データ管理!F262","v":""}]
["精神手帳",null,null,null,{"$f":"【維持期】データ管理!F264","v":""}]
["施設入所の場合",null,null,null,"自宅訪問",null,null,null,null,null,null,null,{"$f":"【維持期】データ管理!F266","v":""}]
[null,null,null,null,"住宅改修必要性",null,null,null,null,null,null,null,{"$f":"【維持期】データ管理!F268","v":""}]
[null,null,null,null,null,null,null,null,null,null,null,null,{"$f":"\"　　\" & 【維持期】データ管理!H273","v":"　　"}]
[null,null,null,null,"福祉用具の必要性",null,null,null,null,null,null,null,{"$f":"【維持期】データ管理!F276","v":""}]
[null,null,null,null,"退院・転院後のリハビリ・服薬・栄養に関する説明",null,null,null,null,null,null,null,null,null,null,null,null,null,null,null,null,null,{"$f":"【維持期】データ管理!F282","v":"未実施"}]
[null,null,null,null,"退院（所）時指導",null,null,null,null,null,null,null,null,null,null,null,null,null,null,null,null,null,{"$f":"【維持期】データ管理!F285","v":"未実施"}]
[null,null,null,null,"かかりつけ医への情報提供",null,null,null,null,null,null,null,null,null,null,null,null,null,null,null,null,null,{"$f":"【維持期】データ管理!F286","v":"未実施"}]
[null,null,null,null,"ケアマネジャーへの情報提供",null,null,null,null,null,null,null,null,null,null,null,null,null,null,null,null,null,{"$f":"【維持期】データ管理!F287","v":"未実施"}]
[null,null,null,null,"在宅ケア希望者退院連絡票送付",null,null,null,null,null,null,null,null,null,null,null,null,null,null,null,null,null,{"$f":"【維持期】データ管理!F288","v":"未実施"}]
[null,null,null,null,"居宅ｻｰﾋﾞｽ計画書案作成",null,null,null,null,null,null,null,null,null,null,null,null,null,null,null,null,null,{"$f":"【維持期】データ管理!F289","v":"未実施"}]
[null,null,null,null,"紹介元へ退所時情報の提供",null,null,null,null,null,null,null,null,null,null,null,null,null,null,null,null,null,{"$f":"【維持期】データ管理!F290","v":"未実施"}]
["医療連携上の特記事項",null,null,null,null,null,null,null,null,null,{"$f":"【維持期】データ管理!D292","v":""}]

{"sheet":"【維持期】データ管理","index":10,"n_rows":294,"n_cols":14,"rows_kept":294,"cut":false,"hidden":true,"merged":[[1,0,1,2],[1,6,1,7]]}
["データ管理",null,null,null,null,null,null,null,"入力済み:0 未:1"]
["項目名",null,null,"値","備考","印刷文字","計算用",null,"入院/搬入","退院","入力日時","入力担当","ﾁｪｯｸ有","前回入力"]
["維持期・かかりつけ医",null,null,{"$f":"IF(【維持期】入力シート!AC3=\"\",\"\",【維持期】入力シート!AC3)","v":""},null,null,null,null,null,null,null,null,{"$f":"IF(【維持期】入力シート!$BE$5=FALSE,IF(【維持期】データ管理!K3=0,FALSE,IF(【維持期】データ管理!K3<【維持期】入力シート!$BE$1,TRUE,FALSE)))","v":false}]
["紹介元病院名",null,null,{"$f":"IF(【維持期】入力シート!H3=\"\",\"\",【維持期】入力シート!H3)","v":""},null,null,null,null,null,null,null,null,{"$f":"IF(【維持期】入力シート!$BE$5=FALSE,IF(【維持期】データ管理!K4=0,FALSE,IF(【維持期】データ管理!K4<【維持期】入力シート!$BE$1,TRUE,FALSE)))","v":false}]
["氏名",null,null,{"$f":"IF(【維持期】入力シート!E4=\"\",\"\",【維持期】入力シート!E4)","v":""},null,null,null,null,null,null,null,null,{"$f":"IF(【維持期】入力シート!$BE$5=FALSE,IF(【維持期】データ管理!K5=0,FALSE,IF(【維持期】データ管理!K5<【維持期】入力シート!$BE$1,TRUE,FALSE)))","v":false}]
["性別",null,null,0,"1:男　2:女",{"$f":"IF(D6=1,\"男\",IF(D6=2,\"女\",\"\"))","v":""},null,null,null,null,null,null,{"$f":"IF(【維持期】入力シート!$BE$5=FALSE,IF(【維持期】データ管理!K6=0,FALSE,IF(【維持期】データ管理!K6<【維持期】入力シート!$BE$1,TRUE,FALSE)))","v":false},0]
["生年月日",null,null,{"$f":"IF(【維持期】入力シート!AF4=\"\",\"\",【維持期】入力シート!AF4)","v":""},null,null,null,null,null,null,null,null,{"$f":"IF(【維持期】入力シート!$BE$5=FALSE,IF(【維持期】データ管理!K7=0,FALSE,IF(【維持期】データ管理!K7<【維持期】入力シート!$BE$1,TRUE,FALSE)))","v":false}]
["住所",null,null,{"$f":"IF(【維持期】入力シート!E5=\"\",\"\",【維持期】入力シート!E5)","v":""},null,null,null,null,null,null,null,null,{"$f":"IF(【維持期】入力シート!$BE$5=FALSE,IF(【維持期】データ管理!K8=0,FALSE,IF(【維持期】データ管理!K8<【維持期】入力シート!$BE$1,TRUE,FALSE)))","v":false}]
["電話番号",null,null,{"$f":"IF(【維持期】入力シート!AI5=\"\",\"\",【維持期】入力シート!AI5)","v":""},null,null,null,null,null,null,null,null,{"$f":"IF(【維持期】入力シート!$BE$5=FALSE,IF(【維持期】データ管理!K9=0,FALSE,IF(【維持期】データ管理!K9<【維持期】入力シート!$BE$1,TRUE,FALSE)))","v":false}]
["診断名",null,null,{"$f":"IF(【維持期】入力シート!E6=\"\",\"\",【維持期】入力シート!E6)","v":""},null,null,null,null,null,null,null,null,{"$f":"IF(【維持期】入力シート!$BE$5=FALSE,IF(【維持期】データ管理!K10=0,FALSE,IF(【維持期】データ管理!K10<【維持期】入力シート!$BE$1,TRUE,FALSE)))","v":false}]
["身体状況","Talk&deteriorates",null,0,"1無　2:有",{"$f":"IF(D11<>\"\",LOOKUP(D11,{0,1,2},{\"\",\"無\",\"有\"}),\"\")","v":""},null,null,null,null,null,null,{"$f":"IF(【維持期】入力シート!$BE$5=FALSE,IF(【維持期】データ管理!K11=0,FALSE,IF(【維持期】データ管理!K11<【維持期】入力シート!$BE$1,TRUE,FALSE)))","v":false},0]
[null,"多発外傷",null,0,"1無　2:有",{"$f":"IF(D12<>\"\",LOOKUP(D12,{0,1,2},{\"\",\"無\",\"有\"}),\"\")","v":""},null,null,null,null,null,null,{"$f":"IF(【維持期】入力シート!$BE$5=FALSE,IF(【維持期】データ管理!K12=0,FALSE,IF(【維持期】データ管理!K12<【維持期】入力シート!$BE$1,TRUE,FALSE)))","v":false},0]
[null,"　場所","顔面",false,null,{"$f":"IF(D13=TRUE,C13,\"\")","v":""},null,null,null,null,null,null,{"$f":"IF(【維持期】入力シート!$BE$5=FALSE,IF(【維持期】データ管理!K13=0,FALSE,IF(【維持期】データ管理!K13<【維持期】入力シート!$BE$1,TRUE,FALSE)))","v":false},false]
[null,null,"頸部",false,null,"",null,null,null,null,null,null,null,false]
[null,null,"胸部",false,null,"",null,null,null,null,null,null,null,false]
[null,null,"腹部",false,null,"",null,null,null,null,null,null,null,false]
[null,null,"骨盤",false,null,"",null,{"$f":"IF(H18<>\"\", MID(H18,2,200),\"\")","v":""},null,null,null,null,null,false]
[null,null,"四肢",false,null,"",null,{"$f":"  IF(F13<>\"\",\"，\" & F13,\"\")  & IF(F14<>\"\",\"，\" & F14,\"\") & IF(F15<>\"\",\"，\" & F15,\"\") & IF(F16<>\"\",\"，\" & F16,\"\") & IF(F17<>\"\",\"，\" & F17,\"\") & IF(F18<>\"\",\"，\" & F18,\"\")","v":""},null,null,null,null,null,false]
[null,"興奮・安静困難",null,0,"1無　2:有",{"$f":"IF(D19<>\"\",LOOKUP(D19,{0,1,2},{\"\",\"無\",\"有\"}),\"\")","v":""},null,null,null,null,null,null,{"$f":"IF(【維持期】入力シート!$BE$5=FALSE,IF(【維持期】データ管理!K19=0,FALSE,IF(【維持期】データ管理!K19<【維持期】入力シート!$BE$1,TRUE,FALSE)))","v":false},0]
[null,"視野障害",null,0,"1無　2:有",{"$f":"IF(D20<>\"\",LOOKUP(D20,{0,1,2},{\"\",\"無\",\"有\"}),\"\")","v":""},null,null,null,null,null,null,{"$f":"IF(【維持期】入力シート!$BE$5=FALSE,IF(【維持期】データ管理!K20=0,FALSE,IF(【維持期】データ管理!K20<【維持期】入力シート!$BE$1,TRUE,FALSE)))","v":false},0]
[null,"感覚障害",null,0,"1無　2:有",{"$f":"IF(D21<>\"\",LOOKUP(D21,{0,1,2},{\"\",\"無\",\"有\"}),\"\")","v":""},null,null,null,null,null,null,{"$f":"IF(【維持期】入力シート!$BE$5=FALSE,IF(【維持期】データ管理!K21=0,FALSE,IF(【維持期】データ管理!K21<【維持期】入力シート!$BE$1,TRUE,FALSE)))","v":false},0]
[null,"疼痛",null,0,"1無　2:有",{"$f":"IF(D22<>\"\",LOOKUP(D22,{0,1,2},{\"\",\"無\",\"有\"}),\"\")","v":""},null,null,null,null,null,null,{"$f":"IF(【維持期】入力シート!$BE$5=FALSE,IF(【維持期】データ管理!K22=0,FALSE,IF(【維持期】データ管理!K22<【維持期】入力シート!$BE$1,TRUE,FALSE)))","v":false},0]
[null,"拘縮",null,0,"1無　2:有",{"$f":"IF(D23<>\"\",LOOKUP(D23,{0,1,2},{\"\",\"無\",\"有\"}),\"\")","v":""},null,null,null,null,null,null,{"$f":"IF(【維持期】入力シート!$BE$5=FALSE,IF(【維持期】データ管理!K23=0,FALSE,IF(【維持期】データ管理!K23<【維持期】入力シート!$BE$1,TRUE,FALSE)))","v":false},0]
[null,null,"部位",{"$f":"IF(【維持期】入力シート!T13=\"\",\"\",【維持期】入力シート!T13)","v":""},null,null,null,null,null,null,null,null,{"$f":"IF(【維持期】入力シート!$BE$5=FALSE,IF(【維持期】データ管理!K24=0,FALSE,IF(【維持期】データ管理!K24<【維持期】入力シート!$BE$1,TRUE,FALSE)))","v":false}]
[null,"嚥下障害",null,0,"1無　2:有",{"$f":"IF(D25<>\"\",LOOKUP(D25,{0,1,2},{\"\",\"無\",\"有\"}),\"\")","v":""},null,null,null,null,null,null,{"$f":"IF(【維持期】入力シート!$BE$5=FALSE,IF(【維持期】データ管理!K25=0,FALSE,IF(【維持期】データ管理!K25<【維持期】入力シート!$BE$1,TRUE,FALSE)))","v":false},0]
[null,"肺炎",null,0,"1無　2:有",{"$f":"IF(D26<>\"\",LOOKUP(D26,{0,1,2},{\"\",\"無\",\"有\"}),\"\")","v":""},null,null,null,null,null,null,{"$f":"IF(【維持期】入力シート!$BE$5=FALSE,IF(【維持期】データ管理!K26=0,FALSE,IF(【維持期】データ管理!K26<【維持期】入力シート!$BE$1,TRUE,FALSE)))","v":false},0]
[null,"尿路感染症",null,0,"1無　2:有",{"$f":"IF(D27<>\"\",LOOKUP(D27,{0,1,2},{\"\",\"無\",\"有\"}),\"\")","v":""},null,null,null,null,null,null,{"$f":"IF(【維持期】入力シート!$BE$5=FALSE,IF(【維持期】データ管理!K27=0,FALSE,IF(【維持期】データ管理!K27<【維持期】入力シート!$BE$1,TRUE,FALSE)))","v":false},0]
[null,"その他合併症",null,0,"1無　2:有",{"$f":"IF(D28<>\"\",LOOKUP(D28,{0,1,2},{\"\",\"無\",\"有\"}),\"\")","v":""},null,null,null,null,null,null,{"$f":"IF(【維持期】入力シート!$BE$5=FALSE,IF(【維持期】データ管理!K28=0,FALSE,IF(【維持期】データ管理!K28<【維持期】入力シート!$BE$1,TRUE,FALSE)))","v":false},0]
[null,null,"テキスト",{"$f":"IF(【維持期】入力シート!R17=\"\",\"\",【維持期】入力シート!R17)","v":""},null,null,null,null,null,null,null,null,{"$f":"IF(【維持期】入力シート!$BE$5=FALSE,IF(【維持期】データ管理!K29=0,FALSE,IF(【維持期】データ管理!K29<【維持期】入力シート!$BE$1,TRUE,FALSE)))","v":false}]
[null,"その他感染症",null,0,"1無　2:有",{"$f":"IF(D30<>\"\",LOOKUP(D30,{0,1,2},{\"\",\"無\",\"有\"}),\"\")","v":""},null,null,null,null,null,null,{"$f":"IF(【維持期】入力シート!$BE$5=FALSE,IF(【維持期】データ管理!K30=0,FALSE,IF(【維持期】データ管理!K30<【維持期】入力シート!$BE$1,TRUE,FALSE)))","v":false},0]
[null,null,"部位",{"$f":"IF(【維持期】入力シート!T18=\"\",\"\",【維持期】入力シート!T18)","v":""},null,null,null,null,null,null,null,null,{"$f":"IF(【維持期】入力シート!$BE$5=FALSE,IF(【維持期】データ管理!K31=0,FALSE,IF(【維持期】データ管理!K31<【維持期】入力シート!$BE$1,TRUE,FALSE)))","v":false}]
["高次脳機能障害","学習・記憶障害",null,false,null,{"$f":"IF(D32=TRUE,B32,\"\")","v":""},null,null,null,null,null,null,{"$f":"IF(【維持期】入力シート!$BE$5=FALSE,IF(【維持期】データ管理!K32=0,FALSE,IF(【維持期】データ管理!K32<【維持期】入力シート!$BE$1,TRUE,FALSE)))","v":false},false]
[null,"注意障害",null,false,null,{"$f":"IF(D33=TRUE,B33,\"\")","v":""},null,null,null,null,null,null,null,false]
[null,"言語障害（失語、構音障害）",null,false,null,"",null,null,null,null,null,null,null,false]
[null,"失行",null,false,null,"",null,null,null,null,null,null,null,false]
[null,"失認",null,false,null,"",null,null,null,null,null,null,null,false]
[null,"構成障害",null,false,null,"",null,null,null,null,null,null,null,false]
[null,"半側空間無視",null,false,null,"",null,null,null,null,null,null,null,false]
[null,"実行機能障害",null,false,null,"",null,null,null,null,null,null,null,false]
[null,"全般的知能低下",null,false,null,"",null,null,null,null,null,null,null,false]
[null,"病識欠如（病態失認）",null,false,null,"",null,null,null,null,null,null,null,false]
[null,"固執性",null,false,null,"",null,null,null,null,null,null,null,false]
[null,"感情コントロール障害（易怒性等）",null,false,null,"",null,null,null,null,null,null,null,false]
[null,"興奮・脱抑制",null,false,null,"",null,null,null,null,null,null,null,false]
[null,"意欲･自発性低下",null,false,null,{"$f":"IF(D45=TRUE,B45,\"\")","v":""},null,{"$f":"IF(H46<>\"\", MID(H46,2,200),\"\")","v":""},null,null,null,null,null,false]
[null,"その他",null,false,null,{"$f":"IF(D46=TRUE,IF(D47<>\"\",B46&\"（\" & D47 & \"）\",B46),\"\")","v":""},null,{"$f":" IF(F32<>\"\",\"，\" & F32,\"\") &IF(F33<>\"\",\"，\" & F33,\"\") &IF(F34<>\"\",\"，\" & F34,\"\") &IF(F35<>\"\",\"，\" & F35,\"\") &IF(F36<>\"\",\"，\" & F36,\"\") &IF(F37<>\"\",\"，\" & F37,\"\") &IF(F38<>\"\",\"，\" & F38,\"\") &IF(F39<>\"\",\"，\" & F39,\"\") &IF(F40<>\"\",\"，\" & F40,\"\") &IF(F41<>\"\",\"，\" & F41,\"\") & IF(F42<>\"\",\"，\" & F42,\"\") & IF(F43<>\"\",\"，\" & F43,\"\") & IF(F44<>\"\",\"，\" & F44,\"\") & IF(F45<>\"\",\"，\" & F45,\"\") & IF(F46<>\"\",\"，\" & F46,\"\")","v":""},null,null,null,null,null,false]
[null,null,"その他テキスト",{"$f":"IF(【維持期】入力シート!I21=\"\",\"\",【維持期】入力シート!I21)","v":""},null,null,null,null,null,null,null,null,{"$f":"IF(【維持期】入力シート!$BE$5=FALSE,IF(【維持期】データ管理!K47=0,FALSE,IF(【維持期】データ管理!K47<【維持期】入力シート!$BE$1,TRUE,FALSE)))","v":false}]
["経過","評価日",null,{"$f":"IF(【維持期】入力シート!F23=\"\",\"\",【維持期】入力シート!F23)","v":""},null,null,null,null,null,null,null,null,{"$f":"IF(【維持期】入力シート!$BE$5=FALSE,IF(【維持期】データ管理!K48=0,FALSE,IF(【維持期】データ管理!K48<【維持期】入力シート!$BE$1,TRUE,FALSE)))","v":false}]
[null,"経過中の症状変動の有無",null,0,"1無　2:有",{"$f":"IF(D49<>\"\",LOOKUP(D49,{0,1,2},{\"\",\"無\",\"有\"}),\"\")","v":""},null,null,null,null,null,null,{"$f":"IF(【維持期】入力シート!$BE$5=FALSE,IF(【維持期】データ管理!K49=0,FALSE,IF(【維持期】データ管理!K49<【維持期】入力シート!$BE$1,TRUE,FALSE)))","v":false},0]
[null,"症状と原因",null,{"$f":"IF(【維持期】入力シート!I25=\"\",\"\",【維持期】入力シート!I25)","v":""},null,null,null,null,null,null,null,null,{"$f":"IF(【維持期】入力シート!$BE$5=FALSE,IF(【維持期】データ管理!K50=0,FALSE,IF(【維持期】データ管理!K50<【維持期】入力シート!$BE$1,TRUE,FALSE)))","v":false}]
["神経心理学的検査","HDS-R",null,false,null,null,null,null,null,null,null,null,{"$f":"IF(【維持期】入力シート!$BE$5=FALSE,IF(【維持期】データ管理!K51=0,FALSE,IF(【維持期】データ管理!K51<【維持期】入力シート!$BE$1,TRUE,FALSE)))","v":false},false]
[null,null,"点数",{"$f":"IF(【維持期】入力シート!J27=\"\",\"\",【維持期】入力シート!J27)","v":""},null,null,null,null,null,null,null,null,{"$f":"IF(【維持期】入力シート!$BE$5=FALSE,IF(【維持期】データ管理!K52=0,FALSE,IF(【維持期】データ管理!K52<【維持期】入力シート!$BE$1,TRUE,FALSE)))","v":false}]
[null,null,"実施日",{"$f":"IF(【維持期】入力シート!R27=\"\",\"\",【維持期】入力シート!R27)","v":""},null,null,null,null,null,null,null,null,{"$f":"IF(【維持期】入力シート!$BE$5=FALSE,IF(【維持期】データ管理!K53=0,FALSE,IF(【維持期】データ管理!K53<【維持期】入力シート!$BE$1,TRUE,FALSE)))","v":false}]
[null,"MMSE",null,false,null,null,null,null,null,null,null,null,{"$f":"IF(【維持期】入力シート!$BE$5=FALSE,IF(【維持期】データ管理!K54=0,FALSE,IF(【維持期】データ管理!K54<【維持期】入力シート!$BE$1,TRUE,FALSE)))","v":false},false]
[null,null,"点数",{"$f":"IF(【維持期】入力シート!J28=\"\",\"\",【維持期】入力シート!J28)","v":""},null,null,null,null,null,null,null,null,{"$f":"IF(【維持期】入力シート!$BE$5=FALSE,IF(【維持期】データ管理!K55=0,FALSE,IF(【維持期】データ管理!K55<【維持期】入力シート!$BE$1,TRUE,FALSE)))","v":false}]
[null,null,"実施日",{"$f":"IF(【維持期】入力シート!R28=\"\",\"\",【維持期】入力シート!R28)","v":""},null,null,null,null,null,null,null,null,{"$f":"IF(【維持期】入力シート!$BE$5=FALSE,IF(【維持期】データ管理!K56=0,FALSE,IF(【維持期】データ管理!K56<【維持期】入力シート!$BE$1,TRUE,FALSE)))","v":false}]
[null,"WAIS-Ⅲ",null,false,null,null,null,null,null,null,null,null,{"$f":"IF(【維持期】入力シート!$BE$5=FALSE,IF(【維持期】データ管理!K57=0,FALSE,IF(【維持期】データ管理!K57<【維持期】入力シート!$BE$1,TRUE,FALSE)))","v":false},false]
[null,null,"FIQ",{"$f":"【維持期】入力シート!Q29","v":""}]
[null,null,"VIQ",{"$f":"【維持期】入力シート!U29","v":""}]
[null,null,"PIQ",{"$f":"【維持期】入力シート!Y29","v":""}]
[null,null,"実施日",{"$f":"【維持期】入力シート!AL29","v":""}]
[null,"WISC-Ⅲ",null,false,null,null,null,null,null,null,null,null,{"$f":"IF(【維持期】入力シート!$BE$5=FALSE,IF(【維持期】データ管理!K62=0,FALSE,IF(【維持期】データ管理!K62<【維持期】入力シート!$BE$1,TRUE,FALSE)))","v":false},false]
[null,null,"FIQ",{"$f":"【維持期】入力シート!Q30","v":""}]
[null,null,"VIQ",{"$f":"【維持期】入力シート!U30","v":""}]
[null,null,"PIQ",{"$f":"【維持期】入力シート!Y30","v":""}]
[null,null,"実施日",{"$f":"【維持期】入力シート!AL30","v":""}]
[null,"WISC-Ⅳ",null,false,null,null,null,null,null,null,null,null,{"$f":"IF(【維持期】入力シート!$BE$5=FALSE,IF(【維持期】データ管理!K67=0,FALSE,IF(【維持期】データ管理!K67<【維持期】入力シート!$BE$1,TRUE,FALSE)))","v":false},false]
[null,null,"FSIQ",{"$f":"【維持期】入力シート!Q31","v":""}]
[null,null,"VCI",{"$f":"【維持期】入力シート!U31","v":""}]
[null,null,"PRI",{"$f":"【維持期】入力シート!Y31","v":""}]
[null,null,"WMI",{"$f":"【維持期】入力シート!AC31","v":""}]
[null,null,"PSI",{"$f":"【維持期】入力シート!AG31","v":""}]
[null,null,"実施日",{"$f":"【維持期】入力シート!AL31","v":""}]
[null,"レーヴン色彩マトリックス検査",null,false,null,null,null,null,null,null,null,null,{"$f":"IF(【維持期】入力シート!$BE$5=FALSE,IF(【維持期】データ管理!K74=0,FALSE,IF(【維持期】データ管理!K74<【維持期】入力シート!$BE$1,TRUE,FALSE)))","v":false},false]
[null,"COGNISTAT",null,false,null,null,null,null,null,null,null,null,{"$f":"IF(【維持期】入力シート!$BE$5=FALSE,IF(【維持期】データ管理!K75=0,FALSE,IF(【維持期】データ管理!K75<【維持期】入力シート!$BE$1,TRUE,FALSE)))","v":false},false]
[null,"大脇式精薄児用知能検査",null,false,null,null,null,null,null,null,null,null,{"$f":"IF(【維持期】入力シート!$BE$5=FALSE,IF(【維持期】データ管理!K76=0,FALSE,IF(【維持期】データ管理!K76<【維持期】入力シート!$BE$1,TRUE,FALSE)))","v":false},false]
[null,"田中・ビネー式知能検査",null,false,null,null,null,null,null,null,null,null,{"$f":"IF(【維持期】入力シート!$BE$5=FALSE,IF(【維持期】データ管理!K77=0,FALSE,IF(【維持期】データ管理!K77<【維持期】入力シート!$BE$1,TRUE,FALSE)))","v":false},false]
[null,"標準失語症検査",null,false,null,null,null,null,null,null,null,null,{"$f":"IF(【維持期】入力シート!$BE$5=FALSE,IF(【維持期】データ管理!K78=0,FALSE,IF(【維持期】データ管理!K78<【維持期】入力シート!$BE$1,TRUE,FALSE)))","v":false},false]
[null,"SALA失語症検査",null,false,null,null,null,null,null,null,null,null,{"$f":"IF(【維持期】入力シート!$BE$5=FALSE,IF(【維持期】データ管理!K79=0,FALSE,IF(【維持期】データ管理!K79<【維持期】入力シート!$BE$1,TRUE,FALSE)))","v":false},false]
[null,"WAB失語症検査",null,false,null,null,null,null,null,null,null,null,{"$f":"IF(【維持期】入力シート!$BE$5=FALSE,IF(【維持期】データ管理!K80=0,FALSE,IF(【維持期】データ管理!K80<【維持期】入力シート!$BE$1,TRUE,FALSE)))","v":false},false]
[null,"WMS-R",null,false,null,null,null,null,null,null,null,null,{"$f":"IF(【維持期】入力シート!$BE$5=FALSE,IF(【維持期】データ管理!K81=0,FALSE,IF(【維持期】データ管理!K81<【維持期】入力シート!$BE$1,TRUE,FALSE)))","v":false},false]
[null,null,"言語性"]
[null,null,"視覚性"]
[null,null,"注意集中"]
[null,null,"遅延再生"]
[null,null,"実施日",{"$f":"【維持期】入力シート!AS34","v":""}]
[null,"リバーミード行動記憶検査",null,false,null,null,null,null,null,null,null,null,{"$f":"IF(【維持期】入力シート!$BE$5=FALSE,IF(【維持期】データ管理!K87=0,FALSE,IF(【維持期】データ管理!K87<【維持期】入力シート!$BE$1,TRUE,FALSE)))","v":false},false]
[null,"三宅式記銘検査",null,false,null,null,null,null,null,null,null,null,{"$f":"IF(【維持期】入力シート!$BE$5=FALSE,IF(【維持期】データ管理!K88=0,FALSE,IF(【維持期】データ管理!K88<【維持期】入力シート!$BE$1,TRUE,FALSE)))","v":false},false]
[null,"ベントン視覚記銘検査",null,false,null,null,null,null,null,null,null,null,{"$f":"IF(【維持期】入力シート!$BE$5=FALSE,IF(【維持期】データ管理!K89=0,FALSE,IF(【維持期】データ管理!K89<【維持期】入力シート!$BE$1,TRUE,FALSE)))","v":false},false]
[null,"コース立方体組み合わせテスト",null,false,null,null,null,null,null,null,null,null,{"$f":"IF(【維持期】入力シート!$BE$5=FALSE,IF(【維持期】データ管理!K90=0,FALSE,IF(【維持期】データ管理!K90<【維持期】入力シート!$BE$1,TRUE,FALSE)))","v":false},false]
[null,"TMT",null,false,null,null,null,null,null,null,null,null,{"$f":"IF(【維持期】入力シート!$BE$5=FALSE,IF(【維持期】データ管理!K91=0,FALSE,IF(【維持期】データ管理!K91<【維持期】入力シート!$BE$1,TRUE,FALSE)))","v":false},false]
[null,"CAT",null,false,null,null,null,null,null,null,null,null,{"$f":"IF(【維持期】入力シート!$BE$5=FALSE,IF(【維持期】データ管理!K92=0,FALSE,IF(【維持期】データ管理!K92<【維持期】入力シート!$BE$1,TRUE,FALSE)))","v":false},false]
[null,"D-CAT",null,false,null,null,null,null,null,null,null,null,{"$f":"IF(【維持期】入力シート!$BE$5=FALSE,IF(【維持期】データ管理!K93=0,FALSE,IF(【維持期】データ管理!K93<【維持期】入力シート!$BE$1,TRUE,FALSE)))","v":false},false]
[null,"PASAT",null,false,null,null,null,null,null,null,null,null,{"$f":"IF(【維持期】入力シート!$BE$5=FALSE,IF(【維持期】データ管理!K94=0,FALSE,IF(【維持期】データ管理!K94<【維持期】入力シート!$BE$1,TRUE,FALSE)))","v":false},false]
[null,"BAD",null,false,null,null,null,null,null,null,null,null,{"$f":"IF(【維持期】入力シート!$BE$5=FALSE,IF(【維持期】データ管理!K95=0,FALSE,IF(【維持期】データ管理!K95<【維持期】入力シート!$BE$1,TRUE,FALSE)))","v":false},false]
[null,"ウィスコンシンカード分類課題",null,false,null,null,null,null,null,null,null,null,{"$f":"IF(【維持期】入力シート!$BE$5=FALSE,IF(【維持期】データ管理!K96=0,FALSE,IF(【維持期】データ管理!K96<【維持期】入力シート!$BE$1,TRUE,FALSE)))","v":false},false]
[null,"前頭葉機能検査（FAB)",null,false,null,null,null,null,null,null,null,null,{"$f":"IF(【維持期】入力シート!$BE$5=FALSE,IF(【維持期】データ管理!K97=0,FALSE,IF(【維持期】データ管理!K97<【維持期】入力シート!$BE$1,TRUE,FALSE)))","v":false},false]
[null,"BIT(行動性無視検査)",null,false,null,null,null,null,null,null,null,null,{"$f":"IF(【維持期】入力シート!$BE$5=FALSE,IF(【維持期】データ管理!K98=0,FALSE,IF(【維持期】データ管理!K98<【維持期】入力シート!$BE$1,TRUE,FALSE)))","v":false},false]
[null,"VPTA(標準高次視知覚検査)",null,false,null,null,null,null,null,null,null,null,{"$f":"IF(【維持期】入力シート!$BE$5=FALSE,IF(【維持期】データ管理!K99=0,FALSE,IF(【維持期】データ管理!K99<【維持期】入力シート!$BE$1,TRUE,FALSE)))","v":false},false]
[null,"SPTA(標準高次動作性検査)",null,false,null,null,null,null,null,null,null,null,{"$f":"IF(【維持期】入力シート!$BE$5=FALSE,IF(【維持期】データ管理!K100=0,FALSE,IF(【維持期】データ管理!K100<【維持期】入力シート!$BE$1,TRUE,FALSE)))","v":false},false]
[null,"その他",null,false,null,null,null,null,null,null,null,null,{"$f":"IF(【維持期】入力シート!$BE$5=FALSE,IF(【維持期】データ管理!K101=0,FALSE,IF(【維持期】データ管理!K101<【維持期】入力シート!$BE$1,TRUE,FALSE)))","v":false},false]
[null,null,"その他テキスト",{"$f":"IF(【維持期】入力シート!M40=\"\",\"\",【維持期】入力シート!M40)","v":""},null,{"$f":"IF(D102=\"\",\"\",\"（\"&D102 &\"）\")","v":""},null,null,null,null,null,null,{"$f":"IF(【維持期】入力シート!$BE$5=FALSE,IF(【維持期】データ管理!K102=0,FALSE,IF(【維持期】データ管理!K102<【維持期】入力シート!$BE$1,TRUE,FALSE)))","v":false}]
[null,"結果・所見",null,{"$f":"IF(【維持期】入力シート!I41=\"\",\"\",【維持期】入力シート!I41)","v":""},null,null,null,null,null,null,null,null,{"$f":"IF(【維持期】入力シート!$BE$5=FALSE,IF(【維持期】データ管理!K103=0,FALSE,IF(【維持期】データ管理!K103<【維持期】入力シート!$BE$1,TRUE,FALSE)))","v":false}]
[null,"特記事項",null,{"$f":"IF(【維持期】入力シート!I44=\"\",\"\",【維持期】入力シート!I44)","v":""},null,null,null,null,null,null,null,null,{"$f":"IF(【維持期】入力シート!$BE$5=FALSE,IF(【維持期】データ管理!K104=0,FALSE,IF(【維持期】データ管理!K104<【維持期】入力シート!$BE$1,TRUE,FALSE)))","v":false}]
["内服","有無",null,0,"1無　2:有",{"$f":"IF(D105<>\"\",LOOKUP(D105,{0,1,2},{\"\",\"無\",\"有\"}),\"\")&IF(D105=2,\"　\" & F106,\"\")","v":""},null,null,null,null,null,null,{"$f":"IF(【維持期】入力シート!$BE$5=FALSE,IF(【維持期】データ管理!K105=0,FALSE,IF(【維持期】データ管理!K105<【維持期】入力シート!$BE$1,TRUE,FALSE)))","v":false},0]
[null,"テキスト",null,{"$f":"IF(【維持期】入力シート!O46=\"\",\"\",【維持期】入力シート!O46)","v":""},null,{"$f":"IF(D106=\"\",\"\",\"（\"&D106 &\"）\")","v":""},null,null,null,null,null,null,{"$f":"IF(【維持期】入力シート!$BE$5=FALSE,IF(【維持期】データ管理!K106=0,FALSE,IF(【維持期】データ管理!K106<【維持期】入力シート!$BE$1,TRUE,FALSE)))","v":false}]
[null,"服薬管理",null,0,"1:自立 2:一部介助 3:全介助",{"$f":"IF(D107<>\"\",LOOKUP(D107,{0,1,2,3},{\"\",\"自立\",\"一部介助\",\"全介助\"}),\"\")","v":""},null,null,null,null,null,null,{"$f":"IF(【維持期】入力シート!$BE$5=FALSE,IF(【維持期】データ管理!K107=0,FALSE,IF(【維持期】データ管理!K107<【維持期】入力シート!$BE$1,TRUE,FALSE)))","v":false},0]
["治療",null,null,0,"1:継続治療要 2:継続治療不要だか要観察 3:特に治療の必要なし 4:特に受診の必要なし",{"$f":"IF(D108<>\"\",LOOKUP(D108,{0,1,2,3,4},{\"\",\"継続治療要\",\"継続治療不要だか要観察\",\"特に治療の必要なし\",\"特に受診の必要なし\"}),\"\")&IF(D108=1,\"　　治療：\" & H112,\"\")","v":""},null,null,null,null,null,null,null,0]
[null,"治療方法","薬剤管理",false,null,{"$f":"IF(D109=TRUE,C109,\"\")","v":""},null,null,null,null,null,null,null,false]
[null,null,"血圧管理",false,null,{"$f":"IF(D110=TRUE,C110,\"\")","v":""},null,null,null,null,null,null,null,false]
[null,null,"血糖管理",false,null,{"$f":"IF(D111=TRUE,C111,\"\")","v":""},null,null,null,null,null,null,null,false]
[null,null,"その他",false,null,{"$f":"IF(D112=TRUE,C112,\"\")","v":""},null,{"$f":"IF(H113<>\"\", MID(H113,2,200),\"\")","v":""},null,null,null,null,null,false]
[null,null,"その他（テキスト）",{"$f":"IF(【維持期】入力シート!S50=\"\",\"\",【維持期】入力シート!S50)","v":""},null,{"$f":"IF(D113=0,\"\",D113)","v":""},null,{"$f":"IF(F109<>\"\",\"，\" & F109,\"\") & IF(F110<>\"\",\"，\" & F110,\"\") & IF(F111<>\"\",\"，\" & F111,\"\") & IF(F112<>\"\",\"，\" & F112,\"\") & IF(F113<>\"\",\"(\" & F113 & \")\",\"\")","v":""},null,null,null,null,{"$f":"IF(【維持期】入力シート!$BE$5=FALSE,IF(【維持期】データ管理!K113=0,FALSE,IF(【維持期】データ管理!K113<【維持期】入力シート!$BE$1,TRUE,FALSE)))","v":false}]
[null,"かかりつけ医",null,{"$f":"IF(【維持期】入力シート!X52=\"\",\"\",【維持期】入力シート!X52)","v":""},null,{"$f":"IF(D114=0,\"\",D114)","v":""},null,null,null,null,null,null,{"$f":"IF(【維持期】入力シート!$BE$5=FALSE,IF(【維持期】データ管理!K114=0,FALSE,IF(【維持期】データ管理!K114<【維持期】入力シート!$BE$1,TRUE,FALSE)))","v":false}]
["日常生活機能評価表","1ヶ月","日付",{"$f":"IF(【維持期】入力シート!U54=\"\",\"\",【維持期】入力シート!U54)","v":""},null,null,null,null,null,null,null,null,{"$f":"IF(【維持期】入力シート!$BE$5=FALSE,IF(【維持期】データ管理!K115=0,FALSE,IF(【維持期】データ管理!K115<【維持期】入力シート!$BE$1,TRUE,FALSE)))","v":false}]
[null,null,"床上安静の指示",0,null,{"$f":"IF(D116<>\"\",LOOKUP(D116,{0,1,2},{\"\",\"なし\",\"あり\"}),\"\")","v":""},null,null,null,null,null,null,{"$f":"IF(【維持期】入力シート!$BE$5=FALSE,IF(【維持期】データ管理!K116=0,FALSE,IF(【維持期】データ管理!K116<【維持期】入力シート!$BE$1,TRUE,FALSE)))","v":false},0]
[null,null,"どちらかの手を胸元まで持ち上げられる",0,null,{"$f":"IF(D117<>\"\",LOOKUP(D117,{0,1,2},{\"\",\"できる\",\"できない\"}),\"\")","v":""},null,null,null,null,null,null,{"$f":"IF(【維持期】入力シート!$BE$5=FALSE,IF(【維持期】データ管理!K117=0,FALSE,IF(【維持期】データ管理!K117<【維持期】入力シート!$BE$1,TRUE,FALSE)))","v":false},0]
[null,null,"寝返り",0,null,{"$f":"IF(D118<>\"\",LOOKUP(D118,{0,1,2,3},{\"\",\"できる\",\"何かにつかまればできる\",\"できない\"}),\"\")","v":""},null,null,null,null,null,null,{"$f":"IF(【維持期】入力シート!$BE$5=FALSE,IF(【維持期】データ管理!K118=0,FALSE,IF(【維持期】データ管理!K118<【維持期】入力シート!$BE$1,TRUE,FALSE)))","v":false},0]
[null,null,"起き上がり",0,null,{"$f":"IF(D119<>\"\",LOOKUP(D119,{0,1,2},{\"\",\"できる\",\"できない\"}),\"\")","v":""},null,null,null,null,null,null,{"$f":"IF(【維持期】入力シート!$BE$5=FALSE,IF(【維持期】データ管理!K119=0,FALSE,IF(【維持期】データ管理!K119<【維持期】入力シート!$BE$1,TRUE,FALSE)))","v":false},0]
[null,null,"座位保持",0,null,{"$f":"IF(D120<>\"\",LOOKUP(D120,{0,1,2,3},{\"\",\"できる\",\"支えがあればできる\",\"できない\"}),\"\")","v":""},null,null,null,null,null,null,{"$f":"IF(【維持期】入力シート!$BE$5=FALSE,IF(【維持期】データ管理!K120=0,FALSE,IF(【維持期】データ管理!K120<【維持期】入力シート!$BE$1,TRUE,FALSE)))","v":false},0]
[null,null,"移乗",0,null,{"$f":"IF(D121<>\"\",LOOKUP(D121,{0,1,2,3},{\"\",\"できる\",\"見守り・一部介助が必要\",\"できない\"}),\"\")","v":""},null,null,null,null,null,null,{"$f":"IF(【維持期】入力シート!$BE$5=FALSE,IF(【維持期】データ管理!K121=0,FALSE,IF(【維持期】データ管理!K121<【維持期】入力シート!$BE$1,TRUE,FALSE)))","v":false},0]
[null,null,"移動方法",0,null,{"$f":"IF(D122<>\"\",LOOKUP(D122,{0,1,2},{\"\",\"介助を要しない\",\"介助を要する（搬送を含む）\"}),\"\")","v":""},null,null,null,null,null,null,{"$f":"IF(【維持期】入力シート!$BE$5=FALSE,IF(【維持期】データ管理!K122=0,FALSE,IF(【維持期】データ管理!K122<【維持期】入力シート!$BE$1,TRUE,FALSE)))","v":false},0]
[null,null,"口腔清潔",0,null,{"$f":"IF(D123<>\"\",LOOKUP(D123,{0,1,2},{\"\",\"できる\",\"できない\"}),\"\")","v":""},null,null,null,null,null,null,{"$f":"IF(【維持期】入力シート!$BE$5=FALSE,IF(【維持期】データ管理!K123=0,FALSE,IF(【維持期】データ管理!K123<【維持期】入力シート!$BE$1,TRUE,FALSE)))","v":false},0]
[null,null,"食事摂取",0,null,{"$f":"IF(D124<>\"\",LOOKUP(D124,{0,1,2,3},{\"\",\"介助なし\",\"一部介助\",\"全介助\"}),\"\")","v":""},null,null,null,null,null,null,{"$f":"IF(【維持期】入力シート!$BE$5=FALSE,IF(【維持期】データ管理!K124=0,FALSE,IF(【維持期】データ管理!K124<【維持期】入力シート!$BE$1,TRUE,FALSE)))","v":false},0]
[null,null,"衣服の着脱",0,null,{"$f":"IF(D125<>\"\",LOOKUP(D125,{0,1,2,3},{\"\",\"介助なし\",\"一部介助\",\"全介助\"}),\"\")","v":""},null,null,null,null,null,null,{"$f":"IF(【維持期】入力シート!$BE$5=FALSE,IF(【維持期】データ管理!K125=0,FALSE,IF(【維持期】データ管理!K125<【維持期】入力シート!$BE$1,TRUE,FALSE)))","v":false},0]
[null,null,"他者への意思の伝達",0,null,{"$f":"IF(D126<>\"\",LOOKUP(D126,{0,1,2,3},{\"\",\"できる\",\"出来る時と出来ない時がある\",\"できない\"}),\"\")","v":""},null,null,null,null,null,null,{"$f":"IF(【維持期】入力シート!$BE$5=FALSE,IF(【維持期】データ管理!K126=0,FALSE,IF(【維持期】データ管理!K126<【維持期】入力シート!$BE$1,TRUE,FALSE)))","v":false},0]
[null,null,"診療・療養上の指示が通じる",0,null,{"$f":"IF(D127<>\"\",LOOKUP(D127,{0,1,2},{\"\",\"はい\",\"いいえ\"}),\"\")","v":""},null,null,null,null,null,null,{"$f":"IF(【維持期】入力シート!$BE$5=FALSE,IF(【維持期】データ管理!K127=0,FALSE,IF(【維持期】データ管理!K127<【維持期】入力シート!$BE$1,TRUE,FALSE)))","v":false},0]
[null,null,"危険行動",0,null,{"$f":"IF(D128<>\"\",LOOKUP(D128,{0,1,2},{\"\",\"ない\",\"ある\"}),\"\")","v":""},null,null,null,null,null,null,{"$f":"IF(【維持期】入力シート!$BE$5=FALSE,IF(【維持期】データ管理!K128=0,FALSE,IF(【維持期】データ管理!K128<【維持期】入力シート!$BE$1,TRUE,FALSE)))","v":false},0]
[null,null,"身体拘束",0,null,{"$f":"IF(D129<>\"\",LOOKUP(D129,{0,1,2},{\"\",\"無\",\"有\"}),\"\")","v":""},null,null,null,null,null,null,{"$f":"IF(【維持期】入力シート!$BE$5=FALSE,IF(【維持期】データ管理!K129=0,FALSE,IF(【維持期】データ管理!K129<【維持期】入力シート!$BE$1,TRUE,FALSE)))","v":false},0]
[null,null,"４点柵",false,null,{"$f":"IF(D130=TRUE,C130,\"\")","v":""},null,null,null,null,null,null,{"$f":"IF(【維持期】入力シート!$BE$5=FALSE,IF(【維持期】データ管理!K130=0,FALSE,IF(【維持期】データ管理!K130<【維持期】入力シート!$BE$1,TRUE,FALSE)))","v":false},false]
[null,null,"センサー",false,null,{"$f":"IF(D131=TRUE,C131,\"\")","v":""},null,{"$f":"IF(H132<>\"\",  MID(H132,2,200),\"\")","v":""},null,null,null,null,null,false]
[null,null,"その他",false,null,{"$f":"IF(D132=TRUE,IF(D133=0,C132,  C132 & \"(\" & D133 & \")\"),\"\")","v":""},"計算用",{"$f":" IF(F130<>\"\",\"，\" & F130,\"\") & IF(F131<>\"\",\"，\" & F131,\"\") & IF(F132<>\"\",\"，\" & F132,\"\")","v":""},null,null,null,null,null,false]
[null,null,"その他テキスト",{"$f":"IF(【維持期】入力シート!AA71=\"\",\"\",【維持期】入力シート!AA71)","v":""},null,null,null,null,null,null,null,null,{"$f":"IF(【維持期】入力シート!$BE$5=FALSE,IF(【維持期】データ管理!K133=0,FALSE,IF(【維持期】データ管理!K133<【維持期】入力シート!$BE$1,TRUE,FALSE)))","v":false}]
[null,"3ヶ月","日付",{"$f":"IF(【維持期】入力シート!AM54=\"\",\"\",【維持期】入力シート!AM54)","v":""},null,null,null,null,null,null,null,null,{"$f":"IF(【維持期】入力シート!$BE$5=FALSE,IF(【維持期】データ管理!K134=0,FALSE,IF(【維持期】データ管理!K134<【維持期】入力シート!$BE$1,TRUE,FALSE)))","v":false}]
[null,null,"床上安静の指示",0,null,{"$f":"IF(D135<>\"\",LOOKUP(D135,{0,1,2},{\"\",\"なし\",\"あり\"}),\"\")","v":""},null,null,null,null,null,null,{"$f":"IF(【維持期】入力シート!$BE$5=FALSE,IF(【維持期】データ管理!K135=0,FALSE,IF(【維持期】データ管理!K135<【維持期】入力シート!$BE$1,TRUE,FALSE)))","v":false},0]
[null,null,"どちらかの手を胸元まで持ち上げられる",0,null,{"$f":"IF(D136<>\"\",LOOKUP(D136,{0,1,2},{\"\",\"できる\",\"できない\"}),\"\")","v":""},null,null,null,null,null,null,{"$f":"IF(【維持期】入力シート!$BE$5=FALSE,IF(【維持期】データ管理!K136=0,FALSE,IF(【維持期】データ管理!K136<【維持期】入力シート!$BE$1,TRUE,FALSE)))","v":false},0]
[null,null,"寝返り",0,null,{"$f":"IF(D137<>\"\",LOOKUP(D137,{0,1,2,3},{\"\",\"できる\",\"何かにつかまればできる\",\"できない\"}),\"\")","v":""},null,null,null,null,null,null,{"$f":"IF(【維持期】入力シート!$BE$5=FALSE,IF(【維持期】データ管理!K137=0,FALSE,IF(【維持期】データ管理!K137<【維持期】入力シート!$BE$1,TRUE,FALSE)))","v":false},0]
[null,null,"起き上がり",0,null,{"$f":"IF(D138<>\"\",LOOKUP(D138,{0,1,2},{\"\",\"できる\",\"できない\"}),\"\")","v":""},null,null,null,null,null,null,{"$f":"IF(【維持期】入力シート!$BE$5=FALSE,IF(【維持期】データ管理!K138=0,FALSE,IF(【維持期】データ管理!K138<【維持期】入力シート!$BE$1,TRUE,FALSE)))","v":false},0]
[null,null,"座位保持",0,null,{"$f":"IF(D139<>\"\",LOOKUP(D139,{0,1,2,3},{\"\",\"できる\",\"支えがあればできる\",\"できない\"}),\"\")","v":""},null,null,null,null,null,null,{"$f":"IF(【維持期】入力シート!$BE$5=FALSE,IF(【維持期】データ管理!K139=0,FALSE,IF(【維持期】データ管理!K139<【維持期】入力シート!$BE$1,TRUE,FALSE)))","v":false},0]
[null,null,"移乗",0,null,{"$f":"IF(D140<>\"\",LOOKUP(D140,{0,1,2,3},{\"\",\"できる\",\"見守り・一部介助が必要\",\"できない\"}),\"\")","v":""},null,null,null,null,null,null,{"$f":"IF(【維持期】入力シート!$BE$5=FALSE,IF(【維持期】データ管理!K140=0,FALSE,IF(【維持期】データ管理!K140<【維持期】入力シート!$BE$1,TRUE,FALSE)))","v":false},0]
[null,null,"移動方法",0,null,{"$f":"IF(D141<>\"\",LOOKUP(D141,{0,1,2},{\"\",\"介助を要しない\",\"介助を要する（搬送を含む）\"}),\"\")","v":""},null,null,null,null,null,null,{"$f":"IF(【維持期】入力シート!$BE$5=FALSE,IF(【維持期】データ管理!K141=0,FALSE,IF(【維持期】データ管理!K141<【維持期】入力シート!$BE$1,TRUE,FALSE)))","v":false},0]
[null,null,"口腔清潔",0,null,{"$f":"IF(D142<>\"\",LOOKUP(D142,{0,1,2},{\"\",\"できる\",\"できない\"}),\"\")","v":""},null,null,null,null,null,null,{"$f":"IF(【維持期】入力シート!$BE$5=FALSE,IF(【維持期】データ管理!K142=0,FALSE,IF(【維持期】データ管理!K142<【維持期】入力シート!$BE$1,TRUE,FALSE)))","v":false},0]
[null,null,"食事摂取",0,null,{"$f":"IF(D143<>\"\",LOOKUP(D143,{0,1,2,3},{\"\",\"介助なし\",\"一部介助\",\"全介助\"}),\"\")","v":""},null,null,null,null,null,null,{"$f":"IF(【維持期】入力シート!$BE$5=FALSE,IF(【維持期】データ管理!K143=0,FALSE,IF(【維持期】データ管理!K143<【維持期】入力シート!$BE$1,TRUE,FALSE)))","v":false},0]
[null,null,"衣服の着脱",0,null,{"$f":"IF(D144<>\"\",LOOKUP(D144,{0,1,2,3},{\"\",\"介助なし\",\"一部介助\",\"全介助\"}),\"\")","v":""},null,null,null,null,null,null,{"$f":"IF(【維持期】入力シート!$BE$5=FALSE,IF(【維持期】データ管理!K144=0,FALSE,IF(【維持期】データ管理!K144<【維持期】入力シート!$BE$1,TRUE,FALSE)))","v":false},0]
[null,null,"他者への意思の伝達",0,null,{"$f":"IF(D145<>\"\",LOOKUP(D145,{0,1,2,3},{\"\",\"できる\",\"出来る時と出来ない時がある\",\"できない\"}),\"\")","v":""},null,null,null,null,null,null,{"$f":"IF(【維持期】入力シート!$BE$5=FALSE,IF(【維持期】データ管理!K145=0,FALSE,IF(【維持期】データ管理!K145<【維持期】入力シート!$BE$1,TRUE,FALSE)))","v":false},0]
[null,null,"診療・療養上の指示が通じる",0,null,{"$f":"IF(D146<>\"\",LOOKUP(D146,{0,1,2},{\"\",\"はい\",\"いいえ\"}),\"\")","v":""},null,null,null,null,null,null,{"$f":"IF(【維持期】入力シート!$BE$5=FALSE,IF(【維持期】データ管理!K146=0,FALSE,IF(【維持期】データ管理!K146<【維持期】入力シート!$BE$1,TRUE,FALSE)))","v":false},0]
[null,null,"危険行動",0,null,{"$f":"IF(D147<>\"\",LOOKUP(D147,{0,1,2},{\"\",\"ない\",\"ある\"}),\"\")","v":""},null,null,null,null,null,null,{"$f":"IF(【維持期】入力シート!$BE$5=FALSE,IF(【維持期】データ管理!K147=0,FALSE,IF(【維持期】データ管理!K147<【維持期】入力シート!$BE$1,TRUE,FALSE)))","v":false},0]
[null,null,"身体拘束",0,null,{"$f":"IF(D148<>\"\",LOOKUP(D148,{0,1,2},{\"\",\"無\",\"有\"}),\"\")","v":""},null,null,null,null,null,null,{"$f":"IF(【維持期】入力シート!$BE$5=FALSE,IF(【維持期】データ管理!K148=0,FALSE,IF(【維持期】データ管理!K148<【維持期】入力シート!$BE$1,TRUE,FALSE)))","v":false},0]
[null,null,"４点柵",false,null,{"$f":"IF(D149=TRUE,C149,\"\")","v":""},null,null,null,null,null,null,{"$f":"IF(【維持期】入力シート!$BE$5=FALSE,IF(【維持期】データ管理!K149=0,FALSE,IF(【維持期】データ管理!K149<【維持期】入力シート!$BE$1,TRUE,FALSE)))","v":false},false]
[null,null,"センサー",false,null,{"$f":"IF(D150=TRUE,C150,\"\")","v":""},null,{"$f":"IF(H151<>\"\",  MID(H151,2,200),\"\")","v":""},null,null,null,null,null,false]
[null,null,"その他",false,null,{"$f":"IF(D151=TRUE,IF(D152=0,C151,  C151 & \"(\" & D152 & \")\"),\"\")","v":""},"計算用",{"$f":" IF(F149<>\"\",\"，\" & F149,\"\") & IF(F150<>\"\",\"，\" & F150,\"\") & IF(F151<>\"\",\"，\" & F151,\"\")","v":""},null,null,null,null,null,false]
[null,null,"その他テキスト",{"$f":"IF(【維持期】入力シート!AS71=\"\",\"\",【維持期】入力シート!AS71)","v":""},null,null,null,null,null,null,null,null,{"$f":"IF(【維持期】入力シート!$BE$5=FALSE,IF(【維持期】データ管理!K152=0,FALSE,IF(【維持期】データ管理!K152<【維持期】入力シート!$BE$1,TRUE,FALSE)))","v":false}]
["栄養・呼吸","食事形態","普通食",false,null,{"$f":"IF(D153=TRUE,C153,\"\")","v":""},null,null,null,null,null,null,{"$f":"IF(【維持期】入力シート!$BE$5=FALSE,IF(【維持期】データ管理!K153=0,FALSE,IF(【維持期】データ管理!K153<【維持期】入力シート!$BE$1,TRUE,FALSE)))","v":false},false]
[null,null,"きざみ食",false,null,{"$f":"IF(D154=TRUE,C154,\"\")","v":""},null,null,null,null,null,null,null,false]
[null,null,"とろみ食",false,null,{"$f":"IF(D155=TRUE,C155,\"\")","v":""},null,null,null,null,null,null,null,false]
[null,null,"治療食",false,null,{"$f":"IF(D156=TRUE,IF(D158<>\"\",C156&\"(\" & D158 & \")\",C156),\"\")","v":""},null,{"$f":"IF(H157<>\"\", MID(H157,2,200),\"\")","v":""},null,null,null,null,null,false]
[null,null,"その他",false,null,{"$f":"IF(D157=TRUE,IF(D159<>\"\",C157&\"(\" & D159 & \")\",C157),\"\")","v":""},null,{"$f":" IF(F153<>\"\",\"，\" & F153,\"\") & IF(F154<>\"\",\"，\" & F154,\"\") & IF(F155<>\"\",\"，\" & F155,\"\") & IF(F156<>\"\",\"，\" & F156,\"\") & IF(F157<>\"\",\"，\" & F157,\"\")","v":""},null,null,null,null,null,false]
[null,null,"治療食テキスト",{"$f":"IF(【維持期】入力シート!Y73=\"\",\"\",【維持期】入力シート!Y73)","v":""},null,null,null,null,null,null,null,null,{"$f":"IF(【維持期】入力シート!$BE$5=FALSE,IF(【維持期】データ管理!K158=0,FALSE,IF(【維持期】データ管理!K158<【維持期】入力シート!$BE$1,TRUE,FALSE)))","v":false}]
[null,null,"その他テキスト",{"$f":"IF(【維持期】入力シート!AL73=\"\",\"\",【維持期】入力シート!AL73)","v":""},null,null,null,null,null,null,null,null,{"$f":"IF(【維持期】入力シート!$BE$5=FALSE,IF(【維持期】データ管理!K159=0,FALSE,IF(【維持期】データ管理!K159<【維持期】入力シート!$BE$1,TRUE,FALSE)))","v":false}]
[null,"方法","経口",false,null,{"$f":"IF(D160=TRUE,C160,\"\")","v":""},null,{"$f":"IF(H161<>\"\", MID(H161,2,200),\"\")","v":""},null,null,null,null,{"$f":"IF(【維持期】入力シート!$BE$5=FALSE,IF(【維持期】データ管理!K160=0,FALSE,IF(【維持期】データ管理!K160<【維持期】入力シート!$BE$1,TRUE,FALSE)))","v":false},false]
[null,null,"経管",false,null,{"$f":"IF(D161=TRUE,C161,\"\")","v":""},null,{"$f":"IF(F160<>\"\",\"，\"&F160,\"\")&IF(F161<>\"\",\"，\"&F161,\"\")&IF(H163<>\"\",\"（\"&H163&\"）\",\"\")","v":""},null,null,null,null,null,false]
[null,null,"胃管",false,null,{"$f":"IF(D162=TRUE,C162,\"\")","v":""},null,null,null,null,null,null,{"$f":"IF(【維持期】入力シート!$BE$5=FALSE,IF(【維持期】データ管理!K162=0,FALSE,IF(【維持期】データ管理!K162<【維持期】入力シート!$BE$1,TRUE,FALSE)))","v":false},false]
[null,null,"胃瘻",false,null,{"$f":"IF(D163=TRUE,C163,\"\")","v":""},null,{"$f":"IF(H164<>\"\", MID(H164,2,200),\"\")","v":""},null,null,null,null,null,false]
[null,null,"その他",false,null,{"$f":"IF(D164=TRUE,IF(D165<>\"\",C164&\"：\" & D165 & \"\",C164),\"\")","v":""},null,{"$f":" IF(F162<>\"\",\"，\" & F162,\"\") & IF(F163<>\"\",\"，\" & F163,\"\") & IF(F164<>\"\",\"，\" & F164,\"\")","v":""},null,null,null,null,null,false]
[null,null,"その他テキスト",{"$f":"IF(【維持期】入力シート!AB74=\"\",\"\",【維持期】入力シート!AB74)","v":""},null,null,null,null,null,null,null,null,{"$f":"IF(【維持期】入力シート!$BE$5=FALSE,IF(【維持期】データ管理!K165=0,FALSE,IF(【維持期】データ管理!K165<【維持期】入力シート!$BE$1,TRUE,FALSE)))","v":false}]
[null,"カテーテル","Fr",{"$f":"IF(【維持期】入力シート!R75=\"\",\"\",【維持期】入力シート!R75)","v":""},null,null,null,null,null,null,null,null,{"$f":"IF(【維持期】入力シート!$BE$5=FALSE,IF(【維持期】データ管理!K166=0,FALSE,IF(【維持期】データ管理!K166<【維持期】入力シート!$BE$1,TRUE,FALSE)))","v":false}]
[null,null,"cm",{"$f":"IF(【維持期】入力シート!U75=\"\",\"\",【維持期】入力シート!U75)","v":""},null,null,null,null,null,null,null,null,{"$f":"IF(【維持期】入力シート!$BE$5=FALSE,IF(【維持期】データ管理!K167=0,FALSE,IF(【維持期】データ管理!K167<【維持期】入力シート!$BE$1,TRUE,FALSE)))","v":false}]
[null,null,"最終交換日",{"$f":"IF(【維持期】入力シート!AE75=\"\",\"\",【維持期】入力シート!AE75)","v":""},null,null,null,null,null,null,null,null,{"$f":"IF(【維持期】入力シート!$BE$5=FALSE,IF(【維持期】データ管理!K168=0,FALSE,IF(【維持期】データ管理!K168<【維持期】入力シート!$BE$1,TRUE,FALSE)))","v":false}]
[null,"気管切開",null,0,"1無　2:有",{"$f":"IF(D169<>\"\",LOOKUP(D169,{0,1,2},{\"\",\"無\",\"有\"}),\"\")","v":""},null,null,null,null,null,null,{"$f":"IF(【維持期】入力シート!$BE$5=FALSE,IF(【維持期】データ管理!K169=0,FALSE,IF(【維持期】データ管理!K169<【維持期】入力シート!$BE$1,TRUE,FALSE)))","v":false},0]
[null,null,"最終交換日",{"$f":"IF(【維持期】入力シート!T76=\"\",\"\",【維持期】入力シート!T76)","v":""},null,null,null,null,null,null,null,null,{"$f":"IF(【維持期】入力シート!$BE$5=FALSE,IF(【維持期】データ管理!K170=0,FALSE,IF(【維持期】データ管理!K170<【維持期】入力シート!$BE$1,TRUE,FALSE)))","v":false}]
["排泄","介助",null,0,"1:自立 2:一部介助 3:全介助",{"$f":"IF(D171<>\"\",LOOKUP(D171,{0,1,2,3},{\"\",\"自立\",\"一部介助\",\"全介助\"}),\"\")","v":""},null,null,null,null,null,null,{"$f":"IF(【維持期】入力シート!$BE$5=FALSE,IF(【維持期】データ管理!K171=0,FALSE,IF(【維持期】データ管理!K171<【維持期】入力シート!$BE$1,TRUE,FALSE)))","v":false},0]
[null,"方法","トイレ",false,null,{"$f":"IF(D172=TRUE,C172,\"\")","v":""},null,null,null,null,null,null,{"$f":"IF(【維持期】入力シート!$BE$5=FALSE,IF(【維持期】データ管理!K172=0,FALSE,IF(【維持期】データ管理!K172<【維持期】入力シート!$BE$1,TRUE,FALSE)))","v":false},false]
[null,null,"ポータブルトイレ",false,null,{"$f":"IF(D173=TRUE,C173,\"\")","v":""},null,null,null,null,null,null,null,false]
[null,null,"尿器",false,null,{"$f":"IF(D174=TRUE,C174,\"\")","v":""},null,null,null,null,null,null,null,false]
[null,null,"オムツ",false,null,{"$f":"IF(D175=TRUE,C175,\"\")","v":""},null,{"$f":"IF(H176<>\"\", MID(H176,2,200),\"\")","v":""},null,null,null,null,null,false]
[null,null,"バルン",false,null,{"$f":"IF(D176=TRUE,C176 & F177 & F178,\"\")","v":""},null,{"$f":" IF(F172<>\"\",\"，\" & F172,\"\") & IF(F173<>\"\",\"，\" & F173,\"\") & IF(F174<>\"\",\"，\" & F174,\"\") & IF(F175<>\"\",\"，\" & F175,\"\") & IF(F176<>\"\",\"，\" & F176,\"\")","v":""},null,null,null,null,null,false]
[null,null,"バルン　Fr",{"$f":"【維持期】入力シート!Y78","v":0},null,{"$f":"IF(D177=\"\",\"\",\"　\" &  D177 & \" Fr\")","v":"　0 Fr"},null,null,null,null,null,null,{"$f":"IF(【維持期】入力シート!$BE$5=FALSE,IF(【維持期】データ管理!K177=0,FALSE,IF(【維持期】データ管理!K177<【維持期】入力シート!$BE$1,TRUE,FALSE)))","v":false}]
[null,null,"バルン　最終交換日",{"$f":"【維持期】入力シート!AG78","v":0},null,{"$f":"IF(D178=\"\",\"\",\"　最終交換日：\"&TEXT(D178,\"ggge年m月d日\"))","v":"　最終交換日：明治33年1月0日"},null,null,null,null,null,null,{"$f":"IF(【維持期】入力シート!$BE$5=FALSE,IF(【維持期】データ管理!K178=0,FALSE,IF(【維持期】データ管理!K178<【維持期】入力シート!$BE$1,TRUE,FALSE)))","v":false}]
["リハビリ","理学療法","チェック",false,null,{"$f":"IF(D179=TRUE,B179,\"\")","v":""},null,null,null,null,null,null,{"$f":"IF(【維持期】入力シート!$BE$5=FALSE,IF(【維持期】データ管理!K179=0,FALSE,IF(【維持期】データ管理!K179<【維持期】入力シート!$BE$1,TRUE,FALSE)))","v":false},false]
[null,null,"担当者",{"$f":"IF(【維持期】入力シート!M79=\"\",\"\",【維持期】入力シート!M79)","v":""},null,null,null,null,null,null,null,null,{"$f":"IF(【維持期】入力シート!$BE$5=FALSE,IF(【維持期】データ管理!K180=0,FALSE,IF(【維持期】データ管理!K180<【維持期】入力シート!$BE$1,TRUE,FALSE)))","v":false}]
[null,"作業療法","チェック",false,null,{"$f":"IF(D181=TRUE,B181,\"\")","v":""},null,null,null,null,null,null,{"$f":"IF(【維持期】入力シート!$BE$5=FALSE,IF(【維持期】データ管理!K181=0,FALSE,IF(【維持期】データ管理!K181<【維持期】入力シート!$BE$1,TRUE,FALSE)))","v":false},false]
[null,null,"担当者",{"$f":"IF(【維持期】入力シート!AC79=\"\",\"\",【維持期】入力シート!AC79)","v":""},null,null,null,{"$f":"IF(H183<>\"\", MID(H183,2,200),\"\")","v":""},null,null,null,null,{"$f":"IF(【維持期】入力シート!$BE$5=FALSE,IF(【維持期】データ管理!K182=0,FALSE,IF(【維持期】データ管理!K182<【維持期】入力シート!$BE$1,TRUE,FALSE)))","v":false}]
[null,"言語療法","チェック",false,null,{"$f":"IF(D183=TRUE,B183,\"\")","v":""},null,{"$f":" IF(F179<>\"\",\"，\" & F179,\"\") & IF(F181<>\"\",\"，\" & F181,\"\") & IF(F183<>\"\",\"，\" & F183,\"\")","v":""},null,null,null,null,{"$f":"IF(【維持期】入力シート!$BE$5=FALSE,IF(【維持期】データ管理!K183=0,FALSE,IF(【維持期】データ管理!K183<【維持期】入力シート!$BE$1,TRUE,FALSE)))","v":false},false]
[null,null,"担当者",{"$f":"IF(【維持期】入力シート!AS79=\"\",\"\",【維持期】入力シート!AS79)","v":""},null,null,null,null,null,null,null,null,{"$f":"IF(【維持期】入力シート!$BE$5=FALSE,IF(【維持期】データ管理!K184=0,FALSE,IF(【維持期】データ管理!K184<【維持期】入力シート!$BE$1,TRUE,FALSE)))","v":false}]
[null,"言語","チェック",false,null,null,null,null,null,null,null,null,{"$f":"IF(【維持期】入力シート!$BE$5=FALSE,IF(【維持期】データ管理!K185=0,FALSE,IF(【維持期】データ管理!K185<【維持期】入力シート!$BE$1,TRUE,FALSE)))","v":false},false]
[null,null,"内容",{"$f":"IF(【維持期】入力シート!I80=\"\",\"\",【維持期】入力シート!I80)","v":""},null,null,null,null,null,null,null,null,{"$f":"IF(【維持期】入力シート!$BE$5=FALSE,IF(【維持期】データ管理!K186=0,FALSE,IF(【維持期】データ管理!K186<【維持期】入力シート!$BE$1,TRUE,FALSE)))","v":false}]
[null,"身体","チェック",false,null,null,null,null,null,null,null,null,{"$f":"IF(【維持期】入力シート!$BE$5=FALSE,IF(【維持期】データ管理!K187=0,FALSE,IF(【維持期】データ管理!K187<【維持期】入力シート!$BE$1,TRUE,FALSE)))","v":false},false]
[null,null,"内容",{"$f":"IF(【維持期】入力シート!I81=\"\",\"\",【維持期】入力シート!I81)","v":""},null,null,null,null,null,null,null,null,{"$f":"IF(【維持期】入力シート!$BE$5=FALSE,IF(【維持期】データ管理!K188=0,FALSE,IF(【維持期】データ管理!K188<【維持期】入力シート!$BE$1,TRUE,FALSE)))","v":false}]
[null,"認知","チェック",false,null,null,null,null,null,null,null,null,{"$f":"IF(【維持期】入力シート!$BE$5=FALSE,IF(【維持期】データ管理!K189=0,FALSE,IF(【維持期】データ管理!K189<【維持期】入力シート!$BE$1,TRUE,FALSE)))","v":false},false]
[null,null,"内容",{"$f":"IF(【維持期】入力シート!I82=\"\",\"\",【維持期】入力シート!I82)","v":""},null,null,null,null,null,null,null,null,{"$f":"IF(【維持期】入力シート!$BE$5=FALSE,IF(【維持期】データ管理!K190=0,FALSE,IF(【維持期】データ管理!K190<【維持期】入力シート!$BE$1,TRUE,FALSE)))","v":false}]
[null,"留意事項","チェック",false,null,null,null,null,null,null,null,null,{"$f":"IF(【維持期】入力シート!$BE$5=FALSE,IF(【維持期】データ管理!K191=0,FALSE,IF(【維持期】データ管理!K191<【維持期】入力シート!$BE$1,TRUE,FALSE)))","v":false},false]
[null,null,"内容",{"$f":"IF(【維持期】入力シート!I83=\"\",\"\",【維持期】入力シート!I83)","v":""},null,null,null,null,null,null,null,null,{"$f":"IF(【維持期】入力シート!$BE$5=FALSE,IF(【維持期】データ管理!K192=0,FALSE,IF(【維持期】データ管理!K192<【維持期】入力シート!$BE$1,TRUE,FALSE)))","v":false}]
["生活機能に合わせたリハビリ","医療保険",null,false,null,{"$f":"IF(D193=TRUE,B193,\"\")","v":""},null,null,null,null,null,null,{"$f":"IF(【維持期】入力シート!$BE$5=FALSE,IF(【維持期】データ管理!K193=0,FALSE,IF(【維持期】データ管理!K193<【維持期】入力シート!$BE$1,TRUE,FALSE)))","v":false},false]
[null,"介護保険",null,false,null,{"$f":"IF(D194=TRUE,B194,\"\")&IF(F195=\"\",\"\",\"：\" & F195)","v":""},null,null,null,null,null,null,null,false]
[null,null,"施設",0,"介護療養型医療施設 介護老人保健施設 介護老人福祉施設",{"$f":"IF(D195<>\"\",LOOKUP(D195,{0,1,2,3},{\"\",\"介護療養型医療施設\",\"介護老人保健施設\",\"介護老人福祉施設\"}),\"\") &IF(D195=1, F196,\"\")  &IF(D195=2, H197,\"\")  &IF(D195=3, F199,\"\")","v":""},null,null,null,null,null,null,{"$f":"IF(【維持期】入力シート!$BE$5=FALSE,IF(【維持期】データ管理!K195=0,FALSE,IF(【維持期】データ管理!K195<【維持期】入力シート!$BE$1,TRUE,FALSE)))","v":false},0]
[null,"介護療養型医療施設","短期集中リハ",false,null,{"$f":"IF(D196=TRUE,\"（\"&C196 &\"）\",\"\")","v":""},null,null,null,null,null,null,{"$f":"IF(【維持期】入力シート!$BE$5=FALSE,IF(【維持期】データ管理!K196=0,FALSE,IF(【維持期】データ管理!K196<【維持期】入力シート!$BE$1,TRUE,FALSE)))","v":false},false]
[null,"介護老人保健施設","短期集中リハ",false,null,{"$f":"IF(D197=TRUE,C197,\"\")","v":""},null,{"$f":"IF(H198<>\"\", \"（\"& MID(H198,2,200) & \"）\",\"\")","v":""},null,null,null,null,{"$f":"IF(【維持期】入力シート!$BE$5=FALSE,IF(【維持期】データ管理!K197=0,FALSE,IF(【維持期】データ管理!K197<【維持期】入力シート!$BE$1,TRUE,FALSE)))","v":false},false]
[null,null,"認知短期集中リハ",false,null,"","計算用",{"$f":" IF(F197<>\"\",\"，\" & F197,\"\") & IF(F198<>\"\",\"，\" & F198,\"\")","v":""},null,null,null,null,null,false]
[null,"介護老人福祉施設","個別機能訓練",false,null,{"$f":"IF(D199=TRUE,\"（\"&C199 &\"）\",\"\")","v":""}]
[null,"通所リハビリ",null,false,null,{"$f":"IF(D200=TRUE,B200,\"\") &H204","v":""},null,null,null,null,null,null,null,false]
[null,null,"短期集中リハ",false,null,{"$f":"IF(D201=TRUE,C201,\"\")","v":""},null,null,null,null,null,null,{"$f":"IF(【維持期】入力シート!$BE$5=FALSE,IF(【維持期】データ管理!K201=0,FALSE,IF(【維持期】データ管理!K201<【維持期】入力シート!$BE$1,TRUE,FALSE)))","v":false},false]
[null,null,"認知症短期集中リハ",false,null,{"$f":"IF(D202=TRUE,C202,\"\")","v":""},null,null,null,null,null,null,null,false]
[null,null,"運動器機能向上",false,null,"",null,null,null,null,null,null,null,false]
[null,null,"口腔機能向上",false,null,"",null,{"$f":"IF(H205<>\"\", \"（\"& MID(H205,2,200) & \"）\",\"\")","v":""},null,null,null,null,null,false]
[null,null,"栄養改善",false,null,"","計算用",{"$f":"IF(F201<>\"\",\"，\" & F201,\"\") & IF(F202<>\"\",\"，\" & F202,\"\") & IF(F203<>\"\",\"，\" & F203,\"\") & IF(F204<>\"\",\"，\" & F204,\"\") & IF(F205<>\"\",\"，\" & F205,\"\")","v":""},null,null,null,null,null,false]
[null,"通所介護",null,false,null,{"$f":"IF(D206=TRUE,B206,\"\")&H210","v":""},null,null,null,null,null,null,null,false]
[null,null,"個別機能訓練",false,null,"",null,null,null,null,null,null,null,false]
[null,null,"運動器機能向上",false,null,"",null,null,null,null,null,null,null,false]
[null,null,"口腔機能向上",false,null,"",null,null,null,null,null,null,null,false]
[null,null,"栄養改善",false,null,"",null,{"$f":"IF(H211<>\"\", \"（\"& MID(H211,2,200) & \"）\",\"\")","v":""},null,null,null,null,null,false]
[null,null,"アクティビティ",false,null,"","計算用",{"$f":"IF(F207<>\"\",\"，\" & F207,\"\") & IF(F208<>\"\",\"，\" & F208,\"\") & IF(F209<>\"\",\"，\" & F209,\"\") & IF(F210<>\"\",\"，\" & F210,\"\") & IF(F211<>\"\",\"，\" & F211,\"\")","v":""},null,null,null,null,null,false]
[null,"訪問看護",null,false,null,{"$f":"IF(D212=TRUE,B212,\"\")&IF(F213=\"\",\"\",\"（内容：\" & F213 & \"）\")","v":""},null,null,null,null,null,null,null,false]
[null,null,"内容",{"$f":"IF(【維持期】入力シート!AC88=\"\",\"\",【維持期】入力シート!AC88)","v":""},null,{"$f":"IF(D213=\"\",\"\",\"\"&D213)","v":""},null,null,null,null,null,null,{"$f":"IF(【維持期】入力シート!$BE$5=FALSE,IF(【維持期】データ管理!K213=0,FALSE,IF(【維持期】データ管理!K213<【維持期】入力シート!$BE$1,TRUE,FALSE)))","v":false}]
[null,"訪問リハビリ",null,false,null,{"$f":"IF(D214=TRUE,B214,\"\")&F215","v":""},null,null,null,null,null,null,null,false]
[null,null,"短期集中リハ",false,null,{"$f":"IF(D215=TRUE,\"（\"&C215 &\"）\",\"\")","v":""},null,null,null,null,null,null,{"$f":"IF(【維持期】入力シート!$BE$5=FALSE,IF(【維持期】データ管理!K215=0,FALSE,IF(【維持期】データ管理!K215<【維持期】入力シート!$BE$1,TRUE,FALSE)))","v":false},false]
[null,"機能訓練事業",null,false,null,{"$f":"IF(D216=TRUE,B216,\"\")","v":""},null,null,null,null,null,null,null,false]
[null,"ＡＤＬ・ＩＡＤＬ訓練",null,false,null,"",null,null,null,null,null,null,null,false]
[null,"住環境整備",null,false,null,"",null,null,null,null,null,null,null,false]
[null,"補装具の検討・作製",null,false,null,"",null,null,null,null,null,null,null,false]
[null,"役割・趣味活動開発",null,false,null,"",null,{"$f":"IF(H221<>\"\", MID(H221,2,200),\"\")","v":""},null,null,null,null,null,false]
[null,"その他",null,false,null,{"$f":"IF(D221=TRUE,B221,\"\")&IF(D222=\"\",\"\",\"（\"&D222&\"）\")","v":""},"計算用",{"$f":"IF(F193<>\"\",\"，\" & F193,\"\")  & IF(F194<>\"\",\"，\" & F194,\"\")  & IF(F200<>\"\",\"，\" & F200,\"\")  & IF(F206<>\"\",\"，\" & F206,\"\")  &  IF(F212<>\"\",\"，\" & F212,\"\")  &  IF(F214<>\"\",\"，\" & F214,\"\")  &  IF(F216<>\"\",\"，\" & F216,\"\")  & IF(F217<>\"\",\"，\" & F217,\"\") & IF(F218<>\"\",\"，\" & F218,\"\") & IF(F219<>\"\",\"，\" & F219,\"\") & IF(F220<>\"\",\"，\" & F220,\"\") & IF(F221<>\"\",\"，\" & F221,\"\")","v":""},null,null,null,null,null,false]
[null,null,"その他　テキスト",{"$f":"IF(【維持期】入力シート!I92=\"\",\"\",【維持期】入力シート!I92)","v":""},null,null,null,null,null,null,null,null,{"$f":"IF(【維持期】入力シート!$BE$5=FALSE,IF(【維持期】データ管理!K222=0,FALSE,IF(【維持期】データ管理!K222<【維持期】入力シート!$BE$1,TRUE,FALSE)))","v":false}]
["生活の場所",null,null,0,null,{"$f":"IF(D223<>\"\",LOOKUP(D223,{0,1,2,3,4,5},{\"\",\"在宅\",\"介護老人保健施設\",\"介護老人福祉施設\",\"障害者福祉施設\",\"その他\"}),\"\") &IF(D223=1,\"（\"&F294&\"）\",\"\") &IF(D223=2,\"（\"&D224&\"）\",\"\")&IF(D223=3,\"（\"&D225&\"）\",\"\")&IF(D223=4,\"（\"&D226&\"）\",\"\")&IF(D223=5,\"（\"&D227&\"）\",\"\")","v":""},null,null,null,null,null,null,{"$f":"IF(【維持期】入力シート!$BE$5=FALSE,IF(【維持期】データ管理!K223=0,FALSE,IF(【維持期】データ管理!K223<【維持期】入力シート!$BE$1,TRUE,FALSE)))","v":false},0]
[null,"介護老人保健施設",null,{"$f":"IF(【維持期】入力シート!AA93=\"\",\"\",【維持期】入力シート!AA93)","v":""},null,null,null,null,null,null,null,null,{"$f":"IF(【維持期】入力シート!$BE$5=FALSE,IF(【維持期】データ管理!K224=0,FALSE,IF(【維持期】データ管理!K224<【維持期】入力シート!$BE$1,TRUE,FALSE)))","v":false}]
[null,"介護老人福祉施設",null,{"$f":"IF(【維持期】入力シート!AQ93=\"\",\"\",【維持期】入力シート!AQ93)","v":""},null,null,null,null,null,null,null,null,{"$f":"IF(【維持期】入力シート!$BE$5=FALSE,IF(【維持期】データ管理!K225=0,FALSE,IF(【維持期】データ管理!K225<【維持期】入力シート!$BE$1,TRUE,FALSE)))","v":false}]
[null,"障害者福祉施設",null,{"$f":"IF(【維持期】入力シート!L94=\"\",\"\",【維持期】入力シート!L94)","v":""},null,null,null,null,null,null,null,null,{"$f":"IF(【維持期】入力シート!$BE$5=FALSE,IF(【維持期】データ管理!K226=0,FALSE,IF(【維持期】データ管理!K226<【維持期】入力シート!$BE$1,TRUE,FALSE)))","v":false}]
[null,"その他",null,{"$f":"IF(【維持期】入力シート!Y94=\"\",\"\",【維持期】入力シート!Y94)","v":""},null,null,null,null,null,null,null,null,{"$f":"IF(【維持期】入力シート!$BE$5=FALSE,IF(【維持期】データ管理!K227=0,FALSE,IF(【維持期】データ管理!K227<【維持期】入力シート!$BE$1,TRUE,FALSE)))","v":false}]
["説明","症状説明",null,false,null,{"$f":"IF(D228=TRUE,B228,\"\")","v":""},null,null,null,null,null,null,{"$f":"IF(【維持期】入力シート!$BE$5=FALSE,IF(【維持期】データ管理!K228=0,FALSE,IF(【維持期】データ管理!K228<【維持期】入力シート!$BE$1,TRUE,FALSE)))","v":false},false]
[null,"ｻｰﾋﾞｽ担当者会議",null,false,null,{"$f":"IF(D229=TRUE,B229,\"\")&IF(F230=\"\",\"\",\"（\"&F230&\"）\")","v":""},null,null,null,null,null,null,{"$f":"IF(【維持期】入力シート!$BE$5=FALSE,IF(【維持期】データ管理!K229=0,FALSE,IF(【維持期】データ管理!K229<【維持期】入力シート!$BE$1,TRUE,FALSE)))","v":false},false]
[null,"　実施日",null,{"$f":"IF(【維持期】入力シート!M96=\"\",\"\",【維持期】入力シート!M96)","v":""},null,{"$f":"IF(D230=\"\",\"\",\"実施日：\"&TEXT(D230,\"ggge年m月d日\"))","v":""},null,{"$f":"IF(H231<>\"\", MID(H231,2,200),\"\")","v":""},null,null,null,null,{"$f":"IF(【維持期】入力シート!$BE$5=FALSE,IF(【維持期】データ管理!K230=0,FALSE,IF(【維持期】データ管理!K230<【維持期】入力シート!$BE$1,TRUE,FALSE)))","v":false}]
[null,"通所リハビリ見直し訪問",null,false,null,{"$f":"IF(D231=TRUE,B231,\"\") & IF(F232=\"\",\"\",\"：通所リハの場合（\"&F232&\"）\")","v":""},null,{"$f":" IF(F228<>\"\",\"、\" & F228,\"\") &IF(F229<>\"\",\"、\" & F229,\"\") & IF(F231<>\"\",\"、\" & F231,\"\")","v":""},null,null,null,null,{"$f":"IF(【維持期】入力シート!$BE$5=FALSE,IF(【維持期】データ管理!K231=0,FALSE,IF(【維持期】データ管理!K231<【維持期】入力シート!$BE$1,TRUE,FALSE)))","v":false},false]
[null,"　実施日",null,{"$f":"IF(【維持期】入力シート!AL96=\"\",\"\",【維持期】入力シート!AL96)","v":""},null,{"$f":"IF(D232=\"\",\"\",\"実施日：\"&TEXT(D232,\"ggge年m月d日\"))","v":""},null,null,null,null,null,null,{"$f":"IF(【維持期】入力シート!$BE$5=FALSE,IF(【維持期】データ管理!K232=0,FALSE,IF(【維持期】データ管理!K232<【維持期】入力シート!$BE$1,TRUE,FALSE)))","v":false}]
[null,"説明日",null,{"$f":"IF(【維持期】入力シート!I97=\"\",\"\",【維持期】入力シート!I97)","v":""},null,null,null,null,null,null,null,null,{"$f":"IF(【維持期】入力シート!$BE$5=FALSE,IF(【維持期】データ管理!K233=0,FALSE,IF(【維持期】データ管理!K233<【維持期】入力シート!$BE$1,TRUE,FALSE)))","v":false}]
[null,"説明を行った者",null,{"$f":"IF(【維持期】入力シート!Y97=\"\",\"\",【維持期】入力シート!Y97)","v":""},null,null,null,null,null,null,null,null,{"$f":"IF(【維持期】入力シート!$BE$5=FALSE,IF(【維持期】データ管理!K234=0,FALSE,IF(【維持期】データ管理!K234<【維持期】入力シート!$BE$1,TRUE,FALSE)))","v":false}]
["目標","今後の生活目標",null,{"$f":"IF(【維持期】入力シート!E99=\"\",\"\",【維持期】入力シート!E99)","v":""},null,{"$f":"IF(D235=0,\"\",D235)","v":""},null,null,null,null,null,null,{"$f":"IF(【維持期】入力シート!$BE$5=FALSE,IF(【維持期】データ管理!K235=0,FALSE,IF(【維持期】データ管理!K235<【維持期】入力シート!$BE$1,TRUE,FALSE)))","v":false}]
["（転院・退院基準）","方向性",null,0,"1:在宅復帰 2:他施設 3:未定",{"$f":"IF(D236<>\"\",LOOKUP(D236,{0,1,2,3},{\"\",\"在宅復帰（ケアハウス・グループホーム含む）\",\"他施設\",\"未定\"}),\"\")  & IF(D236=2,F237,\"\" )","v":""},null,null,null,null,null,null,{"$f":"IF(【維持期】入力シート!$BE$5=FALSE,IF(【維持期】データ管理!K236=0,FALSE,IF(【維持期】データ管理!K236<【維持期】入力シート!$BE$1,TRUE,FALSE)))","v":false},0]
[null,"他施設　テキスト",null,{"$f":"IF(【維持期】入力シート!F106=\"\",\"\",【維持期】入力シート!F106)","v":""},null,{"$f":"IF(D237=\"\",\"\",\"（\"&D237&\"）\")","v":""},null,null,null,null,null,null,{"$f":"IF(【維持期】入力シート!$BE$5=FALSE,IF(【維持期】データ管理!K237=0,FALSE,IF(【維持期】データ管理!K237<【維持期】入力シート!$BE$1,TRUE,FALSE)))","v":false}]
[null,"サービスの利用","事業所名",{"$f":"IF(【維持期】入力シート!AC103=\"\",\"\",【維持期】入力シート!AC103)","v":""},null,null,null,null,null,null,null,null,{"$f":"IF(【維持期】入力シート!$BE$5=FALSE,IF(【維持期】データ管理!K238=0,FALSE,IF(【維持期】データ管理!K238<【維持期】入力シート!$BE$1,TRUE,FALSE)))","v":false}]
[null,null,"サービス種類",{"$f":"IF(【維持期】入力シート!AE104=\"\",\"\",【維持期】入力シート!AE104)","v":""},null,null,null,null,null,null,null,null,{"$f":"IF(【維持期】入力シート!$BE$5=FALSE,IF(【維持期】データ管理!K239=0,FALSE,IF(【維持期】データ管理!K239<【維持期】入力シート!$BE$1,TRUE,FALSE)))","v":false}]
[null,null,"テキスト"]
["中核症状","短期記憶",null,0,"問題なし　問題あり",{"$f":"IF(D241<>\"\",LOOKUP(D241,{0,1,2},{\"\",\"問題なし\",\"問題あり\"}),\"\")","v":""},null,null,null,null,null,null,{"$f":"IF(【維持期】入力シート!$BE$5=FALSE,IF(【維持期】データ管理!K241=0,FALSE,IF(【維持期】データ管理!K241<【維持期】入力シート!$BE$1,TRUE,FALSE)))","v":false},0]
[null,"日常の意思決定を行うための認知能力",null,0,"1:自立 2:いくらか困難 3:見守りが必要 4:判断できない ",{"$f":"IF(D242<>\"\",LOOKUP(D242,{0,1,2,3,4},{\"\",\"自立\",\"いくらか困難\",\"見守りが必要\",\"判断できない \"}),\"\")","v":""},null,null,null,null,null,null,{"$f":"IF(【維持期】入力シート!$BE$5=FALSE,IF(【維持期】データ管理!K242=0,FALSE,IF(【維持期】データ管理!K242<【維持期】入力シート!$BE$1,TRUE,FALSE)))","v":false},0]
[null,"自分の意思の伝達能力",null,0,"1:伝えられる 2:いくらか困難 3:具体的要求に限られる 4:伝えられない",{"$f":"IF(D243<>\"\",LOOKUP(D243,{0,1,2,3,4},{\"\",\"伝えられる\",\"いくらか困難\",\"具体的要求に限られる\",\"伝えられない \"}),\"\")","v":""},null,null,null,null,null,null,{"$f":"IF(【維持期】入力シート!$BE$5=FALSE,IF(【維持期】データ管理!K243=0,FALSE,IF(【維持期】データ管理!K243<【維持期】入力シート!$BE$1,TRUE,FALSE)))","v":false},0]
["周辺症状","有無",null,0,"1無　2:有",{"$f":"IF(D244<>\"\",LOOKUP(D244,{0,1,2},{\"\",\"無\",\"有：\"}),\"\")&IF(D244=2,\"　\" & F245,\"\")","v":""},null,null,null,null,null,null,{"$f":"IF(【維持期】入力シート!$BE$5=FALSE,IF(【維持期】データ管理!K244=0,FALSE,IF(【維持期】データ管理!K244<【維持期】入力シート!$BE$1,TRUE,FALSE)))","v":false},0]
[null,"幻視・幻聴",null,false,null,{"$f":"IF(D245=TRUE,B245,\"\")","v":""},null,null,null,null,null,null,{"$f":"IF(【維持期】入力シート!$BE$5=FALSE,IF(【維持期】データ管理!K245=0,FALSE,IF(【維持期】データ管理!K245<【維持期】入力シート!$BE$1,TRUE,FALSE)))","v":false},false]
[null,"妄想",null,false,null,"",null,null,null,null,null,null,null,false]
[null,"昼夜逆転",null,false,null,"",null,null,null,null,null,null,null,false]
[null,"暴言",null,false,null,"",null,null,null,null,null,null,null,false]
[null,"暴行",null,false,null,"",null,null,null,null,null,null,null,false]
[null,"介護への抵抗",null,false,null,"",null,null,null,null,null,null,null,false]
[null,"徘徊",null,false,null,"",null,null,null,null,null,null,null,false]
[null,"火の不始末",null,false,null,"",null,null,null,null,null,null,null,false]
[null,"不潔行為",null,false,null,"",null,null,null,null,null,null,null,false]
[null,"異食行動",null,false,null,"",null,null,null,null,null,null,null,false]
[null,"性的問題行動",null,false,null,{"$f":"IF(D255=TRUE,B255,\"\")","v":""},null,{"$f":"IF(H256<>\"\", MID(H256,2,200),\"\")","v":""},null,null,null,null,null,false]
[null,"その他",null,false,null,{"$f":"IF(D256=TRUE,IF(D257<>\"\",B256&\"(\" & D257 & \")\",B256),\"\")","v":""},null,{"$f":"IF(F245<>\"\",\"，\" & F245,\"\") &IF(F246<>\"\",\"，\" & F246,\"\") &IF(F247<>\"\",\"，\" & F247,\"\") & IF(F248<>\"\",\"，\" & F248,\"\") & IF(F249<>\"\",\"，\" & F249,\"\") & IF(F250<>\"\",\"，\" & F250,\"\") &  IF(F251<>\"\",\"，\" & F251,\"\") &IF(F252<>\"\",\"，\" & F252,\"\") &IF(F253<>\"\",\"，\" & F253,\"\") & IF(F254<>\"\",\"，\" & F254,\"\") & IF(F255<>\"\",\"，\" & F255,\"\") & IF(F256<>\"\",\"，\" & F256,\"\")","v":""},null,null,null,null,null,false]
[null,null,"テキスト",{"$f":"IF(【維持期】入力シート!$AI$112=\"\",\"\",【維持期】入力シート!$AI$112)","v":""}]
["介護保険","介護認定",null,0,"1:なし 2:申請中 3:変更申請中 4:有",{"$f":"IF(D258<>\"\",LOOKUP(D258,{0,1,2,3,4},{\"\",\"なし\",\"申請中\",\"変更申請中\",\"有\"}),\"\") & IF(F259=\"\",\"\",\"　（\" &F259 & \"）\")","v":""},null,null,null,null,null,null,{"$f":"IF(【維持期】入力シート!$BE$5=FALSE,IF(【維持期】データ管理!K258=0,FALSE,IF(【維持期】データ管理!K258<【維持期】入力シート!$BE$1,TRUE,FALSE)))","v":false},0]
[null,"該当　介護度",null,0,"1:要支援１　～　7:要介護５",{"$f":"IF(D259<>\"\",LOOKUP(D259,{0,1,2,3,4,5,6,7},{\"\",\"要支援１\",\"要支援２\",\"要介護１\",\"要介護２\",\"要介護３\",\"要介護４\",\"要介護５\"}),\"\")","v":""},null,null,null,null,null,null,{"$f":"IF(【維持期】入力シート!$BE$5=FALSE,IF(【維持期】データ管理!K259=0,FALSE,IF(【維持期】データ管理!K259<【維持期】入力シート!$BE$1,TRUE,FALSE)))","v":false},0]
[null,"居宅介護支援事業所",null,{"$f":"IF(【維持期】入力シート!L114=\"\",\"\",【維持期】入力シート!L114)","v":""},null,null,null,null,null,null,null,null,{"$f":"IF(【維持期】入力シート!$BE$5=FALSE,IF(【維持期】データ管理!K260=0,FALSE,IF(【維持期】データ管理!K260<【維持期】入力シート!$BE$1,TRUE,FALSE)))","v":false}]
[null,"担当者",null,{"$f":"IF(【維持期】入力シート!AF114=\"\",\"\",【維持期】入力シート!AF114)","v":""},null,null,null,null,null,null,null,null,{"$f":"IF(【維持期】入力シート!$BE$5=FALSE,IF(【維持期】データ管理!K261=0,FALSE,IF(【維持期】データ管理!K261<【維持期】入力シート!$BE$1,TRUE,FALSE)))","v":false}]
["身体障害者手帳",null,null,0,"1:説明未 2:説明済 3:申請済 4:取得済",{"$f":"IF(D262<>\"\",LOOKUP(D262,{0,1,2,3,4},{\"\",\"説明未\",\"説明済\",\"申請済\",\"取得済\"}),\"\")& IF(F263=\"\",\"\",\"　（\" &F263 & \"）\")","v":""},null,null,null,null,null,null,{"$f":"IF(【維持期】入力シート!$BE$5=FALSE,IF(【維持期】データ管理!K262=0,FALSE,IF(【維持期】データ管理!K262<【維持期】入力シート!$BE$1,TRUE,FALSE)))","v":false},0]
[null,"等級",null,{"$f":"IF(【維持期】入力シート!U115=\"\",\"\",【維持期】入力シート!U115)","v":""},null,{"$f":"IF(D263=\"\",\"\",D263 &\"級\")","v":""},null,null,null,null,null,null,{"$f":"IF(【維持期】入力シート!$BE$5=FALSE,IF(【維持期】データ管理!K263=0,FALSE,IF(【維持期】データ管理!K263<【維持期】入力シート!$BE$1,TRUE,FALSE)))","v":false}]
["精神手帳",null,null,0,"1:説明未 2:説明済 3:申請済 4:取得済",{"$f":"IF(D264<>\"\",LOOKUP(D264,{0,1,2,3,4},{\"\",\"説明未\",\"説明済\",\"申請済\",\"取得済\"}),\"\")& IF(F265=\"\",\"\",\"　（\" &F265 & \"）\")","v":""},null,null,null,null,null,null,{"$f":"IF(【維持期】入力シート!$BE$5=FALSE,IF(【維持期】データ管理!K264=0,FALSE,IF(【維持期】データ管理!K264<【維持期】入力シート!$BE$1,TRUE,FALSE)))","v":false},0]
[null,"等級",null,{"$f":"IF(【維持期】入力シート!U116=\"\",\"\",【維持期】入力シート!U116)","v":""},null,{"$f":"IF(D265=\"\",\"\",D265 &\"級\")","v":""},null,null,null,null,null,null,{"$f":"IF(【維持期】入力シート!$BE$5=FALSE,IF(【維持期】データ管理!K265=0,FALSE,IF(【維持期】データ管理!K265<【維持期】入力シート!$BE$1,TRUE,FALSE)))","v":false}]
["施設入所の場合","自宅訪問",null,0,"1:無 2:有",{"$f":"IF(D266<>\"\",LOOKUP(D266,{0,1,2},{\"\",\"無\",\"有\"}),\"\")& IF(D267=\"\",\"\",\"　（訪問日：\" &TEXT(D267,\"ggge年m月d日\") & \"）\")","v":""},null,null,null,null,null,null,{"$f":"IF(【維持期】入力シート!$BE$5=FALSE,IF(【維持期】データ管理!K266=0,FALSE,IF(【維持期】データ管理!K266<【維持期】入力シート!$BE$1,TRUE,FALSE)))","v":false},0]
[null,null,"訪問日",{"$f":"IF(【維持期】入力シート!T117=\"\",\"\",【維持期】入力シート!T117)","v":""},null,null,null,null,null,null,null,null,{"$f":"IF(【維持期】入力シート!$BE$5=FALSE,IF(【維持期】データ管理!K267=0,FALSE,IF(【維持期】データ管理!K267<【維持期】入力シート!$BE$1,TRUE,FALSE)))","v":false}]
[null,"住宅改修必要性",null,0,"1:無 2:有",{"$f":"IF(D268<>\"\",LOOKUP(D268,{0,1,2},{\"\",\"無\",\"有\"}),\"\")&IF(F269=\"\",\"\",\"　（\" &F269& \"）\")","v":""},null,null,null,null,null,null,{"$f":"IF(【維持期】入力シート!$BE$5=FALSE,IF(【維持期】データ管理!K268=0,FALSE,IF(【維持期】データ管理!K268<【維持期】入力シート!$BE$1,TRUE,FALSE)))","v":false},0]
[null,null,"有り　",0,"改修済み、準備中、その他",{"$f":"IF(D269<>\"\",LOOKUP(D269,{0,1,2,3},{\"\",\"改修済み\",\"準備中\",\"その他\"}),\"\")&IF(D269=3,\"：\"&D270&\"\",\"\")","v":""},null,null,null,null,null,null,{"$f":"IF(【維持期】入力シート!$BE$5=FALSE,IF(【維持期】データ管理!K269=0,FALSE,IF(【維持期】データ管理!K269<【維持期】入力シート!$BE$1,TRUE,FALSE)))","v":false},0]
[null,null,"その他　テキスト",{"$f":"IF(【維持期】入力シート!AC118=\"\",\"\",【維持期】入力シート!AC118)","v":""},null,null,null,null,null,null,null,null,{"$f":"IF(【維持期】入力シート!$BE$5=FALSE,IF(【維持期】データ管理!K270=0,FALSE,IF(【維持期】データ管理!K270<【維持期】入力シート!$BE$1,TRUE,FALSE)))","v":false}]
[null,null,"手すりの配置",false,null,{"$f":"IF(D271=TRUE,C271,\"\")","v":""},null,null,null,null,null,null,{"$f":"IF(【維持期】入力シート!$BE$5=FALSE,IF(【維持期】データ管理!K271=0,FALSE,IF(【維持期】データ管理!K271<【維持期】入力シート!$BE$1,TRUE,FALSE)))","v":false},false]
[null,null,"トイレ改修",false,null,{"$f":"IF(D272=TRUE,C272,\"\")","v":""},null,null,null,null,null,null,null,false]
[null,null,"浴室の改修",false,null,{"$f":"IF(D273=TRUE,C273,\"\")","v":""},null,{"$f":"IF(H274<>\"\", \"（\" & MID(H274,2,200) & \"）\",\"\")","v":""},null,null,null,null,null,false]
[null,null,"その他",false,null,{"$f":"IF(D274=TRUE,IF(D275<>\"\",C274&\"：\" & D275,\"\"),\"\")","v":""},"計算用",{"$f":" IF(F271<>\"\",\"，\" & F271,\"\") & IF(F272<>\"\",\"，\" & F272,\"\") & IF(F273<>\"\",\"，\" & F273,\"\") & IF(F274<>\"\",\"，\" & F274,\"\")","v":""},null,null,null,null,null,false]
[null,null,"その他テキスト",{"$f":"IF(【維持期】入力シート!AH119=\"\",\"\",【維持期】入力シート!AH119)","v":""},null,null,null,null,null,null,null,null,{"$f":"IF(【維持期】入力シート!$BE$5=FALSE,IF(【維持期】データ管理!K275=0,FALSE,IF(【維持期】データ管理!K275<【維持期】入力シート!$BE$1,TRUE,FALSE)))","v":false}]
[null,"福祉用具の必要性",null,0,"1:無 2:有",{"$f":"IF(D276<>\"\",LOOKUP(D276,{0,1,2},{\"\",\"無\",\"有\"}),\"\") & IF(H279=\"\",\"\",\"　\" & H279)","v":""},null,null,null,null,null,null,null,0]
[null,null,"ベッドの利用",false,null,{"$f":"IF(D277=TRUE,C277,\"\")","v":""},null,null,null,null,null,null,{"$f":"IF(【維持期】入力シート!$BE$5=FALSE,IF(【維持期】データ管理!K277=0,FALSE,IF(【維持期】データ管理!K277<【維持期】入力シート!$BE$1,TRUE,FALSE)))","v":false},false]
[null,null,"入浴補助具の利用",false,null,{"$f":"IF(D278=TRUE,C278,\"\")","v":""},null,null,null,null,null,null,null,false]
[null,null,"ポータブルトイレの利用",false,null,{"$f":"IF(D279=TRUE,C279,\"\")","v":""},null,{"$f":"IF(H280<>\"\", \"（\" & MID(H280,2,200) & \"）\",\"\")","v":""},null,null,null,null,null,false]
[null,null,"その他",false,null,{"$f":"IF(D280=TRUE,IF(D281<>\"\",C280&\"：\" & D281,\"\"),\"\")","v":""},"計算用",{"$f":" IF(F277<>\"\",\"，\" & F277,\"\") & IF(F278<>\"\",\"，\" & F278,\"\") & IF(F279<>\"\",\"，\" & F279,\"\") & IF(F280<>\"\",\"，\" & F280,\"\")","v":""},null,null,null,null,null,false]
[null,null,"その他　テキスト",{"$f":"【維持期】入力シート!AM121","v":0},null,null,null,null,null,null,null,null,{"$f":"IF(【維持期】入力シート!$BE$5=FALSE,IF(【維持期】データ管理!K281=0,FALSE,IF(【維持期】データ管理!K281<【維持期】入力シート!$BE$1,TRUE,FALSE)))","v":false}]
[null,"退院・転院後のリハビリ・服薬・栄養に関する説明",null,false,null,{"$f":"IF(D282,\"実施\",\"未実施\")&IF(D283=\"\",\"\",\"　説明日：\"&TEXT(D283,\"ggge年m月d日\"))  &IF(D284=\"\",\"\",\"　説明を行った者：\"&D284)","v":"未実施"},null,null,null,null,null,null,{"$f":"IF(【維持期】入力シート!$BE$5=FALSE,IF(【維持期】データ管理!K282=0,FALSE,IF(【維持期】データ管理!K282<【維持期】入力シート!$BE$1,TRUE,FALSE)))","v":false},false]
[null,null,"説明日",{"$f":"IF(【維持期】入力シート!I123=\"\",\"\",【維持期】入力シート!I123)","v":""},null,{"$f":"IF(D283=0,\"\",D283)","v":""},null,null,null,null,null,null,{"$f":"IF(【維持期】入力シート!$BE$5=FALSE,IF(【維持期】データ管理!K283=0,FALSE,IF(【維持期】データ管理!K283<【維持期】入力シート!$BE$1,TRUE,FALSE)))","v":false}]
[null,null,"説明を行った者",{"$f":"IF(【維持期】入力シート!X123=\"\",\"\",【維持期】入力シート!X123)","v":""},null,{"$f":"IF(D284=0,\"\",D284)","v":""},null,null,null,null,null,null,{"$f":"IF(【維持期】入力シート!$BE$5=FALSE,IF(【維持期】データ管理!K284=0,FALSE,IF(【維持期】データ管理!K284<【維持期】入力シート!$BE$1,TRUE,FALSE)))","v":false}]
[null,"退院（所）時指導",null,false,null,{"$f":"IF(D285,\"実施\",\"未実施\")","v":"未実施"},null,null,null,null,null,null,{"$f":"IF(【維持期】入力シート!$BE$5=FALSE,IF(【維持期】データ管理!K285=0,FALSE,IF(【維持期】データ管理!K285<【維持期】入力シート!$BE$1,TRUE,FALSE)))","v":false},false]
[null,"かかりつけ医への情報提供",null,false,null,{"$f":"IF(D286,\"実施\",\"未実施\")","v":"未実施"},null,null,null,null,null,null,{"$f":"IF(【維持期】入力シート!$BE$5=FALSE,IF(【維持期】データ管理!K286=0,FALSE,IF(【維持期】データ管理!K286<【維持期】入力シート!$BE$1,TRUE,FALSE)))","v":false},false]
[null,"ケアマネジャーへの情報提供",null,false,null,"未実施",null,null,null,null,null,null,{"$f":"IF(【維持期】入力シート!$BE$5=FALSE,IF(【維持期】データ管理!K287=0,FALSE,IF(【維持期】データ管理!K287<【維持期】入力シート!$BE$1,TRUE,FALSE)))","v":false},false]
[null,"在宅ケア希望者退院連絡票送付",null,false,null,"未実施",null,null,null,null,null,null,{"$f":"IF(【維持期】入力シート!$BE$5=FALSE,IF(【維持期】データ管理!K288=0,FALSE,IF(【維持期】データ管理!K288<【維持期】入力シート!$BE$1,TRUE,FALSE)))","v":false},false]
[null,"居宅ｻｰﾋﾞｽ計画書案作成",null,false,null,"未実施",null,null,null,null,null,null,{"$f":"IF(【維持期】入力シート!$BE$5=FALSE,IF(【維持期】データ管理!K289=0,FALSE,IF(【維持期】データ管理!K289<【維持期】入力シート!$BE$1,TRUE,FALSE)))","v":false},false]
[null,"紹介元へ退所時情報の提供",null,false,null,"未実施",null,null,null,null,null,null,{"$f":"IF(【維持期】入力シート!$BE$5=FALSE,IF(【維持期】データ管理!K290=0,FALSE,IF(【維持期】データ管理!K290<【維持期】入力シート!$BE$1,TRUE,FALSE)))","v":false},false]
["医療連携上の特記事項","有無",null,0,null,null,null,null,null,null,null,null,null,0]
[null,"テキスト",null,{"$f":"IF(【維持期】入力シート!Q129=\"\",\"\",【維持期】入力シート!Q129)","v":""},null,null,null,null,null,null,null,null,{"$f":"IF(【維持期】入力シート!$BE$5=FALSE,IF(【維持期】データ管理!K292=0,FALSE,IF(【維持期】データ管理!K292<【維持期】入力シート!$BE$1,TRUE,FALSE)))","v":false}]
["維持期入力完了日"]
["基本情報","生活の場","同居者の有無",0,"1同居者：無　2:同居者：有",{"$f":"IF(D294<>\"\",LOOKUP(D294,{0,1,2},{\"\",\"同居者：無\",\"同居者：有\"}),\"\")","v":""},null,null,null,null,null,null,{"$f":"IF(【維持期】入力シート!$BE$5=FALSE,IF(【維持期】データ管理!K294=0,FALSE,IF(【維持期】データ管理!K294<【維持期】入力シート!$BE$1,TRUE,FALSE)))","v":false},0]

{"sheet":"経過シート","index":11,"n_rows":6,"n_cols":289,"rows_kept":6,"cut":false,"hidden":false,"merged":[[0,8,0,11],[2,1,4,1],[2,28,3,30],[2,31,2,39],[2,40,3,42],[3,32,4,32],[3,33,4,33],[3,34,3,35],[3,36,3,39],[2,45,4,45],[2,46,3,47],[3,2,3,3],[3,4,3,5],[3,6,3,7],[3,8,3,11],[3,12,3,15],[3,16,3,21],[3,22,3,27],[3,31,4,31],[2,43,3,44]]}
[null,"経過",null,null,null,null,null,"管理者用です。触らないで下さい。"]
[]
[null,"入力日","身体・認知機能",null,null,null,null,null,null,null,null,null,null,null,null,null,null,null,null,null,null,null,null,null,null,null,null,null,"活動状況",null,null,"制度利用状況",null,null,null,null,null,null,null,null,"障害者手帳",null,null,"生活場所",null,"通院医療機関","終結理由"]
[null,null,"日常生活機能",null,"HDS-R",null,"MMSE",null,"WAIS-Ⅲ",null,null,null,"WISC-Ⅲ",null,null,null,"WISC-Ⅳ",null,null,null,null,null,"WMS-R",null,null,null,null,null,null,null,null,"介護\n保険法","障害者\n総合支援法","労働者\n災害保険","交通事故保険",null,"年金",null,null,null,null,null,null,null,null,null,null,null,"変化無し",null,null,null,null,null,null,null,"ADL",null,null,null,null,null,null,null,null,null,null,null,null,null,"HDSR",null,null,null,null,null,null,null,null,null,null,null,null,null,null,null,null,null,null,null,"MMSE",null,null,null,null,null,null,null,null,null,null,null,null,null,null,null,null,null,null,null,null,null,null,null,null,null,null,null,null,null,"WAIS-Ⅲ",null,null,null,null,null,null,null,null,null,null,null,null,null,null,null,null,null,null,null,null,null,null,null,null,null,null,null,null,null,null,null,null,null,null,null,null,null,null,null,null,null,null,null,null,null,null,null,null,null,"WISC-Ⅲ",null,null,null,null,null,null,null,null,null,null,null,null,null,null,null,null,null,null,null,null,null,null,null,null,null,null,null,null,null,null,null,null,null,null,null,null,null,null,null,null,null,null,null,null,null,null,null,null,null,"WISC-Ⅳ",null,null,null,null,null,null,null,null,null,null,null,null,null,null,null,null,null,null,null,null,null,null,null,null,null,null,null,null,null,null,null,null,null,null,null,null,null,null,null,null,null,null,null,null,null,null,null,null,null,"WMS-R"]
[null,null,"点数","評価日","点数","評価日","点数","評価日","FIQ","VIQ","PIQ","評価日","FIQ","VIQ","PIQ","評価日","FSIQ","VCI","PRI","WMI","PSI","評価日","言語性","視覚性","一般的","注意\n集中","遅延\n再生","評価日",null,"勤務日数","いつから",null,null,null,null,"後遺障害\n等級","障害\n基礎年金","障害\n厚生年金","老齢\n基礎年金","老齢\n厚生年金","身体障害者\n手帳","精神障害者\n保健福祉手帳","療育手帳",null,"いつから",null,null,"いつから","活動状況","制度利用状況","障害者手帳","生活場所","通院医療機関","終結理由","医療機関ワーク",null,1,2,3,4,5,6,7,8,9,10,11,12,13,null,1,2,3,4,5,6,7,8,9,10,11,12,13,14,15,16,17,18,null,null,1,2,3,4,5,6,7,8,9,10,11,12,13,14,15,16,17,18,19,20,21,22,23,24,25,26,27,28,29,30,1,2,3,4,5,6,7,8,9,10,11,12,13,14,15,16,17,18,19,20,21,22,23,24,25,26,27,28,29,30,31,32,33,34,35,36,37,38,39,40,41,42,43,null,null,null,null,null,null,null,1,2,3,4,5,6,7,8,9,10,11,12,13,14,15,16,17,18,19,20,21,22,23,24,25,26,27,28,29,30,31,32,33,34,35,36,37,38,39,40,41,42,null,null,null,null,null,null,null,null,1,2,3,4,5,6,7,8,9,10,11,12,13,14,15,16,17,18,19,20,21,22,23,24,25,26,27,28,29,30,31,32,33,34,35,36,37,38,39,40,41,42,43,44,45,null,null,null,null,null,1,2,3,4,5,6,7,8,9,10,11,12,13,14,15,16,17,18,19]
[null,"発症前"]

{"sheet":"患者説明資料","index":12,"n_rows":54,"n_cols":69,"rows_kept":54,"cut":false,"hidden":false,"merged":[[31,0,35,4],[36,0,43,4],[36,5,49,7],[44,0,49,4],[58,62,59,67],[12,43,13,48],[12,49,13,60],[12,61,13,67],[68,31,69,40],[12,68,13,76],[14,43,14,47],[14,61,14,65],[15,24,19,42],[15,43,19,60],[15,61,19,76],[12,0,30,4],[12,5,13,9],[12,10,13,23],[12,24,13,29],[12,30,13,42],[14,5,14,9],[14,24,14,28],[15,5,19,23],[8,0,11,4],[8,5,10,23],[8,24,10,42],[11,43,11,60],[11,61,11,76],[8,43,8,76],[9,43,10,60],[9,61,10,76],[11,5,11,23],[11,24,11,42],[0,0,1,77],[3,0,3,2],[3,3,3,9],[3,10,5,10],[3,14,5,17],[3,18,5,31],[3,36,5,38],[3,39,5,53],[3,56,5,59],[3,60,5,70],[4,0,5,2],[4,3,5,9]]}
["宇部山陽小野田美祢圏域脳外傷地域連携診療計画書（患者説明用パス）　生活ができるよう支援させていただきます"]
[]
[]
["フリガナ",null,null,{"$f":"IF(【急性期】入力シート!E3=\"\",\"\",【急性期】入力シート!E3)","v":""},null,null,null,null,null,null,"様",null,null,null,"医療機関",null,null,null,{"$f":"IF(【急性期】入力シート!AG2=\"\",\"\",【急性期】入力シート!AG2)","v":""},null,null,null,null,null,null,null,null,null,null,null,null,null,null,null,null,null,"説明者",null,null,null,null,null,null,null,null,null,null,null,null,null,null,null,null,null,null,null,"説明日",null,null,null,"　　　　年　　月　　日"]
["氏名",null,null,{"$f":"IF(DATA_PATIENT!B5<>\"\",DATA_PATIENT!B5,\"\")","v":""}]
[]
[]
[]
["医療機関",null,null,null,null,"急性期医療機関",null,null,null,null,null,null,null,null,null,null,null,null,null,null,null,null,null,null,"回復期医療機関",null,null,null,null,null,null,null,null,null,null,null,null,null,null,null,null,null,null,"維持期"]
[null,null,null,null,null,null,null,null,null,null,null,null,null,null,null,null,null,null,null,null,null,null,null,null,null,null,null,null,null,null,null,null,null,null,null,null,null,null,null,null,null,null,null,"維持期医療機関",null,null,null,null,null,null,null,null,null,null,null,null,null,null,null,null,null,"福祉・行政・在宅等"]
[]
[null,null,null,null,null,"急性期治療が必要な時期",null,null,null,null,null,null,null,null,null,null,null,null,null,null,null,null,null,null,"生活するための機能訓練を必要とする時期",null,null,null,null,null,null,null,null,null,null,null,null,null,null,null,null,null,null,"機能維持のために医療機関での療養を            必要とする時期",null,null,null,null,null,null,null,null,null,null,null,null,null,null,null,null,null,"安心して在宅療養生活が送れ、希望によって復職等社会復帰可能な時期"]
["診療期間、内容と医療の流れ",null,null,null,null,"救急病院",null,null,null,null,"入院から2週間～1ヶ月程度",null,null,null,null,null,null,null,null,null,null,null,null,null,"リハビリ病院",null,null,null,null,null,"受傷から　　　　　　　　　　　　　　　　　　　　　約1ヶ月～6ヶ月程度の期間",null,null,null,null,null,null,null,null,null,null,null,null,"病院\n医療併用施設",null,null,null,null,null,"継続した医療・リハビリが必要",null,null,null,null,null,null,null,null,null,null,null,"在宅・施設",null,null,null,null,null,null,"かかりつけ医"]
[]
[null,null,null,null,null,"診療内容等：",null,null,null,null,null,null,null,null,null,null,null,null,null,null,null,null,null,null,"診療内容等：",null,null,null,null,null,null,null,null,null,null,null,null,null,null,null,null,null,null,"診療内容等：",null,null,null,null,null,null,null,null,null,null,null,null,null,null,null,null,null,"診療内容等："]
[null,null,null,null,null,"診断と専門的な治療を行います\n多発外傷や骨折などで、複数の診療科が担当します\n必要な場合には手術治療を行います\n早期にリハビリテーションを開始し症状の改善、機能低下の予防を目指します",null,null,null,null,null,null,null,null,null,null,null,null,null,null,null,null,null,null,"状態に応じて内服薬による治療を継続します\n在宅復帰や復職にむけた機能改善、代償方法の取得を目指します\nサービス調整と退院準備を整えます",null,null,null,null,null,null,null,null,null,null,null,null,null,null,null,null,null,null,"状態に応じて内服薬による治療を継続します\n生活機能の維持・向上を目指します\nサービス調整と退院の準備を整えます",null,null,null,null,null,null,null,null,null,null,null,null,null,null,null,null,null,"獲得した機能を維持したり、より改善するようサービス等を利用しながら、自分らしく生活しましょう\n"]
[]
[]
[]
[]
[]
[]
[]
[]
[]
[]
[]
[]
[]
[]
[]
["リハビリ\nテーション"]
[]
[]
[]
[]
["相談窓口",null,null,null,null,"　在宅や地域社会の中で自分らしく生活するために　　　　　　　　　　　　　　　"]
[]
[]
[]
[]
[]
[]
[]
["制度利用の流れ"]
[]
[]
[]
[]
[]
[]
["※地域連携パスには、あなたの大事な情報が記載されています。加筆や改変などは危険ですのでご遠慮ください。"]
["◆この計画書は、標準的な経過を説明したものです。\n　患者様の状態により、異なる経過になることもあります。\n　ご質問がありましたら、遠慮なくスタッフにお尋ねください。"]
["♦制度利用の詳細は、受診している病院の地域連携室等にお問い合わせください。"]

{"sheet":"同意書 ","index":13,"n_rows":33,"n_cols":14,"rows_kept":33,"cut":false,"hidden":false,"merged":[[25,6,25,8],[25,10,25,12],[29,4,29,6],[16,0,16,2],[17,0,17,15],[19,0,19,2],[20,0,20,15],[22,0,22,7],[23,0,23,15],[12,0,14,15],[0,0,1,15],[3,0,4,15],[6,0,6,1],[7,0,9,15],[11,0,11,3]]}
["宇部山陽小野田美祢圏域脳外傷地域連携診療計画書利用について（同意書）"]
[]
[]
["　この文書は、脳外傷を受傷された患者さんに対し、地域の医療・福祉・行政が連携して適切な診療や支援に取り組むことを目的とした診療計画書（脳外傷地域連携パス）利用についてのご案内です。"]
[]
[]
["はじめに"]
["　脳外傷地域連携パスとは、良質な医療や支援を効率的、かつ安全、適正に提供するための手段として開発された診療計画表のことです。当院でも、より質の高い医療を提供するため、脳外傷地域連携パスを導入しております。これは、あなたの治療情報を退院後にかかられる機関と情報共有することで、治療等を円滑に行うことが目的です。また、治療を受けられた方の情報を登録し、集計・分析することで、脳外傷治療の向上に寄与したいと考えておりますので、情報の利用につきましてもご理解とご協力をお願いいたします。なお、この場合においても個人が特定されることはありません。"]
[]
[]
[]
["１． 他病院との診療情報の共有"]
["あなたが宇部山陽小野田美祢圏域の連携機関を退院する際には、連携機関間で脳外傷地域連携パスを利用し、あなたの情報の共有が行われます。なお、共有される情報には、病名、治療内容、治療期間、リハビリ経過等が含まれます。また、宇部山陽小野田美祢圏域以外の機関に退院される際には、宇部山陽小野田美祢圏域脳外傷地域連携パスと同等の内容である情報提供で対応させて頂きます。"]
[]
[]
[]
["２． 同意書の取り扱い"]
["当院で、宇部山陽小野田美祢圏域脳外傷地域連携パスの利用並びに登録、集計にご同意いただいた場合には、これから退院後にかかられる機関においても同意されたものとし、宇部山陽小野田美祢圏域脳外傷地域連携パスを利用した治療が継続される予定です。"]
[]
["３． 個人情報の取り扱い"]
["宇部山陽小野田美祢圏域脳外傷地域連携パスに基づいて治療を受けられる際は、連携機関間で、あなたの診療情報の提供が行われます。診療情報はあなたの大切な個人情報のため、機関間での情報提供を含めた管理については、個人情報保護法を遵守し、宇部山陽小野田美祢圏域脳外傷地域連携パス運用以外の目的には使用いたしません。"]
[]
["４． 宇部山陽小野田美祢圏域脳外傷地域連携パス利用の任意性と、同意後の撤回等"]
["宇部山陽小野田美祢圏域脳外傷地域連携パスの利用においては、あなたの意志が何よりも尊重されます。同意後、同意を撤回したい場合や開示請求したい場合には、いつでもご遠慮なく下記事務局へお申し出ください。また宇部山陽小野田美祢圏域脳外傷地域連携パス利用への同意をしないとか同意を撤回したからと言って、あなたが不利益な扱いを受けることは全くありません。あなたが受けられる医療・介護・福祉サービスの内容は全く変わりません。"]
[]
["機関名：",{"$f":"IF(患者説明資料!S4=\"\",\"\",患者説明資料!S4)","v":""},null,null,null,"\n診療科：\n",null,null,null,"主治医：",null,null,null,"印"]
[]
["上記内容を理解した上で、宇部山陽小野田美祢圏域脳外傷地域連携パス及び情報の利用につきまして同意いたします。"]
["平成　　　　　　年　　　　　　月　　　　　　日"]
["署名：",null,null,null,"（続柄：　　　　　　　　　）",null,null,"    印","※代理人の場合は続柄も記入して下さい。"]
[]
["宇部山陽小野田美祢圏域脳外傷地域連携パス事務局"]
["山口県立こころの医療センター　高次脳機能障害支援センター",null,null,null,null,null,null,"　Tell：0836-58-1218　　　FAX：0836-58-6503"]

{"sheet":"社会資源 (制度活用のポイント)","index":14,"n_rows":39,"n_cols":1,"rows_kept":39,"cut":false,"hidden":false,"merged":[[4,11,4,13]]}
["障害者福祉制度･経済的支援等に関する制度活用のポイント"]
[]
[]
[]
[]
[]
[]
[]
[]
[]
[]
[]
[]
[]
[]
[]
[]
[]
[]
[]
[]
[]
[]
[]
[]
[]
[]
[]
[]
[]
[]
[]
[]
[]
[]
[]
[]
["＊制度の概要および申請先は別ソートの「社会資源（相談窓口等」をご覧ください。"]
["＊制度の詳細な内容および具体的な手続きは病院のソーシャルワーカー等に相談してください。"]

{"sheet":"社会資源(相談窓口等)","index":15,"n_rows":120,"n_cols":11,"rows_kept":120,"cut":false,"hidden":false,"merged":[[111,3,113,9],[114,3,116,9],[119,0,120,13],[103,0,103,2],[103,3,103,9],[103,10,103,13],[105,0,110,2],[105,3,110,9],[105,10,110,13],[83,10,83,13],[85,3,86,9],[87,3,91,9],[92,3,93,9],[95,3,96,9],[98,3,99,9],[70,0,74,2],[70,3,74,9],[75,3,77,9],[78,3,79,9],[83,0,83,2],[83,3,83,9],[67,3,68,9],[38,0,40,2],[38,3,40,9],[38,10,40,13],[44,0,44,2],[44,3,44,9],[44,10,44,13],[45,3,50,9],[51,3,55,9],[56,3,62,9],[63,3,66,9],[63,10,66,13],[29,0,32,2],[29,3,32,9],[29,10,37,13],[33,0,34,2],[33,3,34,9],[35,0,37,2],[35,3,37,9],[18,0,20,2],[18,3,20,9],[18,10,20,13],[21,0,28,2],[21,3,28,9],[21,10,28,13],[12,0,13,2],[12,3,13,9],[12,10,13,13],[15,0,17,2],[15,3,17,9],[15,10,17,13],[7,0,9,2],[7,3,9,9],[7,10,9,13],[10,0,11,2],[10,3,11,9],[10,10,11,13],[3,0,3,2],[3,3,3,9],[3,10,3,13],[4,0,6,2],[4,3,6,9],[4,10,6,13]]}
["障害者福祉制度・経済的支援制度等の概要と相談窓口および申請先"]
[]
[]
["制度等",null,null,"制度の概要",null,null,null,null,null,null,"相談窓口・申請先"]
["健康保険高額療養費",null,null,"医療機関に支払った医療費が、１ヶ月に一定額(所得に応じた高額療養費自己負担額）を超えた場合、超えた額が戻ってくる制度。なお、事前に申請した「限度額適用認定証」を医療機関に提示すれば、限度額のみで支払い可能。",null,null,null,null,null,null,"社会保険事務所、健康保険組合、共済組合、市町担当課(医療保険の種類による）"]
[]
[]
["傷病手当金",null,null,"健康保険(国民健康保険以外）に加入している者が、病気等による治療のために休職となり、給与が支給されない場合、最長１年６ヶ月間支給される制度。受給中に退職しても治療のため働けない状態が続けば、最長期間までは支給される",null,null,null,null,null,null,"勤務先の社会保険担当者等"]
[]
[]
["自立支援医療(精神医療）",null,null,"高次脳機能障害や精神疾患に対する治療やリハビリテーションを外来通院で受ける際、その自己負担分が原則１割になる制度",null,null,null,null,null,null,"市町福祉担当課または保健センター"]
[]
["重度障害者医療費助成制度",null,null,"健康保険の自己負担額を県と市町が助成する制度で、山口県は身体障害者手帳１～３級、精神障害者保健福祉手帳１級、療育手帳Ａの人を対象としている。",null,null,null,null,null,null,"市町福祉事務所および市町福祉担当課"]
[]
["自動車保険関連制度"]
["　　　　自動車賠償責任保険",null,null,"自動車保険制度には、自動車賠償責任保険（自賠責保険）と自動車任意保険制度（任意保険）があり、医療給付や損害賠償を行う制度。損害賠償は死亡と後遺障害に対して支払われる。",null,null,null,null,null,null,"損害保険会社、日弁連交通事故相談センター、自動車保険請求相談センター、市町の交通事故相談法律相談"]
[]
[]
["　　　　介護料支給制度",null,null,"自賠責保険等級が1級3号か４号者、２級３号か４号者、または自損事故による同程度の障害状態により介護を要する者に介護料を支給する制度",null,null,null,null,null,null,"交通事故対策機構(NASVA)の各支部"]
[]
[]
["労働者災害補償保険制度",null,null,"労働災害の補償に関する制度(労災保険）で、業務労災と通勤労災があり、補償内容には変わりがないが、業務労災の場合は、療養中は３年間の解雇制限がある。治療期間中は、療養給付(医療費）と休業給付が行われる。休業給付は賃金の８割が支給される。後遺障害がある場合は、障害給付（１級から７級は年金として、８級から１４級は一時金として）が行われる。その他重度障害の場合は介護給付もある。",null,null,null,null,null,null,"労働基準監督署"]
[]
[]
[]
[]
[]
[]
[]
["障害年金",null,null,"障害年金は、受傷・発症時に公的年金に加入しており(２０歳以下は除く）、保険料納付済期間が３分の２以上あり、障害認定日（脳損傷では初診日から１年６ヶ月）に障害程度が年金支給の基準に該当する状態である場合に支給。",null,null,null,null,null,null,"市町年金係および管轄の年金事務所"]
[]
[]
[]
["　　　　障害基礎年金(国民年金）",null,null,"障害基礎年金は、障害程度で１級と２級があり、子（１８歳到達年度の３月３１日まで）の加算がある。２０歳までに障害をおった人も支給対象になるが、所得制限がある。"]
[]
["　　　　障害厚生・共済年金",null,null,"障害厚生・共済年金は、１級、２級、３級、障害手当金の４段階がある。年金額は等級と本人の賃金報酬額（平均標準報酬月額）等で違いがある。配偶者に加算がつく。"]
[]
[]
["雇用保険",null,null,"就労中に病気や障害により失業した場合、雇用保険に６ヶ月以上加入していれば失業保険受給の可能性がある。在職中に障害者手帳を所持していると一般の失業者より支給期間が延長される。",null,null,null,null,null,null,"ハローワーク"]
[]
[]
[]
[]
[]
["　　　　　　　　制度等",null,null,"　　　　　　　　　　　　　　　　　　制度の概要",null,null,null,null,null,null,"　　　　　　　　　　相談窓口・申請先"]
["身体障害者手帳",null,null,"身体障害者手帳は、身体障害者障害程度等級表に該当する者に対して交付される。身体障害の種類は、視覚、聴覚又は平衡機能、音声・言語機能又はそしゃく機能、肢体、内部（心臓・腎臓・呼吸器・膀胱または直腸、小腸、ヒト免疫不全ウイルスによる免疫機能）に分類される。等級表には１級から７級までの基準があり、手帳は６級以上の状態の者に交付される。申請は身体障害者福祉法１５条の指定を受けている医師の診断書が必要。",null,null,null,null,null,null,"市町福祉事務所および市町福祉担当課"]
[]
[]
[]
[]
[]
["療育手帳",null,null,"療育手帳は、「知的機能の障害が発達期（おおむね１８歳未満）にあらわれ、日常生活に支障が生じているため、何らかの特別な援助を必要とする状態にある者」、「脳の発達途上（おおむね１８歳未満）に外的原因によって脳の障害を受けたため、主として知能の働きが弱く、自己のことがらの処理および社会生活への適用が困難な状態にある者」に対して交付される。障害の程度は、重度の場合は「Ａ」その他の場合は「Ｂ」と手帳に表記される。",null,null,null,null,null,null,"市町福祉事務所および市町福祉担当課"]
[]
[]
[]
[]
["精神障害者保健福祉手帳",null,null,"精神障害者保健福祉手帳は、精神障害のために長期にわたり日常生活または社会生活に支障がある者に対して、１級、２級、３級の等級で交付される。脳外傷などの脳器質性の精神障害も含まれ、２年毎に更新手続きが必要である。申請方法は診断書を提出する方法(初診日から６ヶ月以上経過していること）と、すでに高次脳機能障害で障害年金を受給している者は、年金証書を提出する方法がある。診断書の記載に関しては、精神科医が望ましいが、脳外傷などの脳器質性の精神障害については脳神経外科医、神経内科医、リハビリテーション科医も可能である。",null,null,null,null,null,null,"市町福祉事務所または保健センター"]
[]
[]
[]
[]
[]
[]
["自立支援給付",null,null,"障害者総合支援法により、介護や就労に関する訓練等サービスの利用が可能。介護は居宅介護や施設入所支援等の給付があり、訓練等は自立訓練や就労継続・移行支援等の給付がある。利用の流れは、サービス利用の申請後に障害程度区分認定が行われ、区分に応じてサービスの支給が決定される。",null,null,null,null,null,null,"各施設(事業所）\n市町福祉事務所および市町福祉担当課\n保健センター"]
["　　　介護給付　　 訓練等給付"]
["　　　補装具　　　　自立支援医療"]
[]
["地域生活支援事業",null,null,"相談支援や日常生活用具の給付または貸与、移動支援等の日常生活や社会生活支援を行う事業である。",null,null,null,null,null,null,"障害者地域生活支援センター"]
[]
["介護保険制度"]
["　　　要介護認定",null,null,"介護保険サービスの対象者は、６５歳以上の高齢者(第１号被保険者）、または４０歳以上の特定疾病(脳卒中等の加齢に伴うことを原因とする１５疾病）を有する者で市町村介護認定審査会が介護（支援）を要すると認定した者（第２号被保険者）である。審査会では、非該当、要支援１・２、要介護１～５を認定する。介護保険サービスは、障害者福祉サービスよりも優先利用となるが、介護保険サービスにない障害者福祉サービス等はその限りではない。"]
[]
[]
[null,null,null,null,null,null,null,null,null,null,"各施設(事業所）、市町介護保険担当課"]
[null,null,null,null,null,null,null,null,null,null,"居宅介護支援事業所"]
["　　　在宅サービス",null,null,"自宅などの生活の場で利用できるサービスで、通所介護(デイサービス）、通所リハビリテーション(デイケア）、訪問介護（ホームヘルプ）、訪問リハビリテーション、施設への短期入所生活介護（ショートステイ）、福祉用具貸与、住宅改修等がある。",null,null,null,null,null,null,"地域包括支援センター"]
[]
[]
["　　　施設サービス",null,null,"施設サービスは、要介護１～５の者が利用できる。介護保険が適用できる施設は、介護老人福祉施設(特別養護老人ホーム）、介護老人保健施設(老人保健施設）、介護療養型医療施設（療養病床等）である。"]
[]
[]
[]
[]
["制度等",null,null,"制度の概要",null,null,null,null,null,null,"相談窓口・申請先"]
["職業相談"]
["　　　ハローワーク",null,null,"就労を希望する障害者が求職登録を行う。専門の職業相談員が、障害の状況や特性、希望職種に応じて相談、職業の紹介、および職場適応指導を行う。",null,null,null,null,null,null,"所轄のハローワーク（公共職業安定所）"]
["　　　　　　(公共職業安定所）"]
["　　　地域障害者職業センター",null,null,"各都道府県に設置されており、ハローワークと連携しながら、職業適性検査等を実施し、どのような仕事に向いているか、就労のための準備がどの程度整っているかなど職業評価を行った上で、支援内容についての支援計画を策定する。また、それらをもとに職業準備支援や職場に派遣されるジョブコーチ支援事業等を行っている。支援の対象は、障害者手帳の有無によらず障害を有する者となっている。",null,null,null,null,null,null,"山口障害者職業センター"]
[]
[]
[]
[]
["　　　障害者就業・生活支援センター",null,null,"就業およびこれに伴う日常生活、または社会生活上の支援を必要とする障害者に対し、雇用・保健福祉・教育等の関係機関と連携を図って、職業生活における自立のための支援を行っている。",null,null,null,null,null,null,"地域の障害者就業・生活支援センター"]
[null,null,null,null,null,null,null,null,null,null,"　　　　　　（県内６ヶ所）"]
["福祉的就労"]
["　　就労継続支援",null,null,"一般企業等で就労が困難な人に働く場を提供するとともに、知識や能力向上のために必要な訓練を行う。雇用型(A型）と非雇用型（Ｂ型）がある。",null,null,null,null,null,null,"市町福祉担当課"]
["　　　　　　(障害者総合支援法）",null,null,null,null,null,null,null,null,null,"各障害者相談支援事業所"]
["　　旧法の施設",null,null,"旧法の授産施設や福祉工場、小規模作業所等で、授産活動や作業訓練を行う。",null,null,null,null,null,null,"市町福祉担当課および各施設"]
["　　地域活動支援センター",null,null,"すぐには福祉的就労も困難な人に、創作活動や生産活動の機会の提供や社会との交流促進を行う。これらの活動を経て福祉的就労に移行する者もいる。",null,null,null,null,null,null,"市町福祉担当課"]
[null,null,null,null,null,null,null,null,null,null,"各地域活動支援センター"]
[]
[]
[]
["制度等",null,null,"制度の概要",null,null,null,null,null,null,"相談・申請先"]
["成年後見制度",null,null,"成年後見には、法定後見と任意後見の２種類がある。"]
["　　　法定後見",null,null,"法定後見は、判断能力が不十分な人を、法律面や生活面で保護したり支援したりする制度。本人の判断能力の程度によって区分され、後見（本人にほとんど判断能力がない場合）、保佐（本人の判断能力が著しく低下している場合）、補助（本人の判断能力が不十分な場合）の３類型がある。",null,null,null,null,null,null,"所轄の家庭裁判所"]
[]
[]
[]
[]
[]
[null,null,null,"任意後見は、判断能力がなくなった時のため、財産管理や身上監護に関することについて、予め信頼のおける人と契約を結んでおく制度。"]
["　　　任意後見",null,null,null,null,null,null,null,null,null,"所轄の公証役場"]
[]
["地域福祉権利擁護事業",null,null,"お金の出し入れなど日常的な金銭の管理、通帳や印鑑の保管、福祉サービスの利用手続きなどに不安がある時に契約締結して利用する制度。生活保護世帯以外は有料となる。判断能力等、疑義がある時には契約締結審査会にて審議される。",null,null,null,null,null,null,"都道府県社会福祉協議会"]
["　（福祉サービス利用援助事業）",null,null,null,null,null,null,null,null,null,"市町社会福祉協議会"]
[]
[]
[]
["　復学・就学については、在籍している学校や居住地の市町村教育委員会が相談窓口であるが、特別支援教育の検討も含めた、本人に合ったよりよい教育環境を整えるために、教育関係者と病院の主治医、ソーシャルワーカー、スクールカウンセラー、児童相談所等と緊密な連携のもとで支援することが必要。"]

{"sheet":"【経過】日常生活機能","index":16,"n_rows":21,"n_cols":31,"rows_kept":21,"cut":false,"hidden":true,"merged":[[4,30,5,32],[2,3,2,8],[18,15,18,17],[18,18,18,25],[18,26,18,29],[18,30,18,32],[14,15,14,17],[14,18,14,25],[14,26,14,29],[14,30,14,32],[15,15,15,17],[15,18,15,25],[15,26,15,29],[15,30,15,32],[12,15,12,17],[12,18,12,25],[19,0,19,29],[19,30,19,32],[16,15,16,17],[16,18,16,25],[16,26,16,29],[16,30,16,32],[17,15,17,17],[17,18,17,25],[17,26,17,29],[17,30,17,32],[12,26,12,29],[12,30,12,32],[13,15,13,17],[13,18,13,25],[13,26,13,29],[13,30,13,32],[10,15,10,17],[10,18,10,25],[10,26,10,29],[10,30,10,32],[11,15,11,17],[11,18,11,25],[11,26,11,29],[11,30,11,32],[8,15,8,17],[8,18,8,25],[8,26,8,29],[8,30,8,32],[9,15,9,17],[9,18,9,25],[9,26,9,29],[9,30,9,32],[6,15,6,17],[6,18,6,25],[6,26,6,29],[6,30,6,32],[7,0,7,14],[7,15,7,17],[7,18,7,25],[7,26,7,29],[7,30,7,32],[0,0,1,14],[2,0,2,2],[4,0,5,14],[4,15,4,29],[5,15,5,17],[5,18,5,25],[5,26,5,29]]}
["日常生活機能評価表"]
[]
["評価日：",null,null,"2017-03-15"]
[]
["患者の状況",null,null,null,null,null,null,null,null,null,null,null,null,null,null,"得点",null,null,null,null,null,null,null,null,null,null,null,null,null,null,"点数"]
[null,null,null,null,null,null,null,null,null,null,null,null,null,null,null,"０点",null,null,"１点",null,null,null,null,null,null,null,"２点"]
["床上安静の指示",null,null,null,null,null,null,null,null,null,null,null,null,null,null,"なし",null,null,"あり"]
["どちらかの手を胸元まで持ち上げられる",null,null,null,null,null,null,null,null,null,null,null,null,null,null,"できる",null,null,"できない"]
["寝返り",null,null,null,null,null,null,null,null,null,null,null,null,null,null,"できる",null,null,"何かにつかまればできる",null,null,null,null,null,null,null,"できない"]
["起き上がり",null,null,null,null,null,null,null,null,null,null,null,null,null,null,"できる",null,null,"できない"]
["座位保持",null,null,null,null,null,null,null,null,null,null,null,null,null,null,"できる",null,null,"支えがあればできる",null,null,null,null,null,null,null,"できない"]
["移乗",null,null,null,null,null,null,null,null,null,null,null,null,null,null,"できる",null,null,"見守り・一部介助が必要",null,null,null,null,null,null,null,"できない"]
["移動方法",null,null,null,null,null,null,null,null,null,null,null,null,null,null,"介助を要しない移動",null,null,"介助を要する移動\n（搬送を含む）"]
["口腔清潔",null,null,null,null,null,null,null,null,null,null,null,null,null,null,"できる",null,null,"できない"]
["食事摂取",null,null,null,null,null,null,null,null,null,null,null,null,null,null,"介助なし",null,null,"一部介助",null,null,null,null,null,null,null,"全介助"]
["衣服の着脱",null,null,null,null,null,null,null,null,null,null,null,null,null,null,"介助なし",null,null,"一部介助",null,null,null,null,null,null,null,"全介助"]
["他者への意思の伝達",null,null,null,null,null,null,null,null,null,null,null,null,null,null,"できる",null,null,"できる時と\nできない時がある　",null,null,null,null,null,null,null,"できない"]
["診療・療養上の指示が通じる",null,null,null,null,null,null,null,null,null,null,null,null,null,null,"はい",null,null,"いいえ"]
["危険行動",null,null,null,null,null,null,null,null,null,null,null,null,null,null,"ない",null,null,"ある"]
["合計点",null,null,null,null,null,null,null,null,null,null,null,null,null,null,null,null,null,null,null,null,null,null,null,null,null,null,null,null,null,{"$f":"SUM(AE7:AG19)","v":0}]
["※得点：０～１９点"]

{"sheet":"【経過】HDS-R","index":17,"n_rows":41,"n_cols":7,"rows_kept":41,"cut":false,"hidden":true,"merged":[[28,6,33,6],[34,6,39,6],[4,2,4,4],[0,0,1,3],[2,0,2,1],[10,6,12,6]]}
["簡易長谷川式認知機能評価スケール"]
[]
["評価日："]
[]
[null,"№","質問内容",null,null,"選択欄","点数"]
[null,1,"お歳はいくつですか？2年までの誤差は正解"]
[null,2,"今日は何年の何月何日ですか？　何曜日ですか？",null,"年"]
[null,null,null,null,"月"]
[null,null,null,null,"日"]
[null,null,null,null,"曜日"]
[null,3,"私たちが今いるところはどこですか？"]
[null,null,"(自発的にでれば2 点，5 秒おいて家ですか? 病院ですか? 施設ですか?"]
[null,null,"のなかから正しい選択をすれば1 点)"]
[null,4,"これから言う3 つの言葉を言ってみてください．あとでまた聞きますのでよ"]
[null,null,"く覚えておいてください．"]
[null,null,"以下の系列のいずれか1つで、採用した系列に印をしておく。",null,"a"]
[null,null,"　　　　　　　　a)桜　　　b)猫　　　c)電車",null,"b"]
[null,null,"　　　　　　　　a)梅　　　b)犬　　　c)自動車",null,"c"]
[null,5,"100から7を順番に引いてください。（aに正解のときのみbも行う)"]
[null,null,"   a)　100―7は？",null,"(93)"]
[null,null,"   b)　それから7を引くと？",null,"(86)"]
[null,6,"これから言う数字を逆から言ってください。（aに正解のときのみbも行う)"]
[null,null,"　　a)　６―８―２",null,"（２－８－６）"]
[null,null,"　　b)　３―５―２―９",null,"（９－２－５－３）"]
[null,7,"先ほど覚えてもらった言葉（問４の３つの言葉）をもう一度言ってみてください。",null,{"$f":"IF(H25=1,\"系列1\",IF(H25=2,\"系列2\",\"\"))","v":""}]
[null,null,"　正答がでなかった言葉にはヒントを与える",null,{"$f":"IF(H25=1,\"a)桜\",IF(H25=2,\"a)梅\",\"\"))","v":""}]
[null,null,"　ヒント　a) 植物　b) 動物　c) 乗り物　",null,{"$f":"IF(H25=1,\"b)猫\",IF(H25=2,\"b)犬\",\"\"))","v":""}]
[null,null,{"$f":"\"  答え  \"&IF(H25=1,\"系列1  a)桜　　　b)猫　　　c)電車\",IF(H25=2,\"系列2  a)梅　　　b)犬　　　c)自動車\",\"\"))","v":"  答え  "},null,{"$f":"IF(H25=1,\"c)電車\",IF(H25=2,\"c)自動車\",\"\"))","v":""}]
[null,8,"これから５つの品物を見せます。それを隠しますので何があったか言って下さい。 "]
[null,null,"　１つずつ名前を言いながら並べ覚えさせる。次に隠す。"]
[null,null,"　時計、くし、はさみ、タバコ、ペンなど必ず相互に無関係なものを使う。"]
[null,null,"　１つ正答するごとに１点"]
[]
[]
[null,9,"知っている野菜の名前をできるだけ多く言ってください。"]
[]
[]
[]
[]
[]
[null,null,null,null,null,"合計",{"$f":"SUM(G6:G37)","v":0}]

{"sheet":"【経過】MMSE","index":18,"n_rows":53,"n_cols":7,"rows_kept":53,"cut":false,"hidden":true,"merged":[[2,0,2,1],[4,2,4,4],[0,0,1,3]]}
["ＭＭＳＥ（Mini-Mental State Examination）"]
[]
["評価日：",null,"2017-03-27"]
[]
[null,"№","質問内容",null,null,"選択欄","点数"]
[null,"日時（5点） ","今年は何年ですか。 ",null,"年",null,1]
[null,null,"いまの季節は何ですか。 ",null,"季節"]
[null,null,"今日は何曜日ですか。 ",null,"曜日"]
[null,null,"今日は何月何日ですか。 ",null,"月"]
[null,null,null,null,"日"]
[null,"現在地（5点） ","ここは何地方ですか。 ",null,"地方"]
[null,null,"ここは何県ですか。 ",null,"県"]
[null,null,"ここは何市ですか。 ",null,"市"]
[null,null,"ここは何病院ですか。 ",null,"病院"]
[null,null,"ここは何階ですか。 ",null,"階"]
[null,"記憶（3点） ","相互に無関係な物品名を3個聞かせ、それをそのまま復唱させる。",null,"a"]
[null,null,"1個答えられるごとに1点。すべて言えなければ6回まで繰り返す。 ",null,"b"]
[null,null,"a)桜　　　b)猫　　　c)電車",null,"c"]
[null,null,"a)梅　　　b)犬　　　c)自動車"]
[null,"7シリーズ（5点） ","100から順に7を引いていく。5回できれば5点。間違えた時点で打ち切り。 ",null,"１回目：93"]
[null,null,"あるいは「フジノヤマ」を逆唱させる。 　 　 ",null,"２回目：86"]
[null,null,null,null,"３回目：79"]
[null,null,null,null,"４回目：72"]
[null,null,null,null,"５回目：65"]
[null,"想起（3点） ","3で示した物品名を再度復唱させる。 　 　 ",null,"a"]
[null,null,null,null,"b"]
[null,null,null,null,"c"]
[null,"呼称（2点） ","（時計を見せながら） これは何ですか"]
[null,null,"（鉛筆を見せながら） これは何ですか"]
[null,"読字（1点） ","次の文章を繰り返す"]
[null,null,"「みんなで，力を合わせて綱を引きます」"]
[]
[null,"言語理解（3点） ","次の3つの命令を口頭で伝え、すべて聞き終わってから実行する "]
[null,null,"「右手にこの紙を持ってください」 "]
[null,null,"「それを半分に折りたたんでください」 "]
[null,null,"「机の上に置いてください」 　 　 "]
[]
[null,"文章理解（1点） ","次の文章を読んで実行する。"]
[null,null,"「目を閉じてください。」"]
[]
[null,"文章構成（1点） ","何か文章を書いてください。 "]
[]
[null,"図形把握（1点） ","次の図形を書き写してください。 "]
[]
[]
[]
[]
[]
[]
[]
[]
[]
[null,null,null,null,null,null,{"$f":"SUM(G6:G52)","v":1}]

{"sheet":"【経過】WAIS-Ⅲ","index":19,"n_rows":50,"n_cols":17,"rows_kept":50,"cut":false,"hidden":true,"merged":[[5,0,5,1],[5,4,5,5],[1,0,1,1],[1,2,1,3],[2,0,2,1],[2,2,2,3],[4,4,4,5],[39,0,39,5],[6,0,6,1],[6,4,6,5],[7,0,7,1],[7,4,7,5],[8,4,8,5],[10,0,10,6],[10,8,10,14],[11,0,11,2],[11,4,11,6],[11,9,11,11],[11,12,11,13],[46,0,46,2],[47,0,47,2],[50,0,53,14],[40,3,40,4],[41,0,41,2],[42,0,42,2],[43,0,43,2],[44,0,44,2],[45,0,45,2]]}
["ＷＡＩＳ－Ⅲ成人知能検査"]
[]
["検査実施日："]
[]
[null,null,"ＩＱ",null,"群指数\n（指標得点）",null,"標準得点",null,null,"言語性","動作性",{"$f":"A8","v":"全検査"},null,{"$f":"E6","v":"言語理解"},{"$f":"E7","v":"知覚統合"},{"$f":"E8","v":"作動記憶"},{"$f":"E9","v":"処理速度"}]
["言語性検査",null,null,null,"言語理解",null,null,null,null,{"$f":"C6","v":0},{"$f":"C7","v":0},{"$f":"C8","v":0},null,{"$f":"G6","v":0},{"$f":"G7","v":0},{"$f":"G8","v":0},{"$f":"G9","v":0}]
["動作性検査",null,null,null,"知覚統合"]
["全検査",null,null,null,"作動記憶"]
[null,null,null,null,"処理速度"]
[]
["言語性検査",null,null,null,null,null,null,null,"動作性検査"]
["言語理解",null,null,"　","作動記憶",null,null,null,"　","知覚統合",null,null,"処理速度",null,"　"]
["単語","類似","知識","理解","算数","数唱","語音",null,"配列","完成","積木","行列","符号","記号","組合"]
[]
[]
[]
[]
[]
[]
[]
[]
[]
[]
[]
[]
[]
[]
[]
[]
[]
[]
[]
[]
[]
[]
[]
[]
[]
[]
["ディスクレパンシー分析"]
[null,null,null,"ＩＱ／群指数",null,"差","有意水準"]
["言語性ＩＱ－動作性ＩＱ",null,null,null,null,{"$f":"D42-E42","v":0}]
["言語理解－知的統合",null,null,null,null,{"$f":"D43-E43","v":0}]
["言語理解－作動記憶",null,null,null,null,0]
["知覚統合－処理速度",null,null,null,null,0]
["言語理解－処理速度",null,null,null,null,0]
["知覚統合－作動記憶",null,null,null,null,0]
["作動記憶－処理速度",null,null,null,null,0]
[]
["検査所見"]

{"sheet":"【経過】WISC-Ⅲ","index":20,"n_rows":49,"n_cols":17,"rows_kept":49,"cut":false,"hidden":true,"merged":[[43,0,43,2],[44,0,44,2],[45,0,45,2],[46,0,46,2],[49,0,52,14],[10,7,10,13],[38,0,38,5],[39,3,39,4],[40,0,40,2],[41,0,41,2],[42,0,42,2],[6,0,6,1],[6,4,6,5],[7,0,7,1],[7,4,7,5],[8,4,8,5],[10,0,10,5],[5,0,5,1],[5,4,5,5],[1,0,1,1],[1,2,1,3],[2,0,2,1],[2,2,2,3],[4,4,4,5]]}
["ＷISC－Ⅲ"]
[]
["検査実施日："]
[]
[null,null,"ＩＱ",null,"群指数\n（指標得点）",null,"標準得点",null,null,"言語性","動作性",{"$f":"A8","v":"全検査"},null,{"$f":"E6","v":"言語理解"},{"$f":"E7","v":"知覚統合"},{"$f":"E8","v":"作動記憶"},{"$f":"E9","v":"処理速度"}]
["言語性検査",null,null,null,"言語理解",null,null,null,null,{"$f":"C6","v":0},{"$f":"C7","v":0},{"$f":"C8","v":0},null,{"$f":"G6","v":0},{"$f":"G7","v":0},{"$f":"G8","v":0},{"$f":"G9","v":0}]
["動作性検査",null,null,null,"知覚統合"]
["全検査",null,null,null,"作動記憶"]
[null,null,null,null,"処理速度"]
[]
["言語性検査",null,null,null,null,null,null,"動作性検査"]
["知識","類似","算数","単語","理解","数唱",null,"完成","符号","配列","積木","組合","記号","迷路"]
[]
[]
[]
[]
[]
[]
[]
[]
[]
[]
[]
[]
[]
[]
[]
[]
[]
[]
[]
[]
[]
[]
[]
[]
[]
[]
["ディスクレパンシー分析"]
[null,null,null,"ＩＱ／群指数",null,"差","有意水準"]
["言語性ＩＱ－動作性ＩＱ",null,null,null,null,{"$f":"D41-E41","v":0}]
["言語理解－知的統合",null,null,null,null,{"$f":"D42-E42","v":0}]
["言語理解－作動記憶",null,null,null,null,0]
["知覚統合－処理速度",null,null,null,null,0]
["言語理解－処理速度",null,null,null,null,0]
["知覚統合－作動記憶",null,null,null,null,0]
["作動記憶－処理速度",null,null,null,null,0]
[]
["検査所見"]

{"sheet":"【経過】WISC-Ⅳ","index":21,"n_rows":50,"n_cols":18,"rows_kept":50,"cut":false,"hidden":true,"merged":[[47,0,47,2],[47,5,47,6],[47,7,47,8],[50,0,53,17],[45,0,45,2],[45,5,45,6],[45,7,45,8],[46,0,46,2],[46,5,46,6],[46,7,46,8],[43,0,43,2],[43,5,43,6],[43,7,43,8],[44,0,44,2],[44,5,44,6],[44,7,44,8],[41,0,41,2],[41,5,41,6],[41,7,41,8],[42,0,42,2],[42,5,42,6],[42,7,42,8],[11,11,11,13],[11,15,11,17],[39,0,39,5],[40,3,40,4],[40,5,40,6],[40,7,40,8],[11,6,11,9],[6,0,6,1],[7,0,7,1],[8,0,8,1],[9,0,9,1],[11,0,11,4],[5,0,5,1],[1,0,1,1],[1,2,1,4],[2,0,2,1],[2,2,2,4],[4,0,4,1]]}
["ＷISC－Ⅳ"]
[null,null,{"$f":"IF(【急性期】入力シート!E3=\"\",\"\",【急性期】入力シート!E3)","v":""}]
["検査実施日："]
[]
["合成得点",null,"ＩＱ"]
["FSIQ"]
["VCI"]
["PRI"]
["WMI"]
["PSI"]
[]
["言語理解（VCI)",null,null,null,null,null,"知覚推理（PRI）",null,null,null,null,"ワーキングメモリー（WMI）",null,null,null,"処理速度（PSI）"]
["類似","単語","理解","知識","語の推理",null,"積木","絵の概念","行列推理","絵の完成",null,"数唱","語音整列","算数",null,"符号","記号","絵の抹消"]
[]
[]
[]
[]
[]
[]
[]
[]
[]
[]
[]
[]
[]
[]
[]
[]
[]
[]
[]
[]
[]
[]
[]
[]
[]
[]
["ディスクレパンシー分析"]
[null,null,null,"ＩＱ／群指数",null,"差",null,"有意水準"]
["言語性ＩＱ－動作性ＩＱ",null,null,null,null,{"$f":"D42-E42","v":0}]
["言語理解－知的統合",null,null,null,null,{"$f":"D43-E43","v":0}]
["言語理解－作動記憶",null,null,null,null,0]
["知覚統合－処理速度",null,null,null,null,0]
["言語理解－処理速度",null,null,null,null,0]
["知覚統合－作動記憶",null,null,null,null,0]
["作動記憶－処理速度",null,null,null,null,0]
[]
["検査所見"]

{"sheet":"【経過】WMS-R","index":22,"n_rows":41,"n_cols":23,"rows_kept":41,"cut":false,"hidden":true,"merged":[[35,21,35,24],[36,17,36,22],[41,0,42,29],[28,0,29,0],[28,1,29,1],[30,0,31,0],[30,1,31,1],[32,0,33,0],[32,1,33,1],[23,22,23,23],[23,24,23,25],[23,26,23,27],[23,28,23,29],[26,0,27,0],[26,1,27,1],[24,0,25,0],[24,1,25,1],[17,2,17,5],[22,19,22,20],[23,2,23,3],[23,4,23,5],[23,6,23,7],[23,8,23,9],[23,10,23,11],[23,12,23,13],[23,14,23,15],[23,16,23,17],[23,19,23,20],[16,2,16,5],[5,2,5,5],[6,2,6,5],[7,2,7,5],[8,2,8,5],[9,2,9,5],[10,2,10,5],[11,2,11,5],[12,2,12,5],[13,2,13,5],[14,2,14,5],[15,2,15,5],[1,0,1,1],[1,2,1,8],[2,0,2,1],[2,2,2,8],[4,0,4,1],[4,2,4,5]]}
["WMS-R"]
[]
["検査実施日：",null,"2017-03-01"]
[]
["下位検査",null,"素点"]
["情報と見当識"]
["精神統制"]
["図形の記憶"]
["論理的記憶Ⅰ"]
["視覚性対連合Ⅰ"]
["言語性対連合Ⅰ"]
["視覚性再生Ⅰ"]
["数唱"]
["視覚性記憶範囲"]
["論理的記憶Ⅱ"]
["視覚性対検査Ⅱ"]
["言語性連合Ⅱ"]
["視覚性再生Ⅱ"]
[]
[]
[]
[]
[]
[null,"指標",0,null,null,null,null,null,null,null,null,null,50,null,null,null,null,null,null,85,null,null,100]
["言語性記憶"]
[]
["視覚性記憶"]
[]
["一般的記憶"]
[]
["注意集中力"]
[]
["遅延再生",10]
[]
[]
[null,null,null,null,null,null,null,null,null,null,null,null,null,null,null,"指標",null,null,null,null,null,"平均値"]
[null,null,null,null,null,null,null,null,null,null,null,null,null,null,null,null,null,"標準偏差値下限"]
[]
[]
[]
["所見"]

{"sheet":"脳画像","index":23,"n_rows":67,"n_cols":14,"rows_kept":67,"cut":false,"hidden":true,"merged":[]}
["血腫の部位"]
["最大厚(mm)"]
[]
["患者氏名"]
[{"$f":"IF(【急性期】入力シート!$E$3=\"\",\"\",【急性期】入力シート!$E$3)","v":""},null,null,null,null,null,null,null,null,"フェーズ","急性期"]
[null,null,null,null,null,null,null,null,null,null,"値　右","値　左","チェック　右","チェック　左"]
[null,null,null,null,null,null,null,null,null,"前頭葉",null,null,false,false]
[null,null,null,null,null,null,null,null,null,"側頭葉",null,null,false,false]
[null,null,null,null,null,null,null,null,null,"頭頂葉",null,null,false,false]
[null,null,null,null,null,null,null,null,null,"後頭葉",null,null,false,false]
[null,null,null,null,null,null,null,null,null,"基底核",null,null,false,false]
[null,null,null,null,null,null,null,null,null,"脳幹",null,null,false,false]
[null,null,null,null,null,null,null,null,null,"脳室内",null,null,false,false]
[]
[]
[]
[]
[]
[]
[null,"右（R）",null,null,null,null,null,"左（L）"]
[]
[]
[]
[]
[]
[]
[]
[]
[]
[]
[]
[]
[]
[]
[]
[]
[]
[]
[]
[]
[]
[]
[]
[]
[]
[null,"右（R）",null,null,null,null,null,"左（L）"]
[]
[]
[]
[]
[]
[]
[]
[]
[]
[]
[]
[]
[]
[]
[]
[]
[]
[]
[]
[]
[null,"右（R）",null,null,null,null,null,"左（L）"]

{"sheet":"DATA_PATIENT","index":24,"n_rows":11,"n_cols":1,"rows_kept":11,"cut":false,"hidden":true,"merged":[]}
["適用施設患者情報"]
["タグ名"]
["患者ID"]
["カナ氏名"]
["患者氏名"]
["性別"]
["生年月日"]
["年齢"]
["郵便番号"]
["住所"]
["電話番号"]

{"sheet":"STATISTICS_X","index":25,"n_rows":1,"n_cols":484,"rows_kept":1,"cut":false,"hidden":true,"merged":[]}
[{"$f":"IF(【急性期】入力シート!BQ1=\"\",\"\",【急性期】入力シート!BQ1)","v":"2023-04-01T10:04:36"},{"$f":"IF(【急性期】入力シート!$AG$2=\"\",\"\",(【急性期】入力シート!$AG$2))","v":""},{"$f":"IF(【急性期】入力シート!$E$3=\"\",\"\",【急性期】入力シート!$E$3)","v":""},{"$f":"IF(【急性期】入力シート!$E$4=\"\",\"\",【急性期】入力シート!$E$4)","v":""},{"$f":"IF(【急性期】入力シート!$J$5=\"\",\"\",【急性期】入力シート!$J$5)","v":""},{"$f":"【急性期】入力シート!T5 & \":\" & 【急性期】入力シート!W5","v":":"},{"$f":"【急性期】データ管理!$D$11","v":0},{"$f":"【急性期】データ管理!$D$12","v":0},{"$f":"【急性期】データ管理!$D$13","v":0},{"$f":"【急性期】データ管理!$D$14","v":0},{"$f":"IF(【急性期】入力シート!AL7=\"\",\"\",【急性期】入力シート!AL7)","v":""},{"$f":"【急性期】データ管理!$D$16","v":0},{"$f":"IF(【急性期】入力シート!AL8=\"\",\"\",【急性期】入力シート!AL8)","v":""},{"$f":"【急性期】データ管理!$D$18","v":0},{"$f":"IF(【急性期】入力シート!AL9=\"\",\"\",【急性期】入力シート!AL9)","v":""},{"$f":"IF(【急性期】入力シート!E11=\"\",\"\",【急性期】入力シート!E11)","v":""},{"$f":"IF(【急性期】入力シート!F12=\"\",\"\",【急性期】入力シート!F12)","v":"-"},{"$f":"【急性期】データ管理!$D$22","v":0},{"$f":"IF(【急性期】入力シート!G15=\"\",\"\",【急性期】入力シート!G15)","v":""},{"$f":"IF(【急性期】入力シート!O15=\"\",\"\",【急性期】入力シート!O15)","v":0},{"$f":"IF(【急性期】入力シート!F16=\"\",\"\",【急性期】入力シート!F16)","v":""},{"$f":"【急性期】データ管理!$D$26","v":0},{"$f":"IF(【急性期】入力シート!F19=\"\",\"\",【急性期】入力シート!F19)","v":""},{"$f":"【急性期】データ管理!O28 & \";\"\n&【急性期】データ管理!P28 & \";\"\n&【急性期】データ管理!Q28 & \";\"\n&【急性期】データ管理!R28","v":" ; ; ; "},{"$f":"IF(【急性期】入力シート!V11=\"\",\"\",【急性期】入力シート!V11)","v":""},{"$f":"IF(【急性期】入力シート!W15=\"\",\"\",【急性期】入力シート!W15)","v":""},{"$f":"IF(【急性期】入力シート!AE15=\"\",\"\",【急性期】入力シート!AE15)","v":0},{"$f":"【急性期】データ管理!$D$32","v":0},{"$f":"【急性期】データ管理!O33 & \";\"\n&【急性期】データ管理!P33 & \";\"\n&【急性期】データ管理!Q33 & \";\"\n&【急性期】データ管理!R33","v":" ; ; ; "},{"$f":"IF(【急性期】入力シート!AL11=\"\",\"\",【急性期】入力シート!AL11)","v":""},{"$f":"【急性期】データ管理!D383","v":""},{"$f":"【急性期】データ管理!D384","v":""},{"$f":"【急性期】データ管理!O35 & \";\"\n&【急性期】データ管理!P35 & \";\"\n&【急性期】データ管理!Q35 & \";\"\n&【急性期】データ管理!R35","v":" ; ; ; "},{"$f":"【急性期】データ管理!$D$36","v":0},{"$f":"IF(【急性期】入力シート!AO22=\"\",\"\",【急性期】入力シート!AO22)","v":""},{"$f":"【急性期】データ管理!$D$38","v":0},{"$f":"IF(【急性期】入力シート!H24=\"\",\"\",【急性期】入力シート!H24)","v":""},{"$f":"IF(【急性期】入力シート!L25=\"\",\"\",【急性期】入力シート!L25)","v":""},{"$f":"IF(【急性期】入力シート!V25=\"\",\"\",【急性期】入力シート!V25)","v":""},{"$f":"【急性期】データ管理!$D$43","v":0},{"$f":"【急性期】データ管理!$D$44","v":0},{"$f":"【急性期】データ管理!$D$45","v":0},{"$f":"【急性期】データ管理!$D$46","v":0},{"$f":"【急性期】データ管理!$D$47","v":0},{"$f":"【急性期】データ管理!$D$48","v":0},{"$f":"【急性期】データ管理!$D$49","v":0},{"$f":"IF(【急性期】データ管理!$D$50,1,0) & \";\" &\nIF(【急性期】データ管理!$D$51,1,0) &  \";\" &\nIF(【急性期】データ管理!$D$52,1,0) &  \";\" &\nIF(【急性期】データ管理!$D$53,1,0) &  \";\" &\nIF(【急性期】データ管理!$D$54,1,0) &  \";\" &\nIF(【急性期】データ管理!$D$55,1,0)&  \";\" &\nIF(【急性期】データ管理!$D$56,1,0)","v":"0;0;0;0;0;0;0"},{"$f":"【急性期】データ管理!D57 & \";\" &\n【急性期】データ管理!D58 &\";\" &\n【急性期】データ管理!D59 &\";\" &\n【急性期】データ管理!D60 &\";\" &\n【急性期】データ管理!D61 &\";\" &\n【急性期】データ管理!D62","v":";;;;;"},{"$f":"IF(【急性期】データ管理!$D$64,1,0) & \";\" &\nIF(【急性期】データ管理!$D$65,1,0) &  \";\" &\nIF(【急性期】データ管理!$D$66,1,0) &  \";\" &\nIF(【急性期】データ管理!$D$67,1,0) &  \";\" &\nIF(【急性期】データ管理!$D$68,1,0) &  \";\" &\nIF(【急性期】データ管理!$D$69,1,0)&  \";\" &\nIF(【急性期】データ管理!$D$70,1,0)","v":"0;0;0;0;0;0;0"},{"$f":"【急性期】データ管理!D71 & \";\" &\n【急性期】データ管理!D72 &\";\" &\n【急性期】データ管理!D73 &\";\" &\n【急性期】データ管理!D74 &\";\" &\n【急性期】データ管理!D75 &\";\" &\n【急性期】データ管理!D76","v":";;;;;"},{"$f":"【急性期】データ管理!$D$78","v":0},{"$f":"IF(【急性期】入力シート!AF40=\"\",\"\",【急性期】入力シート!AF40)","v":""},{"$f":"【急性期】データ管理!D386","v":0},{"$f":"IF(【急性期】入力シート!I41=\"\",\"\",【急性期】入力シート!I41)","v":""},{"$f":"IF(【急性期】入力シート!T41=\"\",\"\",【急性期】入力シート!T41)","v":""},{"$f":"【急性期】データ管理!$D$82","v":0},{"$f":"【急性期】データ管理!$D$83","v":0},{"$f":"IF(【急性期】入力シート!AC43=\"\",\"\",【急性期】入力シート!AC43)","v":""},{"$f":"【急性期】データ管理!$D$85","v":0},{"$f":"【急性期】データ管理!$D$86","v":0},{"$f":"【急性期】データ管理!$D$87","v":0},{"$f":"IF(【急性期】データ管理!$D$88,1,0) & \";\" &\nIF(【急性期】データ管理!$D$89,1,0) &  \";\" &\nIF(【急性期】データ管理!$D$90,1,0) &  \";\" &\nIF(【急性期】データ管理!$D$91,1,0) &  \";\" &\nIF(【急性期】データ管理!$D$92,1,0) &  \";\" &\nIF(【急性期】データ管理!$D$93,1,0)","v":"0;0;0;0;0;0"},{"$f":"【急性期】データ管理!$D$94","v":0},{"$f":"【急性期】データ管理!$D$95","v":0},{"$f":"【急性期】データ管理!$D$96","v":0},{"$f":"【急性期】データ管理!$D$97","v":0},{"$f":"【急性期】データ管理!$D$98","v":0},{"$f":"IF(【急性期】入力シート!T51=\"\",\"\",【急性期】入力シート!T51)","v":""},{"$f":"【急性期】データ管理!$D$100","v":0},{"$f":"【急性期】データ管理!$D$101","v":0},{"$f":"【急性期】データ管理!$D$102","v":0},{"$f":"【急性期】データ管理!$D$103","v":0},{"$f":"IF(【急性期】入力シート!R55=\"\",\"\",【急性期】入力シート!R55)","v":""},{"$f":"【急性期】データ管理!$D$105","v":0},{"$f":"IF(【急性期】入力シート!T56=\"\",\"\",【急性期】入力シート!T56)","v":""},{"$f":"【急性期】データ管理!$D$107","v":0},{"$f":"IF(【急性期】入力シート!U57=\"\",\"\",【急性期】入力シート!U57)","v":""},{"$f":"IF(【急性期】入力シート!AE57=\"\",\"\",【急性期】入力シート!AE57)","v":""},{"$f":"【急性期】データ管理!$D$110","v":0},{"$f":"IF(【急性期】入力シート!L59=\"\",\"\",【急性期】入力シート!L59)","v":""},{"$f":"IF(【急性期】入力シート!L59=\"\",\"\",【急性期】入力シート!L59)","v":""},{"$f":"【急性期】データ管理!$D$113","v":0},{"$f":"IF(【急性期】データ管理!$D$114,1,0) & \";\" &\nIF(【急性期】データ管理!$D$115,1,0) &  \";\" &\nIF(【急性期】データ管理!$D$116,1,0) &  \";\" &\nIF(【急性期】データ管理!$D$117,1,0) &  \";\" &\nIF(【急性期】データ管理!$D$118,1,0)","v":"0;0;0;0;0"},{"$f":"IF(【急性期】入力シート!Z61=\"\",\"\",【急性期】入力シート!Z61)","v":""},{"$f":"【急性期】データ管理!$D$120","v":0},{"$f":"【急性期】データ管理!$D$121","v":0},{"$f":"IF(【急性期】入力シート!AA63=\"\",\"\",【急性期】入力シート!AA63)","v":""},{"$f":"【急性期】データ管理!$D$123","v":false},{"$f":"IF(【急性期】入力シート!M64=\"\",\"\",【急性期】入力シート!M64)","v":""},{"$f":"IF(【急性期】入力シート!AA64=\"\",\"\",【急性期】入力シート!AA64)","v":""},{"$f":"IF(【急性期】データ管理!$D$128,1,0) & \";\" &\nIF(【急性期】データ管理!$D$129,1,0) &  \";\" &\nIF(【急性期】データ管理!$D$130,1,0) &  \";\" &\nIF(【急性期】データ管理!$D$131,1,0) &  \";\" &\nIF(【急性期】データ管理!$D$132,1,0) &  \";\" &\nIF(【急性期】データ管理!$D$133,1,0) &  \";\" &\nIF(【急性期】データ管理!$D$134,1,0) &  \";\" &\nIF(【急性期】データ管理!$D$135,1,0) &  \";\" &\nIF(【急性期】データ管理!$D$136,1,0) &  \";\" &\nIF(【急性期】データ管理!$D$137,1,0) &  \";\" &\nIF(【急性期】データ管理!$D$138,1,0) &  \";\" &\nIF(【急性期】データ管理!$D$139,1,0) &  \";\" &\nIF(【急性期】データ管理!$D$140,1,0) &  \";\" &\nIF(【急性期】データ管理!$D$141,1,0) &  \";\" &\nIF(【急性期】データ管理!$D$142,1,0)","v":"0;0;0;0;0;0;0;0;0;0;0;0;0;0;0"},{"$f":"IF(【急性期】入力シート!I67=\"\",\"\",【急性期】入力シート!I67)","v":""},{"$f":"【急性期】データ管理!$D$144","v":false},{"$f":"IF(【急性期】入力シート!J68=\"\",\"\",【急性期】入力シート!J68)","v":""},{"$f":"IF(【急性期】入力シート!R68=\"\",\"\",【急性期】入力シート!R68)","v":""},{"$f":"【急性期】データ管理!$D$147","v":false},{"$f":"IF(【急性期】入力シート!J69=\"\",\"\",【急性期】入力シート!J69)","v":""},{"$f":"IF(【急性期】入力シート!R69=\"\",\"\",【急性期】入力シート!R69)","v":""},{"$f":"【急性期】データ管理!$D$150","v":false},{"$f":"【急性期】データ管理!$D$151 & \";\" &\n【急性期】データ管理!$D$152 & \";\" &\n【急性期】データ管理!$D$153","v":";;"},{"$f":"【急性期】データ管理!$D$154","v":""},{"$f":"【急性期】データ管理!$D$155","v":false},{"$f":"【急性期】データ管理!$D$156 & \";\" &\n【急性期】データ管理!$D$157 & \";\" &\n【急性期】データ管理!$D$158","v":";;"},{"$f":"【急性期】データ管理!$D$159","v":""},{"$f":"【急性期】データ管理!$D$160","v":false},{"$f":"【急性期】データ管理!$D$161 & \";\" &\n【急性期】データ管理!$D$162 & \";\" &\n【急性期】データ管理!$D$163 & \";\" &\n【急性期】データ管理!$D$164 & \";\" &\n【急性期】データ管理!$D$165","v":";;;;"},{"$f":"【急性期】データ管理!$D$166","v":""},{"$f":"【急性期】データ管理!$D$174","v":false},{"$f":"【急性期】入力シート!Q75 & \";\" &\n【急性期】入力シート!V75 & \";\" &\n【急性期】入力シート!AB75 & \";\" &\n【急性期】入力シート!AH75 & \";\" &\n【急性期】入力シート!AN75","v":";;;;"},{"$f":"【急性期】データ管理!$D$179","v":""},{"$f":"IF(【急性期】データ管理!$D$167,1,0)&\";\"&\nIF(【急性期】データ管理!$D$168,1,0)&\";\"&\nIF(【急性期】データ管理!$D$169,1,0)&\";\"&\nIF(【急性期】データ管理!$D$170,1,0)&\";\"&\nIF(【急性期】データ管理!$D$171,1,0)&\";\"&\nIF(【急性期】データ管理!$D$172,1,0)&\";\"&\nIF(【急性期】データ管理!$D$173,1,0)&\";\"&\nIF(【急性期】データ管理!$D$180,1,0)&\";\"&\nIF(【急性期】データ管理!$D$181,1,0)&\";\"&\nIF(【急性期】データ管理!$D$182,1,0)&\";\"&\nIF(【急性期】データ管理!$D$183,1,0)&\";\"&\nIF(【急性期】データ管理!$D$184,1,0)&\";\"&\nIF(【急性期】データ管理!$D$185,1,0)&\";\"&\nIF(【急性期】データ管理!$D$186,1,0)&\";\"&\nIF(【急性期】データ管理!$D$187,1,0)&\";\"&\nIF(【急性期】データ管理!$D$188,1,0)&\";\"&\nIF(【急性期】データ管理!$D$189,1,0)&\";\"&\nIF(【急性期】データ管理!$D$190,1,0)&\";\"&\nIF(【急性期】データ管理!$D$191,1,0)&\";\"&\nIF(【急性期】データ管理!$D$192,1,0)&\";\"&\nIF(【急性期】データ管理!$D$193,1,0)&\";\"&\nIF(【急性期】データ管理!$D$194,1,0)","v":"0;0;0;0;0;0;0;0;0;0;0;0;0;0;0;0;0;0;0;0;0;0"},{"$f":"IF(【急性期】入力シート!M81=\"\",\"\",【急性期】入力シート!M81)","v":""},{"$f":"IF(【急性期】入力シート!I82=\"\",\"\",【急性期】入力シート!I82)","v":""},{"$f":"【急性期】データ管理!$D$198","v":0},{"$f":"【急性期】データ管理!$D$199","v":0},{"$f":"【急性期】データ管理!$D$200","v":false},{"$f":"IF(【急性期】入力シート!L90=\"\",\"\",【急性期】入力シート!L90)","v":""},{"$f":"IF(【急性期】データ管理!$D$202,1,0) & \";\" &\nIF(【急性期】データ管理!$D$203,1,0) &  \";\" &\nIF(【急性期】データ管理!$D$204,1,0)","v":"0;0;0"},{"$f":"【急性期】データ管理!$D$205","v":0},{"$f":"【急性期】データ管理!$D$206","v":0},{"$f":"【急性期】データ管理!$D$207","v":0},{"$f":"【急性期】データ管理!$D$208","v":0},{"$f":"【急性期】データ管理!$D$209","v":0},{"$f":"IF(【急性期】データ管理!$D$210,1,0) & \";\" &\nIF(【急性期】データ管理!$D$211,1,0) &  \";\" &\nIF(【急性期】データ管理!$D$212,1,0) &  \";\" &\nIF(【急性期】データ管理!$D$213,1,0) &  \";\" &\nIF(【急性期】データ管理!$D$214,1,0) &  \";\" &\nIF(【急性期】データ管理!$D$215,1,0)","v":"0;0;0;0;0;0"},{"$f":"IF(【急性期】入力シート!I98=\"\",\"\",【急性期】入力シート!I98)","v":""},{"$f":"【急性期】データ管理!$D$217","v":0},{"$f":"IF(【急性期】データ管理!$D$218,1,0) & \";\" &\nIF(【急性期】データ管理!$D$219,1,0) &  \";\" &\nIF(【急性期】データ管理!$D$220,1,0) &  \";\" &\nIF(【急性期】データ管理!$D$221,1,0) &  \";\" &\nIF(【急性期】データ管理!$D$222,1,0)","v":"0;0;0;0;0"},{"$f":"【急性期】データ管理!$D$223","v":0},{"$f":"IF(【急性期】データ管理!$D$224,1,0) & \";\" &\nIF(【急性期】データ管理!$D$225,1,0) &  \";\" &\nIF(【急性期】データ管理!$D$226,1,0)","v":"0;0;0"},{"$f":"【急性期】データ管理!$D$227","v":0},{"$f":"【急性期】データ管理!$D$228","v":0},{"$f":"【急性期】データ管理!$D$229","v":false},{"$f":"IF(【急性期】入力シート!L119=\"\",\"\",【急性期】入力シート!L119)","v":""},{"$f":"IF(【急性期】データ管理!$D$231,1,0) & \";\" &\nIF(【急性期】データ管理!$D$232,1,0) &  \";\" &\nIF(【急性期】データ管理!$D$233,1,0)","v":"0;0;0"},{"$f":"【急性期】データ管理!$D$234","v":0},{"$f":"【急性期】データ管理!$D$235","v":0},{"$f":"【急性期】データ管理!$D$236","v":0},{"$f":"【急性期】データ管理!$D$237","v":0},{"$f":"【急性期】データ管理!$D$238","v":0},{"$f":"IF(【急性期】データ管理!$D$239,1,0) & \";\" &\nIF(【急性期】データ管理!$D$240,1,0) &  \";\" &\nIF(【急性期】データ管理!$D$241,1,0) &  \";\" &\nIF(【急性期】データ管理!$D$242,1,0) &  \";\" &\nIF(【急性期】データ管理!$D$243,1,0) &  \";\" &\nIF(【急性期】データ管理!$D$244,1,0)","v":"0;0;0;0;0;0"},{"$f":"IF(【急性期】入力シート!I127=\"\",\"\",【急性期】入力シート!I127)","v":""},{"$f":"【急性期】データ管理!$D$246","v":0},{"$f":"IF(【急性期】データ管理!$D$247,1,0) & \";\" &\nIF(【急性期】データ管理!$D$248,1,0) &  \";\" &\nIF(【急性期】データ管理!$D$249,1,0) &  \";\" &\nIF(【急性期】データ管理!$D$250,1,0) &  \";\" &\nIF(【急性期】データ管理!$D$251,1,0)","v":"0;0;0;0;0"},{"$f":"【急性期】データ管理!$D$252","v":0},{"$f":"IF(【急性期】データ管理!$D$253,1,0) & \";\" &\nIF(【急性期】データ管理!$D$254,1,0) &  \";\" &\nIF(【急性期】データ管理!$D$255,1,0)","v":"0;0;0"},{"$f":"日常生活機能評価!AT9 & \";\"\n& 日常生活機能評価!AT10 & \";\"\n& 日常生活機能評価!AT11 & \";\"\n& 日常生活機能評価!AT12 & \";\"\n& 日常生活機能評価!AT13 & \";\"\n& 日常生活機能評価!AT14 & \";\"\n& 日常生活機能評価!AT15 & \";\"\n& 日常生活機能評価!AT16 & \";\"\n& 日常生活機能評価!AT17 & \";\"\n& 日常生活機能評価!AT18 & \";\"\n& 日常生活機能評価!AT19 & \";\"\n& 日常生活機能評価!AT20 & \";\"\n& 日常生活機能評価!AT21","v":";;;;;;;;;;;;"},{"$f":"日常生活機能評価!AE22","v":0},{"$f":"【急性期】データ管理!$D$265","v":0},{"$f":"IF(【急性期】データ管理!$D$266,1,0) & \";\" &\nIF(【急性期】データ管理!$D$267,1,0) &  \";\" &\nIF(【急性期】データ管理!$D$268,1,0)","v":"0;0;0"},{"$f":"IF(【急性期】入力シート!AR112=\"\",\"\",【急性期】入力シート!AR112)","v":""},{"$f":"IF(【急性期】入力シート!Q114=\"\",\"\",【急性期】入力シート!Q114)","v":""},{"$f":"【急性期】データ管理!$O$275 & \";\" &\n【急性期】データ管理!$P$275 &  \";\" &\n【急性期】データ管理!$Q$275 &  \";\" &\n【急性期】データ管理!$R$275 &  \";\" &\n【急性期】データ管理!$S$275 &  \";\" &\n【急性期】データ管理!$T$275","v":";;;;;"},{"$f":"【急性期】データ管理!$D$275","v":0},{"$f":"【急性期】データ管理!$D$276","v":0},{"$f":"【急性期】データ管理!$D$277","v":false},{"$f":"IF(【急性期】入力シート!L118=\"\",\"\",【急性期】入力シート!L118)","v":""},{"$f":"IF(【急性期】データ管理!$D$279,1,0) & \";\" &\nIF(【急性期】データ管理!$D$280,1,0) &  \";\" &\nIF(【急性期】データ管理!$D$281,1,0)","v":"0;0;0"},{"$f":"【急性期】データ管理!$D$282","v":0},{"$f":"【急性期】データ管理!$D$283","v":0},{"$f":"【急性期】データ管理!$D$284","v":0},{"$f":"IF(【急性期】データ管理!$D$285,1,0) & \";\" &\nIF(【急性期】データ管理!$D$286,1,0) &  \";\" &\nIF(【急性期】データ管理!$D$287,1,0) &  \";\" &\nIF(【急性期】データ管理!$D$288,1,0) &  \";\" &\nIF(【急性期】データ管理!$D$289,1,0) &  \";\" &\nIF(【急性期】データ管理!$D$290,1,0)","v":"0;0;0;0;0;0"},{"$f":"IF(【急性期】入力シート!I124=\"\",\"\",【急性期】入力シート!I124)","v":""},{"$f":"【急性期】データ管理!$O$293 & \";\" &\n【急性期】データ管理!$P$293 &  \";\" &\n【急性期】データ管理!$Q$293 &  \";\" &\n【急性期】データ管理!$R$293 &  \";\" &\n【急性期】データ管理!$S$293 &  \";\" &\n【急性期】データ管理!$T$293","v":";;;;;"},{"$f":"【急性期】データ管理!$D$293","v":0},{"$f":"【急性期】データ管理!$D$294","v":0},{"$f":"【急性期】データ管理!$D$295","v":false},{"$f":"IF(【急性期】入力シート!AJ118=\"\",\"\",【急性期】入力シート!AJ118)","v":""},{"$f":"IF(【急性期】データ管理!$D$297,1,0) & \";\" &\nIF(【急性期】データ管理!$D$298,1,0) &  \";\" &\nIF(【急性期】データ管理!$D$299,1,0)","v":"0;0;0"},{"$f":"【急性期】データ管理!$D$300","v":0},{"$f":"【急性期】データ管理!$D$301","v":0},{"$f":"【急性期】データ管理!$D$302","v":0},{"$f":"IF(【急性期】データ管理!$D$303,1,0) & \";\" &\nIF(【急性期】データ管理!$D$304,1,0) &  \";\" &\nIF(【急性期】データ管理!$D$305,1,0) &  \";\" &\nIF(【急性期】データ管理!$D$306,1,0) &  \";\" &\nIF(【急性期】データ管理!$D$307,1,0) &  \";\" &\nIF(【急性期】データ管理!$D$308,1,0)","v":"0;0;0;0;0;0"},{"$f":"IF(【急性期】入力シート!AG124=\"\",\"\",【急性期】入力シート!AG124)","v":""},{"$f":"IF(【急性期】データ管理!$D$310,1,0) & \";\" &\nIF(【急性期】データ管理!$D$312,1,0) &  \";\" &\nIF(【急性期】データ管理!$D$314,1,0) &  \";\" &\nIF(【急性期】データ管理!$D$316,1,0) &  \";\" &\nIF(【急性期】データ管理!$D$318,1,0) &  \";\" &\nIF(【急性期】データ管理!$D$320,1,0) &  \";\" &\nIF(【急性期】データ管理!$D$322,1,0)","v":"0;0;0;0;0;0;0"},{"$f":"IF(【急性期】入力シート!G126=\"\",\"\",【急性期】入力シート!G126)","v":""},{"$f":"IF(【急性期】入力シート!G127=\"\",\"\",【急性期】入力シート!G127)","v":""},{"$f":"IF(【急性期】入力シート!G128=\"\",\"\",【急性期】入力シート!G128)","v":""},{"$f":"【急性期】データ管理!$D$324","v":false},{"$f":"IF(【急性期】入力シート!I131=\"\",\"\",【急性期】入力シート!I131)","v":""},{"$f":"IF(【急性期】入力シート!I132=\"\",\"\",【急性期】入力シート!I132)","v":""},{"$f":"【急性期】データ管理!$D$330","v":0},{"$f":"IF(【急性期】入力シート!R136=\"\",\"\",【急性期】入力シート!R136)","v":""},{"$f":"IF(【急性期】入力シート!AL136=\"\",\"\",【急性期】入力シート!AL136)","v":""},{"$f":"IF(【急性期】入力シート!R137=\"\",\"\",【急性期】入力シート!R137)","v":""},{"$f":"【急性期】データ管理!$D$334","v":0},{"$f":"【急性期】データ管理!D388","v":0},{"$f":"IF(【急性期】入力シート!AI139=\"\",\"\",【急性期】入力シート!AI139)","v":""},{"$f":"【急性期】データ管理!$D$339","v":0},{"$f":"IF(【急性期】データ管理!$D$340,1,0) & \";\" &\nIF(【急性期】データ管理!$D$341,1,0) & \";\" &\nIF(【急性期】データ管理!$D$342,1,0)","v":"0;0;0"},{"$f":"IF(【急性期】入力シート!AD141=\"\",\"\",【急性期】入力シート!AD141)","v":""},{"$f":"【急性期】データ管理!$D$344","v":0},{"$f":"IF(【急性期】入力シート!Y142=\"\",\"\",【急性期】入力シート!Y142)","v":""},{"$f":"【急性期】データ管理!$D$346","v":0},{"$f":"【急性期】データ管理!$D$348","v":0},{"$f":"IF(【急性期】入力シート!AJ144=\"\",\"\",【急性期】入力シート!AJ144)","v":""},{"$f":"IF(【急性期】入力シート!AT144=\"\",\"\",【急性期】入力シート!AT144)","v":""},{"$f":"【急性期】データ管理!$D$351","v":0},{"$f":"IF(【急性期】入力シート!AL145=\"\",\"\",【急性期】入力シート!AL145)","v":""},{"$f":"【急性期】データ管理!$D$354","v":0},{"$f":"IF(【急性期】入力シート!AL146=\"\",\"\",【急性期】入力シート!AL146)","v":""},{"$f":"【急性期】データ管理!$D$357","v":0},{"$f":"IF(【急性期】入力シート!AL147=\"\",\"\",【急性期】入力シート!AL147)","v":""},{"$f":"【急性期】データ管理!$D$360","v":0},{"$f":"【急性期】データ管理!$D$362","v":0},{"$f":"【急性期】データ管理!$D$365","v":0},{"$f":"【急性期】データ管理!$D$367","v":0},{"$f":"IF(【急性期】入力シート!P154=\"\",\"\",【急性期】入力シート!P154)","v":""},{"$f":"IF(【急性期】入力シート!P156=\"\",\"\",【急性期】入力シート!P156)","v":""},{"$f":"【急性期】データ管理!$D$371","v":0},{"$f":"IF(【急性期】入力シート!S157=\"\",\"\",【急性期】入力シート!S157)","v":""},{"$f":"【急性期】データ管理!$D$373","v":0},{"$f":"IF(【急性期】入力シート!AG158=\"\",\"\",【急性期】入力シート!AG158)","v":""},{"$f":"IF(【急性期】データ管理!$D$385=\"\",\"\",【急性期】データ管理!$D$385)","v":""},{"$f":"IF(【回復期】入力シート!AC2=\"\",\"\",【回復期】入力シート!AC2)","v":""},{"$f":"IF(【回復期】入力シート!E5=\"\",\"\",【回復期】入力シート!E5)","v":""},{"$f":"IF(【回復期】入力シート!L15=\"\",\"\",【回復期】入力シート!L15)","v":""},{"$f":"IF(【回復期】入力シート!V15=\"\",\"\",【回復期】入力シート!V15)","v":""},{"$f":"【回復期】データ管理!$D$27","v":0},{"$f":"【回復期】データ管理!$D$28","v":0},{"$f":"【回復期】データ管理!$D$29","v":0},{"$f":"【回復期】データ管理!$D$30","v":0},{"$f":"【回復期】データ管理!$D$31","v":0},{"$f":"【回復期】データ管理!$D$32","v":0},{"$f":"【回復期】データ管理!$D$33","v":0},{"$f":"IF(【回復期】データ管理!$D$34,1,0) & \";\" &\nIF(【回復期】データ管理!$D$35,1,0) &  \";\" &\nIF(【回復期】データ管理!$D$36,1,0) &  \";\" &\nIF(【回復期】データ管理!$D$37,1,0) &  \";\" &\nIF(【回復期】データ管理!$D$38,1,0) &  \";\" &\nIF(【回復期】データ管理!$D$39,1,0)&  \";\" &\nIF(【回復期】データ管理!$D$40,1,0)","v":"0;0;0;0;0;0;0"},{"$f":"【回復期】データ管理!D41 & \";\" &\n【回復期】データ管理!D42 &\";\" &\n【回復期】データ管理!D43 &\";\" &\n【回復期】データ管理!D44 &\";\" &\n【回復期】データ管理!D45 &\";\" &\n【回復期】データ管理!D46","v":";;;;;"},{"$f":"IF(【回復期】データ管理!$D$48,1,0) & \";\" &\nIF(【回復期】データ管理!$D$49,1,0) &  \";\" &\nIF(【回復期】データ管理!$D$50,1,0) &  \";\" &\nIF(【回復期】データ管理!$D$51,1,0) &  \";\" &\nIF(【回復期】データ管理!$D$52,1,0) &  \";\" &\nIF(【回復期】データ管理!$D$53,1,0)&  \";\" &\nIF(【回復期】データ管理!$D$54,1,0)","v":"0;0;0;0;0;0;0"},{"$f":"【回復期】データ管理!D55 & \";\" &\n【回復期】データ管理!D56 &\";\" &\n【回復期】データ管理!D57 &\";\" &\n【回復期】データ管理!D58 &\";\" &\n【回復期】データ管理!D59 &\";\" &\n【回復期】データ管理!D60","v":";;;;;"},{"$f":"【回復期】データ管理!D62","v":0},{"$f":"IF(【回復期】入力シート!AF30=\"\",\"\",【回復期】入力シート!AF30)","v":""},{"$f":"【回復期】データ管理!D320","v":0},{"$f":"IF(【回復期】入力シート!I31=\"\",\"\",【回復期】入力シート!I31)","v":""},{"$f":"IF(【回復期】入力シート!T31=\"\",\"\",【回復期】入力シート!T31)","v":""},{"$f":"【回復期】データ管理!D66","v":0},{"$f":"【回復期】データ管理!D67","v":0},{"$f":"IF(【回復期】入力シート!Y34=\"\",\"\",【回復期】入力シート!Y34)","v":""},{"$f":"【回復期】データ管理!D69","v":0},{"$f":"【回復期】データ管理!D70","v":0},{"$f":"【回復期】データ管理!D71","v":0},{"$f":"IF(【回復期】データ管理!$D$72,1,0) & \";\" &\nIF(【回復期】データ管理!$D$73,1,0) &  \";\" &\nIF(【回復期】データ管理!$D$74,1,0) &  \";\" &\nIF(【回復期】データ管理!$D$75,1,0) &  \";\" &\nIF(【回復期】データ管理!$D$76,1,0) &  \";\" &\nIF(【回復期】データ管理!$D$77,1,0)","v":"0;0;0;0;0;0"},{"$f":"【回復期】データ管理!D78","v":0},{"$f":"【回復期】データ管理!D79","v":0},{"$f":"【回復期】データ管理!D80","v":0},{"$f":"【回復期】データ管理!D81","v":0},{"$f":"【回復期】データ管理!D82","v":0},{"$f":"IF(【回復期】入力シート!T42=\"\",\"\",【回復期】入力シート!T42)","v":""},{"$f":"【回復期】データ管理!D84","v":0},{"$f":"【回復期】データ管理!D85","v":0},{"$f":"【回復期】データ管理!D86","v":0},{"$f":"【回復期】データ管理!D87","v":0},{"$f":"IF(【回復期】入力シート!R46=\"\",\"\",【回復期】入力シート!R46)","v":""},{"$f":"【回復期】データ管理!D89","v":0},{"$f":"IF(【回復期】入力シート!T47=\"\",\"\",【回復期】入力シート!T47)","v":""},{"$f":"IF(【回復期】データ管理!$D$91,1,0) & \";\" &\nIF(【回復期】データ管理!$D$92,1,0) &  \";\" &\nIF(【回復期】データ管理!$D$93,1,0) &  \";\" &\nIF(【回復期】データ管理!$D$94,1,0) &  \";\" &\nIF(【回復期】データ管理!$D$95,1,0) &  \";\" &\nIF(【回復期】データ管理!$D$96,1,0) &  \";\" &\nIF(【回復期】データ管理!$D$97,1,0) &  \";\" &\nIF(【回復期】データ管理!$D$98,1,0) &  \";\" &\nIF(【回復期】データ管理!$D$99,1,0) &  \";\" &\nIF(【回復期】データ管理!$D$100,1,0) &  \";\" &\nIF(【回復期】データ管理!$D$101,1,0) &  \";\" &\nIF(【回復期】データ管理!$D$102,1,0) &  \";\" &\nIF(【回復期】データ管理!$D$103,1,0) &  \";\" &\nIF(【回復期】データ管理!$D$104,1,0) &  \";\" &\nIF(【回復期】データ管理!$D$105,1,0)","v":"0;0;0;0;0;0;0;0;0;0;0;0;0;0;0"},{"$f":"IF(【回復期】入力シート!H52=\"\",\"\",【回復期】入力シート!H52)","v":""},{"$f":"IF(【回復期】データ管理!$D$108,1,0) & \";\" &\nIF(【回復期】データ管理!$D$323,1,0) &  \";\" &\nIF(【回復期】データ管理!$D$109,1,0)","v":"0;0;0"},{"$f":"IF(【回復期】入力シート!I55=\"\",\"\",【回復期】入力シート!I55)","v":""},{"$f":"【回復期】データ管理!O111 & \";\"\n&【回復期】データ管理!P111 & \";\"\n&【回復期】データ管理!Q111 & \";\"\n&【回復期】データ管理!R111","v":" ; ; ; "},{"$f":"【回復期】データ管理!$O$113& \";\" &\n【回復期】データ管理!$P$113 &  \";\" &\n【回復期】データ管理!$Q$113 &  \";\" &\n【回復期】データ管理!$R$113 &  \";\" &\n【回復期】データ管理!$S$113 &  \";\" &\n【回復期】データ管理!$T$113","v":";;;;;"},{"$f":"IF(【回復期】入力シート!U52=\"\",\"\",【回復期】入力シート!U52)","v":""},{"$f":"IF(【回復期】データ管理!$D$114,1,0) & \";\" &\nIF(【回復期】データ管理!$D$324,1,0) &  \";\" &\nIF(【回復期】データ管理!$D$115,1,0)","v":"0;0;0"},{"$f":"IF(【回復期】入力シート!Y55=\"\",\"\",【回復期】入力シート!Y55)","v":""},{"$f":"【回復期】データ管理!O117 & \";\"\n&【回復期】データ管理!P117 & \";\"\n&【回復期】データ管理!Q117 & \";\"\n&【回復期】データ管理!R117","v":" ; ; ; "},{"$f":"【回復期】データ管理!$O$119& \";\" &\n【回復期】データ管理!$P$119 &  \";\" &\n【回復期】データ管理!$Q$119 &  \";\" &\n【回復期】データ管理!$R$119 &  \";\" &\n【回復期】データ管理!$S$119 &  \";\" &\n【回復期】データ管理!$T$119","v":";;;;;"},{"$f":"IF(【回復期】入力シート!AN52=\"\",\"\",【回復期】入力シート!AN52)","v":""},{"$f":"IF(【回復期】データ管理!$D$120,1,0) & \";\" &\nIF(【回復期】データ管理!$D$325,1,0) &  \";\" &\nIF(【回復期】データ管理!$D$121,1,0)","v":"0;0;0"},{"$f":"IF(【回復期】入力シート!AO55=\"\",\"\",【回復期】入力シート!AO55)","v":""},{"$f":"【回復期】データ管理!O123 & \";\"\n&【回復期】データ管理!P123 & \";\"\n&【回復期】データ管理!Q123 & \";\"\n&【回復期】データ管理!R123","v":" ; ; ; "},{"$f":"【回復期】データ管理!$O$125 & \";\" &\n【回復期】データ管理!$P$125 &  \";\" &\n【回復期】データ管理!$Q$125 &  \";\" &\n【回復期】データ管理!$R$125 &  \";\" &\n【回復期】データ管理!$S$125 &  \";\" &\n【回復期】データ管理!$T$125","v":";;;;;"},{"$f":"日常生活機能評価!AV9 & \";\"\n& 日常生活機能評価!AV10 & \";\"\n& 日常生活機能評価!AV11 & \";\"\n& 日常生活機能評価!AV12 & \";\"\n& 日常生活機能評価!AV13 & \";\"\n& 日常生活機能評価!AV14 & \";\"\n& 日常生活機能評価!AV15 & \";\"\n& 日常生活機能評価!AV16 & \";\"\n& 日常生活機能評価!AV17 & \";\"\n& 日常生活機能評価!AV18 & \";\"\n& 日常生活機能評価!AV19 & \";\"\n& 日常生活機能評価!AV20 & \";\"\n& 日常生活機能評価!AV21","v":";;;;;;;;;;;;"},{"$f":"日常生活機能評価!AH22","v":0},{"$f":"【回復期】データ管理!$D$137","v":0},{"$f":"IF(【回復期】データ管理!$D$138,1,0)&\";\"&\nIF(【回復期】データ管理!$D$139,1,0)&\";\"&\nIF(【回復期】データ管理!$D$140,1,0)","v":"0;0;0"},{"$f":"IF(【回復期】入力シート!AR70=\"\",\"\",【回復期】入力シート!AR70)","v":""},{"$f":"【回復期】データ管理!$D$145","v":false},{"$f":"IF(【回復期】入力シート!J72=\"\",\"\",【回復期】入力シート!J72)","v":""},{"$f":"IF(【回復期】入力シート!R72=\"\",\"\",【回復期】入力シート!R72)","v":""},{"$f":"【回復期】データ管理!$D$148","v":false},{"$f":"IF(【回復期】入力シート!J73=\"\",\"\",【回復期】入力シート!J73)","v":""},{"$f":"IF(【回復期】入力シート!R73=\"\",\"\",【回復期】入力シート!R73)","v":""},{"$f":"【回復期】データ管理!$D$151","v":false},{"$f":"【回復期】データ管理!$D$152 &\";\"&\n【回復期】データ管理!$D$153 &\";\"&\n【回復期】データ管理!$D$154","v":";;"},{"$f":"【回復期】データ管理!$D$155","v":""},{"$f":"【回復期】データ管理!$D$156","v":false},{"$f":"【回復期】データ管理!$D$157 &\";\"&\n【回復期】データ管理!$D$158 &\";\"&\n【回復期】データ管理!$D$159","v":";;"},{"$f":"【回復期】データ管理!$D$160","v":""},{"$f":"【回復期】データ管理!$D$161","v":false},{"$f":"【回復期】データ管理!$D$162 &\";\"&\n【回復期】データ管理!$D$163 &\";\"&\n【回復期】データ管理!$D$164 &\";\"&\n【回復期】データ管理!$D$165 &\";\"&\n【回復期】データ管理!$D$166","v":";;;;"},{"$f":"【回復期】データ管理!$D$167","v":""},{"$f":"【回復期】データ管理!$D$175","v":false},{"$f":"【回復期】入力シート!Q79 &\";\"&\n【回復期】入力シート!V79 &\";\"&\n【回復期】入力シート!AB79 &\";\"&\n【回復期】入力シート!AH79 &\";\"&\n【回復期】入力シート!AN79","v":";;;;"},{"$f":"【回復期】データ管理!$D$180","v":""},{"$f":"IF(【回復期】データ管理!$D$168,1,0)&\";\"&\nIF(【回復期】データ管理!$D$169,1,0)&\";\"&\nIF(【回復期】データ管理!$D$170,1,0)&\";\"&\nIF(【回復期】データ管理!$D$171,1,0)&\";\"&\nIF(【回復期】データ管理!$D$172,1,0)&\";\"&\nIF(【回復期】データ管理!$D$173,1,0)&\";\"&\nIF(【回復期】データ管理!$D$174,1,0)&\";\"&\nIF(【回復期】データ管理!$D$181,1,0)&\";\"&\nIF(【回復期】データ管理!$D$182,1,0)&\";\"&\nIF(【回復期】データ管理!$D$183,1,0)&\";\"&\nIF(【回復期】データ管理!$D$184,1,0)&\";\"&\nIF(【回復期】データ管理!$D$185,1,0)&\";\"&\nIF(【回復期】データ管理!$D$186,1,0)&\";\"&\nIF(【回復期】データ管理!$D$187,1,0)&\";\"&\nIF(【回復期】データ管理!$D$188,1,0)&\";\"&\nIF(【回復期】データ管理!$D$189,1,0)&\";\"&\nIF(【回復期】データ管理!$D$190,1,0)&\";\"&\nIF(【回復期】データ管理!$D$191,1,0)&\";\"&\nIF(【回復期】データ管理!$D$192,1,0)&\";\"&\nIF(【回復期】データ管理!$D$193,1,0)&\";\"&\nIF(【回復期】データ管理!$D$194,1,0)&\";\"&\nIF(【回復期】データ管理!$D$195,1,0)","v":"0;0;0;0;0;0;0;0;0;0;0;0;0;0;0;0;0;0;0;0;0;0"},{"$f":"IF(【回復期】入力シート!M85=\"\",\"\",【回復期】入力シート!M85)","v":""},{"$f":"IF(【回復期】入力シート!I86=\"\",\"\",【回復期】入力シート!I86)","v":""},{"$f":"IF(【回復期】データ管理!$D$199,1,0) &\";\"&\n IF(【回復期】データ管理!$D$200,1,0) &\";\"&\n IF(【回復期】データ管理!$D$201,1,0) &\";\"&\n IF(【回復期】データ管理!$D$202,1,0) &\";\"&\n IF(【回復期】データ管理!$D$203,1,0)","v":"0;0;0;0;0"},{"$f":"IF(【回復期】入力シート!Y91=\"\",\"\",【回復期】入力シート!Y91)","v":""},{"$f":"IF(【回復期】入力シート!AL91=\"\",\"\",【回復期】入力シート!AL91)","v":""},{"$f":"IF(【回復期】データ管理!$D$206,1,0) &\";\"&\n IF(【回復期】データ管理!$D$207,1,0) &\";\"&\n IF(【回復期】データ管理!$D$208,1,0) &\";\"&\n IF(【回復期】データ管理!$D$209,1,0) &\";\"&\n IF(【回復期】データ管理!$D$210,1,0)","v":"0;0;0;0;0"},{"$f":"IF(【回復期】入力シート!AB92=\"\",\"\",【回復期】入力シート!AB92)","v":""},{"$f":"IF(【回復期】入力シート!R93=\"\",\"\",【回復期】入力シート!R93)","v":""},{"$f":"IF(【回復期】入力シート!U93=\"\",\"\",【回復期】入力シート!U93)","v":""},{"$f":"IF(【回復期】入力シート!AE93=\"\",\"\",【回復期】入力シート!AE93)","v":""},{"$f":"【回復期】データ管理!$D$215","v":0},{"$f":"IF(【回復期】入力シート!T94=\"\",\"\",【回復期】入力シート!T94)","v":""},{"$f":"【回復期】データ管理!$D$217","v":0},{"$f":"IF(【回復期】データ管理!$D$218,1,0) &\";\"&\n IF(【回復期】データ管理!$D$219,1,0) &\";\"&\n IF(【回復期】データ管理!$D$220,1,0) &\";\"&\n IF(【回復期】データ管理!$D$221,1,0) &\";\"&\n IF(【回復期】データ管理!$D$222,1,0)","v":"0;0;0;0;0"},{"$f":"IF(【回復期】入力シート!Y96=\"\",\"\",【回復期】入力シート!Y96)","v":""},{"$f":"IF(【回復期】入力シート!AG96=\"\",\"\",【回復期】入力シート!AG96)","v":""},{"$f":"【回復期】データ管理!$D$225","v":false},{"$f":"IF(【回復期】入力シート!M97=\"\",\"\",【回復期】入力シート!M97)","v":""},{"$f":"IF(【回復期】入力シート!AA97=\"\",\"\",【回復期】入力シート!AA97)","v":""},{"$f":"IF(【回復期】データ管理!$D$230,1,0) &\";\"&\n IF(【回復期】データ管理!$D$232,1,0) &\";\"&\n IF(【回復期】データ管理!$D$234,1,0) &\";\"&\n IF(【回復期】データ管理!$D$236,1,0) &\";\"&\n IF(【回復期】データ管理!$D$238,1,0) &\";\"&\n IF(【回復期】データ管理!$D$240,1,0) &\";\"&\n IF(【回復期】データ管理!$D$242,1,0)","v":"0;0;0;0;0;0;0"},{"$f":"IF(【回復期】入力シート!I99=\"\",\"\",【回復期】入力シート!I99)","v":""},{"$f":"IF(【回復期】入力シート!I100=\"\",\"\",【回復期】入力シート!I100)","v":""},{"$f":"IF(【回復期】入力シート!I101=\"\",\"\",【回復期】入力シート!I101)","v":""},{"$f":"【回復期】データ管理!$D$244","v":0},{"$f":"【回復期】データ管理!$D$246","v":0},{"$f":"【回復期】データ管理!$D$247","v":0},{"$f":"IF(【回復期】入力シート!AC104=\"\",\"\",【回復期】入力シート!AC104)","v":""},{"$f":"IF(【回復期】データ管理!$D$249,1,0)&\";\"&\nIF(【回復期】データ管理!$D$250,1,0)&\";\"&\nIF(【回復期】データ管理!$D$251,1,0)&\";\"&\nIF(【回復期】データ管理!$D$252,1,0)","v":"0;0;0;0"},{"$f":"IF(【回復期】入力シート!AJ105=\"\",\"\",【回復期】入力シート!AJ105)","v":""},{"$f":"【回復期】データ管理!$D$254","v":0},{"$f":"IF(【回復期】データ管理!$D$255,1,0)&\";\"&\nIF(【回復期】データ管理!$D$256,1,0)&\";\"&\nIF(【回復期】データ管理!$D$257,1,0)&\";\"&\nIF(【回復期】データ管理!$D$258,1,0)","v":"0;0;0;0"},{"$f":"IF(【回復期】入力シート!AO106=\"\",\"\",【回復期】入力シート!AO106)","v":""},{"$f":"【回復期】データ管理!$D$260","v":false},{"$f":"【回復期】データ管理!$D$261","v":false},{"$f":"IF(【回復期】入力シート!I110=\"\",\"\",【回復期】入力シート!I110)","v":""},{"$f":"IF(【回復期】入力シート!I111=\"\",\"\",【回復期】入力シート!I111)","v":""},{"$f":"【回復期】データ管理!$D$266","v":0},{"$f":"IF(【回復期】入力シート!R114=\"\",\"\",【回復期】入力シート!R114)","v":""},{"$f":"IF(【回復期】入力シート!AL114=\"\",\"\",【回復期】入力シート!AL114)","v":""},{"$f":"IF(【回復期】入力シート!R115=\"\",\"\",【回復期】入力シート!R115)","v":""},{"$f":"【回復期】データ管理!$D$270","v":0},{"$f":"【回復期】データ管理!D322","v":0},{"$f":"IF(【回復期】入力シート!AI117=\"\",\"\",【回復期】入力シート!AI117)","v":""},{"$f":"【回復期】データ管理!$D$275","v":0},{"$f":"IF(【回復期】データ管理!$D$276,1,0) & \";\" &\nIF(【回復期】データ管理!$D$277,1,0) &  \";\" &\nIF(【回復期】データ管理!$D$278,1,0)","v":"0;0;0"},{"$f":"IF(【回復期】入力シート!AD119=\"\",\"\",【回復期】入力シート!AD119)","v":""},{"$f":"【回復期】データ管理!$D$280","v":0},{"$f":"IF(【回復期】入力シート!Y120=\"\",\"\",【回復期】入力シート!Y120)","v":""},{"$f":"【回復期】データ管理!$D$282","v":0},{"$f":"【回復期】データ管理!$D$284","v":0},{"$f":"IF(【回復期】入力シート!AJ122=\"\",\"\",【回復期】入力シート!AJ122)","v":""},{"$f":"IF(【回復期】入力シート!AT122=\"\",\"\",【回復期】入力シート!AT122)","v":""},{"$f":"【回復期】データ管理!$D$287","v":0},{"$f":"IF(【回復期】入力シート!AL123=\"\",\"\",【回復期】入力シート!AL123)","v":""},{"$f":"【回復期】データ管理!$D$290","v":0},{"$f":"IF(【回復期】入力シート!AL124=\"\",\"\",【回復期】入力シート!AL124)","v":""},{"$f":"【回復期】データ管理!$D$293","v":0},{"$f":"IF(【回復期】入力シート!AL125=\"\",\"\",【回復期】入力シート!AL125)","v":""},{"$f":"【回復期】データ管理!$D$296","v":0},{"$f":"【回復期】データ管理!$D$298","v":0},{"$f":"【回復期】データ管理!$D$301","v":0},{"$f":"【回復期】データ管理!$D$303","v":0},{"$f":"IF(【回復期】入力シート!P132=\"\",\"\",【回復期】入力シート!P132)","v":""},{"$f":"IF(【回復期】入力シート!P134=\"\",\"\",【回復期】入力シート!P134)","v":""},{"$f":"【回復期】データ管理!$D$307","v":0},{"$f":"IF(【回復期】入力シート!S135=\"\",\"\",【回復期】入力シート!S135)","v":""},{"$f":"【回復期】データ管理!$D$309","v":0},{"$f":"IF(【回復期】入力シート!AG136=\"\",\"\",【回復期】入力シート!AG136)","v":""},{"$f":"IF(【回復期】データ管理!$D$319=\"\",\"\",【回復期】データ管理!$D$319)","v":""},{"$f":"IF(【維持期】入力シート!AC3=\"\",\"\",【維持期】入力シート!AC3)","v":""},{"$f":"IF(【維持期】入力シート!E6=\"\",\"\",【維持期】入力シート!E6)","v":""},{"$f":"【維持期】データ管理!D11","v":0},{"$f":"【維持期】データ管理!D12","v":0},{"$f":"IF(【維持期】データ管理!$D$13,1,0) & \";\" &\nIF(【維持期】データ管理!$D$14,1,0) &  \";\" &\nIF(【維持期】データ管理!$D$15,1,0) &  \";\" &\nIF(【維持期】データ管理!$D$16,1,0) &  \";\" &\nIF(【維持期】データ管理!$D$17,1,0) &  \";\" &\nIF(【維持期】データ管理!$D$18,1,0)","v":"0;0;0;0;0;0"},{"$f":"【維持期】データ管理!D19","v":0},{"$f":"【維持期】データ管理!D20","v":0},{"$f":"【維持期】データ管理!D21","v":0},{"$f":"【維持期】データ管理!D22","v":0},{"$f":"【維持期】データ管理!D23","v":0},{"$f":"IF(【維持期】入力シート!T13=\"\",\"\",【維持期】入力シート!T13)","v":""},{"$f":"【維持期】データ管理!D25","v":0},{"$f":"【維持期】データ管理!D26","v":0},{"$f":"【維持期】データ管理!D27","v":0},{"$f":"【維持期】データ管理!D28","v":0},{"$f":"IF(【維持期】入力シート!R17=\"\",\"\",【維持期】入力シート!R17)","v":""},{"$f":"【維持期】データ管理!D30","v":0},{"$f":"IF(【維持期】入力シート!T18=\"\",\"\",【維持期】入力シート!T18)","v":""},{"$f":"IF(【維持期】データ管理!$D$32,1,0) & \";\" &\nIF(【維持期】データ管理!$D$33,1,0) &  \";\" &\nIF(【維持期】データ管理!$D$34,1,0) &  \";\" &\nIF(【維持期】データ管理!$D$35,1,0) &  \";\" &\nIF(【維持期】データ管理!$D$36,1,0) &  \";\" &\nIF(【維持期】データ管理!$D$37,1,0) &  \";\" &\nIF(【維持期】データ管理!$D$38,1,0) &  \";\" &\nIF(【維持期】データ管理!$D$39,1,0) &  \";\" &\nIF(【維持期】データ管理!$D$40,1,0) &  \";\" &\nIF(【維持期】データ管理!$D$41,1,0) &  \";\" &\nIF(【維持期】データ管理!$D$42,1,0) &  \";\" &\nIF(【維持期】データ管理!$D$43,1,0) &  \";\" &\nIF(【維持期】データ管理!$D$44,1,0) &  \";\" &\nIF(【維持期】データ管理!$D$45,1,0) &  \";\" &\nIF(【維持期】データ管理!$D$46,1,0)","v":"0;0;0;0;0;0;0;0;0;0;0;0;0;0;0"},{"$f":"IF(【維持期】入力シート!F23=\"\",\"\",【維持期】入力シート!F23)","v":""},{"$f":"【維持期】データ管理!$D$49","v":0},{"$f":"IF(【維持期】入力シート!I25=\"\",\"\",【維持期】入力シート!I25)","v":""},{"$f":"【維持期】データ管理!$D$51","v":false},{"$f":"IF(【維持期】入力シート!J27=\"\",\"\",【維持期】入力シート!J27)","v":""},{"$f":"IF(【維持期】入力シート!R27=\"\",\"\",【維持期】入力シート!R27)","v":""},{"$f":"【維持期】データ管理!$D$54","v":false},{"$f":"IF(【維持期】入力シート!J28=\"\",\"\",【維持期】入力シート!J28)","v":""},{"$f":"IF(【維持期】入力シート!R28=\"\",\"\",【維持期】入力シート!R28)","v":""},{"$f":"【維持期】データ管理!$D$57","v":false},{"$f":"【維持期】データ管理!$D$58 &\";\"&\n【維持期】データ管理!$D$59 &\";\"&\n【維持期】データ管理!$D$60","v":";;"},{"$f":"【維持期】データ管理!$D$61","v":""},{"$f":"【維持期】データ管理!$D$62","v":false},{"$f":"【維持期】データ管理!$D$63 &\";\"&\n【維持期】データ管理!$D$64 &\";\"&\n【維持期】データ管理!$D$65","v":";;"},{"$f":"【維持期】データ管理!$D$66","v":""},{"$f":"【維持期】データ管理!$D$67","v":false},{"$f":"【維持期】データ管理!$D$68 &\";\"&\n【維持期】データ管理!$D$69 &\";\"&\n【維持期】データ管理!$D$70 &\";\"&\n【維持期】データ管理!$D$71 &\";\"&\n【維持期】データ管理!$D$72","v":";;;;"},{"$f":"【維持期】データ管理!$D$73","v":""},{"$f":"【維持期】データ管理!$D$81","v":false},{"$f":"【維持期】入力シート!Q34 &\";\"&\n【維持期】入力シート!V34 &\";\"&\n【維持期】入力シート!AB34 &\";\"&\n【維持期】入力シート!AH34 &\";\"&\n【維持期】入力シート!AN34","v":";;;;"},{"$f":"【維持期】データ管理!$D$86","v":""},{"$f":"IF(【維持期】データ管理!$D$74,1,0)&\";\"&\nIF(【維持期】データ管理!$D$75,1,0)&\";\"&\nIF(【維持期】データ管理!$D$76,1,0)&\";\"&\nIF(【維持期】データ管理!$D$77,1,0)&\";\"&\nIF(【維持期】データ管理!$D$78,1,0)&\";\"&\nIF(【維持期】データ管理!$D$79,1,0)&\";\"&\nIF(【維持期】データ管理!$D$80,1,0)&\";\"&\nIF(【維持期】データ管理!$D$87,1,0)&\";\"&\nIF(【維持期】データ管理!$D$88,1,0)&\";\"&\nIF(【維持期】データ管理!$D$89,1,0)&\";\"&\nIF(【維持期】データ管理!$D$90,1,0)&\";\"&\nIF(【維持期】データ管理!$D$91,1,0)&\";\"&\nIF(【維持期】データ管理!$D$92,1,0)&\";\"&\nIF(【維持期】データ管理!$D$93,1,0)&\";\"&\nIF(【維持期】データ管理!$D$94,1,0)&\";\"&\nIF(【維持期】データ管理!$D$95,1,0)&\";\"&\nIF(【維持期】データ管理!$D$96,1,0)&\";\"&\nIF(【維持期】データ管理!$D$97,1,0)&\";\"&\nIF(【維持期】データ管理!$D$98,1,0)&\";\"&\nIF(【維持期】データ管理!$D$99,1,0)&\";\"&\nIF(【維持期】データ管理!$D$100,1,0)&\";\"&\nIF(【維持期】データ管理!$D$101,1,0)","v":"0;0;0;0;0;0;0;0;0;0;0;0;0;0;0;0;0;0;0;0;0;0"},{"$f":"IF(【維持期】入力シート!M40=\"\",\"\",【維持期】入力シート!M40)","v":""},{"$f":"IF(【維持期】入力シート!I41=\"\",\"\",【維持期】入力シート!I41)","v":""},{"$f":"【維持期】データ管理!$D$105","v":0},{"$f":"IF(【維持期】入力シート!O46=\"\",\"\",【維持期】入力シート!O46)","v":""},{"$f":"【維持期】データ管理!$D$107","v":0},{"$f":"【維持期】データ管理!$D$108","v":0},{"$f":"IF(【維持期】データ管理!$D$109,1,0)&\";\"&\nIF(【維持期】データ管理!$D$110,1,0) &\";\"&\nIF(【維持期】データ管理!$D$111,1,0) &\";\"&\nIF(【維持期】データ管理!$D$112,1,0)","v":"0;0;0;0"},{"$f":"IF(【維持期】入力シート!S50=\"\",\"\",【維持期】入力シート!S50)","v":""},{"$f":"IF(【維持期】入力シート!X52=\"\",\"\",【維持期】入力シート!X52)","v":""},{"$f":"IF(【維持期】入力シート!U54=\"\",\"\",【維持期】入力シート!U54)","v":""},{"$f":"日常生活機能評価!AX9 & \";\"\n& 日常生活機能評価!AX10 & \";\"\n& 日常生活機能評価!AX11 & \";\"\n& 日常生活機能評価!AX12 & \";\"\n& 日常生活機能評価!AX13 & \";\"\n& 日常生活機能評価!AX14 & \";\"\n& 日常生活機能評価!AX15 & \";\"\n& 日常生活機能評価!AX16 & \";\"\n& 日常生活機能評価!AX17 & \";\"\n& 日常生活機能評価!AX18 & \";\"\n& 日常生活機能評価!AX19 & \";\"\n& 日常生活機能評価!AX20 & \";\"\n& 日常生活機能評価!AX21","v":";;;;;;;;;;;;"},{"$f":"日常生活機能評価!AK22","v":0},{"$f":"【維持期】データ管理!$D$129","v":0},{"$f":"IF(【維持期】データ管理!$D$130,1,0)&\";\"&\nIF(【維持期】データ管理!$D$131,1,0) &\";\"&\nIF(【維持期】データ管理!$D$132,1,0)","v":"0;0;0"},{"$f":"IF(【維持期】入力シート!AA71=\"\",\"\",【維持期】入力シート!AA71)","v":""},{"$f":"IF(【維持期】入力シート!AM54=\"\",\"\",【維持期】入力シート!AM54)","v":""},{"$f":"日常生活機能評価!AZ9 & \";\"\n& 日常生活機能評価!AZ10 & \";\"\n& 日常生活機能評価!AZ11 & \";\"\n& 日常生活機能評価!AZ12 & \";\"\n& 日常生活機能評価!AZ13 & \";\"\n& 日常生活機能評価!AZ14 & \";\"\n& 日常生活機能評価!AZ15 & \";\"\n& 日常生活機能評価!AZ16 & \";\"\n& 日常生活機能評価!AZ17 & \";\"\n& 日常生活機能評価!AZ18 & \";\"\n& 日常生活機能評価!AZ19 & \";\"\n& 日常生活機能評価!AZ20 & \";\"\n& 日常生活機能評価!AZ21","v":";;;;;;;;;;;;"},{"$f":"日常生活機能評価!AN22","v":0},{"$f":"【維持期】データ管理!$D$148","v":0},{"$f":"IF(【維持期】データ管理!$D$149,1,0)&\";\"&\nIF(【維持期】データ管理!$D$150,1,0) &\";\"&\nIF(【維持期】データ管理!$D$151,1,0)","v":"0;0;0"},{"$f":"IF(【維持期】入力シート!AS71=\"\",\"\",【維持期】入力シート!AS71)","v":""},{"$f":"IF(【維持期】データ管理!$D$153,1,0)&\";\"&\nIF(【維持期】データ管理!$D$154,1,0) &\";\"&\nIF(【維持期】データ管理!$D$155,1,0) &\";\"&\nIF(【維持期】データ管理!$D$156,1,0) &\";\"&\nIF(【維持期】データ管理!$D$157,1,0)","v":"0;0;0;0;0"},{"$f":"IF(【維持期】入力シート!Y73=\"\",\"\",【維持期】入力シート!Y73)","v":""},{"$f":"IF(【維持期】入力シート!AL73=\"\",\"\",【維持期】入力シート!AL73)","v":""},{"$f":"IF(【維持期】データ管理!$D$160,1,0)&\";\"&\nIF(【維持期】データ管理!$D$161,1,0) &\";\"&\nIF(【維持期】データ管理!$D$162,1,0) &\";\"&\nIF(【維持期】データ管理!$D$163,1,0) &\";\"&\nIF(【維持期】データ管理!$D$164,1,0)","v":"0;0;0;0;0"},{"$f":"IF(【維持期】入力シート!AB74=\"\",\"\",【維持期】入力シート!AB74)","v":""},{"$f":"IF(【維持期】入力シート!R75=\"\",\"\",【維持期】入力シート!R75)","v":""},{"$f":"IF(【維持期】入力シート!U75=\"\",\"\",【維持期】入力シート!U75)","v":""},{"$f":"IF(【維持期】入力シート!AE75=\"\",\"\",【維持期】入力シート!AE75)","v":""},{"$f":"【維持期】データ管理!$D$169","v":0},{"$f":"IF(【維持期】入力シート!T76=\"\",\"\",【維持期】入力シート!T76)","v":""},{"$f":"【維持期】データ管理!$D$171","v":0},{"$f":"IF(【維持期】データ管理!$D$172,1,0)&\";\"&\nIF(【維持期】データ管理!$D$173,1,0) &\";\"&\nIF(【維持期】データ管理!$D$174,1,0) &\";\"&\nIF(【維持期】データ管理!$D$175,1,0) &\";\"&\nIF(【維持期】データ管理!$D$176,1,0)","v":"0;0;0;0;0"},{"$f":"【維持期】入力シート!Y78","v":0},{"$f":"IF(【維持期】入力シート!AG78=\"\",\"\",【維持期】入力シート!AG78)","v":""},{"$f":"IF(【維持期】データ管理!$D$179,1,0)&\";\"&\nIF(【維持期】データ管理!$D$181,1,0) &\";\"&\nIF(【維持期】データ管理!$D$183,1,0) &\";\"&\nIF(【維持期】データ管理!$D$185,1,0) &\";\"&\nIF(【維持期】データ管理!$D$187,1,0) &\";\"&\nIF(【維持期】データ管理!$D$189,1,0) &\";\"&\nIF(【維持期】データ管理!$D$191,1,0)","v":"0;0;0;0;0;0;0"},{"$f":"IF(【維持期】入力シート!I80=\"\",\"\",【維持期】入力シート!I80)","v":""},{"$f":"IF(【維持期】入力シート!I81=\"\",\"\",【維持期】入力シート!I81)","v":""},{"$f":"IF(【維持期】入力シート!I82=\"\",\"\",【維持期】入力シート!I82)","v":""},{"$f":"IF(【維持期】データ管理!$D$193,1,0)&\";\"&\nIF(【維持期】データ管理!$D$194,1,0) &\";\"&\nIF(【維持期】データ管理!$D$200,1,0) &\";\"&\nIF(【維持期】データ管理!$D$206,1,0) &\";\"&\nIF(【維持期】データ管理!$D$212,1,0) &\";\"&\nIF(【維持期】データ管理!$D$214,1,0) &\";\"&\nIF(【維持期】データ管理!$D$216,1,0) &\";\"&\nIF(【維持期】データ管理!$D$217,1,0) &\";\"&\nIF(【維持期】データ管理!$D$218,1,0) &\";\"&\nIF(【維持期】データ管理!$D$219,1,0) &\";\"&\nIF(【維持期】データ管理!$D$220,1,0) &\";\"&\nIF(【維持期】データ管理!$D$221,1,0)","v":"0;0;0;0;0;0;0;0;0;0;0;0"},{"$f":"【維持期】データ管理!$D$195","v":0},{"$f":"IF(【維持期】データ管理!$D$196,1,0)&\";\"&\nIF(【維持期】データ管理!$D$197,1,0) &\";\"&\nIF(【維持期】データ管理!$D$198,1,0) &\";\"&\nIF(【維持期】データ管理!$D$199,1,0)","v":"0;0;0;0"},{"$f":"IF(【維持期】データ管理!$D$201,1,0)&\";\"&\nIF(【維持期】データ管理!$D$202,1,0) &\";\"&\nIF(【維持期】データ管理!$D$203,1,0) &\";\"&\nIF(【維持期】データ管理!$D$204,1,0) &\";\"&\nIF(【維持期】データ管理!$D$205,1,0)","v":"0;0;0;0;0"},{"$f":"IF(【維持期】データ管理!$D$207,1,0)&\";\"&\nIF(【維持期】データ管理!$D$208,1,0) &\";\"&\nIF(【維持期】データ管理!$D$209,1,0) &\";\"&\nIF(【維持期】データ管理!$D$210,1,0) &\";\"&\nIF(【維持期】データ管理!$D$211,1,0)","v":"0;0;0;0;0"},{"$f":"【維持期】データ管理!$D$215","v":false},{"$f":"IF(【維持期】入力シート!I92=\"\",\"\",【維持期】入力シート!I92)","v":""},{"$f":"【維持期】データ管理!$D$223","v":0},{"$f":"【維持期】データ管理!D294","v":0},{"$f":"IF(【維持期】入力シート!Y94=\"\",\"\",【維持期】入力シート!Y94)","v":""},{"$f":"【維持期】データ管理!$D$228","v":false},{"$f":"【維持期】データ管理!$D$229","v":false},{"$f":"【維持期】データ管理!$D$231","v":false},{"$f":"IF(【維持期】入力シート!E99=\"\",\"\",【維持期】入力シート!E99)","v":""},{"$f":"【維持期】データ管理!$D$236","v":0},{"$f":"IF(【維持期】入力シート!F106=\"\",\"\",【維持期】入力シート!F106)","v":""},{"$f":"IF(【維持期】入力シート!AC103=\"\",\"\",【維持期】入力シート!AC103)","v":""},{"$f":"IF(【維持期】入力シート!AE104=\"\",\"\",【維持期】入力シート!AE104)","v":""},{"$f":"【維持期】データ管理!$D$241","v":0},{"$f":"【維持期】データ管理!$D$242","v":0},{"$f":"【維持期】データ管理!$D$243","v":0},{"$f":"【維持期】データ管理!$D$244","v":0},{"$f":"IF(【維持期】データ管理!$D$245,1,0)&\";\"&\nIF(【維持期】データ管理!$D$246,1,0) &\";\"&\nIF(【維持期】データ管理!$D$247,1,0) &\";\"&\nIF(【維持期】データ管理!$D$248,1,0) &\";\"&\nIF(【維持期】データ管理!$D$249,1,0) &\";\"&\nIF(【維持期】データ管理!$D$250,1,0) &\";\"&\nIF(【維持期】データ管理!$D$251,1,0) &\";\"&\nIF(【維持期】データ管理!$D$252,1,0) &\";\"&\nIF(【維持期】データ管理!$D$253,1,0) &\";\"&\nIF(【維持期】データ管理!$D$254,1,0) &\";\"&\nIF(【維持期】データ管理!$D$255,1,0) &\";\"&\nIF(【維持期】データ管理!$D$256,1,0)","v":"0;0;0;0;0;0;0;0;0;0;0;0"},{"$f":"IF(【維持期】入力シート!$AI$112=\"\",\"\",【維持期】入力シート!$AI$112)","v":""},{"$f":"【維持期】データ管理!$D$258","v":0},{"$f":"【維持期】データ管理!$D$259","v":0},{"$f":"IF(【維持期】入力シート!L114=\"\",\"\",【維持期】入力シート!L114)","v":""},{"$f":"【維持期】データ管理!$D$262","v":0},{"$f":"IF(【維持期】入力シート!U115=\"\",\"\",【維持期】入力シート!U115)","v":""},{"$f":"【維持期】データ管理!$D$264","v":0},{"$f":"IF(【維持期】入力シート!U116=\"\",\"\",【維持期】入力シート!U116)","v":""},{"$f":"【維持期】データ管理!$D$266","v":0},{"$f":"【維持期】データ管理!$D$268","v":0},{"$f":"【維持期】データ管理!$D$269","v":0},{"$f":"IF(【維持期】入力シート!AC118=\"\",\"\",【維持期】入力シート!AC118)","v":""},{"$f":"IF(【維持期】データ管理!$D$271,1,0)&\";\"&\nIF(【維持期】データ管理!$D$272,1,0)&\";\"&\nIF(【維持期】データ管理!$D$273,1,0)&\";\"&\nIF(【維持期】データ管理!$D$274,1,0)","v":"0;0;0;0"},{"$f":"IF(【維持期】入力シート!AH119=\"\",\"\",【維持期】入力シート!AH119)","v":""},{"$f":"【維持期】データ管理!$D$276","v":0},{"$f":"IF(【維持期】データ管理!$D$277,1,0)&\";\"&\nIF(【維持期】データ管理!$D$278,1,0)&\";\"&\nIF(【維持期】データ管理!$D$279,1,0)&\";\"&\nIF(【維持期】データ管理!$D$280,1,0)","v":"0;0;0;0"},{"$f":"【維持期】入力シート!AM121","v":0},{"$f":"【維持期】データ管理!$D$282","v":false},{"$f":"IF(【維持期】データ管理!$D$293=\"\",\"\",【維持期】データ管理!$D$293)","v":""}]

{"sheet":"SheetList","index":26,"n_rows":48,"n_cols":2,"rows_kept":48,"cut":false,"hidden":true,"merged":[]}
["定義",0]
["管理",0]
["【急性期】入力シート",-1]
["【急性期】データ管理",0]
["【急性期】印刷",0]
["【回復期】入力シート",0]
["【回復期】印刷",0]
["【回復期】データ管理",0]
["【維持期】入力シート",0]
["【維持期】印刷",0]
["【維持期】データ管理",0]
["経過シート",-1]
["患者説明資料",-1]
["同意書 ",-1]
["社会資源 (制度活用のポイント)",-1]
["社会資源(相談窓口等)",-1]
["【経過】日常生活機能",0]
["【経過】HDS-R",0]
["【経過】MMSE",0]
["【経過】WAIS-Ⅲ",0]
["【経過】WISC-Ⅲ",0]
["【経過】WISC-Ⅳ",0]
["【経過】WMS-R",0]
["脳画像",0]
["DATA_PATIENT",0]
["STATISTICS_X",0]
["SheetList",0]
["祝日",0]
["【急性期】WAIS-Ⅲ",0]
["【急性期】WISC-Ⅲ",0]
["【急性期】WISC-Ⅳ",0]
["【急性期】WMS-R",0]
["【回復期】WAIS-Ⅲ",0]
["【回復期】WISC-Ⅲ",0]
["【回復期】WISC-Ⅳ",0]
["【回復期】WMS-R",0]
["【維持期】WAIS-Ⅲ",0]
["【維持期】WISC-Ⅲ",0]
["【維持期】WISC-Ⅳ",0]
["【維持期】WMS-R",0]
["【急性期】HDS-R",0]
["【回復期】HDS-R",0]
["【急性期】MMSE",0]
["【回復期】MMSE",0]
["【維持期】HDS-R",0]
["【維持期】MMSE",0]
["日常生活機能評価",0]
["MMSE_PRINT",0]

{"sheet":"祝日","index":27,"n_rows":305,"n_cols":2,"rows_kept":305,"cut":false,"hidden":true,"merged":[[0,0,0,1]]}
["祝日"]
["日付","名前"]
["2016-01-01","元日"]
["2016-01-11","成人の日"]
["2016-02-11","建国記念の日"]
["2016-03-20","春分の日"]
["2016-03-21","振替休日"]
["2016-04-29","昭和の日"]
["2016-05-03","憲法記念日"]
["2016-05-04","みどりの日"]
["2016-05-05","こどもの日"]
["2016-07-18","海の日"]
["2016-08-11","山の日"]
["2016-09-19","敬老の日"]
["2016-09-22","秋分の日"]
["2016-10-10","体育の日"]
["2016-11-03","文化の日"]
["2016-11-23","勤労感謝の日"]
["2016-12-23","天皇誕生日"]
["2017-01-01","元日"]
["2017-01-02","振替休日"]
["2017-01-09","成人の日"]
["2017-02-11","建国記念の日"]
["2017-03-20","春分の日"]
["2017-04-29","昭和の日"]
["2017-05-03","憲法記念日"]
["2017-05-04","みどりの日"]
["2017-05-05","こどもの日"]
["2017-07-17","海の日"]
["2017-08-11","山の日"]
["2017-09-18","敬老の日"]
["2017-09-23","秋分の日"]
["2017-10-09","体育の日"]
["2017-11-03","文化の日"]
["2017-11-23","勤労感謝の日"]
["2017-12-23","天皇誕生日"]
["2018-01-01","元日"]
["2018-01-08","成人の日"]
["2018-02-11","建国記念の日"]
["2018-02-12","振替休日"]
["2018-03-21","春分の日"]
["2018-04-29","昭和の日"]
["2018-04-30","振替休日"]
["2018-05-03","憲法記念日"]
["2018-05-04","みどりの日"]
["2018-05-05","こどもの日"]
["2018-07-16","海の日"]
["2018-08-11","山の日"]
["2018-09-17","敬老の日"]
["2018-09-23","秋分の日"]
["2018-09-24","振替休日"]
["2018-10-08","体育の日"]
["2018-11-03","文化の日"]
["2018-11-23","勤労感謝の日"]
["2018-12-23","天皇誕生日"]
["2018-12-24","振替休日"]
["2019-01-01","元日"]
["2019-01-14","成人の日"]
["2019-02-11","建国記念の日"]
["2019-03-21","春分の日"]
["2019-04-29","昭和の日"]
["2019-05-03","憲法記念日"]
["2019-05-04","みどりの日"]
["2019-05-05","こどもの日"]
["2019-05-06","振替休日"]
["2019-07-15","海の日"]
["2019-08-11","山の日"]
["2019-08-12","振替休日"]
["2019-09-16","敬老の日"]
["2019-09-23","秋分の日"]
["2019-10-14","体育の日"]
["2019-11-03","文化の日"]
["2019-11-04","振替休日"]
["2019-11-23","勤労感謝の日"]
["2019-12-23","天皇誕生日"]
["2020-01-01","元日"]
["2020-01-13","成人の日"]
["2020-02-11","建国記念の日"]
["2020-03-20","春分の日"]
["2020-04-29","昭和の日"]
["2020-05-03","憲法記念日"]
["2020-05-04","みどりの日"]
["2020-05-05","こどもの日"]
["2020-05-06","振替休日"]
["2020-07-20","海の日"]
["2020-08-11","山の日"]
["2020-09-21","敬老の日"]
["2020-09-22","秋分の日"]
["2020-10-12","体育の日"]
["2020-11-03","文化の日"]
["2020-11-23","勤労感謝の日"]
["2020-12-23","天皇誕生日"]
["2021-01-01","元日"]
["2021-01-11","成人の日"]
["2021-02-11","建国記念の日"]
["2021-03-20","春分の日"]
["2021-04-29","昭和の日"]
["2021-05-03","憲法記念日"]
["2021-05-04","みどりの日"]
["2021-05-05","こどもの日"]
["2021-07-19","海の日"]
["2021-08-11","山の日"]
["2021-09-20","敬老の日"]
["2021-09-23","秋分の日"]
["2021-10-11","体育の日"]
["2021-11-03","文化の日"]
["2021-11-23","勤労感謝の日"]
["2021-12-23","天皇誕生日"]
["2022-01-01","元日"]
["2022-01-10","成人の日"]
["2022-02-11","建国記念の日"]
["2022-03-21","春分の日"]
["2022-04-29","昭和の日"]
["2022-05-03","憲法記念日"]
["2022-05-04","みどりの日"]
["2022-05-05","こどもの日"]
["2022-07-18","海の日"]
["2022-08-11","山の日"]
["2022-09-19","敬老の日"]
["2022-09-23","秋分の日"]
["2022-10-10","体育の日"]
["2022-11-03","文化の日"]
["2022-11-23","勤労感謝の日"]
["2022-12-23","天皇誕生日"]
["2023-01-01","元日"]
["2023-01-02","振替休日"]
["2023-01-09","成人の日"]
["2023-02-11","建国記念の日"]
["2023-03-21","春分の日"]
["2023-04-29","昭和の日"]
["2023-05-03","憲法記念日"]
["2023-05-04","みどりの日"]
["2023-05-05","こどもの日"]
["2023-07-17","海の日"]
["2023-08-11","山の日"]
["2023-09-18","敬老の日"]
["2023-09-23","秋分の日"]
["2023-10-09","体育の日"]
["2023-11-03","文化の日"]
["2023-11-23","勤労感謝の日"]
["2023-12-23","天皇誕生日"]
["2024-01-01","元日"]
["2024-01-08","成人の日"]
["2024-02-11","建国記念の日"]
["2024-02-12","振替休日"]
["2024-03-20","春分の日"]
["2024-04-29","昭和の日"]
["2024-05-03","憲法記念日"]
["2024-05-04","みどりの日"]
["2024-05-05","こどもの日"]
["2024-05-06","振替休日"]
["2024-07-15","海の日"]
["2024-08-11","山の日"]
["2024-08-12","振替休日"]
["2024-09-16","敬老の日"]
["2024-09-22","秋分の日"]
["2024-09-23","振替休日"]
["2024-10-14","体育の日"]
["2024-11-03","文化の日"]
["2024-11-04","振替休日"]
["2024-11-23","勤労感謝の日"]
["2024-12-23","天皇誕生日"]
["2025-01-01","元日"]
["2025-01-13","成人の日"]
["2025-02-11","建国記念の日"]
["2025-03-20","春分の日"]
["2025-04-29","昭和の日"]
["2025-05-03","憲法記念日"]
["2025-05-04","みどりの日"]
["2025-05-05","こどもの日"]
["2025-05-06","振替休日"]
["2025-07-21","海の日"]
["2025-08-11","山の日"]
["2025-09-15","敬老の日"]
["2025-09-23","秋分の日"]
["2025-10-13","体育の日"]
["2025-11-03","文化の日"]
["2025-11-23","勤労感謝の日"]
["2025-11-24","振替休日"]
["2025-12-23","天皇誕生日"]
["2026-01-01","元日"]
["2026-01-12","成人の日"]
["2026-02-11","建国記念の日"]
["2026-03-20","春分の日"]
["2026-04-29","昭和の日"]
["2026-05-03","憲法記念日"]
["2026-05-04","みどりの日"]
["2026-05-05","こどもの日"]
["2026-05-06","振替休日"]
["2026-07-20","海の日"]
["2026-08-11","山の日"]
["2026-09-21","敬老の日"]
["2026-09-22","国民の休日"]
["2026-09-23","秋分の日"]
["2026-10-12","体育の日"]
["2026-11-03","文化の日"]
["2026-11-23","勤労感謝の日"]
["2026-12-23","天皇誕生日"]
["2027-01-01","元日"]
["2027-01-11","成人の日"]
["2027-02-11","建国記念の日"]
["2027-03-21","春分の日"]
["2027-03-22","振替休日"]
["2027-04-29","昭和の日"]
["2027-05-03","憲法記念日"]
["2027-05-04","みどりの日"]
["2027-05-05","こどもの日"]
["2027-07-19","海の日"]
["2027-08-11","山の日"]
["2027-09-20","敬老の日"]
["2027-09-23","秋分の日"]
["2027-10-11","体育の日"]
["2027-11-03","文化の日"]
["2027-11-23","勤労感謝の日"]
["2027-12-23","天皇誕生日"]
["2028-01-01","元日"]
["2028-01-10","成人の日"]
["2028-02-11","建国記念の日"]
["2028-03-20","春分の日"]
["2028-04-29","昭和の日"]
["2028-05-03","憲法記念日"]
["2028-05-04","みどりの日"]
["2028-05-05","こどもの日"]
["2028-07-17","海の日"]
["2028-08-11","山の日"]
["2028-09-18","敬老の日"]
["2028-09-22","秋分の日"]
["2028-10-09","体育の日"]
["2028-11-03","文化の日"]
["2028-11-23","勤労感謝の日"]
["2028-12-23","天皇誕生日"]
["2029-01-01","元日"]
["2029-01-08","成人の日"]
["2029-02-11","建国記念の日"]
["2029-02-12","振替休日"]
["2029-03-20","春分の日"]
["2029-04-29","昭和の日"]
["2029-04-30","振替休日"]
["2029-05-03","憲法記念日"]
["2029-05-04","みどりの日"]
["2029-05-05","こどもの日"]
["2029-07-16","海の日"]
["2029-08-11","山の日"]
["2029-09-17","敬老の日"]
["2029-09-23","秋分の日"]
["2029-09-24","振替休日"]
["2029-10-08","体育の日"]
["2029-11-03","文化の日"]
["2029-11-23","勤労感謝の日"]
["2029-12-23","天皇誕生日"]
["2029-12-24","振替休日"]
["2030-01-01","元日"]
["2030-01-14","成人の日"]
["2030-02-11","建国記念の日"]
["2030-03-20","春分の日"]
["2030-04-29","昭和の日"]
["2030-05-03","憲法記念日"]
["2030-05-04","みどりの日"]
["2030-05-05","こどもの日"]
["2030-05-06","振替休日"]
["2030-07-15","海の日"]
["2030-08-11","山の日"]
["2030-08-12","振替休日"]
["2030-09-16","敬老の日"]
["2030-09-23","秋分の日"]
["2030-10-14","体育の日"]
["2030-11-03","文化の日"]
["2030-11-04","振替休日"]
["2030-11-23","勤労感謝の日"]
["2030-12-23","天皇誕生日"]
["2031-01-01","元日"]
["2031-01-13","成人の日"]
["2031-02-11","建国記念の日"]
["2031-03-21","春分の日"]
["2031-04-29","昭和の日"]
["2031-05-03","憲法記念日"]
["2031-05-04","みどりの日"]
["2031-05-05","こどもの日"]
["2031-05-06","振替休日"]
["2031-07-21","海の日"]
["2031-08-11","山の日"]
["2031-09-15","敬老の日"]
["2031-09-23","秋分の日"]
["2031-10-13","体育の日"]
["2031-11-03","文化の日"]
["2031-11-23","勤労感謝の日"]
["2031-11-24","振替休日"]
["2031-12-23","天皇誕生日"]
["2032-01-01","元日"]
["2032-01-12","成人の日"]
["2032-02-11","建国記念の日"]
["2032-03-20","春分の日"]
["2032-04-29","昭和の日"]
["2032-05-03","憲法記念日"]
["2032-05-04","みどりの日"]
["2032-05-05","こどもの日"]
["2032-07-19","海の日"]
["2032-08-11","山の日"]
["2032-09-20","敬老の日"]
["2032-09-21","国民の休日"]
["2032-09-22","秋分の日"]
["2032-10-11","体育の日"]
["2032-11-03","文化の日"]
["2032-11-23","勤労感謝の日"]
["2032-12-23","天皇誕生日"]

{"sheet":"【急性期】WAIS-Ⅲ","index":28,"n_rows":50,"n_cols":17,"rows_kept":50,"cut":false,"hidden":true,"merged":[[11,0,11,2],[11,4,11,6],[1,0,1,1],[2,0,2,1],[47,0,47,2],[46,0,46,2],[45,0,45,2],[44,0,44,2],[43,0,43,2],[42,0,42,2],[41,0,41,2],[1,2,1,3],[11,9,11,11],[11,12,11,13],[50,0,53,14],[2,2,2,3],[39,0,39,5],[40,3,40,4],[5,0,5,1],[6,0,6,1],[7,0,7,1],[4,4,4,5],[5,4,5,5],[6,4,6,5],[7,4,7,5],[8,4,8,5],[10,0,10,6],[10,8,10,14]]}
["ＷＡＩＳ－Ⅲ成人知能検査"]
["患者氏名：",null,{"$f":"IF(【急性期】入力シート!E3=\"\",\"\",【急性期】入力シート!E3)","v":""},null,null,null,"→手入力"]
["検査実施日："]
[]
[null,null,"ＩＱ",null,"群指数\n（指標得点）",null,"標準得点",null,null,"言語性","動作性",{"$f":"A8","v":"全検査"},null,{"$f":"E6","v":"言語理解"},{"$f":"E7","v":"知覚統合"},{"$f":"E8","v":"作動記憶"},{"$f":"E9","v":"処理速度"}]
["言語性検査",null,null,null,"言語理解",null,null,null,null,{"$f":"C6","v":0},{"$f":"C7","v":0},{"$f":"C8","v":0},null,{"$f":"G6","v":0},{"$f":"G7","v":0},{"$f":"G8","v":0},{"$f":"G9","v":0}]
["動作性検査",null,null,null,"知覚統合"]
["全検査",null,null,null,"作動記憶"]
[null,null,null,null,"処理速度"]
[]
["言語性検査",null,null,null,null,null,null,null,"動作性検査"]
["言語理解",null,null,"　","作動記憶",null,null,null,"　","知覚統合",null,null,"処理速度",null,"　"]
["単語","類似","知識","理解","算数","数唱","語音",null,"配列","完成","積木","行列","符号","記号","組合"]
[]
[]
[]
[]
[]
[]
[]
[]
[]
[]
[]
[]
[]
[]
[]
[]
[]
[]
[]
[]
[]
[]
[]
[]
[]
[]
["ディスクレパンシー分析"]
[null,null,null,"ＩＱ／群指数",null,"差","有意水準"]
["言語性ＩＱ－動作性ＩＱ",null,null,null,null,{"$f":"D42-E42","v":0}]
["言語理解－知的統合",null,null,null,null,{"$f":"D43-E43","v":0}]
["言語理解－作動記憶",null,null,null,null,0]
["知覚統合－処理速度",null,null,null,null,0]
["言語理解－処理速度",null,null,null,null,0]
["知覚統合－作動記憶",null,null,null,null,0]
["作動記憶－処理速度",null,null,null,null,0]
[]
["検査所見"]

{"sheet":"【急性期】WISC-Ⅲ","index":29,"n_rows":49,"n_cols":17,"rows_kept":49,"cut":false,"hidden":true,"merged":[[49,0,52,14],[42,0,42,2],[43,0,43,2],[44,0,44,2],[45,0,45,2],[46,0,46,2],[1,0,1,1],[2,0,2,1],[40,0,40,2],[41,0,41,2],[6,0,6,1],[7,0,7,1],[10,0,10,5],[4,4,4,5],[5,4,5,5],[6,4,6,5],[7,4,7,5],[2,2,2,3],[1,2,1,3],[10,7,10,13],[38,0,38,5],[39,3,39,4],[5,0,5,1],[8,4,8,5]]}
["ＷISC－Ⅲ"]
["患者氏名：",null,{"$f":"IF(【急性期】入力シート!E3=\"\",\"\",【急性期】入力シート!E3)","v":""},null,null,null,"→手入力"]
["検査実施日："]
[]
[null,null,"ＩＱ",null,"群指数\n（指標得点）",null,"標準得点",null,null,"言語性","動作性",{"$f":"A8","v":"全検査"},null,{"$f":"E6","v":"言語理解"},{"$f":"E7","v":"知覚統合"},{"$f":"E8","v":"作動記憶"},{"$f":"E9","v":"処理速度"}]
["言語性検査",null,null,null,"言語理解",null,null,null,null,{"$f":"C6","v":0},{"$f":"C7","v":0},{"$f":"C8","v":0},null,{"$f":"G6","v":0},{"$f":"G7","v":0},{"$f":"G8","v":0},{"$f":"G9","v":0}]
["動作性検査",null,null,null,"知覚統合"]
["全検査",null,null,null,"作動記憶"]
[null,null,null,null,"処理速度"]
[]
["言語性検査",null,null,null,null,null,null,"動作性検査"]
["知識","類似","算数","単語","理解","数唱",null,"完成","符号","配列","積木","組合","記号","迷路"]
[]
[]
[]
[]
[]
[]
[]
[]
[]
[]
[]
[]
[]
[]
[]
[]
[]
[]
[]
[]
[]
[]
[]
[]
[]
[]
["ディスクレパンシー分析"]
[null,null,null,"ＩＱ／群指数",null,"差","有意水準"]
["言語性ＩＱ－動作性ＩＱ",null,null,null,null,{"$f":"D41-E41","v":0}]
["言語理解－知的統合",null,null,null,null,{"$f":"D42-E42","v":0}]
["言語理解－作動記憶",null,null,null,null,0]
["知覚統合－処理速度",null,null,null,null,0]
["言語理解－処理速度",null,null,null,null,0]
["知覚統合－作動記憶",null,null,null,null,0]
["作動記憶－処理速度",null,null,null,null,0]
[]
["検査所見"]

{"sheet":"【急性期】WISC-Ⅳ","index":30,"n_rows":50,"n_cols":18,"rows_kept":50,"cut":false,"hidden":true,"merged":[[46,5,46,6],[47,5,47,6],[41,0,41,2],[42,0,42,2],[43,0,43,2],[44,0,44,2],[45,0,45,2],[41,5,41,6],[42,5,42,6],[43,5,43,6],[44,5,44,6],[50,0,53,17],[1,0,1,1],[2,0,2,1],[46,7,46,8],[47,7,47,8],[43,7,43,8],[44,7,44,8],[45,7,45,8],[2,2,2,4],[11,11,11,13],[11,15,11,17],[39,0,39,5],[42,7,42,8],[46,0,46,2],[47,0,47,2],[45,5,45,6],[1,2,1,4],[4,0,4,1],[5,0,5,1],[6,0,6,1],[41,7,41,8],[11,0,11,4],[11,6,11,9],[40,3,40,4],[40,7,40,8],[7,0,7,1],[8,0,8,1],[9,0,9,1],[40,5,40,6]]}
["ＷISC－Ⅳ"]
["患者氏名：",null,{"$f":"IF(【急性期】入力シート!E3=\"\",\"\",【急性期】入力シート!E3)","v":""},null,null,null,null,"→手入力"]
["検査実施日："]
[]
["合成得点",null,"ＩＱ"]
["FSIQ"]
["VCI"]
["PRI"]
["WMI"]
["PSI"]
[]
["言語理解（VCI)",null,null,null,null,null,"知覚推理（PRI）",null,null,null,null,"ワーキングメモリー（WMI）",null,null,null,"処理速度（PSI）"]
["類似","単語","理解","知識","語の推理",null,"積木","絵の概念","行列推理","絵の完成",null,"数唱","語音整列","算数",null,"符号","記号","絵の抹消"]
[]
[]
[]
[]
[]
[]
[]
[]
[]
[]
[]
[]
[]
[]
[]
[]
[]
[]
[]
[]
[]
[]
[]
[]
[]
[]
["ディスクレパンシー分析"]
[null,null,null,"ＩＱ／群指数",null,"差",null,"有意水準"]
["言語性ＩＱ－動作性ＩＱ",null,null,null,null,{"$f":"D42-E42","v":0}]
["言語理解－知的統合",null,null,null,null,{"$f":"D43-E43","v":0}]
["言語理解－作動記憶",null,null,null,null,0]
["知覚統合－処理速度",null,null,null,null,0]
["言語理解－処理速度",null,null,null,null,0]
["知覚統合－作動記憶",null,null,null,null,0]
["作動記憶－処理速度",null,null,null,null,0]
[]
["検査所見"]

{"sheet":"【急性期】WMS-R","index":31,"n_rows":41,"n_cols":23,"rows_kept":41,"cut":false,"hidden":true,"merged":[[22,19,22,20],[8,2,8,5],[26,0,27,0],[26,1,27,1],[23,12,23,13],[23,14,23,15],[23,16,23,17],[23,2,23,3],[23,4,23,5],[23,6,23,7],[23,8,23,9],[14,2,14,5],[15,2,15,5],[16,2,16,5],[17,2,17,5],[13,2,13,5],[41,0,42,29],[28,0,29,0],[28,1,29,1],[30,0,31,0],[30,1,31,1],[32,0,33,0],[32,1,33,1],[35,21,35,24],[36,17,36,22],[23,26,23,27],[23,28,23,29],[24,0,25,0],[24,1,25,1],[23,19,23,20],[23,22,23,23],[23,24,23,25],[23,10,23,11],[7,2,7,5],[9,2,9,5],[10,2,10,5],[11,2,11,5],[12,2,12,5],[1,2,1,8],[4,0,4,1],[4,2,4,5],[5,2,5,5],[6,2,6,5],[1,0,1,1],[2,0,2,1],[2,2,2,8]]}
["WMS-R"]
["患者氏名：",null,{"$f":"IF(【急性期】入力シート!E3=\"\",\"\",【急性期】入力シート!E3)","v":""}]
["検査実施日："]
[]
["下位検査",null,"素点"]
["情報と見当識"]
["精神統制"]
["図形の記憶"]
["論理的記憶Ⅰ"]
["視覚性対連合Ⅰ"]
["言語性対連合Ⅰ"]
["視覚性再生Ⅰ"]
["数唱"]
["視覚性記憶範囲"]
["論理的記憶Ⅱ"]
["視覚性対検査Ⅱ"]
["言語性連合Ⅱ"]
["視覚性再生Ⅱ"]
[]
[]
[]
[]
[]
[null,"指標",0,null,null,null,null,null,null,null,null,null,50,null,null,null,null,null,null,85,null,null,100]
["言語性記憶"]
[]
["視覚性記憶"]
[]
["一般的記憶"]
[]
["注意集中力"]
[]
["遅延再生"]
[]
[]
[null,null,null,null,null,null,null,null,null,null,null,null,null,null,null,"指標",null,null,null,null,null,"平均値"]
[null,null,null,null,null,null,null,null,null,null,null,null,null,null,null,null,null,"標準偏差値下限"]
[]
[]
[]
["所見"]

{"sheet":"【回復期】WAIS-Ⅲ","index":32,"n_rows":50,"n_cols":17,"rows_kept":50,"cut":false,"hidden":true,"merged":[[5,0,5,1],[5,4,5,5],[1,0,1,1],[1,2,1,3],[2,0,2,1],[2,2,2,3],[4,4,4,5],[39,0,39,5],[6,0,6,1],[6,4,6,5],[7,0,7,1],[7,4,7,5],[8,4,8,5],[10,0,10,6],[10,8,10,14],[11,0,11,2],[11,4,11,6],[11,9,11,11],[11,12,11,13],[46,0,46,2],[47,0,47,2],[50,0,53,14],[40,3,40,4],[41,0,41,2],[42,0,42,2],[43,0,43,2],[44,0,44,2],[45,0,45,2]]}
["ＷＡＩＳ－Ⅲ成人知能検査"]
["患者氏名：",null,{"$f":"IF(【回復期】入力シート!E3=\"\",\"\",【回復期】入力シート!E3)","v":""},null,null,null,"→手入力"]
["検査実施日："]
[]
[null,null,"ＩＱ",null,"群指数\n（指標得点）",null,"標準得点",null,null,"言語性","動作性",{"$f":"A8","v":"全検査"},null,{"$f":"E6","v":"言語理解"},{"$f":"E7","v":"知覚統合"},{"$f":"E8","v":"作動記憶"},{"$f":"E9","v":"処理速度"}]
["言語性検査",null,null,null,"言語理解",null,null,null,null,{"$f":"C6","v":0},{"$f":"C7","v":0},{"$f":"C8","v":0},null,{"$f":"G6","v":0},{"$f":"G7","v":0},{"$f":"G8","v":0},{"$f":"G9","v":0}]
["動作性検査",null,null,null,"知覚統合"]
["全検査",null,null,null,"作動記憶"]
[null,null,null,null,"処理速度"]
[]
["言語性検査",null,null,null,null,null,null,null,"動作性検査"]
["言語理解",null,null,"　","作動記憶",null,null,null,"　","知覚統合",null,null,"処理速度",null,"　"]
["単語","類似","知識","理解","算数","数唱","語音",null,"配列","完成","積木","行列","符号","記号","組合"]
[]
[]
[]
[]
[]
[]
[]
[]
[]
[]
[]
[]
[]
[]
[]
[]
[]
[]
[]
[]
[]
[]
[]
[]
[]
[]
["ディスクレパンシー分析"]
[null,null,null,"ＩＱ／群指数",null,"差","有意水準"]
["言語性ＩＱ－動作性ＩＱ",null,null,null,null,{"$f":"D42-E42","v":0}]
["言語理解－知的統合",null,null,null,null,{"$f":"D43-E43","v":0}]
["言語理解－作動記憶",null,null,null,null,0]
["知覚統合－処理速度",null,null,null,null,0]
["言語理解－処理速度",null,null,null,null,0]
["知覚統合－作動記憶",null,null,null,null,0]
["作動記憶－処理速度",null,null,null,null,0]
[]
["検査所見"]

{"sheet":"【回復期】WISC-Ⅲ","index":33,"n_rows":49,"n_cols":17,"rows_kept":49,"cut":false,"hidden":true,"merged":[[5,0,5,1],[5,4,5,5],[1,0,1,1],[1,2,1,3],[2,0,2,1],[2,2,2,3],[4,4,4,5],[42,0,42,2],[6,0,6,1],[6,4,6,5],[7,0,7,1],[7,4,7,5],[8,4,8,5],[10,0,10,5],[10,7,10,13],[38,0,38,5],[39,3,39,4],[40,0,40,2],[41,0,41,2],[43,0,43,2],[44,0,44,2],[45,0,45,2],[46,0,46,2],[49,0,52,14]]}
["ＷISC－Ⅲ"]
["患者氏名：",null,{"$f":"IF(【回復期】入力シート!E3=\"\",\"\",【回復期】入力シート!E3)","v":""},null,null,null,"→手入力"]
["検査実施日："]
[]
[null,null,"ＩＱ",null,"群指数\n（指標得点）",null,"標準得点",null,null,"言語性","動作性",{"$f":"A8","v":"全検査"},null,{"$f":"E6","v":"言語理解"},{"$f":"E7","v":"知覚統合"},{"$f":"E8","v":"作動記憶"},{"$f":"E9","v":"処理速度"}]
["言語性検査",null,null,null,"言語理解",null,null,null,null,{"$f":"C6","v":0},{"$f":"C7","v":0},{"$f":"C8","v":0},null,{"$f":"G6","v":0},{"$f":"G7","v":0},{"$f":"G8","v":0},{"$f":"G9","v":0}]
["動作性検査",null,null,null,"知覚統合"]
["全検査",null,null,null,"作動記憶"]
[null,null,null,null,"処理速度"]
[]
["言語性検査",null,null,null,null,null,null,"動作性検査"]
["知識","類似","算数","単語","理解","数唱",null,"完成","符号","配列","積木","組合","記号","迷路"]
[]
[]
[]
[]
[]
[]
[]
[]
[]
[]
[]
[]
[]
[]
[]
[]
[]
[]
[]
[]
[]
[]
[]
[]
[]
[]
["ディスクレパンシー分析"]
[null,null,null,"ＩＱ／群指数",null,"差","有意水準"]
["言語性ＩＱ－動作性ＩＱ",null,null,null,null,{"$f":"D41-E41","v":0}]
["言語理解－知的統合",null,null,null,null,{"$f":"D42-E42","v":0}]
["言語理解－作動記憶",null,null,null,null,0]
["知覚統合－処理速度",null,null,null,null,0]
["言語理解－処理速度",null,null,null,null,0]
["知覚統合－作動記憶",null,null,null,null,0]
["作動記憶－処理速度",null,null,null,null,0]
[]
["検査所見"]

{"sheet":"【回復期】WISC-Ⅳ","index":34,"n_rows":51,"n_cols":18,"rows_kept":51,"cut":false,"hidden":true,"merged":[[5,0,5,1],[1,0,1,1],[1,2,1,4],[2,0,2,1],[2,2,2,4],[4,0,4,1],[6,0,6,1],[7,0,7,1],[8,0,8,1],[9,0,9,1],[11,0,11,4],[11,11,11,13],[11,15,11,17],[39,0,39,5],[40,3,40,4],[40,5,40,6],[40,7,40,8],[11,6,11,9],[41,0,41,2],[41,5,41,6],[41,7,41,8],[42,0,42,2],[42,5,42,6],[42,7,42,8],[43,0,43,2],[43,5,43,6],[43,7,43,8],[44,0,44,2],[44,5,44,6],[44,7,44,8],[47,0,47,2],[47,5,47,6],[47,7,47,8],[50,0,53,17],[45,0,45,2],[45,5,45,6],[45,7,45,8],[46,0,46,2],[46,5,46,6],[46,7,46,8]]}
["ＷISC－Ⅳ"]
["患者氏名：",null,{"$f":"IF(【回復期】入力シート!E3=\"\",\"\",【回復期】入力シート!E3)","v":""},null,null,null,null,"→手入力"]
["検査実施日："]
[]
["合成得点",null,"ＩＱ"]
["FSIQ"]
["VCI"]
["PRI"]
["WMI"]
["PSI"]
[]
["言語理解（VCI)",null,null,null,null,null,"知覚推理（PRI）",null,null,null,null,"ワーキングメモリー（WMI）",null,null,null,"処理速度（PSI）"]
["類似","単語","理解","知識","語の推理",null,"積木","絵の概念","行列推理","絵の完成",null,"数唱","語音整列","算数",null,"符号","記号","絵の抹消"]
[]
[]
[]
[]
[]
[]
[]
[]
[]
[]
[]
[]
[]
[]
[]
[]
[]
[]
[]
[]
[]
[]
[]
[]
[]
[]
["ディスクレパンシー分析"]
[null,null,null,"ＩＱ／群指数",null,"差",null,"有意水準"]
["言語性ＩＱ－動作性ＩＱ",null,null,null,null,{"$f":"D42-E42","v":0}]
["言語理解－知的統合",null,null,null,null,{"$f":"D43-E43","v":0}]
["言語理解－作動記憶",null,null,null,null,0]
["知覚統合－処理速度",null,null,null,null,0]
["言語理解－処理速度",null,null,null,null,0]
["知覚統合－作動記憶",null,null,null,null,0]
["作動記憶－処理速度",null,null,null,null,0]
[]
["検査所見"]
["RTR"]

{"sheet":"【回復期】WMS-R","index":35,"n_rows":41,"n_cols":23,"rows_kept":41,"cut":false,"hidden":true,"merged":[[1,0,1,1],[1,2,1,8],[2,0,2,1],[2,2,2,8],[4,0,4,1],[4,2,4,5],[16,2,16,5],[5,2,5,5],[6,2,6,5],[7,2,7,5],[8,2,8,5],[9,2,9,5],[10,2,10,5],[11,2,11,5],[12,2,12,5],[13,2,13,5],[14,2,14,5],[15,2,15,5],[17,2,17,5],[22,19,22,20],[23,2,23,3],[23,4,23,5],[23,6,23,7],[23,8,23,9],[23,10,23,11],[23,12,23,13],[23,14,23,15],[23,16,23,17],[23,19,23,20],[23,22,23,23],[23,24,23,25],[23,26,23,27],[23,28,23,29],[26,0,27,0],[26,1,27,1],[24,0,25,0],[24,1,25,1],[35,21,35,24],[36,17,36,22],[41,0,42,29],[28,0,29,0],[28,1,29,1],[30,0,31,0],[30,1,31,1],[32,0,33,0],[32,1,33,1]]}
["WMS-R"]
["患者氏名：",null,{"$f":"IF(【回復期】入力シート!E3=\"\",\"\",【回復期】入力シート!E3)","v":""}]
["検査実施日："]
[]
["下位検査",null,"素点"]
["情報と見当識"]
["精神統制"]
["図形の記憶"]
["論理的記憶Ⅰ"]
["視覚性対連合Ⅰ"]
["言語性対連合Ⅰ"]
["視覚性再生Ⅰ"]
["数唱"]
["視覚性記憶範囲"]
["論理的記憶Ⅱ"]
["視覚性対検査Ⅱ"]
["言語性連合Ⅱ"]
["視覚性再生Ⅱ"]
[]
[]
[]
[]
[]
[null,"指標",0,null,null,null,null,null,null,null,null,null,50,null,null,null,null,null,null,85,null,null,100]
["言語性記憶"]
[]
["視覚性記憶"]
[]
["一般的記憶"]
[]
["注意集中力"]
[]
["遅延再生"]
[]
[]
[null,null,null,null,null,null,null,null,null,null,null,null,null,null,null,"指標",null,null,null,null,null,"平均値"]
[null,null,null,null,null,null,null,null,null,null,null,null,null,null,null,null,null,"標準偏差値下限"]
[]
[]
[]
["所見"]

{"sheet":"【維持期】WAIS-Ⅲ","index":36,"n_rows":50,"n_cols":17,"rows_kept":50,"cut":false,"hidden":true,"merged":[[5,0,5,1],[5,4,5,5],[1,0,1,1],[1,2,1,3],[2,0,2,1],[2,2,2,3],[4,4,4,5],[39,0,39,5],[6,0,6,1],[6,4,6,5],[7,0,7,1],[7,4,7,5],[8,4,8,5],[10,0,10,6],[10,8,10,14],[11,0,11,2],[11,4,11,6],[11,9,11,11],[11,12,11,13],[46,0,46,2],[47,0,47,2],[50,0,53,14],[40,3,40,4],[41,0,41,2],[42,0,42,2],[43,0,43,2],[44,0,44,2],[45,0,45,2]]}
["ＷＡＩＳ－Ⅲ成人知能検査"]
["患者氏名：",null,{"$f":"IF(【維持期】入力シート!E4=\"\",\"\",【維持期】入力シート!E4)","v":""},null,null,null,"→手入力"]
["検査実施日："]
[]
[null,null,"ＩＱ",null,"群指数\n（指標得点）",null,"標準得点",null,null,"言語性","動作性",{"$f":"A8","v":"全検査"},null,{"$f":"E6","v":"言語理解"},{"$f":"E7","v":"知覚統合"},{"$f":"E8","v":"作動記憶"},{"$f":"E9","v":"処理速度"}]
["言語性検査",null,null,null,"言語理解",null,null,null,null,{"$f":"C6","v":0},{"$f":"C7","v":0},{"$f":"C8","v":0},null,{"$f":"G6","v":0},{"$f":"G7","v":0},{"$f":"G8","v":0},{"$f":"G9","v":0}]
["動作性検査",null,null,null,"知覚統合"]
["全検査",null,null,null,"作動記憶"]
[null,null,null,null,"処理速度"]
[]
["言語性検査",null,null,null,null,null,null,null,"動作性検査"]
["言語理解",null,null,"　","作動記憶",null,null,null,"　","知覚統合",null,null,"処理速度",null,"　"]
["単語","類似","知識","理解","算数","数唱","語音",null,"配列","完成","積木","行列","符号","記号","組合"]
[]
[]
[]
[]
[]
[]
[]
[]
[]
[]
[]
[]
[]
[]
[]
[]
[]
[]
[]
[]
[]
[]
[]
[]
[]
[]
["ディスクレパンシー分析"]
[null,null,null,"ＩＱ／群指数",null,"差","有意水準"]
["言語性ＩＱ－動作性ＩＱ",null,null,null,null,{"$f":"D42-E42","v":0}]
["言語理解－知的統合",null,null,null,null,{"$f":"D43-E43","v":0}]
["言語理解－作動記憶",null,null,null,null,0]
["知覚統合－処理速度",null,null,null,null,0]
["言語理解－処理速度",null,null,null,null,0]
["知覚統合－作動記憶",null,null,null,null,0]
["作動記憶－処理速度",null,null,null,null,0]
[]
["検査所見"]

{"sheet":"【維持期】WISC-Ⅲ","index":37,"n_rows":49,"n_cols":17,"rows_kept":49,"cut":false,"hidden":true,"merged":[[5,0,5,1],[5,4,5,5],[1,0,1,1],[1,2,1,3],[2,0,2,1],[2,2,2,3],[4,4,4,5],[42,0,42,2],[6,0,6,1],[6,4,6,5],[7,0,7,1],[7,4,7,5],[8,4,8,5],[10,0,10,5],[10,7,10,13],[38,0,38,5],[39,3,39,4],[40,0,40,2],[41,0,41,2],[43,0,43,2],[44,0,44,2],[45,0,45,2],[46,0,46,2],[49,0,52,14]]}
["ＷISC－Ⅲ"]
["患者氏名：",null,{"$f":"IF(【維持期】入力シート!E4=\"\",\"\",【維持期】入力シート!E4)","v":""},null,null,null,"→手入力"]
["検査実施日："]
[]
[null,null,"ＩＱ",null,"群指数\n（指標得点）",null,"標準得点",null,null,"言語性","動作性",{"$f":"A8","v":"全検査"},null,{"$f":"E6","v":"言語理解"},{"$f":"E7","v":"知覚統合"},{"$f":"E8","v":"作動記憶"},{"$f":"E9","v":"処理速度"}]
["言語性検査",null,null,null,"言語理解",null,null,null,null,{"$f":"C6","v":0},{"$f":"C7","v":0},{"$f":"C8","v":0},null,{"$f":"G6","v":0},{"$f":"G7","v":0},{"$f":"G8","v":0},{"$f":"G9","v":0}]
["動作性検査",null,null,null,"知覚統合"]
["全検査",null,null,null,"作動記憶"]
[null,null,null,null,"処理速度"]
[]
["言語性検査",null,null,null,null,null,null,"動作性検査"]
["知識","類似","算数","単語","理解","数唱",null,"完成","符号","配列","積木","組合","記号","迷路"]
[]
[]
[]
[]
[]
[]
[]
[]
[]
[]
[]
[]
[]
[]
[]
[]
[]
[]
[]
[]
[]
[]
[]
[]
[]
[]
["ディスクレパンシー分析"]
[null,null,null,"ＩＱ／群指数",null,"差","有意水準"]
["言語性ＩＱ－動作性ＩＱ",null,null,null,null,{"$f":"D41-E41","v":0}]
["言語理解－知的統合",null,null,null,null,{"$f":"D42-E42","v":0}]
["言語理解－作動記憶",null,null,null,null,0]
["知覚統合－処理速度",null,null,null,null,0]
["言語理解－処理速度",null,null,null,null,0]
["知覚統合－作動記憶",null,null,null,null,0]
["作動記憶－処理速度",null,null,null,null,0]
[]
["検査所見"]

{"sheet":"【維持期】WISC-Ⅳ","index":38,"n_rows":50,"n_cols":18,"rows_kept":50,"cut":false,"hidden":true,"merged":[[5,0,5,1],[1,0,1,1],[1,2,1,4],[2,0,2,1],[2,2,2,4],[4,0,4,1],[6,0,6,1],[7,0,7,1],[8,0,8,1],[9,0,9,1],[11,0,11,4],[11,11,11,13],[11,15,11,17],[39,0,39,5],[40,3,40,4],[40,5,40,6],[40,7,40,8],[11,6,11,9],[41,0,41,2],[41,5,41,6],[41,7,41,8],[42,0,42,2],[42,5,42,6],[42,7,42,8],[43,0,43,2],[43,5,43,6],[43,7,43,8],[44,0,44,2],[44,5,44,6],[44,7,44,8],[47,0,47,2],[47,5,47,6],[47,7,47,8],[50,0,53,17],[45,0,45,2],[45,5,45,6],[45,7,45,8],[46,0,46,2],[46,5,46,6],[46,7,46,8]]}
["ＷISC－Ⅳ"]
["患者氏名：",null,{"$f":"IF(【維持期】入力シート!E4=\"\",\"\",【維持期】入力シート!E4)","v":""},null,null,null,null,"→手入力"]
["検査実施日："]
[]
["合成得点",null,"ＩＱ"]
["FSIQ"]
["VCI"]
["PRI"]
["WMI"]
["PSI"]
[]
["言語理解（VCI)",null,null,null,null,null,"知覚推理（PRI）",null,null,null,null,"ワーキングメモリー（WMI）",null,null,null,"処理速度（PSI）"]
["類似","単語","理解","知識","語の推理",null,"積木","絵の概念","行列推理","絵の完成",null,"数唱","語音整列","算数",null,"符号","記号","絵の抹消"]
[]
[]
[]
[]
[]
[]
[]
[]
[]
[]
[]
[]
[]
[]
[]
[]
[]
[]
[]
[]
[]
[]
[]
[]
[]
[]
["ディスクレパンシー分析"]
[null,null,null,"ＩＱ／群指数",null,"差",null,"有意水準"]
["言語性ＩＱ－動作性ＩＱ",null,null,null,null,{"$f":"D42-E42","v":0}]
["言語理解－知的統合",null,null,null,null,{"$f":"D43-E43","v":0}]
["言語理解－作動記憶",null,null,null,null,0]
["知覚統合－処理速度",null,null,null,null,0]
["言語理解－処理速度",null,null,null,null,0]
["知覚統合－作動記憶",null,null,null,null,0]
["作動記憶－処理速度",null,null,null,null,0]
[]
["検査所見"]

{"sheet":"【維持期】WMS-R","index":39,"n_rows":41,"n_cols":23,"rows_kept":41,"cut":false,"hidden":true,"merged":[[1,0,1,1],[1,2,1,8],[2,0,2,1],[2,2,2,8],[4,0,4,1],[4,2,4,5],[16,2,16,5],[5,2,5,5],[6,2,6,5],[7,2,7,5],[8,2,8,5],[9,2,9,5],[10,2,10,5],[11,2,11,5],[12,2,12,5],[13,2,13,5],[14,2,14,5],[15,2,15,5],[17,2,17,5],[22,19,22,20],[23,2,23,3],[23,4,23,5],[23,6,23,7],[23,8,23,9],[23,10,23,11],[23,12,23,13],[23,14,23,15],[23,16,23,17],[23,19,23,20],[23,22,23,23],[23,24,23,25],[23,26,23,27],[23,28,23,29],[26,0,27,0],[26,1,27,1],[24,0,25,0],[24,1,25,1],[35,21,35,24],[36,17,36,22],[41,0,42,29],[28,0,29,0],[28,1,29,1],[30,0,31,0],[30,1,31,1],[32,0,33,0],[32,1,33,1]]}
["WMS-R"]
["患者氏名：",null,{"$f":"IF(【維持期】入力シート!E4=\"\",\"\",【維持期】入力シート!E4)","v":""}]
["検査実施日："]
[]
["下位検査",null,"素点"]
["情報と見当識"]
["精神統制"]
["図形の記憶"]
["論理的記憶Ⅰ"]
["視覚性対連合Ⅰ"]
["言語性対連合Ⅰ"]
["視覚性再生Ⅰ"]
["数唱"]
["視覚性記憶範囲"]
["論理的記憶Ⅱ"]
["視覚性対検査Ⅱ"]
["言語性連合Ⅱ"]
["視覚性再生Ⅱ"]
[]
[]
[]
[]
[]
[null,"指標",0,null,null,null,null,null,null,null,null,null,50,null,null,null,null,null,null,85,null,null,100]
["言語性記憶"]
[]
["視覚性記憶"]
[]
["一般的記憶"]
[]
["注意集中力"]
[]
["遅延再生"]
[]
[]
[null,null,null,null,null,null,null,null,null,null,null,null,null,null,null,"指標",null,null,null,null,null,"平均値"]
[null,null,null,null,null,null,null,null,null,null,null,null,null,null,null,null,null,"標準偏差値下限"]
[]
[]
[]
["所見"]

{"sheet":"【急性期】HDS-R","index":40,"n_rows":41,"n_cols":9,"rows_kept":41,"cut":false,"hidden":true,"merged":[[28,2,28,3]]}
[]
["簡易長谷川式認知機能評価スケール"]
[]
[]
[null,"№","質問内容",null,"選択欄","ワーク","点数",null,"入力チェック"]
[null,1,"お歳はいくつですか？2年までの誤差は正解",null,null,null,{"$f":"IF(F6=0,\"\",F6-1)","v":""},null,{"$f":"IF(F6=0,1,0)","v":1}]
[null,2,"今日は何年の何月何日ですか？　何曜日ですか？","年",null,null,{"$f":"IF(F7=0,\"\",F7-1)","v":""},null,{"$f":"IF(F7=0,1,0)","v":1}]
[null,null,null,"月",null,null,{"$f":"IF(F8=0,\"\",F8-1)","v":""},null,{"$f":"IF(F8=0,1,0)","v":1}]
[null,null,null,"日",null,null,{"$f":"IF(F9=0,\"\",F9-1)","v":""},null,{"$f":"IF(F9=0,1,0)","v":1}]
[null,null,null,"曜日",null,null,{"$f":"IF(F10=0,\"\",F10-1)","v":""},null,{"$f":"IF(F10=0,1,0)","v":1}]
[null,3,"私たちが今いるところはどこですか？"]
[null,null,"(自発的にでれば2 点，5 秒おいて家ですか? 病院ですか? 施設ですか?",null,null,null,{"$f":"IF(F12=0,\"\",F12-1)","v":""},null,{"$f":"IF(F12=0,1,0)","v":1}]
[null,null,"のなかから正しい選択をすれば1 点)"]
[null,4,"これから言う3 つの言葉を言ってみてください．あとでまた聞きますのでよ"]
[null,null,"く覚えておいてください．"]
[null,null,"以下の系列のいずれか1つで、採用した系列に印をしておく。","a",null,null,{"$f":"IF(F16=0,\"\",F16-1)","v":""},null,{"$f":"IF(F16=0,1,0)","v":1}]
[null,null,"　　　　　　　　a)桜　　　b)猫　　　c)電車","b",null,null,{"$f":"IF(F17=0,\"\",F17-1)","v":""},null,{"$f":"IF(F17=0,1,0)","v":1}]
[null,null,"　　　　　　　　a)梅　　　b)犬　　　c)自動車","c",null,null,{"$f":"IF(F18=0,\"\",F18-1)","v":""},null,{"$f":"IF(F18=0,1,0)","v":1}]
[null,5,"100から7を順番に引いてください。（aに正解のときのみbも行う)"]
[null,null,"   a)　100―7は？","(93)",null,null,{"$f":"IF(F20=0,\"\",F20-1)","v":""},null,{"$f":"IF(F20=0,1,0)","v":1}]
[null,null,"   b)　それから7を引くと？","(86)",null,null,{"$f":"IF(F21=0,\"\",F21-1)","v":""},null,{"$f":"IF(F21=0,1,0)","v":1}]
[null,6,"これから言う数字を逆から言ってください。（aに正解のときのみbも行う)"]
[null,null,"　　a)　６―８―２","（２－８－６）",null,null,{"$f":"IF(F23=0,\"\",F23-1)","v":""},null,{"$f":"IF(F23=0,1,0)","v":1}]
[null,null,"　　b)　３―５―２―９","（９－２－５－３）",null,null,{"$f":"IF(F24=0,\"\",F24-1)","v":""},null,{"$f":"IF(F24=0,1,0)","v":1}]
[null,7,"先ほど覚えてもらった言葉（問４の３つの言葉）をもう一度言ってみてください。",{"$f":"IF(H25=1,\"系列1\",IF(H25=2,\"系列2\",\"\"))","v":""}]
[null,null,"　正答がでなかった言葉にはヒントを与える",{"$f":"IF(H25=1,\"a)桜\",IF(H25=2,\"a)梅\",\"\"))","v":""},null,null,{"$f":"IF(F26=0,\"\",F26-1)","v":""},null,{"$f":"IF(F26=0,1,0)","v":1}]
[null,null,"　ヒント　a) 植物　b) 動物　c) 乗り物　",{"$f":"IF(H25=1,\"b)猫\",IF(H25=2,\"b)犬\",\"\"))","v":""},null,null,{"$f":"IF(F27=0,\"\",F27-1)","v":""},null,{"$f":"IF(F27=0,1,0)","v":1}]
[null,null,{"$f":"\"  答え  \"&IF(H25=1,\"系列1  a)桜　　　b)猫　　　c)電車\",IF(H25=2,\"系列2  a)梅　　　b)犬　　　c)自動車\",\"\"))","v":"  答え  "},{"$f":"IF(H25=1,\"c)電車\",IF(H25=2,\"c)自動車\",\"\"))","v":""},null,null,{"$f":"IF(F28=0,\"\",F28-1)","v":""},null,{"$f":"IF(F28=0,1,0)","v":1}]
[null,8,"これから５つの品物を見せます。それを隠しますので何があったか言って下さい。 ",null,null,null,{"$f":"IF(F29<>\"\",LOOKUP(F29,{0,1,2,3,4,5,6},{\"\",5,4,3,2,1,0}),\"\")","v":""},null,{"$f":"IF(F29=0,1,0)","v":1}]
[null,null,"　１つずつ名前を言いながら並べ覚えさせる。次に隠す。"]
[null,null,"　時計、くし、はさみ、タバコ、ペンなど必ず相互に無関係なものを使う。"]
[null,null,"　１つ正答するごとに１点"]
[]
[]
[null,9,"知っている野菜の名前をできるだけ多く言ってください。",null,null,null,{"$f":"IF(F35<>\"\",LOOKUP(F35,{0,1,2,3,4,5,6},{\"\",5,4,3,2,1,0}),\"\")","v":""},null,{"$f":"IF(F35=0,1,0)","v":1}]
[]
[]
[]
[]
[]
[null,null,null,null,"合計",null,{"$f":"SUM(G6:G37)","v":0},null,{"$f":"SUM(I6:I40)","v":18}]

{"sheet":"【回復期】HDS-R","index":41,"n_rows":41,"n_cols":9,"rows_kept":41,"cut":false,"hidden":true,"merged":[[28,2,28,3]]}
[]
["簡易長谷川式認知機能評価スケール"]
[]
[]
[null,"№","質問内容",null,"選択欄","ワーク","点数",null,"入力チェック"]
[null,1,"お歳はいくつですか？2年までの誤差は正解",null,null,null,{"$f":"IF(F6=0,\"\",F6-1)","v":""},null,{"$f":"IF(F6=0,1,0)","v":1}]
[null,2,"今日は何年の何月何日ですか？　何曜日ですか？","年",null,null,{"$f":"IF(F7=0,\"\",F7-1)","v":""},null,{"$f":"IF(F7=0,1,0)","v":1}]
[null,null,null,"月",null,null,{"$f":"IF(F8=0,\"\",F8-1)","v":""},null,{"$f":"IF(F8=0,1,0)","v":1}]
[null,null,null,"日",null,null,{"$f":"IF(F9=0,\"\",F9-1)","v":""},null,{"$f":"IF(F9=0,1,0)","v":1}]
[null,null,null,"曜日",null,null,{"$f":"IF(F10=0,\"\",F10-1)","v":""},null,{"$f":"IF(F10=0,1,0)","v":1}]
[null,3,"私たちが今いるところはどこですか？"]
[null,null,"(自発的にでれば2 点，5 秒おいて家ですか? 病院ですか? 施設ですか?",null,null,null,{"$f":"IF(F12=0,\"\",F12-1)","v":""},null,{"$f":"IF(F12=0,1,0)","v":1}]
[null,null,"のなかから正しい選択をすれば1 点)"]
[null,4,"これから言う3 つの言葉を言ってみてください．あとでまた聞きますのでよ"]
[null,null,"く覚えておいてください．"]
[null,null,"以下の系列のいずれか1つで、採用した系列に印をしておく。","a",null,null,{"$f":"IF(F16=0,\"\",F16-1)","v":""},null,{"$f":"IF(F16=0,1,0)","v":1}]
[null,null,"　　　　　　　　a)桜　　　b)猫　　　c)電車","b",null,null,{"$f":"IF(F17=0,\"\",F17-1)","v":""},null,{"$f":"IF(F17=0,1,0)","v":1}]
[null,null,"　　　　　　　　a)梅　　　b)犬　　　c)自動車","c",null,null,{"$f":"IF(F18=0,\"\",F18-1)","v":""},null,{"$f":"IF(F18=0,1,0)","v":1}]
[null,5,"100から7を順番に引いてください。（aに正解のときのみbも行う)"]
[null,null,"   a)　100―7は？","(93)",null,null,{"$f":"IF(F20=0,\"\",F20-1)","v":""},null,{"$f":"IF(F20=0,1,0)","v":1}]
[null,null,"   b)　それから7を引くと？","(86)",null,null,{"$f":"IF(F21=0,\"\",F21-1)","v":""},null,{"$f":"IF(F21=0,1,0)","v":1}]
[null,6,"これから言う数字を逆から言ってください。（aに正解のときのみbも行う)"]
[null,null,"　　a)　６―８―２","（２－８－６）",null,null,{"$f":"IF(F23=0,\"\",F23-1)","v":""},null,{"$f":"IF(F23=0,1,0)","v":1}]
[null,null,"　　b)　３―５―２―９","（９－２－５－３）",null,null,{"$f":"IF(F24=0,\"\",F24-1)","v":""},null,{"$f":"IF(F24=0,1,0)","v":1}]
[null,7,"先ほど覚えてもらった言葉（問４の３つの言葉）をもう一度言ってみてください。",{"$f":"IF(H25=1,\"系列1\",IF(H25=2,\"系列2\",\"\"))","v":""}]
[null,null,"　正答がでなかった言葉にはヒントを与える",{"$f":"IF(H25=1,\"a)桜\",IF(H25=2,\"a)梅\",\"\"))","v":""},null,null,{"$f":"IF(F26=0,\"\",F26-1)","v":""},null,{"$f":"IF(F26=0,1,0)","v":1}]
[null,null,"　ヒント　a) 植物　b) 動物　c) 乗り物　",{"$f":"IF(H25=1,\"b)猫\",IF(H25=2,\"b)犬\",\"\"))","v":""},null,null,{"$f":"IF(F27=0,\"\",F27-1)","v":""},null,{"$f":"IF(F27=0,1,0)","v":1}]
[null,null,{"$f":"\"  答え  \"&IF(H25=1,\"系列1  a)桜　　　b)猫　　　c)電車\",IF(H25=2,\"系列2  a)梅　　　b)犬　　　c)自動車\",\"\"))","v":"  答え  "},{"$f":"IF(H25=1,\"c)電車\",IF(H25=2,\"c)自動車\",\"\"))","v":""},null,null,{"$f":"IF(F28=0,\"\",F28-1)","v":""},null,{"$f":"IF(F28=0,1,0)","v":1}]
[null,8,"これから５つの品物を見せます。それを隠しますので何があったか言って下さい。 ",null,null,null,{"$f":"IF(F29<>\"\",LOOKUP(F29,{0,1,2,3,4,5,6},{\"\",5,4,3,2,1,0}),\"\")","v":""},null,{"$f":"IF(F29=0,1,0)","v":1}]
[null,null,"　１つずつ名前を言いながら並べ覚えさせる。次に隠す。"]
[null,null,"　時計、くし、はさみ、タバコ、ペンなど必ず相互に無関係なものを使う。"]
[null,null,"　１つ正答するごとに１点"]
[]
[]
[null,9,"知っている野菜の名前をできるだけ多く言ってください。",null,null,null,{"$f":"IF(F35<>\"\",LOOKUP(F35,{0,1,2,3,4,5,6},{\"\",5,4,3,2,1,0}),\"\")","v":""},null,{"$f":"IF(F35=0,1,0)","v":1}]
[]
[]
[]
[]
[]
[null,null,null,null,"合計",null,{"$f":"SUM(G6:G37)","v":0},null,{"$f":"SUM(I6:I40)","v":18}]

{"sheet":"【急性期】MMSE","index":42,"n_rows":53,"n_cols":8,"rows_kept":53,"cut":false,"hidden":true,"merged":[[4,2,4,3]]}
[]
["ＭＭＳＥ（Mini-Mental State Examination）"]
[]
[]
[null,"№","質問内容",null,"選択欄","ワーク","点数","入力チェック"]
[null,"日時（5点） ","今年は何年ですか。 ","年",null,null,{"$f":"IF(F6=0,\"\",F6-1)","v":""},{"$f":"IF(F6=0,1,0)","v":1}]
[null,null,"いまの季節は何ですか。 ","季節",null,null,"",{"$f":"IF(F7=0,1,0)","v":1}]
[null,null,"今日は何曜日ですか。 ","曜日",null,null,"",1]
[null,null,"今日は何月何日ですか。 ","月",null,null,"",1]
[null,null,null,"日",null,null,"",1]
[null,"現在地（5点） ","ここは何地方ですか。 ","地方",null,null,"",1]
[null,null,"ここは何県ですか。 ","県",null,null,"",1]
[null,null,"ここは何市ですか。 ","市",null,null,"",1]
[null,null,"ここは何病院ですか。 ","病院",null,null,"",1]
[null,null,"ここは何階ですか。 ","階",null,null,"",1]
[null,"記憶（3点） ","相互に無関係な物品名を3個聞かせ、それをそのまま復唱させる。","a",null,null,"",1]
[null,null,"1個答えられるごとに1点。すべて言えなければ6回まで繰り返す。 ","b",null,null,"",1]
[null,null,"a)桜　　　b)猫　　　c)電車","c",null,null,"",1]
[null,null,"a)梅　　　b)犬　　　c)自動車"]
[null,"7シリーズ（5点） ","100から順に7を引いていく。5回できれば5点。間違えた時点で打ち切り。 ","１回目：93",null,null,{"$f":"IF(F20=0,\"\",F20-1)","v":""},1]
[null,null,"あるいは「フジノヤマ」を逆唱させる。 　 　 ","２回目：86",null,null,"",1]
[null,null,null,"３回目：79",null,null,"",1]
[null,null,null,"４回目：72",null,null,"",1]
[null,null,null,"５回目：65",null,null,"",1]
[null,"想起（3点） ","3で示した物品名を再度復唱させる。 　 　 ","a",null,null,"",1]
[null,null,null,"b",null,null,"",1]
[null,null,null,"c",null,null,"",1]
[null,"呼称（2点） ","（時計を見せながら） これは何ですか",null,null,null,"",1]
[null,null,"（鉛筆を見せながら） これは何ですか",null,null,null,"",1]
[null,"読字（1点） ","次の文章を繰り返す"]
[null,null,"「みんなで，力を合わせて綱を引きます」",null,null,null,{"$f":"IF(F31=0,\"\",F31-1)","v":""},1]
[]
[null,"言語理解（3点） ","次の3つの命令を口頭で伝え、すべて聞き終わってから実行する "]
[null,null,"「右手にこの紙を持ってください」 ",null,null,null,{"$f":"IF(F34=0,\"\",F34-1)","v":""},1]
[null,null,"「それを半分に折りたたんでください」 ",null,null,null,{"$f":"IF(F35=0,\"\",F35-1)","v":""},1]
[null,null,"「机の上に置いてください」 　 　 ",null,null,null,{"$f":"IF(F36=0,\"\",F36-1)","v":""},1]
[]
[null,"文章理解（1点） ","次の文章を読んで実行する。"]
[null,null,"「目を閉じてください。」",null,null,null,{"$f":"IF(F39=0,\"\",F39-1)","v":""},1]
[]
[null,"文章構成（1点） ","何か文章を書いてください。 ",null,null,null,{"$f":"IF(F41=0,\"\",F41-1)","v":""},1]
[]
[null,"図形把握（1点） ","次の図形を書き写してください。 ",null,null,null,{"$f":"IF(F43=0,\"\",F43-1)","v":""},1]
[]
[]
[]
[]
[]
[]
[]
[]
[]
[null,null,null,null,"合計",null,{"$f":"SUM(G6:G52)","v":0},{"$f":"SUM(H6:H52)","v":30}]

{"sheet":"【回復期】MMSE","index":43,"n_rows":53,"n_cols":8,"rows_kept":53,"cut":false,"hidden":true,"merged":[[4,2,4,3]]}
[]
["ＭＭＳＥ（Mini-Mental State Examination）"]
[]
[]
[null,"№","質問内容",null,"選択欄","ワーク","点数","入力チェック"]
[null,"日時（5点） ","今年は何年ですか。 ","年",null,null,{"$f":"IF(F6=0,\"\",F6-1)","v":""},{"$f":"IF(F6=0,1,0)","v":1}]
[null,null,"いまの季節は何ですか。 ","季節",null,null,"",{"$f":"IF(F7=0,1,0)","v":1}]
[null,null,"今日は何曜日ですか。 ","曜日",null,null,"",1]
[null,null,"今日は何月何日ですか。 ","月",null,null,"",1]
[null,null,null,"日",null,null,"",1]
[null,"現在地（5点） ","ここは何地方ですか。 ","地方",null,null,"",1]
[null,null,"ここは何県ですか。 ","県",null,null,"",1]
[null,null,"ここは何市ですか。 ","市",null,null,"",1]
[null,null,"ここは何病院ですか。 ","病院",null,null,"",1]
[null,null,"ここは何階ですか。 ","階",null,null,"",1]
[null,"記憶（3点） ","相互に無関係な物品名を3個聞かせ、それをそのまま復唱させる。","a",null,null,"",1]
[null,null,"1個答えられるごとに1点。すべて言えなければ6回まで繰り返す。 ","b",null,null,"",1]
[null,null,"a)桜　　　b)猫　　　c)電車","c",null,null,"",1]
[null,null,"a)梅　　　b)犬　　　c)自動車"]
[null,"7シリーズ（5点） ","100から順に7を引いていく。5回できれば5点。間違えた時点で打ち切り。 ","１回目：93",null,null,{"$f":"IF(F20=0,\"\",F20-1)","v":""},1]
[null,null,"あるいは「フジノヤマ」を逆唱させる。 　 　 ","２回目：86",null,null,"",1]
[null,null,null,"３回目：79",null,null,"",1]
[null,null,null,"４回目：72",null,null,"",1]
[null,null,null,"５回目：65",null,null,"",1]
[null,"想起（3点） ","3で示した物品名を再度復唱させる。 　 　 ","a",null,null,"",1]
[null,null,null,"b",null,null,"",1]
[null,null,null,"c",null,null,"",1]
[null,"呼称（2点） ","（時計を見せながら） これは何ですか",null,null,null,"",1]
[null,null,"（鉛筆を見せながら） これは何ですか",null,null,null,"",1]
[null,"読字（1点） ","次の文章を繰り返す"]
[null,null,"「みんなで，力を合わせて綱を引きます」",null,null,null,{"$f":"IF(F31=0,\"\",F31-1)","v":""},1]
[]
[null,"言語理解（3点） ","次の3つの命令を口頭で伝え、すべて聞き終わってから実行する "]
[null,null,"「右手にこの紙を持ってください」 ",null,null,null,{"$f":"IF(F34=0,\"\",F34-1)","v":""},1]
[null,null,"「それを半分に折りたたんでください」 ",null,null,null,{"$f":"IF(F35=0,\"\",F35-1)","v":""},1]
[null,null,"「机の上に置いてください」 　 　 ",null,null,null,{"$f":"IF(F36=0,\"\",F36-1)","v":""},1]
[]
[null,"文章理解（1点） ","次の文章を読んで実行する。"]
[null,null,"「目を閉じてください。」",null,null,null,{"$f":"IF(F39=0,\"\",F39-1)","v":""},1]
[]
[null,"文章構成（1点） ","何か文章を書いてください。 ",null,null,null,{"$f":"IF(F41=0,\"\",F41-1)","v":""},1]
[]
[null,"図形把握（1点） ","次の図形を書き写してください。 ",null,null,null,{"$f":"IF(F43=0,\"\",F43-1)","v":""},1]
[]
[]
[]
[]
[]
[]
[]
[]
[]
[null,null,null,null,"合計",null,{"$f":"SUM(G6:G52)","v":0},{"$f":"SUM(H6:H52)","v":30}]

{"sheet":"【維持期】HDS-R","index":44,"n_rows":41,"n_cols":9,"rows_kept":41,"cut":false,"hidden":true,"merged":[[28,2,28,3]]}
[]
["簡易長谷川式認知機能評価スケール"]
[]
[]
[null,"№","質問内容",null,"選択欄","ワーク","点数",null,"入力チェック"]
[null,1,"お歳はいくつですか？2年までの誤差は正解",null,null,null,{"$f":"IF(F6=0,\"\",F6-1)","v":""},null,{"$f":"IF(F6=0,1,0)","v":1}]
[null,2,"今日は何年の何月何日ですか？　何曜日ですか？","年",null,null,{"$f":"IF(F7=0,\"\",F7-1)","v":""},null,{"$f":"IF(F7=0,1,0)","v":1}]
[null,null,null,"月",null,null,{"$f":"IF(F8=0,\"\",F8-1)","v":""},null,{"$f":"IF(F8=0,1,0)","v":1}]
[null,null,null,"日",null,null,{"$f":"IF(F9=0,\"\",F9-1)","v":""},null,{"$f":"IF(F9=0,1,0)","v":1}]
[null,null,null,"曜日",null,null,{"$f":"IF(F10=0,\"\",F10-1)","v":""},null,{"$f":"IF(F10=0,1,0)","v":1}]
[null,3,"私たちが今いるところはどこですか？"]
[null,null,"(自発的にでれば2 点，5 秒おいて家ですか? 病院ですか? 施設ですか?",null,null,null,{"$f":"IF(F12=0,\"\",F12-1)","v":""},null,{"$f":"IF(F12=0,1,0)","v":1}]
[null,null,"のなかから正しい選択をすれば1 点)"]
[null,4,"これから言う3 つの言葉を言ってみてください．あとでまた聞きますのでよ"]
[null,null,"く覚えておいてください．"]
[null,null,"以下の系列のいずれか1つで、採用した系列に印をしておく。","a",null,null,{"$f":"IF(F16=0,\"\",F16-1)","v":""},null,{"$f":"IF(F16=0,1,0)","v":1}]
[null,null,"　　　　　　　　a)桜　　　b)猫　　　c)電車","b",null,null,{"$f":"IF(F17=0,\"\",F17-1)","v":""},null,{"$f":"IF(F17=0,1,0)","v":1}]
[null,null,"　　　　　　　　a)梅　　　b)犬　　　c)自動車","c",null,null,{"$f":"IF(F18=0,\"\",F18-1)","v":""},null,{"$f":"IF(F18=0,1,0)","v":1}]
[null,5,"100から7を順番に引いてください。（aに正解のときのみbも行う)"]
[null,null,"   a)　100―7は？","(93)",null,null,{"$f":"IF(F20=0,\"\",F20-1)","v":""},null,{"$f":"IF(F20=0,1,0)","v":1}]
[null,null,"   b)　それから7を引くと？","(86)",null,null,{"$f":"IF(F21=0,\"\",F21-1)","v":""},null,{"$f":"IF(F21=0,1,0)","v":1}]
[null,6,"これから言う数字を逆から言ってください。（aに正解のときのみbも行う)"]
[null,null,"　　a)　６―８―２","（２－８－６）",null,null,{"$f":"IF(F23=0,\"\",F23-1)","v":""},null,{"$f":"IF(F23=0,1,0)","v":1}]
[null,null,"　　b)　３―５―２―９","（９－２－５－３）",null,null,{"$f":"IF(F24=0,\"\",F24-1)","v":""},null,{"$f":"IF(F24=0,1,0)","v":1}]
[null,7,"先ほど覚えてもらった言葉（問４の３つの言葉）をもう一度言ってみてください。",{"$f":"IF(H25=1,\"系列1\",IF(H25=2,\"系列2\",\"\"))","v":""}]
[null,null,"　正答がでなかった言葉にはヒントを与える",{"$f":"IF(H25=1,\"a)桜\",IF(H25=2,\"a)梅\",\"\"))","v":""},null,null,{"$f":"IF(F26=0,\"\",F26-1)","v":""},null,{"$f":"IF(F26=0,1,0)","v":1}]
[null,null,"　ヒント　a) 植物　b) 動物　c) 乗り物　",{"$f":"IF(H25=1,\"b)猫\",IF(H25=2,\"b)犬\",\"\"))","v":""},null,null,{"$f":"IF(F27=0,\"\",F27-1)","v":""},null,{"$f":"IF(F27=0,1,0)","v":1}]
[null,null,{"$f":"\"  答え  \"&IF(H25=1,\"系列1  a)桜　　　b)猫　　　c)電車\",IF(H25=2,\"系列2  a)梅　　　b)犬　　　c)自動車\",\"\"))","v":"  答え  "},{"$f":"IF(H25=1,\"c)電車\",IF(H25=2,\"c)自動車\",\"\"))","v":""},null,null,{"$f":"IF(F28=0,\"\",F28-1)","v":""},null,{"$f":"IF(F28=0,1,0)","v":1}]
[null,8,"これから５つの品物を見せます。それを隠しますので何があったか言って下さい。 ",null,null,null,{"$f":"IF(F29<>\"\",LOOKUP(F29,{0,1,2,3,4,5,6},{\"\",5,4,3,2,1,0}),\"\")","v":""},null,{"$f":"IF(F29=0,1,0)","v":1}]
[null,null,"　１つずつ名前を言いながら並べ覚えさせる。次に隠す。"]
[null,null,"　時計、くし、はさみ、タバコ、ペンなど必ず相互に無関係なものを使う。"]
[null,null,"　１つ正答するごとに１点"]
[]
[]
[null,9,"知っている野菜の名前をできるだけ多く言ってください。",null,null,null,{"$f":"IF(F35<>\"\",LOOKUP(F35,{0,1,2,3,4,5,6},{\"\",5,4,3,2,1,0}),\"\")","v":""},null,{"$f":"IF(F35=0,1,0)","v":1}]
[]
[]
[]
[]
[]
[null,null,null,null,"合計",null,{"$f":"SUM(G6:G37)","v":0},null,{"$f":"SUM(I6:I40)","v":18}]

{"sheet":"【維持期】MMSE","index":45,"n_rows":53,"n_cols":8,"rows_kept":53,"cut":false,"hidden":true,"merged":[[4,2,4,3]]}
[]
["ＭＭＳＥ（Mini-Mental State Examination）"]
[]
[]
[null,"№","質問内容",null,"選択欄","ワーク","点数","入力チェック"]
[null,"日時（5点） ","今年は何年ですか。 ","年",null,null,{"$f":"IF(F6=0,\"\",F6-1)","v":""},{"$f":"IF(F6=0,1,0)","v":1}]
[null,null,"いまの季節は何ですか。 ","季節",null,null,"",{"$f":"IF(F7=0,1,0)","v":1}]
[null,null,"今日は何曜日ですか。 ","曜日",null,null,"",1]
[null,null,"今日は何月何日ですか。 ","月",null,null,"",1]
[null,null,null,"日",null,null,"",1]
[null,"現在地（5点） ","ここは何地方ですか。 ","地方",null,null,"",1]
[null,null,"ここは何県ですか。 ","県",null,null,"",1]
[null,null,"ここは何市ですか。 ","市",null,null,"",1]
[null,null,"ここは何病院ですか。 ","病院",null,null,"",1]
[null,null,"ここは何階ですか。 ","階",null,null,"",1]
[null,"記憶（3点） ","相互に無関係な物品名を3個聞かせ、それをそのまま復唱させる。","a",null,null,"",1]
[null,null,"1個答えられるごとに1点。すべて言えなければ6回まで繰り返す。 ","b",null,null,"",1]
[null,null,"a)桜　　　b)猫　　　c)電車","c",null,null,"",1]
[null,null,"a)梅　　　b)犬　　　c)自動車"]
[null,"7シリーズ（5点） ","100から順に7を引いていく。5回できれば5点。間違えた時点で打ち切り。 ","１回目：93",null,null,{"$f":"IF(F20=0,\"\",F20-1)","v":""},1]
[null,null,"あるいは「フジノヤマ」を逆唱させる。 　 　 ","２回目：86",null,null,"",1]
[null,null,null,"３回目：79",null,null,"",1]
[null,null,null,"４回目：72",null,null,"",1]
[null,null,null,"５回目：65",null,null,"",1]
[null,"想起（3点） ","3で示した物品名を再度復唱させる。 　 　 ","a",null,null,"",1]
[null,null,null,"b",null,null,"",1]
[null,null,null,"c",null,null,"",1]
[null,"呼称（2点） ","（時計を見せながら） これは何ですか",null,null,null,"",1]
[null,null,"（鉛筆を見せながら） これは何ですか",null,null,null,"",1]
[null,"読字（1点） ","次の文章を繰り返す"]
[null,null,"「みんなで，力を合わせて綱を引きます」",null,null,null,{"$f":"IF(F31=0,\"\",F31-1)","v":""},1]
[]
[null,"言語理解（3点） ","次の3つの命令を口頭で伝え、すべて聞き終わってから実行する "]
[null,null,"「右手にこの紙を持ってください」 ",null,null,null,{"$f":"IF(F34=0,\"\",F34-1)","v":""},1]
[null,null,"「それを半分に折りたたんでください」 ",null,null,null,{"$f":"IF(F35=0,\"\",F35-1)","v":""},1]
[null,null,"「机の上に置いてください」 　 　 ",null,null,null,{"$f":"IF(F36=0,\"\",F36-1)","v":""},1]
[]
[null,"文章理解（1点） ","次の文章を読んで実行する。"]
[null,null,"「目を閉じてください。」",null,null,null,{"$f":"IF(F39=0,\"\",F39-1)","v":""},1]
[]
[null,"文章構成（1点） ","何か文章を書いてください。 ",null,null,null,{"$f":"IF(F41=0,\"\",F41-1)","v":""},1]
[]
[null,"図形把握（1点） ","次の図形を書き写してください。 ",null,null,null,{"$f":"IF(F43=0,\"\",F43-1)","v":""},1]
[]
[]
[]
[]
[]
[]
[]
[]
[]
[null,null,null,null,"合計",null,{"$f":"SUM(G6:G52)","v":0},{"$f":"SUM(H6:H52)","v":30}]

{"sheet":"日常生活機能評価","index":46,"n_rows":27,"n_cols":56,"rows_kept":27,"cut":false,"hidden":true,"merged":[[20,39,20,41],[21,0,21,29],[21,30,21,32],[21,33,21,35],[21,36,21,38],[21,39,21,41],[20,15,20,17],[20,18,20,25],[20,26,20,29],[20,30,20,32],[20,33,20,35],[20,36,20,38],[18,39,18,41],[19,15,19,17],[19,18,19,25],[19,26,19,29],[19,30,19,32],[19,33,19,35],[19,36,19,38],[19,39,19,41],[18,15,18,17],[18,18,18,25],[18,26,18,29],[18,30,18,32],[18,33,18,35],[18,36,18,38],[16,39,16,41],[17,15,17,17],[17,18,17,25],[17,26,17,29],[17,30,17,32],[17,33,17,35],[17,36,17,38],[17,39,17,41],[16,15,16,17],[16,18,16,25],[16,26,16,29],[16,30,16,32],[16,33,16,35],[16,36,16,38],[14,39,14,41],[15,15,15,17],[15,18,15,25],[15,26,15,29],[15,30,15,32],[15,33,15,35],[15,36,15,38],[15,39,15,41],[14,15,14,17],[14,18,14,25],[14,26,14,29],[14,30,14,32],[14,33,14,35],[14,36,14,38],[12,39,12,41],[13,15,13,17],[13,18,13,25],[13,26,13,29],[13,30,13,32],[13,33,13,35],[13,36,13,38],[13,39,13,41],[12,15,12,17],[12,18,12,25],[12,26,12,29],[12,30,12,32],[12,33,12,35],[12,36,12,38],[10,39,10,41],[11,15,11,17],[11,18,11,25],[11,26,11,29],[11,30,11,32],[11,33,11,35],[11,36,11,38],[11,39,11,41],[10,15,10,17],[10,18,10,25],[10,26,10,29],[10,30,10,32],[10,33,10,35],[10,36,10,38],[8,39,8,41],[9,0,9,14],[9,15,9,17],[9,18,9,25],[9,26,9,29],[9,30,9,32],[9,33,9,35],[9,36,9,38],[9,39,9,41],[8,15,8,17],[8,18,8,25],[8,26,8,29],[8,30,8,32],[8,33,8,35],[8,36,8,38],[1,0,2,14],[2,18,2,20],[2,21,2,30],[6,0,7,14],[6,15,6,29],[6,30,6,32],[6,33,6,35],[6,36,6,38],[6,39,6,41],[7,15,7,17],[7,18,7,25],[7,26,7,29],[7,30,7,32],[7,33,7,35],[7,36,7,38],[7,39,7,41]]}
[]
["日常生活機能評価表",null,null,null,null,null,null,null,null,null,null,null,null,null,null,null,null,null,null,null,null,null,null,null,null,null,null,null,null,null,null,null,null,null,null,null,null,null,null,null,null,null,null,null,"非表示"]
[null,null,null,null,null,null,null,null,null,null,null,null,null,null,null,null,null,null,"氏名：",null,null,{"$f":"【急性期】データ管理!D4","v":""}]
[]
[]
[]
["患者の状況",null,null,null,null,null,null,null,null,null,null,null,null,null,null,"得点",null,null,null,null,null,null,null,null,null,null,null,null,null,null,"急性期",null,null,"回復期",null,null,"維持期",null,null,"維持期",null,null,null,null,"急性期",null,"回復期",null,"維持期１",null,"維持期３",null,null,null,null,"回復期得点名称"]
[null,null,null,null,null,null,null,null,null,null,null,null,null,null,null,"０点",null,null,"１点",null,null,null,null,null,null,null,"２点",null,null,null,"退院時",null,null,"退院時",null,null,"1ヶ月",null,null,"3ヶ月",null,null,null,null,"ワーク","得点","ワーク","得点","ワーク","得点","ワーク","得点"]
["床上安静の指示",null,null,null,null,null,null,null,null,null,null,null,null,null,null,"なし",null,null,"あり",null,null,null,null,null,null,null,null,null,null,null,{"$f":"AT9","v":""},null,null,{"$f":"AV9","v":""},null,null,{"$f":"AX9","v":""},null,null,{"$f":"AZ9","v":""},null,null,null,null,{"$f":"【急性期】データ管理!D256","v":0},{"$f":"IF(AS9<>\"\",LOOKUP(AS9,{0,1,2,3},{\"\",0,1,2}),\"\")","v":""},{"$f":"【回復期】データ管理!D125","v":0},{"$f":"IF(AU9<>\"\",LOOKUP(AU9,{0,1,2,3},{\"\",0,1,2}),\"\")","v":""},{"$f":"【維持期】データ管理!D116","v":0},{"$f":"IF(AW9<>\"\",LOOKUP(AW9,{0,1,2,3},{\"\",0,1,2}),\"\")","v":""},{"$f":"【維持期】データ管理!D135","v":0},{"$f":"IF(AY9<>\"\",LOOKUP(AY9,{0,1,2,3},{\"\",0,1,2}),\"\")","v":""},null,null,null,{"$f":"IF(AV9=0,P9,IF(AV9=1,S9,IF(AV9=2,AA9,\"\")))","v":""}]
["どちらかの手を胸元まで持ち上げられる",null,null,null,null,null,null,null,null,null,null,null,null,null,null,"できる",null,null,"できない",null,null,null,null,null,null,null,null,null,null,null,{"$f":"AT10","v":""},null,null,{"$f":"AV10","v":""},null,null,{"$f":"AX10","v":""},null,null,{"$f":"AZ10","v":""},null,null,null,null,"-",{"$f":"AS27","v":""},"-",{"$f":"AU27","v":""},{"$f":"【維持期】データ管理!D117","v":0},{"$f":"IF(AW10<>\"\",LOOKUP(AW10,{0,1,2,3},{\"\",0,1,2}),\"\")","v":""},{"$f":"【維持期】データ管理!D136","v":0},{"$f":"IF(AY10<>\"\",LOOKUP(AY10,{0,1,2,3},{\"\",0,1,2}),\"\")","v":""},null,null,null,{"$f":"IF(AV10=0,P10,IF(AV10=1,S10,IF(AV10=2,AA10,\"\")))","v":""}]
["寝返り",null,null,null,null,null,null,null,null,null,null,null,null,null,null,"できる",null,null,"何かにつかまればできる",null,null,null,null,null,null,null,"できない",null,null,null,"",null,null,{"$f":"AV11","v":""},null,null,{"$f":"AX11","v":""},null,null,{"$f":"AZ11","v":""},null,null,null,null,{"$f":"【急性期】データ管理!D257","v":0},{"$f":"IF(AS11<>\"\",LOOKUP(AS11,{0,1,2,3},{\"\",0,1,2}),\"\")","v":""},{"$f":"【回復期】データ管理!D126","v":0},{"$f":"IF(AU11<>\"\",LOOKUP(AU11,{0,1,2,3},{\"\",0,1,2}),\"\")","v":""},{"$f":"【維持期】データ管理!D118","v":0},{"$f":"IF(AW11<>\"\",LOOKUP(AW11,{0,1,2,3},{\"\",0,1,2}),\"\")","v":""},{"$f":"【維持期】データ管理!D137","v":0},{"$f":"IF(AY11<>\"\",LOOKUP(AY11,{0,1,2,3},{\"\",0,1,2}),\"\")","v":""},null,null,null,{"$f":"IF(AV11=0,P11,IF(AV11=1,S11,IF(AV11=2,AA11,\"\")))","v":""}]
["起き上がり",null,null,null,null,null,null,null,null,null,null,null,null,null,null,"できる",null,null,"できない",null,null,null,null,null,null,null,null,null,null,null,"",null,null,"",null,null,"",null,null,"",null,null,null,null,{"$f":"【急性期】データ管理!D258","v":0},{"$f":"IF(AS12<>\"\",LOOKUP(AS12,{0,1,2,3},{\"\",0,1,2}),\"\")","v":""},{"$f":"【回復期】データ管理!D127","v":0},{"$f":"IF(AU12<>\"\",LOOKUP(AU12,{0,1,2,3},{\"\",0,1,2}),\"\")","v":""},{"$f":"【維持期】データ管理!D119","v":0},{"$f":"IF(AW12<>\"\",LOOKUP(AW12,{0,1,2,3},{\"\",0,1,2}),\"\")","v":""},{"$f":"【維持期】データ管理!D138","v":0},{"$f":"IF(AY12<>\"\",LOOKUP(AY12,{0,1,2,3},{\"\",0,1,2}),\"\")","v":""},null,null,null,""]
["座位保持",null,null,null,null,null,null,null,null,null,null,null,null,null,null,"できる",null,null,"支えがあればできる",null,null,null,null,null,null,null,"できない",null,null,null,"",null,null,"",null,null,"",null,null,"",null,null,null,null,{"$f":"【急性期】データ管理!D259","v":0},{"$f":"IF(AS13<>\"\",LOOKUP(AS13,{0,1,2,3},{\"\",0,1,2}),\"\")","v":""},{"$f":"【回復期】データ管理!D128","v":0},{"$f":"IF(AU13<>\"\",LOOKUP(AU13,{0,1,2,3},{\"\",0,1,2}),\"\")","v":""},{"$f":"【維持期】データ管理!D120","v":0},{"$f":"IF(AW13<>\"\",LOOKUP(AW13,{0,1,2,3},{\"\",0,1,2}),\"\")","v":""},{"$f":"【維持期】データ管理!D139","v":0},{"$f":"IF(AY13<>\"\",LOOKUP(AY13,{0,1,2,3},{\"\",0,1,2}),\"\")","v":""},null,null,null,""]
["移乗",null,null,null,null,null,null,null,null,null,null,null,null,null,null,"できる",null,null,"見守り・一部介助が必要",null,null,null,null,null,null,null,"できない",null,null,null,"",null,null,{"$f":"AV14","v":""},null,null,{"$f":"AX14","v":""},null,null,"",null,null,null,null,{"$f":"【急性期】データ管理!D234","v":0},{"$f":"IF(AS14<>\"\",LOOKUP(AS14,{0,1,2,3,4},{\"\",0,1,1,2}),\"\")","v":""},{"$f":"【回復期】データ管理!D129","v":0},{"$f":"IF(AU14<>\"\",LOOKUP(AU14,{0,1,2,3},{\"\",0,1,2}),\"\")","v":""},{"$f":"【維持期】データ管理!D121","v":0},{"$f":"IF(AW14<>\"\",LOOKUP(AW14,{0,1,2,3},{\"\",0,1,2}),\"\")","v":""},{"$f":"【維持期】データ管理!D140","v":0},{"$f":"IF(AY14<>\"\",LOOKUP(AY14,{0,1,2,3},{\"\",0,1,2}),\"\")","v":""},null,null,null,""]
["移動方法",null,null,null,null,null,null,null,null,null,null,null,null,null,null,"介助を要しない移動",null,null,"介助を要する移動\n（搬送を含む）",null,null,null,null,null,null,null,null,null,null,null,"",null,null,"",null,null,"",null,null,"",null,null,null,null,{"$f":"【急性期】データ管理!D238","v":0},{"$f":"IF(AS15<>\"\",LOOKUP(AS15,{0,1,2,3},{\"\",0,1,1}),\"\")","v":""},{"$f":"【回復期】データ管理!D130","v":0},{"$f":"IF(AU15<>\"\",LOOKUP(AU15,{0,1,2,3},{\"\",0,1,1}),\"\")","v":""},{"$f":"【維持期】データ管理!D122","v":0},{"$f":"IF(AW15<>\"\",LOOKUP(AW15,{0,1,2,3},{\"\",0,1,1}),\"\")","v":""},{"$f":"【維持期】データ管理!D141","v":0},{"$f":"IF(AY15<>\"\",LOOKUP(AY15,{0,1,2,3},{\"\",0,1,1}),\"\")","v":""},null,null,null,""]
["口腔清潔",null,null,null,null,null,null,null,null,null,null,null,null,null,null,"できる",null,null,"できない",null,null,null,null,null,null,null,null,null,null,null,"",null,null,"",null,null,"",null,null,"",null,null,null,null,{"$f":"【急性期】データ管理!D260","v":0},{"$f":"IF(AS16<>\"\",LOOKUP(AS16,{0,1,2,3},{\"\",0,1,2}),\"\")","v":""},{"$f":"【回復期】データ管理!D131","v":0},{"$f":"IF(AU16<>\"\",LOOKUP(AU16,{0,1,2,3},{\"\",0,1,2}),\"\")","v":""},{"$f":"【維持期】データ管理!D123","v":0},{"$f":"IF(AW16<>\"\",LOOKUP(AW16,{0,1,2,3},{\"\",0,1,2}),\"\")","v":""},{"$f":"【維持期】データ管理!D142","v":0},{"$f":"IF(AY16<>\"\",LOOKUP(AY16,{0,1,2,3},{\"\",0,1,2}),\"\")","v":""},null,null,null,""]
["食事摂取",null,null,null,null,null,null,null,null,null,null,null,null,null,null,"介助なし",null,null,"一部介助",null,null,null,null,null,null,null,"全介助",null,null,null,"",null,null,"",null,null,"",null,null,"",null,null,null,null,{"$f":"【急性期】データ管理!D227","v":0},{"$f":"IF(AS17<>\"\",LOOKUP(AS17,{0,1,2,3},{\"\",0,1,2}),\"\")","v":""},{"$f":"【回復期】データ管理!D132","v":0},{"$f":"IF(AU17<>\"\",LOOKUP(AU17,{0,1,2,3},{\"\",0,1,2}),\"\")","v":""},{"$f":"【維持期】データ管理!D124","v":0},{"$f":"IF(AW17<>\"\",LOOKUP(AW17,{0,1,2,3},{\"\",0,1,2}),\"\")","v":""},{"$f":"【維持期】データ管理!D143","v":0},{"$f":"IF(AY17<>\"\",LOOKUP(AY17,{0,1,2,3},{\"\",0,1,2}),\"\")","v":""},null,null,null,""]
["衣服の着脱",null,null,null,null,null,null,null,null,null,null,null,null,null,null,"介助なし",null,null,"一部介助",null,null,null,null,null,null,null,"全介助",null,null,null,"",null,null,"",null,null,"",null,null,"",null,null,null,null,{"$f":"【急性期】データ管理!D261","v":0},{"$f":"IF(AS18<>\"\",LOOKUP(AS18,{0,1,2,3},{\"\",0,1,2}),\"\")","v":""},{"$f":"【回復期】データ管理!D133","v":0},{"$f":"IF(AU18<>\"\",LOOKUP(AU18,{0,1,2,3},{\"\",0,1,2}),\"\")","v":""},{"$f":"【維持期】データ管理!D125","v":0},{"$f":"IF(AW18<>\"\",LOOKUP(AW18,{0,1,2,3},{\"\",0,1,2}),\"\")","v":""},{"$f":"【維持期】データ管理!D144","v":0},{"$f":"IF(AY18<>\"\",LOOKUP(AY18,{0,1,2,3},{\"\",0,1,2}),\"\")","v":""},null,null,null,""]
["他者への意思の伝達",null,null,null,null,null,null,null,null,null,null,null,null,null,null,"できる",null,null,"できる時とできない時がある　",null,null,null,null,null,null,null,"できない",null,null,null,"",null,null,"",null,null,"",null,null,"",null,null,null,null,{"$f":"【急性期】データ管理!D262","v":0},{"$f":"IF(AS19<>\"\",LOOKUP(AS19,{0,1,2,3},{\"\",0,1,2}),\"\")","v":""},{"$f":"【回復期】データ管理!D134","v":0},{"$f":"IF(AU19<>\"\",LOOKUP(AU19,{0,1,2,3},{\"\",0,1,2}),\"\")","v":""},{"$f":"【維持期】データ管理!D126","v":0},{"$f":"IF(AW19<>\"\",LOOKUP(AW19,{0,1,2,3},{\"\",0,1,2}),\"\")","v":""},{"$f":"【維持期】データ管理!D145","v":0},{"$f":"IF(AY19<>\"\",LOOKUP(AY19,{0,1,2,3},{\"\",0,1,2}),\"\")","v":""},null,null,null,""]
["診療・療養上の指示が通じる",null,null,null,null,null,null,null,null,null,null,null,null,null,null,"はい",null,null,"いいえ",null,null,null,null,null,null,null,null,null,null,null,"",null,null,"",null,null,"",null,null,"",null,null,null,null,{"$f":"【急性期】データ管理!D263","v":0},{"$f":"IF(AS20<>\"\",LOOKUP(AS20,{0,1,2,3},{\"\",0,1,2}),\"\")","v":""},{"$f":"【回復期】データ管理!D135","v":0},{"$f":"IF(AU20<>\"\",LOOKUP(AU20,{0,1,2,3},{\"\",0,1,2}),\"\")","v":""},{"$f":"【維持期】データ管理!D127","v":0},{"$f":"IF(AW20<>\"\",LOOKUP(AW20,{0,1,2,3},{\"\",0,1,2}),\"\")","v":""},{"$f":"【維持期】データ管理!D146","v":0},{"$f":"IF(AY20<>\"\",LOOKUP(AY20,{0,1,2,3},{\"\",0,1,2}),\"\")","v":""},null,null,null,""]
["危険行動",null,null,null,null,null,null,null,null,null,null,null,null,null,null,"ない",null,null,"ある",null,null,null,null,null,null,null,null,null,null,null,{"$f":"AT21","v":""},null,null,{"$f":"AV21","v":""},null,null,{"$f":"AX21","v":""},null,null,{"$f":"AZ21","v":""},null,null,null,null,{"$f":"【急性期】データ管理!D264","v":0},{"$f":"IF(AS21<>\"\",LOOKUP(AS21,{0,1,2,3},{\"\",0,1,2}),\"\")","v":""},{"$f":"【回復期】データ管理!D136","v":0},{"$f":"IF(AU21<>\"\",LOOKUP(AU21,{0,1,2,3},{\"\",0,1,2}),\"\")","v":""},{"$f":"【維持期】データ管理!D128","v":0},{"$f":"IF(AW21<>\"\",LOOKUP(AW21,{0,1,2,3},{\"\",0,1,2}),\"\")","v":""},{"$f":"【維持期】データ管理!D147","v":0},{"$f":"IF(AY21<>\"\",LOOKUP(AY21,{0,1,2,3},{\"\",0,1,2}),\"\")","v":""},null,null,null,""]
["合計点",null,null,null,null,null,null,null,null,null,null,null,null,null,null,null,null,null,null,null,null,null,null,null,null,null,null,null,null,null,{"$f":"SUM(AE9:AG21)","v":0},null,null,{"$f":"SUM(AH9:AJ21)","v":0},null,null,{"$f":"SUM(AK9:AM21)","v":0},null,null,{"$f":"SUM(AN9:AP21)","v":0}]
["※得点：０～１９点",null,null,null,null,null,null,null,null,null,null,null,null,null,null,null,null,null,null,null,null,null,null,null,null,null,null,null,null,null,null,null,null,null,null,null,null,null,null,null,null,null,null,null,"MMT",null,"MMT"]
[null,null,null,null,null,null,null,null,null,null,null,null,null,null,null,null,null,null,null,null,null,null,null,null,null,null,null,null,null,null,null,null,null,null,null,null,null,null,null,null,null,null,null,null,{"$f":"【急性期】データ管理!D35","v":"右上肢（   ）　左上肢（   ）　右下肢（   ）　左下肢（   ）"},null,{"$f":"【回復期】データ管理!D123","v":"右上肢（   ）　左上肢（   ）　右下肢（   ）　左下肢（   ）"}]
[null,null,null,null,null,null,null,null,null,null,null,null,null,null,null,null,null,null,null,null,null,null,null,null,null,null,null,null,null,null,null,null,null,null,null,null,null,null,null,null,null,null,null,"右",{"$f":"TRIM(MID(AS24,6,1))","v":""},null,{"$f":"TRIM(MID(AU24,6,1))","v":""}]
[null,null,null,null,null,null,null,null,null,null,null,null,null,null,null,null,null,null,null,null,null,null,null,null,null,null,null,null,null,null,null,null,null,null,null,null,null,null,null,null,null,null,null,"左",{"$f":"TRIM(MID(AS24,15,1))","v":""},null,{"$f":"TRIM(MID(AU24,15,1))","v":""}]
[null,null,null,null,null,null,null,null,null,null,null,null,null,null,null,null,null,null,null,null,null,null,null,null,null,null,null,null,null,null,null,null,null,null,null,null,null,null,null,null,null,null,null,"得点",{"$f":"IF(AS25=\"\",IF(AS26=\"\",\"\",IF(AS26>=\"3\",0,IF(AS25>=\"3\",0,1))),IF(AS25>=\"3\",0,IF(AS26>=\"3\",0,1)))","v":""},null,{"$f":"IF(AU25=\"\",IF(AU26=\"\",\"\",IF(AU26>=\"3\",0,IF(AU25>=\"3\",0,1))),IF(AU25>=\"3\",0,IF(AU26>=\"3\",0,1)))","v":""}]

{"sheet":"MMSE_PRINT","index":47,"n_rows":106,"n_cols":14,"rows_kept":106,"cut":false,"hidden":true,"merged":[[13,0,13,12]]}
[]
[]
[]
[]
[]
[]
[]
[]
[]
[]
[]
[]
[]
["目を閉じてください。"]
[]
[]
[]
[]
[]
[]
[]
[]
[]
[]
[]
[]
[]
[]
[]
[]
[]
[]
[]
[null,null,null,null,null,null,null,null,null,null,null,null,null,"文章理解"]
["何か文章を書いてください。"]
[]
[]
[]
[]
[]
[]
[]
[]
[]
[]
[]
[]
[]
[]
[]
[]
[]
[]
[]
[]
[]
[]
[]
[]
[]
[]
[]
[]
[]
[]
[]
[]
[]
[]
[null,null,null,null,null,null,null,null,null,null,null,null,null,"文章構成"]
["次の図形を書き写してください。"]
[]
[]
[]
[]
[]
[]
[]
[]
[]
[]
[]
[]
[]
[]
[]
[]
[]
[]
[]
[]
[]
[]
[]
[]
[]
[]
[]
[]
[]
[]
[]
[]
[]
[]
[null,null,null,null,null,null,null,null,null,null,null,null,null,"図形把握"]