{"text_format":"1","workbook":"xlsx","n_sheets":36,"sheets":["管理","急性期診療計画(入力用)","回復期診療計画(入力用)","維持期診療計画(入力用)","患者説明資料","同意書","急性期診療計画 (印刷用)","患者基本情報（急性期）","回復期診療計画 (印刷用)","患者基本情報（回復期）","維持期(印刷用)","DATA_PATIENT","急性期データ出力用","回復期データ出力用","維持期データ出力用","STATISTICS","日常生活機能評価","長谷川式_回復期","長谷川式_維持期","ＭＭＳＥ_回復期","ＭＭＳＥ_維持期","MMSE_PRINT","FIM急性期","FIM回復期 (入院)","FIM回復期 (３ヶ月)","FIM回復期 (退院)","FIM維持期 (3ヶ月)","FIM説明文","B.I急性期","B.I回復期(入院)","B.I回復期(3ヶ月)","B.I回復期(退院)","B.I維持期(3ヶ月)","B.I説明文","定義","祝日"],"not_rendered":{"charts":0,"images":68,"macros":1,"external_links":0,"defined_names":53,"comments":3,"pivot_tables":0},"unopened":[],"bounds":{"document_bytes":16777216,"sheet_cells":100000,"rows_first":2000,"rows_last":500,"rows_between":2000,"halvings":0,"cell_chars":16384,"cell_head_chars":4096},"cells_cut":0,"cells_raw":0,"read":"whole","date_system":"1900"}

{"sheet":"管理","index":0,"n_rows":21,"n_cols":2,"rows_kept":21,"cut":false,"hidden":true,"merged":[]}
["管理者用ページ　管理者以外は利用しないでください。"]
["急性期シート","jimukyoku"]
[]
["回復期シート"]
[]
["維持期シート"]
[]
["最終確認","ボタンを削除しました。"]
[]
[]
[]
[]
["※HumanBridge基本情報コピーのボタン使用制御解除"]
[]
[]
[]
[]
[null,"『HumanBridgeの基本情報をコピー 』ボタンを押下すると、"]
[null,"それ以降の連携パスの起動時にHumanBridge上のデータ（氏名や生年月日、住所）を"]
[null,"取得しなくなる。"]
[null,"その代り、起動時間の短縮が可能となる。"]

{"sheet":"急性期診療計画(入力用)","index":1,"n_rows":99,"n_cols":102,"rows_kept":99,"cut":false,"hidden":true,"merged":[[2,0,2,2],[2,19,2,23],[1,28,1,33],[1,0,1,16],[1,21,1,27],[1,18,1,20],[27,2,28,3],[28,4,28,20],[33,28,33,52],[33,0,43,1],[2,3,2,14],[15,0,15,3],[13,28,13,43],[12,28,12,30],[12,31,12,52],[13,45,13,50],[12,0,12,3],[24,2,24,3],[14,0,14,3],[18,0,18,3],[3,0,3,2],[22,28,22,52],[12,7,12,27],[18,28,18,51],[0,30,0,32],[0,38,0,40],[42,4,42,27],[14,15,14,27],[15,18,15,19],[14,4,14,14],[2,24,2,28],[2,29,2,34],[1,34,1,45],[2,41,2,47],[2,35,2,36],[2,37,2,40],[9,10,9,52],[10,23,10,25],[10,7,10,8],[3,3,3,16],[8,42,8,48],[13,4,13,18],[15,4,15,14],[15,15,15,17],[16,4,17,27],[23,2,23,3],[13,0,13,3],[21,28,21,40],[89,23,89,31],[89,10,89,14],[78,39,79,52],[2,48,2,52],[3,22,3,31],[93,18,93,29],[44,19,44,27],[82,4,82,52],[77,4,77,11],[90,16,90,17],[2,15,2,18],[93,10,93,17],[78,12,79,23],[80,8,80,16],[77,32,77,38],[34,4,34,27],[66,20,66,26],[68,21,68,31],[78,24,79,31],[43,11,43,43],[78,4,79,11],[62,8,62,10],[81,4,81,52],[78,32,79,38],[99,0,99,52],[96,34,96,46],[96,30,96,33],[96,13,96,17],[84,0,97,3],[98,11,98,15],[87,13,87,21],[85,14,85,21],[85,8,85,12],[92,13,92,15],[97,35,97,37],[93,32,93,35],[97,28,97,33],[94,14,95,50],[97,18,97,24],[93,36,93,41],[96,19,96,24],[92,24,92,26],[88,10,88,27],[86,40,86,48],[91,10,91,22],[92,27,92,41],[90,10,90,14],[92,16,92,23],[67,22,67,28],[66,28,66,33],[69,0,73,3],[65,0,68,3],[69,16,69,18],[69,10,69,15],[69,4,69,9],[40,4,40,27],[43,4,43,6],[49,4,49,27],[65,27,65,34],[44,4,44,15],[67,12,67,19],[72,4,72,7],[66,12,66,18],[67,4,67,11],[68,12,68,18],[66,4,66,11],[73,11,73,12],[73,13,73,20],[69,20,69,52],[67,30,67,42],[68,33,68,38],[72,8,72,52],[83,0,83,52],[85,29,85,34],[88,29,88,34],[86,8,86,18],[86,20,86,28],[74,0,75,3],[74,47,75,47],[82,0,82,3],[76,0,81,3],[80,4,80,7],[77,24,77,31],[74,4,75,25],[77,12,77,23],[77,39,77,52],[74,48,75,52],[76,4,76,8],[76,9,76,52],[74,39,75,46],[19,4,19,27],[21,45,21,50],[20,28,20,52],[4,0,10,3],[9,4,9,9],[11,28,11,52],[11,4,11,27],[8,39,8,41],[8,19,8,21],[10,26,10,36],[10,9,10,19],[5,4,5,52],[8,22,8,31],[7,8,7,15],[7,16,7,52],[11,0,11,3],[12,4,12,6],[14,28,14,39],[15,28,15,39],[15,40,15,42],[18,4,18,27],[13,20,13,25],[19,0,19,3],[16,0,17,3],[3,44,3,46],[3,32,3,34],[6,4,6,52],[7,4,7,7],[3,17,3,21],[4,4,4,52],[3,41,3,43],[3,50,3,52],[3,47,3,49],[3,35,3,40],[11,60,11,64],[13,57,13,59],[13,60,13,64],[12,60,12,64],[12,57,12,59],[65,4,65,14],[62,29,62,40],[61,4,61,7],[61,8,61,52],[64,37,64,45],[14,60,14,64],[19,28,19,51],[15,43,15,44],[14,57,14,59],[16,28,17,51],[16,52,17,52],[14,40,14,52],[58,11,58,15],[55,4,55,7],[58,4,58,6],[58,16,58,22],[48,4,48,27],[64,18,64,20],[64,4,64,16],[73,31,73,32],[74,32,75,32],[73,33,73,40],[73,21,73,22],[74,29,75,31],[71,8,71,52],[70,4,70,7],[73,23,73,30],[71,4,71,7],[74,33,75,38],[74,26,75,28],[70,8,70,52],[68,4,68,9],[65,16,65,25],[64,28,64,36],[66,36,66,39],[53,0,54,3],[53,4,54,7],[45,7,45,27],[52,4,52,20],[50,4,50,27],[44,0,52,1],[46,4,46,27],[46,2,48,3],[62,0,62,3],[62,25,62,27],[63,0,64,3],[62,12,62,23],[63,4,63,13],[63,15,63,26],[64,21,64,27],[46,28,46,52],[59,39,59,43],[59,4,59,27],[56,4,57,5],[58,36,58,38],[58,24,58,27],[55,8,55,52],[57,22,57,39],[52,46,52,51],[51,28,51,52],[25,4,25,27],[52,22,52,26],[51,4,51,27],[47,21,47,26],[47,4,47,16],[41,28,41,52],[27,4,27,27],[40,28,40,52],[31,4,31,27],[29,4,29,27],[28,22,28,26],[58,28,58,34],[26,28,26,52],[53,8,54,52],[58,39,58,43],[30,28,30,52],[42,28,42,32],[48,28,48,52],[50,28,50,52],[59,35,59,37],[60,0,61,3],[59,29,59,33],[58,7,58,10],[60,4,60,52],[55,0,59,3],[50,2,50,3],[49,2,49,3],[25,2,26,3],[20,0,32,1],[20,2,22,3],[29,2,30,3],[31,2,32,3],[51,2,52,3],[45,2,45,3],[45,4,45,6],[21,4,21,16],[20,4,20,27],[21,21,21,26],[26,4,26,27],[22,4,22,27],[25,28,25,52],[23,28,23,52],[24,4,24,27],[24,28,24,52],[38,4,38,27],[37,4,37,27],[23,4,23,27],[44,2,44,3],[28,28,28,44],[52,28,52,44],[49,28,49,52],[47,28,47,40],[30,4,30,27],[41,4,41,27],[32,4,32,27],[33,4,33,27],[35,4,35,27],[39,4,39,27],[36,4,36,27],[42,43,42,51],[44,16,44,18],[27,28,27,52],[35,28,35,52],[34,28,34,52],[32,28,32,52],[29,28,29,52],[31,28,31,52],[28,46,28,51],[44,28,44,52],[47,45,47,50],[37,28,37,52],[36,28,36,52],[39,28,39,52],[38,28,38,52],[43,7,43,10],[43,47,43,52],[43,44,43,46],[45,28,45,30],[45,31,45,51]]}
[null,null,null,null,null,null,null,null,null,null,null,null,null,null,null,null,null,null,null,null,null,null,null,null,null,null,"入院時入力",null,null,null,{"$f":"IF(急性期データ出力用!I300=0,\"完了\",\"未完了\")","v":"未完了"},null,null,null,"退院時入力",null,null,null,{"$f":"IF(急性期データ出力用!J300+急性期データ出力用!I300=0,\"完了\",\"未完了\")","v":"未完了"},null,null,null,null,null,null,null,null,null,null,null,null,null,null,null,"最終更新\n日時","2023-04-01T09:53:01",null,null,null,null,null,null,null,null,null,null,null,null,null,null,null,null,null,null,null,null,null,null,null,null,null,null,null,null,null,null,null,null,null,null,null,null,null,null,null,null,null,null,null,null,"登録開始\n日時","2015-12-16T17:05:27"]
["脳卒中地域連携診療計画書",null,null,null,null,null,null,null,null,null,null,null,null,null,null,null,null,null,"発症日：",null,null,null,null,null,null,null,null,null,"急性期病院名（",null,null,null,null,null,null,null,null,null,null,null,null,null,null,null,null,null,"）",null,null,null,null,null,"【急性期用】version3",null,null,null,null,null,null,null,null,null,null,null,null,null,"生年月日ワーク",null,null,null,null,null,null,null,null,null,null,null,null,null,null,null,null,null,"チェック色変更用",null,null,null,null,null,null,null,null,null,null,null,null,null,"パス中止理由"]
["氏名",null,null,null,null,null,null,null,null,null,null,null,null,null,null,"性別",null,null,null,null,null,null,null,null,"生年月日",null,null,null,null,null,null,null,null,null,null,"　年",null,"月日",null,null,null,"（西暦入力用）",null,null,null,null,null,null,{"$f":"IF(ISERROR(BI15),\"\",\"（\"&  BI15 &\"歳）\")","v":""},null,null,null,null,null,"青","医師",false,null,null,null,null,null,null,null,null,null,"年号",null,null,{"$f":"急性期データ出力用!F6","v":""},null,null,null,null,null,null,null,null,null,null,null,null,null,"性別",{"$f":"急性期データ出力用!D5","v":0},null,null,null,null,null,null,null,null,null,null,null,null,false]
["住所",null,null,null,null,null,null,null,null,null,null,null,null,null,null,null,null,"電話番号",null,null,null,null,"",null,null,null,null,null,null,null,null,null,"利き腕",null,null,null,null,null,null,null,null,"身長",null,null,null,null,null,"体重",null,null,null,null,null,null,null,null,null,null,null,null,null,null,null,null,null,null,null,null,null,null,null,null,null,null,null,null,null,null,null,null,null,null,null,"利き腕",{"$f":"急性期データ出力用!D14","v":0}]
["診断名",null,null,null,"脳梗塞",null,null,null,null,null,null,null,null,null,null,null,null,null,null,null,null,null,null,null,null,null,null,null,null,null,null,null,null,null,null,null,null,null,null,null,null,null,null,null,null,null,null,null,null,null,null,null,null,null,"赤","ナース",false,null,null,null,null,null,null,null,null,null,null,null,null,null,null,null,null,null,null,null,null,null,null,null,null,null,null,"脳梗塞",{"$f":"急性期データ出力用!F17","v":""},null,null,null,null,null,null,null,null,null,null,null,null,false]
[null,null,null,null,"脳出血",null,null,null,null,null,null,null,null,null,null,null,null,null,null,null,null,null,null,null,null,null,null,null,null,null,null,null,null,null,null,null,null,null,null,null,null,null,null,null,null,null,null,null,null,null,null,null,null,null,null,null,null,null,null,null,null,null,null,null,null,null,null,null,null,null,null,null,null,null,null,null,null,null,null,null,null,null,null,"脳出血",{"$f":"急性期データ出力用!F25","v":""}]
[null,null,null,null,"くも膜下出血",null,null,null,null,null,null,null,null,null,null,null,null,null,null,null,null,null,null,null,null,null,null,null,null,null,null,null,null,null,null,null,null,null,null,null,null,null,null,null,null,null,null,null,null,null,null,null,null,null,"黄","セラピスト",false,null,null,null,null,null,null,null,null,null,null,null,null,null,null,null,null,null,null,null,null,null,null,null,null,null,null,"くも膜下出血",{"$f":"急性期データ出力用!F34","v":""}]
[null,null,null,null,null,null,null,null,null,null,null,null,null,null,null,null,null,null,null,null,null,null,null,null,null,null,null,null,null,null,null,null,null,null,null,null,null,null,null,null,null,null,null,null,null,null,null,null,null,null,null,null,null,null,null,null,null,null,null,null,null,null,null,null,null,null,null,null,null,null,null,null,null,null,null,null,null,null,null,null,null,null,null,"その他",{"$f":"急性期データ出力用!F39","v":""},{"$f":"急性期データ出力用!D39","v":false},{"$f":"IF(CH8=TRUE,IF(CH9=0,TRUE,FALSE),FALSE)","v":false}]
[null,null,null,null,null,null,null,null,null,null,null,null,null,null,null,null,null,null,null," 部位：",null,null,null,null,null,null,null,null,null,null,null,null,null,null,null,null,null,null,null,"既往：",null,null,null,null,null,null,null,null,null,null,null,null,null,null,"緑","連携室",false,null,null,null,null,null,null,null,null,null,null,null,null,null,null,null,null,null,null,null,null,null,null,null,null,null,null,"診断名",{"$f":"CG5&CG6&CG7&CG8","v":""},{"$f":"I8","v":0}]
[null,null,null,null,"脳卒中危険因子：",null,null,null,null,null,null,null,null,null,null,null,null,null,null,null,null,null,null,null,null,null,null,null,null,null,null,null,null,null,null,null,null,null,null,null,null,null,null,null,null,null,null,null,null,null,null,null,null,null,null,null,null,null,null,null,null,null,null,null,null,null,null,null,null,null,null,null,null,null,null,null,null,null,null,null,null,null,null,"部位",{"$f":"急性期データ出力用!D42","v":0}]
[null,null,null,null,"　　　　　　　　",null,null,"酒：",null,null,null,null,null,null,null,null,null,null,null,null,null,null,null,"たばこ　：",null,null,null,null,null,null,null,null,null,null,null,null,null,null,null,null,null,null,null,null,null,null,null,null,null,null,null,null,null,null,"灰色","自由",false,null,null,null,null,null,null,null,null,null,null,null,null,null,null,null,null,null,null,null,null,null,null,null,null,null,null,"既往",{"$f":"急性期データ出力用!D43","v":0}]
["経過",null,null,null,"入院時",null,null,null,null,null,null,null,null,null,null,null,null,null,null,null,null,null,null,null,null,null,null,null,"退院時",null,null,null,null,null,null,null,null,null,null,null,null,null,null,null,null,null,null,null,null,null,null,null,null,null,null,null,null,null,null,null,{"$f":"TEXT(AL3,\"mm月dd日\")","v":"月日"},null,null,null,null,null,null,null,null,null,null,null,null,null,null,null,null,null,null,null,null,null,null,"脳卒中",{"$f":"急性期データ出力用!H51","v":""}]
["日付",null,null,null,"入院日：",null,null,null,null,null,null,null,null,null,null,null,null,null,null,null,null,null,null,null,null,null,null,null,"退院日：",null,null,null,null,null,null,null,null,null,null,null,null,null,null,null,null,null,null,null,null,null,null,null,null,null,"オレンジ","ナースまたは",false,"生年月日西暦",null,null,{"$f":"DATEVALUE(BR3 & SUBSTITUTE(AJ3,\"元年\",\"１年\") & BI12)","v":{"$error":"#VALUE!"}},null,null,null,null,{"$f":"BI13","v":{"$error":"#VALUE!"}},null,null,null,null,null,null,null,null,null,null,null,null,null,null,null,null,null,"酒",{"$f":"急性期データ出力用!D52","v":0}]
["目標",null,null,null,null,null,null,null,null,null,null,null,null,null,null,null,null,null,null,"（",null,null,null,null,null,null,")",null,null,null,null,null,null,null,null,null,null,null,null,null,null,null,null,null,"（",null,null,null,null,null,null,")",null,null,null,"セラピスト",null,"発症日",null,null,{"$f":"V2","v":"00:00:00"},null,null,null,null,null,null,null,null,null,null,null,null,null,null,null,null,null,null,null,null,null,null,"たばこ",{"$f":"急性期データ出力用!D53","v":0},{"$f":"急性期データ出力用!D269","v":false},{"$f":"急性期データ出力用!D270","v":false},{"$f":"急性期データ出力用!D272","v":false},{"$f":"急性期データ出力用!D273","v":false}]
["意識",null,null,null," ",null,null,null,null,null,null,null,null,null,null,{"$f":"SUM(BH18:BH20)","v":0},null,null,null,null,null,null,null,null,null,null,null,null," ",null,null,null,null,null,null,null,null,null,null,null,{"$f":"SUM(BI18:BI20)","v":0},null,null,null,null,null,null,null,null,null,null,null,null,null,null,null,null,"年齢",null,null,{"$f":"DATEDIF(BI13,BI14,\"Y\")","v":{"$error":"#VALUE!"}}]
[null,null,null,null," ",null,null,null,null,null,null,null,null,null,null,"NIHSS（",null,null,null,null,")",null,null,null,null,null,null,null," ",null,null,null,null,null,null,null,null,null,null,null,"NIHSS（",null,null,null,null,")"]
["MMT",null,null,null,"右上肢（   ）　　左上肢（   ）　　右下肢（   ）　　左下肢（   ）",null,null,null,null,null,null,null,null,null,null,null,null,null,null,null,null,null,null,null,null,null,null,null,"右上肢（   ）　　左上肢（   ）　　右下肢（   ）　　左下肢（   ）",null,null,null,null,null,null,null,null,null,null,null,null,null,null,null,null,null,null,null,null,null,null,null,null,null,null,null,null,null,null,null,null,"前回入力",null,null,null,null,null,null,null,null,null,null,null,null,null,null,null,null,null,null,null,null,null,"MMT 入院",{"$f":"MID($E$17,6,1)","v":" "},{"$f":"MID($E$17,16,1)","v":" "},{"$f":"MID($E$17,26,1)","v":" "},{"$f":"MID($E$17,36,1)","v":" "},{"$f":"IF(CG17=\" \",1,0)+IF(CH17=\" \",1,0)+IF(CI17=\" \",1,0)+IF(CJ17=\" \",1,0)","v":4}]
[null,null,null,null,null,null,null,null,null,null,null,null,null,null,null,null,null,null,null,null,null,null,null,null,null,null,null,null,null,null,null,null,null,null,null,null,null,null,null,null,null,null,null,null,null,null,null,null,null,null,null,null,null,null,null,null,null,"GCS","E",0,0,0,0,null,null,null,null,null,null,null,null,null,null,null,null,null,null,null,null,null,null,null,null,"　　退院",{"$f":"MID($AC$17,6,1)","v":" "},{"$f":"MID($AC$17,16,1)","v":" "},{"$f":"MID($AC$17,26,1)","v":" "},{"$f":"MID($AC$17,36,1)","v":" "},{"$f":"IF(CG18=\" \",1,0)+IF(CH18=\" \",1,0)+IF(CI18=\" \",1,0)+IF(CJ18=\" \",1,0)","v":4}]
["FIM",null,null,null,null,null,null,null,null,null,null,null,null,null,null,null,null,null,null,null,null,null,null,null,null,null,null,null,{"$f":"FIM急性期!S15 & \"/126\n（運動項目：\" & FIM急性期!U15 & \" 認知項目：\" & FIM急性期!W15 & \"）\"","v":"0/126\n（運動項目：0 認知項目：0）"},null,null,null,null,null,null,null,null,null,null,null,null,null,null,null,null,null,null,null,null,null,null,null,null,null,null,null,null,null,"V",0,0,0,0,null,null,null,null,null,null,null,null,null,null,null,null,null,null,null,null,null,null,null,null,"FIM",{"$f":"FIM急性期!$Z$6","v":18}]
["BI",null,null,null,null,null,null,null,null,null,null,null,null,null,null,null,null,null,null,null,null,null,null,null,null,null,null,null,{"$f":"B.I急性期!B3","v":0},null,null,null,null,null,null,null,null,null,null,null,null,null,null,null,null,null,null,null,null,null,null,null,null,null,null,null,null,null,"M",0,0,0,0,null,null,null,null,null,null,null,null,null,null,null,null,null,null,null,null,null,null,null,null,"BI",{"$f":"B.I急性期!$U$15","v":10}]
["看護",null,"食事",null,null,null,null,null,null,null,null,null,null,null,null,null,null,null,null,null,null,null,null,null,null,null,null,null,null,null,null,null,null,null,null,null,null,null,null,null,null,null,null,null,null,null,null,null,null,null,null,null,null,null,null,null,null,null,null,null,null,null,null,null,null,null,null,null,null,null,null,null,null,null,null,null,null,null,null,null,null,null,null,"食事",{"$f":"急性期データ出力用!D63","v":0},{"$f":"急性期データ出力用!D93","v":0}]
[null,null,null,null,"　食形態",null,null,null,null,null,null,null,null,null,null,null,null,null,null,null,"（",null,null,null,null,null,null,"）","　食形態",null,null,null,null,null,null,null,null,null,null,null,null,null,null,null,"（",null,null,null,null,null,null,"）",null,null,null,null,null,null,null,null,null,null,null,null,null,null,null,null,null,null,null,null,null,null,null,null,null,null,null,null,null,null,null,null,{"$f":"急性期データ出力用!D64","v":0},{"$f":"急性期データ出力用!D94","v":0},{"$f":"急性期データ出力用!D65","v":false},null,{"$f":"急性期データ出力用!D95","v":false}]
[null,null,null,null,null,null,null,null,null,null,null,null,null,null,null,null,null,null,null,null,null,null,null,null,null,null,null,null,null,null,null,null,null,null,null,null,null,null,null,null,null,null,null,null,null,null,null,null,null,null,null,null,null,null,null,null,null,null,null,null,null,null,null,null,null,null,null,null,null,null,null,null,null,null,null,null,null,null,null,null,null,null,null,null,{"$f":"急性期データ出力用!H67","v":""},{"$f":"急性期データ出力用!H97","v":""}]
[null,null,"移乗",null,null,null,null,null,null,null,null,null,null,null,null,null,null,null,null,null,null,null,null,null,null,null,null,null,null,null,null,null,null,null,null,null,null,null,null,null,null,null,null,null,null,null,null,null,null,null,null,null,null,null,null,null,null,null,null,null,null,null,null,null,null,null,null,null,null,null,null,null,null,null,null,null,null,null,null,null,null,null,null,"移乗",{"$f":"急性期データ出力用!D69","v":0},{"$f":"急性期データ出力用!D99","v":0}]
[null,null,"トイレ",null,null,null,null,null,null,null,null,null,null,null,null,null,null,null,null,null,null,null,null,null,null,null,null,null,null,null,null,null,null,null,null,null,null,null,null,null,null,null,null,null,null,null,null,null,null,null,null,null,null,null,null,null,null,null,null,null,null,null,null,null,null,null,null,null,null,null,null,null,null,null,null,null,null,null,null,null,null,null,null,"トイレ",{"$f":"急性期データ出力用!D70","v":0},{"$f":"急性期データ出力用!D100","v":0}]
[null,null,"入浴",null,null,null,null,null,null,null,null,null,null,null,null,null,null,null,null,null,null,null,null,null,null,null,null,null,null,null,null,null,null,null,null,null,null,null,null,null,null,null,null,null,null,null,null,null,null,null,null,null,null,null,null,null,null,null,null,null,null,null,null,null,null,null,null,null,null,null,null,null,null,null,null,null,null,null,null,null,null,null,null,"入浴",{"$f":"急性期データ出力用!D71","v":0},{"$f":"急性期データ出力用!D101","v":0}]
[null,null,null,null,null,null,null,null,null,null,null,null,null,null,null,null,null,null,null,null,null,null,null,null,null,null,null,null,null,null,null,null,null,null,null,null,null,null,null,null,null,null,null,null,null,null,null,null,null,null,null,null,null,null,null,null,null,null,null,null,null,null,null,null,null,null,null,null,null,null,null,null,null,null,null,null,null,null,null,null,null,null,null,null,{"$f":"急性期データ出力用!D72","v":0},{"$f":"急性期データ出力用!D102","v":0}]
[null,null,"移動",null,null,null,null,null,null,null,null,null,null,null,null,null,null,null,null,null,null,null,null,null,null,null,null,null,null,null,null,null,null,null,null,null,null,null,null,null,null,null,null,null,null,null,null,null,null,null,null,null,null,null,null,null,null,null,null,null,null,null,null,null,null,null,null,null,null,null,null,null,null,null,null,null,null,null,null,null,null,null,null,"歩行",{"$f":"急性期データ出力用!D73","v":0},{"$f":"急性期データ出力用!D103","v":0}]
[null,null,null,null,null,null,null,null,null,null,null,null,null,null,null,null,null,null,null,null,null,"（",null,null,null,null,null,"）",null,null,null,null,null,null,null,null,null,null,null,null,null,null,null,null,null,"(",null,null,null,null,null,null,")",null,null,null,null,null,null,null,null,null,null,null,null,null,null,null,null,null,null,null,null,null,null,null,null,null,null,null,null,null,null,null,{"$f":"急性期データ出力用!H79","v":""},{"$f":"急性期データ出力用!H109","v":""},{"$f":"急性期データ出力用!D79","v":false},{"$f":"急性期データ出力用!D109","v":false}]
[null,null,"排尿",null,null,null,null,null,null,null,null,null,null,null,null,null,null,null,null,null,null,null,null,null,null,null,null,null,null,null,null,null,null,null,null,null,null,null,null,null,null,null,null,null,null,null,null,null,null,null,null,null,null,null,null,null,null,null,null,null,null,null,null,null,null,null,null,null,null,null,null,null,null,null,null,null,null,null,null,null,null,null,null,"排尿",{"$f":"急性期データ出力用!D82","v":0},{"$f":"急性期データ出力用!D112","v":0}]
[null,null,null,null,null,null,null,null,null,null,null,null,null,null,null,null,null,null,null,null,null,null,null,null,null,null,null,null,null,null,null,null,null,null,null,null,null,null,null,null,null,null,null,null,null,null,null,null,null,null,null,null,null,null,null,null,null,null,null,null,null,null,null,null,null,null,null,null,null,null,null,null,null,null,null,null,null,null,null,null,null,null,null,null,{"$f":"急性期データ出力用!F83","v":""},{"$f":"急性期データ出力用!F113","v":""}]
[null,null,"排便",null,null,null,null,null,null,null,null,null,null,null,null,null,null,null,null,null,null,null,null,null,null,null,null,null,null,null,null,null,null,null,null,null,null,null,null,null,null,null,null,null,null,null,null,null,null,null,null,null,null,null,null,null,null,null,null,null,null,null,null,null,null,null,null,null,null,null,null,null,null,null,null,null,null,null,null,null,null,null,null,"排便",{"$f":"急性期データ出力用!D80","v":0},{"$f":"急性期データ出力用!D110","v":0}]
[null,null,null,null,null,null,null,null,null,null,null,null,null,null,null,null,null,null,null,null,null,null,null,null,null,null,null,null,null,null,null,null,null,null,null,null,null,null,null,null,null,null,null,null,null,null,null,null,null,null,null,null,null,null,null,null,null,null,null,null,null,null,null,null,null,null,null,null,null,null,null,null,null,null,null,null,null,null,null,null,null,null,null,null,{"$f":"急性期データ出力用!F81","v":""},{"$f":"急性期データ出力用!F111","v":""}]
["日常生活機能",null,null,null,"床上安静の指示",null,null,null,null,null,null,null,null,null,null,null,null,null,null,null,null,null,null,null,null,null,null,null,null,null,null,null,null,null,null,null,null,null,null,null,null,null,null,null,null,null,null,null,null,null,null,null,null,null,null,null,null,null,null,null,null,null,null,null,null,null,null,null,null,null,null,null,null,null,null,null,null,null,null,null,null,null,null,null,{"$f":"急性期データ出力用!D114","v":0}]
[null,null,null,null,"寝返り",null,null,null,null,null,null,null,null,null,null,null,null,null,null,null,null,null,null,null,null,null,null,null,null,null,null,null,null,null,null,null,null,null,null,null,null,null,null,null,null,null,null,null,null,null,null,null,null,null,null,null,null,null,null,null,null,null,null,null,null,null,null,null,null,null,null,null,null,null,null,null,null,null,null,null,null,null,null,null,{"$f":"急性期データ出力用!D115","v":0}]
[null,null,null,null,"起き上がり",null,null,null,null,null,null,null,null,null,null,null,null,null,null,null,null,null,null,null,null,null,null,null,null,null,null,null,null,null,null,null,null,null,null,null,null,null,null,null,null,null,null,null,null,null,null,null,null,null,null,null,null,null,null,null,null,null,null,null,null,null,null,null,null,null,null,null,null,null,null,null,null,null,null,null,null,null,null,null,{"$f":"急性期データ出力用!D116","v":0}]
[null,null,null,null,"座位保持",null,null,null,null,null,null,null,null,null,null,null,null,null,null,null,null,null,null,null,null,null,null,null,null,null,null,null,null,null,null,null,null,null,null,null,null,null,null,null,null,null,null,null,null,null,null,null,null,null,null,null,null,null,null,null,null,null,null,null,null,null,null,null,null,null,null,null,null,null,null,null,null,null,null,null,null,null,null,null,{"$f":"急性期データ出力用!D117","v":0}]
[null,null,null,null,"口腔清潔",null,null,null,null,null,null,null,null,null,null,null,null,null,null,null,null,null,null,null,null,null,null,null,null,null,null,null,null,null,null,null,null,null,null,null,null,null,null,null,null,null,null,null,null,null,null,null,null,null,null,null,null,null,null,null,null,null,null,null,null,null,null,null,null,null,null,null,null,null,null,null,null,null,null,null,null,null,null,null,{"$f":"急性期データ出力用!D118","v":0}]
[null,null,null,null,"衣服の着脱",null,null,null,null,null,null,null,null,null,null,null,null,null,null,null,null,null,null,null,null,null,null,null,null,null,null,null,null,null,null,null,null,null,null,null,null,null,null,null,null,null,null,null,null,null,null,null,null,null,null,null,null,null,null,null,null,null,null,null,null,null,null,null,null,null,null,null,null,null,null,null,null,null,null,null,null,null,null,null,{"$f":"急性期データ出力用!D119","v":0}]
[null,null,null,null,"他者への意思の伝達",null,null,null,null,null,null,null,null,null,null,null,null,null,null,null,null,null,null,null,null,null,null,null,null,null,null,null,null,null,null,null,null,null,null,null,null,null,null,null,null,null,null,null,null,null,null,null,null,null,null,null,null,null,null,null,null,null,null,null,null,null,null,null,null,null,null,null,null,null,null,null,null,null,null,null,null,null,null,null,{"$f":"急性期データ出力用!D120","v":0}]
[null,null,null,null,"診療・療養上の指示が通じる",null,null,null,null,null,null,null,null,null,null,null,null,null,null,null,null,null,null,null,null,null,null,null,null,null,null,null,null,null,null,null,null,null,null,null,null,null,null,null,null,null,null,null,null,null,null,null,null,null,null,null,null,null,null,null,null,null,null,null,null,null,null,null,null,null,null,null,null,null,null,null,null,null,null,null,null,null,null,null,{"$f":"急性期データ出力用!D121","v":0}]
[null,null,null,null,"危険行動",null,null,null,null,null,null,null,null,null,null,null,null,null,null,null,null,null,null,null,null,null,null,null,null,null,null,null,null,null,null,null,null,null,null,null,null,null,null,null,null,null,null,null,null,null,null,null,null,null,null,null,null,null,null,null,null,null,null,null,null,null,null,null,null,null,null,null,null,null,null,null,null,null,null,null,null,null,null,null,{"$f":"急性期データ出力用!D122","v":0}]
[null,null,null,null,"身体拘束",null,null,null,null,null,null,null,null,null,null,null,null,null,null,null,null,null,null,null,null,null,null,null,null,null,null,null,null,null,null,null,null,null,null,null,null,null,"(",null,null,null,null,null,null,null,null,null,")",null,null,null,null,null,null,null,null,null,null,null,null,null,null,null,null,null,null,null,null,null,null,null,null,null,null,null,null,null,null,null,{"$f":"急性期データ出力用!D123","v":0},{"$f":"急性期データ出力用!H125","v":""},{"$f":"IF(CG43=2,IF(CH43=\"\",TRUE,FALSE),FALSE)","v":false},{"$f":"急性期データ出力用!D126","v":false}]
[null,null,null,null,"日常生活\n特記事項",null,null,null,null,null,null,null,null,null,null,null,null,null,null,null,null,null,null,null,null,null,null,null,null,null,null,null,null,null,null,null,null,null,null,null,null,null,null,null,"記入者：",null,null,null,null,null,null,null,null,null,null,null,null,null,null,null,null,null,null,null,null,null,null,null,null,null,null,null,null,null,null,null,null,null,null,null,null,null,null,null,{"$f":"急性期データ出力用!C127","v":0}]
["リハビリ",null,null,null,"リハビリ初回評価日（",null,null,null,null,null,null,null,null,null,null,null,null,null,null,"）",null,null,null,null,null,null,null,null,"退院時評価"]
[null,null,"麻痺",null,"Br stage",null,null,"右上肢( 　 )　－手指( 　 )　－下肢( 　 )　　左上肢( 　 )　－手指( 　 )　－下肢( 　 ）",null,null,null,null,null,null,null,null,null,null,null,null,null,null,null,null,null,null,null,null,"Br stage",null,null,"右上肢( 　 )　－手指( 　 )　－下肢( 　 )　　左上肢( 　 )　－手指( 　 )　－下肢( 　 ）",null,null,null,null,null,null,null,null,null,null,null,null,null,null,null,null,null,null,null,null,null,null,null,null,null,null,null,null,null,null,null,null,null,null,null,null,null,null,null,null,null,null,null,null,null,null,null,null,null,null,null,"Br",{"$f":"MID($H$46,6,1)","v":"　"},{"$f":"MID($H$46,15,1)","v":"　"},{"$f":"MID($H$46,24,1)","v":"　"},{"$f":"MID($H$46,34,1)","v":"　"},{"$f":"MID($H$46,43,1)","v":"　"},{"$f":"MID($H$46,52,1)","v":"　"},{"$f":"IF(CG46=\"　\",1,0)+IF(CH46=\"　\",1,0)+IF(CI46=\"　\",1,0)+IF(CJ46=\"　\",1,0)+IF(CK46=\"　\",1,0)+IF(CL46=\"　\",1,0)","v":6},{"$f":"MID($AF$46,6,1)","v":"　"},{"$f":"MID($AF$46,15,1)","v":"　"},{"$f":"MID($AF$46,24,1)","v":"　"},{"$f":"MID($AF$46,34,1)","v":"　"},{"$f":"MID($AF$46,43,1)","v":"　"},{"$f":"MID($AF$46,52,1)","v":"　"},{"$f":"IF(CN46=\"　\",1,0)+IF(CO46=\"　\",1,0)+IF(CP46=\"　\",1,0)+IF(CQ46=\"　\",1,0)+IF(CR46=\"　\",1,0)+IF(CS46=\"　\",1,0)","v":6}]
[null,null,"食事",null,null,null,null,null,null,null,null,null,null,null,null,null,null,null,null,null,null,null,null,null,null,null,null,null,null,null,null,null,null,null,null,null,null,null,null,null,null,null,null,null,null,null,null,null,null,null,null,null,null,null,null,null,null,null,null,null,null,null,null,null,null,null,null,null,null,null,null,null,null,null,null,null,null,null,null,null,null,null,null,"食事",{"$f":"急性期データ出力用!D141","v":0},{"$f":"急性期データ出力用!D147","v":0}]
[null,null,null,null,"　食形態",null,null,null,null,null,null,null,null,null,null,null,null,null,null,null,"（",null,null,null,null,null,null,"）","　食形態",null,null,null,null,null,null,null,null,null,null,null,null,null,null,null,"（",null,null,null,null,null,null,"）",null,null,null,null,null,null,null,null,null,null,null,null,null,null,null,null,null,null,null,null,null,null,null,null,null,null,null,null,null,null,null,null,{"$f":"急性期データ出力用!D142","v":0},{"$f":"急性期データ出力用!D148","v":0},{"$f":"急性期データ出力用!D143","v":false},null,{"$f":"急性期データ出力用!D149","v":false}]
[null,null,null,null,null,null,null,null,null,null,null,null,null,null,null,null,null,null,null,null,null,null,null,null,null,null,null,null,null,null,null,null,null,null,null,null,null,null,null,null,null,null,null,null,null,null,null,null,null,null,null,null,null,null,null,null,null,null,null,null,null,null,null,null,null,null,null,null,null,null,null,null,null,null,null,null,null,null,null,null,null,null,null,null,{"$f":"急性期データ出力用!H145","v":""},{"$f":"急性期データ出力用!H151","v":""},null,{"$f":"急性期データ出力用!D148","v":0}]
[null,null,"移乗",null,null,null,null,null,null,null,null,null,null,null,null,null,null,null,null,null,null,null,null,null,null,null,null,null,null,null,null,null,null,null,null,null,null,null,null,null,null,null,null,null,null,null,null,null,null,null,null,null,null,null,null,null,null,null,null,null,null,null,null,null,null,null,null,null,null,null,null,null,null,null,null,null,null,null,null,null,null,null,null,"移乗",{"$f":"急性期データ出力用!D153","v":0},{"$f":"急性期データ出力用!D154","v":0}]
[null,null,"トイレ",null,null,null,null,null,null,null,null,null,null,null,null,null,null,null,null,null,null,null,null,null,null,null,null,null,null,null,null,null,null,null,null,null,null,null,null,null,null,null,null,null,null,null,null,null,null,null,null,null,null,null,null,null,null,null,null,null,null,null,null,null,null,null,null,null,null,null,null,null,null,null,null,null,null,null,null,null,null,null,null,"トイレ",{"$f":"急性期データ出力用!D155","v":0},{"$f":"急性期データ出力用!D156","v":0}]
[null,null,"移動",null,null,null,null,null,null,null,null,null,null,null,null,null,null,null,null,null,null,null,null,null,null,null,null,null,null,null,null,null,null,null,null,null,null,null,null,null,null,null,null,null,null,null,null,null,null,null,null,null,null,null,null,null,null,null,null,null,null,null,null,null,null,null,null,null,null,null,null,null,null,null,null,null,null,null,null,null,null,null,null,"歩行",{"$f":"急性期データ出力用!D157","v":0},{"$f":"急性期データ出力用!D164","v":0}]
[null,null,null,null,null,null,null,null,null,null,null,null,null,null,null,null,null,null,null,null,null,"（",null,null,null,null,null,"）",null,null,null,null,null,null,null,null,null,null,null,null,null,null,null,null,null,"（",null,null,null,null,null,null,"）",null,null,null,null,null,null,null,null,null,null,null,null,null,null,null,null,null,null,null,null,null,null,null,null,null,null,null,null,null,null,null,{"$f":"急性期データ出力用!H162","v":""},{"$f":"急性期データ出力用!H169","v":""},{"$f":"急性期データ出力用!D163","v":false},{"$f":"急性期データ出力用!D170","v":false}]
["検査",null,null,null,"画像所見等："]
[]
["治療",null,null,null,"自由記載："]
[null,null,null,null,"内服：",null,null,null,null,null,null,null,null,null,null,null,null,null,null,null,null,null,null,null,null,null,null,null,null,null,null,null,null,null,null,null,null,null,null,null,null,null,null,null,null,null,null,null,null,null,null,null,null,null,"青","医師"]
[null,null,null,null,null,null,null,null,null,null,null,null,null,null,null,null,null,null,null,null,null,"（",null,null,null,null,null,null,null,null,null,null,null,null,null,null,null,null,null,null,"）",null,null,null,null,null,null,null,null,null,null,null,null,null,null,null,null,null,null,null,null,null,null,null,null,null,null,null,null,null,null,null,null,null,null,null,null,null,null,null,null,null,null,null,{"$f":"急性期データ出力用!H182","v":""},{"$f":"急性期データ出力用!D183","v":false}]
[null,null,null,null,"手術：",null,null,null,null,null,null,"(初回手術日：",null,null,null,null,null,null,null,null,null,null,null,")","（最終手術日：",null,null,null,null,null,null,null,null,null,null,"）","ivｔPA：",null,null,null,null,null,null,null,null,null,null,null,null,null,null,null,null,null,"赤","ナース",null,null,null,null,null,null,null,null,null,null,null,null,null,null,null,null,null,null,null,null,null,null,null,null,null,null,null,null,{"$f":"急性期データ出力用!D184","v":0},{"$f":"急性期データ出力用!D186","v":0},{"$f":"急性期データ出力用!D17","v":false}]
[null,null,null,null,null,null,null,null,null,null,null,null,null,null,null,null,null,null,null,null,null,null,null,null,null,null,null,null,"（",null,null,null,null,null,"）",null,null,null,"（",null,null,null,null,null,"）",null,null,null,null,null,null,null,null,null,null,null,null,null,null,null,null,null,null,null,null,null,null,null,null,null,null,null,null,null,null,null,null,null,null,null,null,null,null,null,{"$f":"急性期データ出力用!H194","v":""},{"$f":"急性期データ出力用!D193","v":false},{"$f":"急性期データ出力用!D194","v":false}]
["処置",null,null,null,"経過中の症状変動の有無（　　　　　　　）",null,null,null,null,null,null,null,null,null,null,null,null,null,null,null,null,null,null,null,null,null,null,null,null,null,null,null,null,null,null,null,null,null,null,null,null,null,null,null,null,null,null,null,null,null,null,null,null,null,"黄","セラピスト",null,null,null,null,null,null,null,null,null,null,null,null,null,null,null,null,null,null,null,null,null,null,null,null,null,null,null,null,{"$f":"急性期データ出力用!D171","v":0}]
[null,null,null,null,"症状と原因："]
["禁忌事項",null,null,null,null,null,null,null,null,null,null,"(",null,null,null,null,null,null,null,null,null,null,null,null,")",null,null,null,"(",null,null,null,null,null,null,null,null,null,null,null,null,")",null,null,null,null,null,null,null,null,null,null,null,null,"緑","連携室",null,null,null,null,null,null,null,null,null,null,null,null,null,null,null,null,null,null,null,null,null,null,null,null,null,null,null,"禁忌事項",{"$f":"急性期データ出力用!H197","v":""},{"$f":"急性期データ出力用!D195","v":false},{"$f":"急性期データ出力用!D197","v":false}]
["合併症",null,null,null,"肺炎（",null,null,null,null,null,null,null,null,null,"）","尿路感染症（",null,null,null,null,null,null,null,null,null,null,null,"）",null,null,null,null,null,null,null,null,null,null,null,null,null,null,null,null,null,null,null,null,null,null,null,null,null,null,null,null,null,null,null,null,null,null,null,null,null,null,null,null,null,null,null,null,null,null,null,null,null,null,null,null,null,null,null,null,{"$f":"急性期データ出力用!D200","v":0},{"$f":"急性期データ出力用!D201","v":0},{"$f":"急性期データ出力用!D202","v":0}]
[null,null,null,null,"その他感染症（",null,null,null,null,null,null,null,null,null,null,null,null,"）","感染部位：",null,null,null,null,null,null,null,null,null,"その他合併症（",null,null,null,null,null,null,null,null,null,null,null,null,null,null,null,null,null,"）",null,null,null,null,null,null,null,"灰色","自由",null,null,null,null,null,null,null,null,null,null,null,null,null,null,null,null,null,null,null,null,null,null,null,null,null,null,null,null,{"$f":"急性期データ出力用!D203","v":0},{"$f":"急性期データ出力用!D205","v":0}]
[null,null,null,null,"認知症：",null,null,null,null,null,null,null,null,null,null,null,"半側空間無視：",null,null,null,null,null,null,null,null,null,null,"視野障害：",null,null,null,null,null,null,null,null,null,null,null,null,null,null,null,null,null,null,null,null,null,null,null,null,null,null,null,null,null,null,null,null,null,null,null,null,null,null,null,null,null,null,null,null,null,null,null,null,null,null,null,null,null,null,null,"認知症",{"$f":"急性期データ出力用!D206","v":0},{"$f":"急性期データ出力用!D207","v":0},{"$f":"急性期データ出力用!D208","v":0}]
[null,null,null,null,"感覚障害：",null,null,null,null,null,null,null,"失調：",null,null,null,null,null,null,null,"疼痛：",null,null,null,null,null,null,null,"拘縮：",null,null,null,null,null,null,"部位（",null,null,null,null,"）",null,null,null,null,null,null,null,null,null,null,null,null,null,"オレンジ","ナースまたは",null,null,null,null,null,null,null,null,null,null,null,null,null,null,null,null,null,null,null,null,null,null,null,null,null,null,null,"感覚障害",{"$f":"急性期データ出力用!D209","v":0},{"$f":"急性期データ出力用!D210","v":0},{"$f":"急性期データ出力用!D211","v":0},{"$f":"急性期データ出力用!D212","v":0},{"$f":"急性期データ出力用!D213","v":0}]
[null,null,null,null,"嚥下障害：",null,null,null,null,null,null,null,"(",null,null,null,null,null,null,null,"）",null,"失語：",null,null,null,null,null,null,"(",null,null,null,null,null,null,null,null,null,null,null,null,null,"）",null,null,null,null,null,null,null,null,null,null,null,"セラピスト",null,null,null,null,null,null,null,null,null,null,null,null,null,null,null,null,null,null,null,null,null,null,null,null,null,null,null,"嚥下障害",{"$f":"急性期データ出力用!D214","v":0},{"$f":"急性期データ出力用!D215","v":0},{"$f":"急性期データ出力用!D216","v":0},{"$f":"急性期データ出力用!D217","v":0}]
[null,null,null,null,"褥瘡：",null,null,null,null,null,null,"部位（","",null,null,null,null,null,null,"）",null,"  その他皮膚疾患：",null,null,null,null,null,null,null,null,null,null,"（","",null,null,null,null,null,"）",null,null,null,null,null,null,null,null,null,null,null,null,null,null,null,null,null,null,null,null,null,null,null,null,null,null,null,null,null,null,null,null,null,null,null,null,null,null,null,null,null,null,null,"褥瘡",{"$f":"急性期データ出力用!D218","v":0},{"$f":"急性期データ出力用!D219","v":""},{"$f":"急性期データ出力用!D220","v":0},{"$f":"急性期データ出力用!D221","v":""}]
["リハビリ",null,null,null,null,null,null,null,null,null,"リハビリ開始日（",null,null,null,null,null,null,null,null,"）",null,null,null,null,null,null,null,null,null,null,null,null,null,null,null,null,null,null,null,null,null,null,null,null,null,null,null,null,null,null,null,null,null,null,null,null,null,null,null,null,null,null,null,null,null,null,null,null,null,null,null,null,null,null,null,null,null,null,null,null,null,null,null,"療法",{"$f":"急性期データ出力用!H224","v":""},{"$f":"急性期データ出力用!C222","v":0}]
[null,null,null,null,null,null,null,null,null,null,null,null,null,null,null,null,null,null,null,null,null,null,null,null,null,null,null,null,null,null,null,null,null,null,null,null,null,null,null,null,null,null,null,null,null,null,null,null,null,null,null,null,null,null,null,null,null,null,null,null,null,null,null,null,null,null,null,null,null,null,null,null,null,null,null,null,null,null,null,null,null,null,null,null,{"$f":"急性期データ出力用!D223","v":false}]
[null,null,null,null,null,null,null,null,null,null,null,null,null,null,null,null,null,null,null,null,null,null,null,null,null,null,null,null,null,null,null,null,null,null,null,null,null,null,null,null,null,null,null,null,null,null,null,null,null,null,null,null,null,null,null,null,null,null,null,null,null,null,null,null,null,null,null,null,null,null,null,null,null,null,null,null,null,null,null,null,null,null,null,null,{"$f":"急性期データ出力用!D224","v":false}]
[null,null,null,null,null,null,null,null,null,null,null,null,null,null,null,null,null,null,null,null,null,null,null,null,null,null,null,null,null,null,null,null,null,null,null,null,null,null,null,null,null,null,null,null,null,null,null,null,null,null,null,null,null,null,null,null,null,null,null,null,null,null,null,null,null,null,null,null,null,null,null,null,null,null,null,null,null,null,null,null,null,null,null,null,{"$f":"急性期データ出力用!D225","v":false}]
[null,null,null,null,"担当者（リハスタッフ）",null,null,null,null,null,null,"ＰＴ：",null,null,null,null,null,null,null,null,null,"ＯＴ：",null,null,null,null,null,null,null,null,null,"ＳＴ："]
["説明",null,null,null,null,null,null,null,null,null,null,null,null,null,null,null,null,null,null,null,null,null,null,null,null,null,"説明日：",null,null,null,null,null,null,"主治医：（",null,null,null,null,null,null,null,null,null,null,null,null,null,"）",null,null,null,null,null,null,null,null,null,null,null,null,null,null,null,null,null,null,null,null,null,null,null,null,null,null,null,null,null,null,null,null,null,null,null,null,{"$f":"急性期データ出力用!D228","v":false}]
[]
["転帰・転院基準",null,null,null,"転院先："]
[null,null,null,null,"□自宅（在宅）",null,null,null,null,null,null,null,"□回復期リハビリ病院",null,null,null,null,null,null,null,null,null,null,null,"□老人保健施設",null,null,null,null,null,null,null,"□療養型病院",null,null,null,null,null,null,"□一般病院"]
[null,null,null,null,"自宅生活可能とする状態まで　改善・回復 ",null,null,null,null,null,null,null,"リハビリによって能力向上が期待でき、自宅復帰へ向けたリハビリ・家庭復帰への意欲あり                   ",null,null,null,null,null,null,null,null,null,null,null,"リハビリ・介護サービスを組合せても自宅生活が困難　　　　　　　",null,null,null,null,null,null,null,"継続した医療行為が必要",null,null,null,null,null,null,"その他の疾患に対する治療が必要"]
[]
[null,null,null,null," 転院先　（",null,null,null,null,null,null,null,null,null,null,null,null,"）に情報提供",null,null,null,null,null,null,null,null,null,null,null,null,null,null,null,null,null,null,null,null,null,null,null,null,null,null,null,null,null,null,null,null,null,null,null,null,null,null,null,null,null,null,null,null,null,null,null,null,null,null,null,null,null,null,null,null,null,null,null,null,null,null,null,null,null,null,{"$f":"急性期データ出力用!D232","v":0}]
[null,null,null,null,null,null,null,null,null,null,null,null,null,null,null,null,null,null,null,null,null,null,null,null,null,null,null,null,null,null,null,null,null,null,null,null,null,null,null,null,null,null,null,null,null,null,null,null,null,null,null,null,null,null,null,null,null,null,null,null,null,null,null,null,null,null,null,null,null,null,null,null,null,null,null,null,null,null,null,null,null,null,null,null,{"$f":"急性期データ出力用!D235","v":false}]
["担当者",null,null,null,"サイン（医師）"]
["脳卒中地域連携パス情報提供書"]
["基本情報",null,null,null,"現在の状況"]
[null,null,null,null,"職業",null,null,null,null,null,null,null,null,"（",null,null,null,null,null,null,null,null,"）",null,null,"復職見込み",null,null,null,null,null,null,null,null,null,null,null,null,null,null,null,null,null,null,null,null,null,null,null,null,null,null,null,null,null,null,null,null,null,null,null,null,null,null,null,null,null,null,null,null,null,null,null,null,null,null,null,null,null,null,null,null,null,"職業",{"$f":"急性期データ出力用!D237","v":0},{"$f":"急性期データ出力用!D238","v":0},{"$f":"急性期データ出力用!D239","v":0}]
[null,null,null,null,"生活の場",null,null,null,null,null,null,null,null,null,null,null,null,null,null,"（",null,null,null,null,null,null,null,null,null,"）",null,null,null,null,null,null,null,null,null,"（",null,null,null,null,null,null,null,null,null,"）",null,null,null,null,null,null,null,null,null,null,null,null,null,null,null,null,null,null,null,null,null,null,null,null,null,null,null,null,null,null,null,null,null,"生活の場",{"$f":"急性期データ出力用!D240","v":0},{"$f":"急性期データ出力用!D241","v":0},{"$f":"急性期データ出力用!D242","v":0}]
[null,null,null,null,null,null,null,null,null,null,null,null,"（",null,null,null,null,null,null,null,null,null,"）",null,null,null,null,null,null,null,null,null,null,null,null,null,null,null,null,null,null,null,null,null,null,null,null,null,null,null,null,null,null,null,null,null,null,null,null,null,null,null,null,null,null,null,null,null,null,null,null,null,null,null,null,null,null,null,null,null,null,null,null,"その他",{"$f":"急性期データ出力用!D243","v":0}]
[null,null,null,null,"保険の種類",null,null,null,null,null,null,null,null,null,null,null,null,null,null,null,null,null,null,null,null,null,null,null,"（",null,null,null,null,null,null,"）",null,null,null,null,null,null,null,null,null,null,null,null,null,null,null,null,null,null,null,null,null,null,null,null,null,null,null,null,null,null,null,null,null,null,null,null,null,null,null,null,null,null,null,null,null,null,null,"保険の種類",{"$f":"急性期データ出力用!D244","v":0},{"$f":"急性期データ出力用!D245","v":0}]
[null,null,null,null,"退院後の主治医",null,null,null,null,null,null,null,null,null,null,null,"（医療機関・医師名：",null,null,null,null,null,null,null,null,null,null,null,null,null,null,null,"）",null,null,null,null,null,null,null,null,null,null,null,null,null,null,null,null,null,null,null,null,null,null,null,null,null,null,null,null,null,null,null,null,null,null,null,null,null,null,null,null,null,null,null,null,null,null,null,null,null,null,"退院後の主治医",{"$f":"急性期データ出力用!D246","v":0},{"$f":"急性期データ出力用!D247","v":0}]
[null,null,null,null,"身体障害者手帳",null,null,null,null,null,null,null,null,null,null,"（",null,null,"）級",null,null,null,null,null,null,null,null,null,null,null,null,null,null,null,null,null,null,null,null,null,null,null,null,null,null,null,null,null,null,null,null,null,null,null,null,null,null,null,null,null,null,null,null,null,null,null,null,null,null,null,null,null,null,null,null,null,null,null,null,null,null,null,null,"身体障害者手帳",{"$f":"急性期データ出力用!D248","v":0},{"$f":"急性期データ出力用!D249","v":0},{"$f":"急性期データ出力用!D250","v":0},{"$f":"急性期データ出力用!D251","v":0}]
[null,null,null,null,"介護保険",null,null,null,null,null,null,null,null,null,null,null,null,null,null,null,null,null,null,null,null,null,null,null,null,null,null,null,null,null,null,null,null,null,null,null,null,null,null,null,null,null,null,null,null,null,null,null,null,null,null,null,null,null,null,null,null,null,null,null,null,null,null,null,null,null,null,null,null,null,null,null,null,null,null,null,null,null,null,"介護保険",{"$f":"急性期データ出力用!D252","v":0}]
[null,null,null,null,null,null,null,null,null,null,"介護度：",null,null,"要支援",null,null,null,null,null,null,null,null,null,null,"要介護",null,null,null,null,null,null,null,null,null,null,null,null,null,null,null,null,null,null,null,null,null,null,null,null,null,null,null,null,null,null,null,null,null,null,null,null,null,null,null,null,null,null,null,null,null,null,null,null,null,null,null,null,null,null,null,null,null,null,"介護度",{"$f":"急性期データ出力用!D253","v":0}]
[null,null,null,null,null,null,null,null,null,null,"居宅介護支援事業所（",null,null,null,null,null,null,null,null,null,null,null,null,null,null,null,null,null,null,null,"）　",null,"担当者（",null,null,null,null,null,null,null,null,null,"）",null,null,null,null,null,null,null,null,null,null,null,null,null,null,null,null,null,null,null,null,null,null,null,null,null,null,null,null,null,null,null,null,null,null,null,null,null,null,null,null,"居宅介護",{"$f":"急性期データ出力用!D254","v":0},{"$f":"急性期データ出力用!D255","v":0}]
[null,null,null,null,"退院後の本人・家族の希望",null,null,null,null,null,null,null,null,null,null,null,null,null,null,null,null,null,null,null,null,null,null,null,null,null,null,null,null,null,null,null,null,null,null,null,null,null,null,null,null,null,null,null,null,null,null,null,null,null,null,null,null,null,null,null,null,null,null,null,null,null,null,null,null,null,null,null,null,null,null,null,null,null,null,null,null,null,null,"退院後の本人の希望",{"$f":"急性期データ出力用!D256","v":0}]
[]
[null,null,null,null,"家族状況",null,null,null,null,null,"介護者：",null,null,null,null,null,null,null,"（",null,null,null,null,null,null,"）",null,null,null,null,"介護力：",null,null,null,null,null,null,null,null,null,null,null,null,null,null,null,null,null,null,null,null,null,null,null,null,null,null,null,null,null,null,null,null,null,null,null,null,null,null,null,null,null,null,null,null,null,null,null,null,null,null,null,null,"介護者",{"$f":"急性期データ出力用!D257","v":0},{"$f":"急性期データ出力用!D258","v":0},{"$f":"急性期データ出力用!D259","v":0}]
[null,null,null,null,null,null,null,null,null,null,"キーパーソン：氏名",null,null,null,null,null,null,"（",null,null,null,null,null,null,null,"）",null,null,"本人との関係：",null,null,null,null,null,"（",null,null,null,"）"]
["医療連携上の特記事項",null,null,null,null,null,null,null,null,null,null,null,null,null,null,null,null,null,null,null,null,null,null,null,null,null,null,null,null,null,null,null,null,null,null,null,null,null,null,null,null,null,null,null,null,null,null,null,null,null,null,null,null,null,null,null,null,null,null,null,null,null,null,null,null,null,null,null,null,null,null,null,null,null,null,null,null,null,null,null,null,null,null,"特記事項",{"$f":"急性期データ出力用!D262","v":1}]

{"sheet":"回復期診療計画(入力用)","index":2,"n_rows":93,"n_cols":106,"rows_kept":93,"cut":false,"hidden":true,"merged":[[12,60,12,64],[11,0,11,3],[12,7,12,19],[12,0,12,3],[11,4,11,19],[11,60,11,64],[12,57,12,59],[13,57,13,59],[11,36,11,51],[11,20,11,35],[13,0,14,3],[14,8,14,17],[14,4,14,6],[13,4,13,19],[12,36,12,38],[13,20,13,35],[12,20,12,35],[14,60,14,64],[12,39,12,51],[13,60,13,64],[14,36,14,38],[14,57,14,59],[19,0,29,1],[22,4,22,27],[29,47,29,52],[18,4,18,6],[29,4,29,6],[18,7,18,19],[28,33,28,41],[18,20,18,22],[20,4,20,27],[29,11,29,43],[26,28,26,52],[28,4,28,27],[21,4,21,27],[19,28,19,52],[19,4,19,27],[24,28,24,52],[21,28,21,52],[27,4,27,27],[24,4,24,27],[20,28,20,52],[18,36,18,38],[18,39,18,51],[28,28,28,32],[29,7,29,10],[16,36,16,51],[14,20,14,22],[15,36,15,51],[14,40,14,49],[15,20,15,35],[17,0,17,3],[18,0,18,3],[17,20,17,35],[17,36,17,51],[16,4,16,19],[16,0,16,3],[6,4,6,52],[9,10,9,52],[8,39,8,41],[10,23,10,25],[3,44,3,46],[8,42,8,48],[8,7,8,18],[3,32,3,34],[3,3,3,16],[3,50,3,52],[7,8,7,15],[8,22,8,31],[3,47,3,49],[10,7,10,8],[9,4,9,9],[10,26,10,36],[8,4,8,6],[7,16,7,52],[7,4,7,7],[8,19,8,21],[3,41,3,43],[93,0,94,52],[92,11,92,15],[88,18,88,24],[88,28,88,33],[88,35,88,37],[89,0,91,3],[91,4,91,12],[89,4,89,10],[90,4,90,12],[78,0,88,3],[80,40,80,48],[85,14,86,50],[83,10,83,14],[84,10,84,17],[87,30,87,33],[84,18,84,29],[80,8,80,18],[80,20,80,28],[79,14,79,21],[79,29,79,34],[79,8,79,12],[87,34,87,46],[82,10,82,27],[83,23,83,31],[87,13,87,17],[87,19,87,24],[60,31,60,32],[66,25,66,30],[77,0,77,52],[65,0,69,3],[64,0,64,3],[76,4,76,6],[75,0,76,3],[70,0,74,3],[82,29,82,34],[84,36,84,41],[76,17,76,30],[76,8,76,16],[67,33,67,38],[63,0,63,3],[63,10,63,22],[57,0,62,3],[60,11,60,12],[64,19,64,20],[69,36,69,41],[75,4,75,8],[72,17,72,24],[65,16,65,18],[72,11,72,16],[48,15,48,19],[60,13,60,20],[72,8,72,10],[84,32,84,35],[81,13,81,21],[75,9,75,52],[57,8,57,52],[51,22,51,27],[51,9,51,11],[60,33,60,40],[46,16,46,24],[45,13,45,20],[57,4,57,7],[60,21,60,22],[60,23,60,30],[59,4,59,7],[58,8,58,52],[58,4,58,7],[59,8,59,52],[47,17,47,18],[50,9,50,22],[48,20,48,25],[47,32,47,37],[38,12,38,21],[30,8,31,52],[35,4,35,52],[43,0,48,3],[47,22,47,23],[56,31,56,32],[53,29,53,40],[53,8,53,10],[54,0,54,11],[53,25,53,27],[55,0,56,11],[56,18,56,19],[55,12,55,52],[54,12,54,52],[53,12,53,23],[49,0,52,3],[53,0,53,3],[45,27,45,31],[46,25,46,31],[51,13,51,14],[51,17,51,21],[47,27,47,31],[47,13,47,16],[47,20,47,21],[41,33,41,38],[40,19,40,32],[41,21,41,31],[29,44,29,46],[40,4,40,11],[39,36,39,39],[28,43,28,51],[27,28,27,52],[23,28,23,52],[38,4,38,11],[32,4,33,5],[37,8,37,52],[36,4,36,52],[41,12,41,18],[40,12,40,17],[30,4,31,7],[37,4,37,7],[41,4,41,9],[38,23,38,30],[39,4,39,11],[39,28,39,33],[39,20,39,26],[39,12,39,17],[33,22,33,39],[30,0,31,3],[32,0,35,3],[36,0,37,3],[4,4,4,52],[10,9,10,19],[3,35,3,40],[18,23,18,35],[17,4,17,19],[12,4,12,6],[13,36,13,51],[22,28,22,52],[23,4,23,27],[3,0,3,2],[16,20,16,35],[26,4,26,27],[25,28,25,52],[25,4,25,27],[15,0,15,3],[15,4,15,19],[3,22,3,31],[14,24,14,33],[4,0,10,3],[3,17,3,21],[5,4,5,52],[0,49,0,51],[1,24,1,31],[1,47,1,52],[2,48,2,52],[2,29,2,34],[0,33,0,35],[0,42,0,44],[2,35,2,36],[1,0,1,16],[1,18,1,23],[2,0,2,2],[2,15,2,18],[2,37,2,40],[2,41,2,47],[1,33,1,38],[1,39,1,45],[2,24,2,28],[2,3,2,14],[2,19,2,23]]}
[null,null,null,null,null,null,null,null,null,null,null,null,null,null,null,null,null,null,null,null,null,null,null,null,null,null,null,null,null,"入院時入力",null,null,null,{"$f":"IF(回復期データ出力用!I240=0,\"完了\",\"未完了\")","v":"未完了"},null,null,"発症3か月時入力",null,null,null,null,null,{"$f":"IF(回復期データ出力用!J240=0,\"完了\",\"未完了\")","v":"未完了"},null,null,"退院時入力",null,null,null,{"$f":"IF(回復期データ出力用!K240+回復期データ出力用!I240=0,\"完了\",\"未完了\")","v":"未完了"},null,null,null,null,"最終更新\n日時","2023-04-01T09:53:01"]
["脳卒中地域連携診療計画書",null,null,null,null,null,null,null,null,null,null,null,null,null,null,null,null,null,"回復期病院名（",null,null,null,null,null,null,null,null,null,null,null,null,null,"）","急性期病院名（",null,null,null,null,null,null,null,null,null,null,null,null,"）","【回復期用】version3",null,null,null,null,null,null,null,null,null,null,null,null,null,null,null,null,null,null,"生年月日ワーク",null,null,null,null,null,null,null,null,null,null,null,null,null,null,null,null,null,"チェック色変更用",null,null,null,null,null,null,null,null,null,null,null,null,null,null,null,null,null,null,null,null,"パス中止理由"]
["氏名",null,null,null,null,null,null,null,null,null,null,null,null,null,null,"性別",null,null,null,null,null,null,null,null,"生年月日",null,null,null,null,null,null,null,null,null,null,"　年",null,"月日",null,null,null,"（西暦入力用）",null,null,null,null,null,null,{"$f":"IF(ISERROR(BI15),\"\",\"（\"&  BI15 &\"歳）\")","v":""},null,null,null,null,null,"青","医師",false,null,null,null,null,null,null,null,null,null,"年号",null,null,{"$f":"回復期データ出力用!F7","v":""},null,null,null,null,null,null,null,null,null,null,null,null,null,"性別",{"$f":"回復期データ出力用!D6","v":0},null,null,null,null,null,null,null,null,null,null,null,null,null,null,null,null,null,null,null,false]
["住所",null,null,null,null,null,null,null,null,null,null,null,null,null,null,null,null,"電話番号",null,null,null,null,"",null,null,null,null,null,null,null,null,null,"利き腕",null,null,null,null,null,null,null,null,"身長",null,null,null,null,null,"体重",null,null,null,null,null,null,null,null,null,null,null,null,null,null,null,null,null,null,null,null,null,null,null,null,null,null,null,null,null,null,null,null,null,null,null,"利き腕",{"$f":"回復期データ出力用!D15","v":0}]
["診断名",null,null,null,"脳梗塞",null,null,null,null,null,null,null,null,null,null,null,null,null,null,null,null,null,null,null,null,null,null,null,null,null,null,null,null,null,null,null,null,null,null,null,null,null,null,null,null,null,null,null,null,null,null,null,null,null,"赤","ナース",false,null,null,null,null,null,null,null,null,null,null,null,null,null,null,null,null,null,null,null,null,null,null,null,null,null,null,"脳梗塞",{"$f":"回復期データ出力用!F18","v":""},null,null,null,null,null,null,null,null,null,null,null,null,null,null,null,null,null,null,null,false]
[null,null,null,null,"脳出血",null,null,null,null,null,null,null,null,null,null,null,null,null,null,null,null,null,null,null,null,null,null,null,null,null,null,null,null,null,null,null,null,null,null,null,null,null,null,null,null,null,null,null,null,null,null,null,null,null,null,null,null,null,null,null,null,null,null,null,null,null,null,null,null,null,null,null,null,null,null,null,null,null,null,null,null,null,null,"脳出血",{"$f":"回復期データ出力用!F26","v":""}]
[null,null,null,null,"くも膜下出血",null,null,null,null,null,null,null,null,null,null,null,null,null,null,null,null,null,null,null,null,null,null,null,null,null,null,null,null,null,null,null,null,null,null,null,null,null,null,null,null,null,null,null,null,null,null,null,null,null,"黄","セラピスト",false,null,null,null,null,null,null,null,null,null,null,null,null,null,null,null,null,null,null,null,null,null,null,null,null,null,null,"くも膜下出血",{"$f":"回復期データ出力用!F35","v":""}]
[null,null,null,null,null,null,null,null,null,null,null,null,null,null,null,null,null,null,null,null,null,null,null,null,null,null,null,null,null,null,null,null,null,null,null,null,null,null,null,null,null,null,null,null,null,null,null,null,null,null,null,null,null,null,null,null,null,null,null,null,null,null,null,null,null,null,null,null,null,null,null,null,null,null,null,null,null,null,null,null,null,null,null,"その他",{"$f":"回復期データ出力用!F40","v":""},{"$f":"回復期データ出力用!D40","v":false},{"$f":"IF(CH8=TRUE,IF(CH9=0,TRUE,FALSE),FALSE)","v":false}]
[null,null,null,null,"発症日：",null,null,null,null,null,null,null,null,null,null,null,null,null,null," 部位：",null,null,null,null,null,null,null,null,null,null,null,null,null,null,null,null,null,null,null,"既往：",null,null,null,null,null,null,null,null,null,null,null,null,null,null,"緑","連携室",false,null,null,null,null,null,null,null,null,null,null,null,null,null,null,null,null,null,null,null,null,null,null,null,null,null,null,"診断名",{"$f":"CG5&CG6&CG7&CG8","v":""},{"$f":"I8","v":0}]
[null,null,null,null,"脳卒中危険因子：",null,null,null,null,null,null,null,null,null,null,null,null,null,null,null,null,null,null,null,null,null,null,null,null,null,null,null,null,null,null,null,null,null,null,null,null,null,null,null,null,null,null,null,null,null,null,null,null,null,null,null,null,null,null,null,null,null,null,null,null,null,null,null,null,null,null,null,null,null,null,null,null,null,null,null,null,null,null,"部位",{"$f":"回復期データ出力用!D43","v":0}]
[null,null,null,null,"　　　　　　　　",null,null,"酒：",null,null,null,null,null,null,null,null,null,null,null,null,null,null,null,"たばこ　：",null,null,null,null,null,null,null,null,null,null,null,null,null,null,null,null,null,null,null,null,null,null,null,null,null,null,null,null,null,null,"灰色","自由",false,null,null,null,null,null,null,null,null,null,null,null,null,null,null,null,null,null,null,null,null,null,null,null,null,null,null,"既往",{"$f":"回復期データ出力用!D44","v":0}]
["経過",null,null,null,"入院時",null,null,null,null,null,null,null,null,null,null,null,null,null,null,null,"発症3か月時",null,null,null,null,null,null,null,null,null,null,null,null,null,null,null,"退院時",null,null,null,null,null,null,null,null,null,null,null,null,null,null,null,null,null,null,null,null,null,null,null,{"$f":"TEXT(AL3,\"mm月dd日\")","v":"月日"},null,null,null,null,null,null,null,null,null,null,null,null,null,null,null,null,null,null,null,null,null,null,"脳卒中",{"$f":"回復期データ出力用!H51","v":""}]
["日付",null,null,null,"入院日：",null,null,null,null,null,null,null,null,null,null,null,null,null,null,null,null,null,null,null,null,null,null,null,null,null,null,null,null,null,null,null,"退院日：",null,null,null,null,null,null,null,null,null,null,null,null,null,null,null,null,null,"オレンジ","ナースまたは",false,"生年月日西暦",null,null,{"$f":"DATEVALUE(BR3 & SUBSTITUTE(AJ3,\"元年\",\"１年\") & BI12)","v":{"$error":"#VALUE!"}},null,null,null,null,{"$f":"BI13","v":{"$error":"#VALUE!"}},null,null,null,null,null,null,null,null,null,null,null,null,null,null,null,null,null,"酒",{"$f":"回復期データ出力用!D53","v":0},"急性期退院日",{"$f":"'急性期診療計画(入力用)'!AF13","v":0}]
["目標",null,null,null,null,null,null,null,null,null,null,null,null,null,null,null,null,null,null,null,null,null,null,null,null,null,null,null,null,null,null,null,null,null,null,null,null,null,null,null,null,null,null,null,null,null,null,null,null,null,null,null,null,null,null,"セラピスト",null,"発症日",null,null,{"$f":"H9","v":"00:00:00"},null,null,null,null,null,null,null,null,null,null,null,null,null,null,null,null,null,null,null,null,null,null,"たばこ",{"$f":"回復期データ出力用!D54","v":0},{"$f":"回復期データ出力用!D230","v":false},{"$f":"回復期データ出力用!D231","v":false},{"$f":"回復期データ出力用!D233","v":false},{"$f":"回復期データ出力用!D234","v":false},{"$f":"回復期データ出力用!D236","v":false},{"$f":"回復期データ出力用!D237","v":false}]
[null,null,null,null,null,null,null,"（",null,null,null,null,null,null,null,null,null,null,"）",null,null,null,null,"（",null,null,null,null,null,null,null,null,null,null,"）",null,null,null,null,"（",null,null,null,null,null,null,null,null,null,null,"）",null,null,null,null,null,null,"年齢",null,null,{"$f":"DATEDIF(BI13,BI14,\"Y\")","v":{"$error":"#VALUE!"}},null,null,null,null,null,null,null,null,null,null,null,null,null,null,null,null,null,null,null,null,null,null,null,{"$f":"MID($E$16,6,1)","v":" "},{"$f":"MID($E$16,16,1)","v":" "},{"$f":"MID($E$16,26,1)","v":" "},{"$f":"MID($E$16,36,1)","v":" "},{"$f":"IF(CG15=\" \",1,0)+IF(CH15=\" \",1,0)+IF(CI15=\" \",1,0)+IF(CJ15=\" \",1,0)","v":4},{"$f":"MID($AK$16,6,1)","v":" "},{"$f":"MID($AK$16,16,1)","v":" "},{"$f":"MID($AK$16,26,1)","v":" "},{"$f":"MID($AK$16,36,1)","v":" "},{"$f":"IF(CL15=\" \",1,0)+IF(CM15=\" \",1,0)+IF(CN15=\" \",1,0)+IF(CO15=\" \",1,0)","v":4}]
["MMT",null,null,null,"右上肢（   ）　　左上肢（   ）　　右下肢（   ）　　左下肢（   ）",null,null,null,null,null,null,null,null,null,null,null,null,null,null,null,"右上肢（   ）　　左上肢（   ）　　右下肢（   ）　　左下肢（   ）",null,null,null,null,null,null,null,null,null,null,null,null,null,null,null,"右上肢（   ）　　左上肢（   ）　　右下肢（   ）　　左下肢（   ）",null,null,null,null,null,null,null,null,null,null,null,null,null,null,null,null,null,null,null,null,null,null,null,null,null,null,null,null,null,null,null,null,null,null,null,null,null,null,null,null,null,null,null,null,null,null,null,{"$f":"MID($U$16,6,1)","v":" "},{"$f":"MID($U$16,16,1)","v":" "},{"$f":"MID($U$16,26,1)","v":" "},{"$f":"MID($U$16,36,1)","v":" "},{"$f":"IF(CG16=\" \",1,0)+IF(CH16=\" \",1,0)+IF(CI16=\" \",1,0)+IF(CJ16=\" \",1,0)","v":4}]
["FIM",null,null,null,{"$f":"'FIM回復期 (入院)'!S15 & \"/126\n（運動項目：\" & 'FIM回復期 (入院)'!U15 & \"　認知項目：\" & 'FIM回復期 (入院)'!W15 & \"）\"","v":"0/126\n（運動項目：0　認知項目：0）"},null,null,null,null,null,null,null,null,null,null,null,null,null,null,null,{"$f":"'FIM回復期 (３ヶ月)'!S15 & \"/126\n（運動項目：\" & 'FIM回復期 (３ヶ月)'!U15 & \"　認知項目：\" & 'FIM回復期 (３ヶ月)'!W15 & \"）\"","v":"0/126\n（運動項目：0　認知項目：0）"},null,null,null,null,null,null,null,null,null,null,null,null,null,null,null,{"$f":"'FIM回復期 (退院)'!S15 & \"/126\n（運動項目：\" & 'FIM回復期 (退院)'!U15 & \"　認知項目：\" & 'FIM回復期 (退院)'!W15 & \"）\"","v":"0/126\n（運動項目：0　認知項目：0）"},null,null,null,null,null,null,null,null,null,null,null,null,null,null,null,null,null,null,null,null,null,null,null,null,null,null,null,null,null,null,null,null,null,null,null,null,null,null,null,null,null,null,null,null,null,null,null,{"$f":"'FIM回復期 (入院)'!$Z$6","v":18},{"$f":"'FIM回復期 (３ヶ月)'!$Z$6","v":18},{"$f":"'FIM回復期 (退院)'!$Z$6","v":18}]
["BI",null,null,null,{"$f":"'B.I回復期(入院)'!B3","v":0},null,null,null,null,null,null,null,null,null,null,null,null,null,null,null,{"$f":"'B.I回復期(3ヶ月)'!B3","v":0},null,null,null,null,null,null,null,null,null,null,null,null,null,null,null,{"$f":"'B.I回復期(退院)'!B3","v":0},null,null,null,null,null,null,null,null,null,null,null,null,null,null,null,null,null,null,null,null,null,null,null,null,null,null,null,null,null,null,null,null,null,null,null,null,null,null,null,null,null,null,null,null,null,null,null,{"$f":"'B.I回復期(入院)'!U15","v":10},{"$f":"'B.I回復期(3ヶ月)'!U15","v":10},{"$f":"'B.I回復期(退院)'!U15","v":10}]
["麻痺",null,null,null,"Br stage",null,null,"右上肢( 　 )　－手指( 　 )　－下肢( 　 )\n左上肢( 　 )　－手指( 　 )　－下肢( 　 ）",null,null,null,null,null,null,null,null,null,null,null,null,"Br stage",null,null,"右上肢( 　 )　－手指( 　 )　－下肢( 　 )\n左上肢( 　 )　－手指( 　 )　－下肢( 　 ）",null,null,null,null,null,null,null,null,null,null,null,null,"Br stage",null,null,"右上肢( 　 )　－手指( 　 )　－下肢( 　 )\n左上肢( 　 )　－手指( 　 )　－下肢( 　 ）",null,null,null,null,null,null,null,null,null,null,null,null,null,null,null,null,null,null,null,null,null,null,null,null,null,null,null,null,null,null,null,null,null,null,null,null,null,null,null,null,null,null,null,null,{"$f":"MID($H$19,6,1)","v":"　"},{"$f":"MID($H$19,15,1)","v":"　"},{"$f":"MID($H$19,24,1)","v":"　"},{"$f":"MID($H$19,33,1)","v":"　"},{"$f":"MID($H$19,42,1)","v":"　"},{"$f":"MID($H$19,51,1)","v":"　"},{"$f":"IF(CG19=\"　\",1,0)+IF(CH19=\"　\",1,0)+IF(CI19=\"　\",1,0)+IF(CJ19=\"　\",1,0)+IF(CK19=\"　\",1,0)+IF(CL19=\"　\",1,0)","v":6},{"$f":"MID($X$19,6,1)","v":"　"},{"$f":"MID($X$19,15,1)","v":"　"},{"$f":"MID($X$19,24,1)","v":"　"},{"$f":"MID($X$19,33,1)","v":"　"},{"$f":"MID($X$19,42,1)","v":"　"},{"$f":"MID($X$19,51,1)","v":"　"},{"$f":"IF(CN19=\"　\",1,0)+IF(CO19=\"　\",1,0)+IF(CP19=\"　\",1,0)+IF(CQ19=\"　\",1,0)+IF(CR19=\"　\",1,0)+IF(CS19=\"　\",1,0)","v":6},{"$f":"MID($AN$19,6,1)","v":"　"},{"$f":"MID($AN$19,15,1)","v":"　"},{"$f":"MID($AN$19,24,1)","v":"　"},{"$f":"MID($AN$19,33,1)","v":"　"},{"$f":"MID($AN$19,42,1)","v":"　"},{"$f":"MID($AN$19,51,1)","v":"　"},{"$f":"IF(CU19=\"　\",1,0)+IF(CV19=\"　\",1,0)+IF(CW19=\"　\",1,0)+IF(CX19=\"　\",1,0)+IF(CY19=\"　\",1,0)+IF(CZ19=\"　\",1,0)","v":6}]
["日常生活機能",null,null,null,"床上安静の指示",null,null,null,null,null,null,null,null,null,null,null,null,null,null,null,null,null,null,null,null,null,null,null,null,null,null,null,null,null,null,null,null,null,null,null,null,null,null,null,null,null,null,null,null,null,null,null,null,null,null,null,null,null,null,null,null,null,null,null,null,null,null,null,null,null,null,null,null,null,null,null,null,null,null,null,null,null,null,null,{"$f":"回復期データ出力用!D70","v":0}]
[null,null,null,null,"寝返り",null,null,null,null,null,null,null,null,null,null,null,null,null,null,null,null,null,null,null,null,null,null,null,null,null,null,null,null,null,null,null,null,null,null,null,null,null,null,null,null,null,null,null,null,null,null,null,null,null,null,null,null,null,null,null,null,null,null,null,null,null,null,null,null,null,null,null,null,null,null,null,null,null,null,null,null,null,null,null,{"$f":"回復期データ出力用!D71","v":0}]
[null,null,null,null,"起き上がり",null,null,null,null,null,null,null,null,null,null,null,null,null,null,null,null,null,null,null,null,null,null,null,null,null,null,null,null,null,null,null,null,null,null,null,null,null,null,null,null,null,null,null,null,null,null,null,null,null,null,null,null,null,null,null,null,null,null,null,null,null,null,null,null,null,null,null,null,null,null,null,null,null,null,null,null,null,null,null,{"$f":"回復期データ出力用!D72","v":0}]
[null,null,null,null,"座位保持",null,null,null,null,null,null,null,null,null,null,null,null,null,null,null,null,null,null,null,null,null,null,null,null,null,null,null,null,null,null,null,null,null,null,null,null,null,null,null,null,null,null,null,null,null,null,null,null,null,null,null,null,null,null,null,null,null,null,null,null,null,null,null,null,null,null,null,null,null,null,null,null,null,null,null,null,null,null,null,{"$f":"回復期データ出力用!D73","v":0}]
[null,null,null,null,"口腔清潔",null,null,null,null,null,null,null,null,null,null,null,null,null,null,null,null,null,null,null,null,null,null,null,null,null,null,null,null,null,null,null,null,null,null,null,null,null,null,null,null,null,null,null,null,null,null,null,null,null,null,null,null,null,null,null,null,null,null,null,null,null,null,null,null,null,null,null,null,null,null,null,null,null,null,null,null,null,null,null,{"$f":"回復期データ出力用!D74","v":0}]
[null,null,null,null,"衣服の着脱",null,null,null,null,null,null,null,null,null,null,null,null,null,null,null,null,null,null,null,null,null,null,null,null,null,null,null,null,null,null,null,null,null,null,null,null,null,null,null,null,null,null,null,null,null,null,null,null,null,null,null,null,null,null,null,null,null,null,null,null,null,null,null,null,null,null,null,null,null,null,null,null,null,null,null,null,null,null,null,{"$f":"回復期データ出力用!D195","v":0}]
[null,null,null,null,"他者への意思の伝達",null,null,null,null,null,null,null,null,null,null,null,null,null,null,null,null,null,null,null,null,null,null,null,null,null,null,null,null,null,null,null,null,null,null,null,null,null,null,null,null,null,null,null,null,null,null,null,null,null,null,null,null,null,null,null,null,null,null,null,null,null,null,null,null,null,null,null,null,null,null,null,null,null,null,null,null,null,null,null,{"$f":"回復期データ出力用!D196","v":0}]
[null,null,null,null,"診療・療養上の指示が通じる",null,null,null,null,null,null,null,null,null,null,null,null,null,null,null,null,null,null,null,null,null,null,null,null,null,null,null,null,null,null,null,null,null,null,null,null,null,null,null,null,null,null,null,null,null,null,null,null,null,null,null,null,null,null,null,null,null,null,null,null,null,null,null,null,null,null,null,null,null,null,null,null,null,null,null,null,null,null,null,{"$f":"回復期データ出力用!D75","v":0}]
[null,null,null,null,"危険行動",null,null,null,null,null,null,null,null,null,null,null,null,null,null,null,null,null,null,null,null,null,null,null,null,null,null,null,null,null,null,null,null,null,null,null,null,null,null,null,null,null,null,null,null,null,null,null,null,null,null,null,null,null,null,null,null,null,null,null,null,null,null,null,null,null,null,null,null,null,null,null,null,null,null,null,null,null,null,null,{"$f":"回復期データ出力用!D76","v":0}]
[null,null,null,null,"身体拘束",null,null,null,null,null,null,null,null,null,null,null,null,null,null,null,null,null,null,null,null,null,null,null,null,null,null,null,null,null,null,null,null,null,null,null,null,null,"(",null,null,null,null,null,null,null,null,null,")",null,null,null,null,null,null,null,null,null,null,null,null,null,null,null,null,null,null,null,null,null,null,null,null,null,null,null,null,null,null,null,{"$f":"回復期データ出力用!D77","v":0},{"$f":"回復期データ出力用!H79","v":""},{"$f":"IF(CG29=2,IF(CH29=\"\",TRUE,FALSE),FALSE)","v":false},{"$f":"回復期データ出力用!D80","v":false}]
[null,null,null,null,"日常生活\n特記事項",null,null,null,null,null,null,null,null,null,null,null,null,null,null,null,null,null,null,null,null,null,null,null,null,null,null,null,null,null,null,null,null,null,null,null,null,null,null,null,"記入者：",null,null,null,null,null,null,null,null,null,null,null,null,null,null,null,null,null,null,null,null,null,null,null,null,null,null,null,null,null,null,null,null,null,null,null,null,null,null,null,{"$f":"回復期データ出力用!D81","v":0}]
["検査",null,null,null,"画像所見等：",null,null,null,null,null,null,null,null,null,null,null,null,null,null,null,null,null,null,null,null,null,null,null,null,null,null,null,null,null,null,null,null,null,null,null,null,null,null,null,null,null,null,null,null,null,null,null,null,null,"青","医師"]
[]
["内服",null,null,null,"内服：",null,null,null,null,null,null,null,null,null,null,null,null,null,null,null,null,null,null,null,null,null,null,null,null,null,null,null,null,null,null,null,null,null,null,null,null,null,null,null,null,null,null,null,null,null,null,null,null,null,"赤","ナース",null,null,null,null,null,null,null,null,null,null,null,null,null,null,null,null,null,null,null,null,null,null,null,null,null,null,null,null,{"$f":"回復期データ出力用!H206","v":""}]
[null,null,null,null,null,null,null,null,null,null,null,null,null,null,null,null,null,null,null,null,null,"（",null,null,null,null,null,null,null,null,null,null,null,null,null,null,null,null,null,null,"）",null,null,null,null,null,null,null,null,null,null,null,null,null,null,null,null,null,null,null,null,null,null,null,null,null,null,null,null,null,null,null,null,null,null,null,null,null,null,null,null,null,null,null,null,{"$f":"回復期データ出力用!D207","v":false}]
[]
[null,null,null,null,"　　服薬管理",null,null,null,null,null,null,null,null,null,null,null,null,null,null,null,null,null,null,null,null,null,null,null,null,null,null,null,null,null,null,null,null,null,null,null,null,null,null,null,null,null,null,null,null,null,null,null,null,null,"黄","セラピスト",null,null,null,null,null,null,null,null,null,null,null,null,null,null,null,null,null,null,null,null,null,null,null,null,null,null,null,null,{"$f":"回復期データ出力用!D85","v":0}]
["処置",null,null,null,"経過中の症状変動の有無（　　　　　　　　）",null,null,null,null,null,null,null,null,null,null,null,null,null,null,null,null,null,null,null,null,null,null,null,null,null,null,null,null,null,null,null,null,null,null,null,null,null,null,null,null,null,null,null,null,null,null,null,null,null,null,null,null,null,null,null,null,null,null,null,null,null,null,null,null,null,null,null,null,null,null,null,null,null,null,null,null,null,null,null,{"$f":"回復期データ出力用!D86","v":0}]
[null,null,null,null,"症状と原因：",null,null,null,null,null,null,null,null,null,null,null,null,null,null,null,null,null,null,null,null,null,null,null,null,null,null,null,null,null,null,null,null,null,null,null,null,null,null,null,null,null,null,null,null,null,null,null,null,null,"緑","連携室"]
[null,null,null,null,"認知症：",null,null,null,null,null,null,null,"半側空間無視：",null,null,null,null,null,null,null,null,null,null,"視野障害：",null,null,null,null,null,null,null,null,null,null,null,null,null,null,null,null,null,null,null,null,null,null,null,null,null,null,null,null,null,null,null,null,null,null,null,null,null,null,null,null,null,null,null,null,null,null,null,null,null,null,null,null,null,null,null,null,null,null,null,"認知症",{"$f":"回復期データ出力用!D88","v":0},{"$f":"回復期データ出力用!D89","v":0},{"$f":"回復期データ出力用!D90","v":0}]
[null,null,null,null,"感覚障害：",null,null,null,null,null,null,null,"失調：",null,null,null,null,null,null,null,"疼痛：",null,null,null,null,null,null,null,"拘縮：",null,null,null,null,null,null,"部位（",null,null,null,null,"）",null,null,null,null,null,null,null,null,null,null,null,null,null,"灰色","自由",null,null,null,null,null,null,null,null,null,null,null,null,null,null,null,null,null,null,null,null,null,null,null,null,null,null,null,"感覚障害",{"$f":"回復期データ出力用!D91","v":0},{"$f":"回復期データ出力用!D92","v":0},{"$f":"回復期データ出力用!D93","v":0},{"$f":"回復期データ出力用!D94","v":0},{"$f":"回復期データ出力用!D95","v":0}]
[null,null,null,null,"嚥下障害：",null,null,null,null,null,null,null,"失語：",null,null,null,null,null,"(",null,null,null,null,null,null,null,null,null,null,null,null,null,null,"）",null,null,null,null,null,null,null,null,null,null,null,null,null,null,null,null,null,null,null,null,null,null,null,null,null,null,null,null,null,null,null,null,null,null,null,null,null,null,null,null,null,null,null,null,null,null,null,null,null,"嚥下障害",{"$f":"回復期データ出力用!D102","v":0},null,{"$f":"回復期データ出力用!D96","v":0},{"$f":"回復期データ出力用!D97","v":0}]
[null,null,null,null,"褥瘡：",null,null,null,null,null,null,"部位（",null,null,null,null,null,null,null,"）",null,"その他皮膚疾患：",null,null,null,null,null,null,null,null,null,null,"（",null,null,null,null,null,null,"）",null,null,null,null,null,null,null,null,null,null,null,null,null,null,null,null,null,null,null,null,null,null,null,null,null,null,null,null,null,null,null,null,null,null,null,null,null,null,null,null,null,null,null,"褥瘡",{"$f":"回復期データ出力用!D98","v":0},{"$f":"回復期データ出力用!D99","v":0},{"$f":"回復期データ出力用!D100","v":0},{"$f":"回復期データ出力用!D101","v":0}]
[]
["栄養・呼吸"]
[null,null,null,null,"食事形態",null,null,null,null,null,null,null,null,null,null,null,null,null,null,null,null,null,null,null,null,null,null,null,null,null,null,null,null,null,null,null,null,null,null,null,null,null,null,null,null,null,null,null,null,null,null,null,null,null,null,null,null,null,null,null,null,null,null,null,null,null,null,null,null,null,null,null,null,null,null,null,null,null,null,null,null,null,null,"食事形態",{"$f":"回復期データ出力用!H218","v":""}]
[null,null,null,null,null,null,null,null,null,null,null,null,"（",null,null,null,null,null,null,null,null,"）",null,null,null,null,"（",null,null,null,null,null,"）",null,null,null,null,null,null,null,null,null,null,null,null,null,null,null,null,null,null,null,null,null,null,null,null,null,null,null,null,null,null,null,null,null,null,null,null,null,null,null,null,null,null,null,null,null,null,null,null,null,null,null,{"$f":"回復期データ出力用!D218","v":false},{"$f":"回復期データ出力用!D219","v":false}]
[null,null,null,null,"方法",null,null,null,null,null,null,null,null,null,null,"(","：",null,null,null,null,null,null,null,null,"呼吸",null,null,null,null,null,null,"）",null,null,null,null,null,null,null,null,null,null,null,null,null,null,null,null,null,null,null,null,null,null,null,null,null,null,null,null,null,null,null,null,null,null,null,null,null,null,null,null,null,null,null,null,null,null,null,null,null,null,"方法",{"$f":"回復期データ出力用!H220","v":""},{"$f":"回復期データ出力用!H223","v":""},{"$f":"回復期データ出力用!D221","v":false},{"$f":"回復期データ出力用!D224","v":false},{"$f":"回復期データ出力用!D222","v":false},{"$f":"回復期データ出力用!D223","v":false}]
[null,null,null,null,null,null,null,null,null,null,null,null,null,"カテーテル：　　　　",null,null,null,null,null,"Ｆｒ",null,null,"ｃｍ　　　",null,null,null,null,"最終交換日：",null,null,null,null,null,null,null,null,null,null,null,null,null,null,null,null,null,null,null,null,null,null,null,null,null,null,null,null,null,null,null,null,null,null,null,null,null,null,null,null,null,null,null,null,null,null,null,null,null,null,null,null,null,null,null,"カテーテル",{"$f":"回復期データ出力用!D107","v":0},{"$f":"回復期データ出力用!D108","v":0}]
[null,null,null,null,"気管切開",null,null,null,null,null,null,null,null,null,null,"最終交換日：",null,null,null,null,null,null,null,null,null,null,null,null,null,null,null,null,null,null,null,null,null,null,null,null,null,null,null,null,null,null,null,null,null,null,null,null,null,null,null,null,null,null,null,null,null,null,null,null,null,null,null,null,null,null,null,null,null,null,null,null,null,null,null,null,null,null,null,"気管切開",{"$f":"回復期データ出力用!D110","v":0}]
["排泄",null,null,null,null,null,null,null,null,null,null,null,null,null,null,null,null,null,null,null,null,null,null,null,null,null,null,null,null,null,null,null,null,null,null,null,null,null,null,null,null,null,null,null,null,null,null,null,null,null,null,null,null,null,null,null,null,null,null,null,null,null,null,null,null,null,null,null,null,null,null,null,null,null,null,null,null,null,null,null,null,null,null,"排泄　介助",{"$f":"回復期データ出力用!D111","v":0}]
[null,null,null,null,"方法：",null,null,null,null,null,null,null,null,null,null,null,null,null,null,null,null,null,null,null,null,null,null,null,null,null,null,null,null,null,null,null,null,null,null,null,null,null,null,null,null,null,null,null,null,null,null,null,null,null,null,null,null,null,null,null,null,null,null,null,null,null,null,null,null,null,null,null,null,null,null,null,null,null,null,null,null,null,null,"　方法",{"$f":"回復期データ出力用!H228","v":""},{"$f":"回復期データ出力用!D229","v":false}]
[null,null,null,null,null,null,null,null,null,null,null,null,null,null,null,"Ｆｒ",null,"最終交換日："]
[]
["禁忌事項",null,null,null,null,null,null,null,null,null,null,"(",null,null,null,null,null,null,null,null,null,null,null,null,")",null,null,null,"(",null,null,null,null,null,null,null,null,null,null,null,null,")",null,null,null,null,null,null,null,null,null,null,null,null,null,null,null,null,null,null,null,null,null,null,null,null,null,null,null,null,null,null,null,null,null,null,null,null,null,null,null,null,null,"禁忌事項",{"$f":"回復期データ出力用!H118","v":""},{"$f":"回復期データ出力用!D116","v":false},{"$f":"回復期データ出力用!D118","v":false}]
["障害高齢者の日常生活自立度"]
["認知症高齢者の日常生活自立度"]
[null,null,null,null,null,null,null,null,null,null,null,null,"必須：（長谷川式",null,null,null,null,null,null,null,"点）　",null,null,"判定した場合：（ＭＭＳＥ",null,null,null,null,null,null,null,null,null,"点）"]
["リハビリ",null,null,null,null,null,null,null,null,null,null,null,null,null,null,null,null,null,null,null,null,null,null,null,null,null,null,null,null,null,null,null,null,null,null,null,null,null,null,null,null,null,null,null,null,null,null,null,null,null,null,null,null,null,null,null,null,null,null,null,null,null,null,null,null,null,null,null,null,null,null,null,null,null,null,null,null,null,null,null,null,null,null,null,{"$f":"回復期データ出力用!D124","v":false}]
[null,null,null,null,null,null,null,null,null,null,null,null,null,null,null,null,null,null,null,null,null,null,null,null,null,null,null,null,null,null,null,null,null,null,null,null,null,null,null,null,null,null,null,null,null,null,null,null,null,null,null,null,null,null,null,null,null,null,null,null,null,null,null,null,null,null,null,null,null,null,null,null,null,null,null,null,null,null,null,null,null,null,null,null,{"$f":"回復期データ出力用!D126","v":false}]
[null,null,null,null,null,null,null,null,null,null,null,null,null,null,null,null,null,null,null,null,null,null,null,null,null,null,null,null,null,null,null,null,null,null,null,null,null,null,null,null,null,null,null,null,null,null,null,null,null,null,null,null,null,null,null,null,null,null,null,null,null,null,null,null,null,null,null,null,null,null,null,null,null,null,null,null,null,null,null,null,null,null,null,null,{"$f":"回復期データ出力用!D128","v":false}]
[null,null,null,null,"担当者（リハスタッフ）",null,null,null,null,null,null,"ＰＴ：",null,null,null,null,null,null,null,null,null,"ＯＴ：",null,null,null,null,null,null,null,null,null,"ＳＴ："]
[null,null,null,null,null,null,null,null,null,null,null,null,null,null,null,null,null,null,null,null,null,null,null,null,null,null,null,null,null,null,null,null,null,null,null,null,null,null,null,null,null,null,null,null,null,null,null,null,null,null,null,null,null,null,null,null,null,null,null,null,null,null,null,null,null,null,null,null,null,null,null,null,null,null,null,null,null,null,null,null,null,null,null,null,null,{"$f":"回復期データ出力用!H128","v":""}]
[]
["介護保険",null,null,null,"要介護認定の申請",null,null,null,null,null,null,null,null,null,null,null,null,null,null,null,null,null,null,"（","要支援",null,null,null,null,null,null,"要介護",null,null,null,null,null,null,null,null,null,null,null,"）",null,null,null,null,null,null,null,null,null,null,"青","医師",null,null,null,null,null,null,null,null,null,null,null,null,null,null,null,null,null,null,null,null,null,null,null,null,null,null,null,"介護保険",{"$f":"回復期データ出力用!D130","v":0},{"$f":"回復期データ出力用!D131","v":0}]
["身障手帳",null,null,null,null,null,null,null,null,null,null,null,null,null,null,null,null,null,"（",null,null,"）級",null,null,null,null,null,null,null,null,null,null,null,null,null,null,null,null,null,null,null,null,null,null,null,null,null,null,null,null,null,null,null,null,null,null,null,null,null,null,null,null,null,null,null,null,null,null,null,null,null,null,null,null,null,null,null,null,null,null,null,null,null,"身障手帳",{"$f":"回復期データ出力用!D132","v":0},{"$f":"回復期データ出力用!D133","v":0}]
[null,null,null,null,"自宅訪問",null,null,null,null,null,null,null,null,"（訪問日",null,null,null,null,null,"）",null,null,null,null,null,null,null,null,null,null,null,null,null,null,null,null,null,null,null,null,null,null,null,null,null,null,null,null,null,null,null,null,null,null,"赤","ナース",null,null,null,null,null,null,null,null,null,null,null,null,null,null,null,null,null,null,null,null,null,null,null,null,null,null,null,"自宅訪問",{"$f":"回復期データ出力用!D136","v":0}]
[null,null,null,null,"住宅改修必要性",null,null,null,null,null,null,null,null,null,"（",null,null,null,null,null,null,null,null,null,"：",null,null,null,null,null,null,"）",null,null,null,null,null,null,null,null,null,null,null,null,null,null,null,null,null,null,null,null,null,null,null,null,null,null,null,null,null,null,null,null,null,null,null,null,null,null,null,null,null,null,null,null,null,null,null,null,null,null,null,"住宅改修必要性",{"$f":"回復期データ出力用!D138","v":0},{"$f":"回復期データ出力用!D139","v":0}]
[null,null,null,null,"　　　　　　　　　　　　　",null,null,null,null,null,null,null,"（",null,null,null,null,null,null,null,null,null,null,null,null,null,null,null,null,null,null,null,"：",null,null,null,null,null,null,"）",null,null,null,null,null,null,null,null,null,null,null,null,null,null,"黄","セラピスト",null,null,null,null,null,null,null,null,null,null,null,null,null,null,null,null,null,null,null,null,null,null,null,null,null,null,null,null,{"$f":"回復期データ出力用!H144","v":""},{"$f":"回復期データ出力用!D145","v":false}]
[null,null,null,null,"福祉用具の必要性",null,null,null,null,null,null,null,null,null,null,null,null,null,null,null,null,null,null,null,null,null,null,null,null,null,null,null,null,null,null,null,null,null,null,null,null,null,null,null,null,null,null,null,null,null,null,null,null,null,null,null,null,null,null,null,null,null,null,null,null,null,null,null,null,null,null,null,null,null,null,null,null,null,null,null,null,null,null,"福祉用具",{"$f":"回復期データ出力用!D147","v":0}]
[null,null,null,null,null,null,null,null,null,null,null,null," (",null,null,null,null,null,null,null,null,null,null,null,null,null,null,null,null,null,null,null,null,null,null,"：",null,null,null,null,null,null,"）",null,null,null,null,null,null,null,null,null,null,null,"緑","連携室",null,null,null,null,null,null,null,null,null,null,null,null,null,null,null,null,null,null,null,null,null,null,null,null,null,null,null,null,{"$f":"回復期データ出力用!H150","v":""},{"$f":"回復期データ出力用!D151","v":false}]
["説明",null,null,null,null,null,null,null,null,null,null,null,null,null,null,null,null,null,null,null,null,null,null,null,null,null,null,null,null,null,null,null,null,null,null,null,null,null,null,null,null,null,null,null,null,null,null,null,null,null,null,null,null,null,null,null,null,null,null,null,null,null,null,null,null,null,null,null,null,null,null,null,null,null,null,null,null,null,null,null,null,null,null,"症状説明",{"$f":"回復期データ出力用!D153","v":false}]
[null,null,null,null,null,null,null,null,null,null,null,null,null,null,null,null,null,null,null,null,null,null,null,null,null,null,null,null,null,null,null,null,null,null,null,null,null,null,null,null,null,null,null,null,null,null,null,null,null,null,null,null,null,null,"灰色","自由",null,null,null,null,null,null,null,null,null,null,null,null,null,null,null,null,null,null,null,null,null,null,null,null,null,null,null,"退院・・・",{"$f":"回復期データ出力用!D154","v":false}]
[null,null,null,null,null,"説明日：",null,null,null,null,null,"主治医：（",null,null,null,null,null,null,null,null,null,null,null,null,null,"）"]
[null,null,null,null,null,null,null,null,null,null,null,null,null,null,null,null,null,null,null,null,null,null,null,null,null,null,null,null,null,null,null,null,null,null,null,null,null,null,null,null,null,null,null,null,null,null,null,null,null,null,null,null,null,null,"オレンジ","ナースまたは"]
[null,null,null,null,null,null,null,null,null,null,null,null,null,null,null,null,null,null,null,null,null,null,null,null,null,null,null,null,null,null,null,null,null,null,null,null,null,null,null,null,null,null,null,null,null,null,null,null,null,null,null,null,null,null,null,"セラピスト"]
["転帰・転院基準",null,null,null,"退院先："]
[null,null,null,null,"退院先",null,null,"（",null,null,null,null,null,null,null,null,null,"）に情報提供"]
["脳卒中地域連携パス情報提供書"]
["基本情報",null,null,null,"現在の状況"]
[null,null,null,null,"職業",null,null,null,null,null,null,null,null,"（",null,null,null,null,null,null,null,null,"）",null,null,"復職見込み",null,null,null,null,null,null,null,null,null,null,null,null,null,null,null,null,null,null,null,null,null,null,null,null,null,null,null,null,null,null,null,null,null,null,null,null,null,null,null,null,null,null,null,null,null,null,null,null,null,null,null,null,null,null,null,null,null,"職業",{"$f":"回復期データ出力用!D164","v":0},{"$f":"回復期データ出力用!D165","v":0},{"$f":"回復期データ出力用!D166","v":0}]
[null,null,null,null,"生活の場",null,null,null,null,null,null,null,null,null,null,null,null,null,null,"（",null,null,null,null,null,null,null,null,null,"）",null,null,null,null,null,null,null,null,null,"（",null,null,null,null,null,null,null,null,null,"）",null,null,null,null,null,null,null,null,null,null,null,null,null,null,null,null,null,null,null,null,null,null,null,null,null,null,null,null,null,null,null,null,null,"生活の場",{"$f":"回復期データ出力用!D167","v":0},{"$f":"回復期データ出力用!D168","v":0},{"$f":"回復期データ出力用!D169","v":0}]
[null,null,null,null,null,null,null,null,null,null,null,null,"（",null,null,null,null,null,null,null,null,null,"）",null,null,null,null,null,null,null,null,null,null,null,null,null,null,null,null,null,null,null,null,null,null,null,null,null,null,null,null,null,null,null,null,null,null,null,null,null,null,null,null,null,null,null,null,null,null,null,null,null,null,null,null,null,null,null,null,null,null,null,null,"その他",{"$f":"回復期データ出力用!D170","v":0}]
[null,null,null,null,"保険の種類",null,null,null,null,null,null,null,null,null,null,null,null,null,null,null,null,null,null,null,null,null,null,null,"（",null,null,null,null,null,null,"）",null,null,null,null,null,null,null,null,null,null,null,null,null,null,null,null,null,null,null,null,null,null,null,null,null,null,null,null,null,null,null,null,null,null,null,null,null,null,null,null,null,null,null,null,null,null,null,"保険の種類",{"$f":"回復期データ出力用!D171","v":0},{"$f":"回復期データ出力用!D172","v":0}]
[null,null,null,null,"退院後の主治医",null,null,null,null,null,null,null,null,null,null,null,"（医療機関・医師名：",null,null,null,null,null,null,null,null,null,null,null,null,null,null,null,"）",null,null,null,null,null,null,null,null,null,null,null,null,null,null,null,null,null,null,null,null,null,null,null,null,null,null,null,null,null,null,null,null,null,null,null,null,null,null,null,null,null,null,null,null,null,null,null,null,null,null,"退院後の主治医",{"$f":"回復期データ出力用!D173","v":0},{"$f":"回復期データ出力用!D174","v":0}]
[null,null,null,null,"介護保険",null,null,null,null,null,"居宅介護支援事業所（",null,null,null,null,null,null,null,null,null,null,null,null,null,null,null,null,null,null,null,"）　",null,"担当者（",null,null,null,null,null,null,null,null,null,"）",null,null,null,null,null,null,null,null,null,null,null,null,null,null,null,null,null,null,null,null,null,null,null,null,null,null,null,null,null,null,null,null,null,null,null,null,null,null,null,null,"居宅介護",{"$f":"回復期データ出力用!D181","v":0},{"$f":"回復期データ出力用!D182","v":0}]
[null,null,null,null,"退院後の本人・家族の希望",null,null,null,null,null,null,null,null,null,null,null,null,null,null,null,null,null,null,null,null,null,null,null,null,null,null,null,null,null,null,null,null,null,null,null,null,null,null,null,null,null,null,null,null,null,null,null,null,null,null,null,null,null,null,null,null,null,null,null,null,null,null,null,null,null,null,null,null,null,null,null,null,null,null,null,null,null,null,"退院後の本人の希望",{"$f":"回復期データ出力用!D183","v":0}]
[]
[null,null,null,null,"家族状況",null,null,null,null,null,"介護者：",null,null,null,null,null,null,null,"（",null,null,null,null,null,null,"）",null,null,null,null,"介護力：",null,null,null,null,null,null,null,null,null,null,null,null,null,null,null,null,null,null,null,null,null,null,null,null,null,null,null,null,null,null,null,null,null,null,null,null,null,null,null,null,null,null,null,null,null,null,null,null,null,null,null,null,"介護者",{"$f":"回復期データ出力用!D184","v":0},{"$f":"回復期データ出力用!D185","v":0},{"$f":"回復期データ出力用!D186","v":0}]
[null,null,null,null,null,null,null,null,null,null,"キーパーソン：氏名",null,null,null,null,null,null,"（",null,null,null,null,null,null,null,"）",null,null,"本人との関係：",null,null,null,null,null,"（",null,null,null,"）"]
["説明",null,null,null,null,null,null,null,null,null,null,null,null,null,null,null,null,null,null,null,null,null,null,null,null,null,null,null,null,null,null,null,null,null,null,null,null,null,null,null,null,null,null,null,null,null,null,null,null,null,null,null,null,null,null,null,null,null,null,null,null,null,null,null,null,null,null,null,null,null,null,null,null,null,null,null,null,null,null,null,null,null,null,"説明",{"$f":"回復期データ出力用!D157","v":false},{"$f":"回復期データ出力用!H158","v":""}]
[null,null,null,null,null,null,null,null,null,null,null,null,null,null,null,null,null,null,null,null,null,null,null,null,null,null,null,null,null,null,null,null,null,null,null,null,null,null,null,null,null,null,null,null,null,null,null,null,null,null,null,null,null,null,null,null,null,null,null,null,null,null,null,null,null,null,null,null,null,null,null,null,null,null,null,null,null,null,null,null,null,null,null,null,{"$f":"回復期データ出力用!D158","v":false}]
[null,null,null,null,null,null,null,null,null,null,null,null,null,null,null,null,null,null,null,null,null,null,null,null,null,null,null,null,null,null,null,null,null,null,null,null,null,null,null,null,null,null,null,null,null,null,null,null,null,null,null,null,null,null,null,null,null,null,null,null,null,null,null,null,null,null,null,null,null,null,null,null,null,null,null,null,null,null,null,null,null,null,null,null,{"$f":"回復期データ出力用!D159","v":false}]
["医療連携上の特記事項",null,null,null,null,null,null,null,null,null,null,null,null,null,null,null,null,null,null,null,null,null,null,null,null,null,null,null,null,null,null,null,null,null,null,null,null,null,null,null,null,null,null,null,null,null,null,null,null,null,null,null,null,null,null,null,null,null,null,null,null,null,null,null,null,null,null,null,null,null,null,null,null,null,null,null,null,null,null,null,null,null,null,"特記事項",{"$f":"回復期データ出力用!D189","v":0}]

{"sheet":"維持期診療計画(入力用)","index":3,"n_rows":151,"n_cols":105,"rows_kept":151,"cut":false,"hidden":false,"merged":[[112,0,113,52],[104,8,104,10],[93,4,93,7],[97,4,97,6],[95,4,95,7],[103,4,103,16],[96,5,96,12],[109,18,109,26],[108,4,108,13],[102,35,102,40],[98,0,110,3],[92,0,97,3],[106,4,106,11],[107,4,107,11],[109,4,109,13],[111,11,111,15],[105,4,105,9],[100,33,100,38],[104,17,104,24],[99,25,99,30],[98,16,98,18],[95,24,97,52],[94,31,94,51],[93,29,93,51],[2,28,2,41],[2,0,2,6],[3,41,3,47],[3,35,3,36],[2,47,2,52],[3,24,3,28],[3,15,3,18],[3,19,3,23],[3,0,3,2],[2,7,2,16],[50,12,50,18],[55,22,55,23],[47,32,47,38],[47,4,47,11],[55,27,55,31],[49,19,49,32],[31,49,31,52],[56,15,56,19],[11,60,11,64],[14,57,14,59],[11,26,11,36],[11,9,11,19],[13,60,13,64],[12,60,12,64],[12,57,12,59],[14,60,14,64],[53,13,53,20],[55,32,55,37],[11,23,11,25],[47,23,47,30],[47,12,47,21],[48,12,48,18],[48,20,48,25],[48,40,48,43],[57,9,57,18],[13,57,13,59],[22,9,23,16],[30,35,30,40],[27,17,27,20],[27,39,27,52],[30,23,30,30],[30,17,30,22],[30,31,30,34],[27,21,27,34],[30,41,30,48],[29,35,29,52],[30,49,30,52],[17,4,17,52],[14,4,14,52],[55,13,55,16],[53,27,53,31],[56,20,56,25],[48,4,48,11],[16,4,16,52],[46,4,46,16],[49,12,49,17],[13,4,13,52],[48,33,48,38],[83,19,83,20],[86,22,86,28],[85,4,85,7],[47,0,50,3],[75,30,75,47],[80,31,80,52],[81,0,82,3],[81,10,81,22],[57,0,60,3],[48,27,48,30],[49,4,49,11],[54,25,54,31],[65,0,80,3],[80,27,80,30],[55,17,55,18],[61,0,61,3],[51,0,56,3],[62,0,62,11],[63,0,64,11],[72,28,72,38],[82,24,82,26],[82,27,82,32],[82,11,82,22],[54,16,54,24],[86,4,86,9],[86,38,86,44],[84,46,84,51],[84,40,84,44],[84,19,84,24],[84,33,84,38],[84,26,84,31],[87,17,87,24],[88,4,88,52],[86,11,86,17],[84,7,84,17],[84,0,84,6],[63,12,63,52],[59,9,59,11],[59,13,59,14],[61,4,61,52],[59,22,59,27],[88,0,91,3],[83,0,83,3],[85,0,87,3],[87,8,87,10],[80,8,80,26],[80,4,80,7],[74,28,74,51],[73,28,73,42],[69,9,70,52],[64,18,64,19],[64,23,64,30],[71,4,71,52],[64,31,64,32],[79,8,79,27],[65,9,66,52],[65,4,66,8],[59,17,59,21],[89,4,91,52],[83,4,83,17],[12,0,12,3],[12,4,12,52],[58,9,58,22],[69,4,70,8],[67,9,68,52],[67,4,68,8],[64,12,64,17],[19,22,19,39],[27,35,27,38],[27,4,27,16],[44,10,45,16],[29,4,30,16],[32,31,32,34],[34,31,34,34],[37,31,37,34],[21,4,21,8],[18,4,19,5],[34,49,34,52],[29,17,29,34],[32,49,32,52],[50,4,50,9],[55,20,55,21],[62,12,62,52],[13,0,13,3],[9,39,9,41],[10,10,10,52],[4,17,4,21],[4,22,4,31],[9,22,9,31],[8,16,8,52],[8,4,8,7],[5,0,11,3],[8,8,8,15],[6,4,6,52],[5,4,5,52],[4,50,4,52],[10,4,10,9],[16,0,17,3],[15,4,15,7],[18,0,20,3],[21,0,25,3],[20,4,20,52],[23,18,23,25],[25,23,25,26],[26,0,46,3],[31,31,31,34],[14,0,15,3],[15,8,15,52],[42,49,42,52],[37,41,37,48],[37,49,37,52],[45,45,45,51],[42,31,42,34],[43,49,43,52],[45,27,45,33],[43,31,43,34],[38,31,38,34],[37,23,37,30],[38,49,38,52],[46,35,46,52],[46,17,46,34],[0,49,0,51],[3,37,3,40],[3,29,3,34],[4,32,4,34],[9,4,9,6],[4,41,4,43],[7,4,7,52],[9,7,9,18],[11,7,11,8],[9,42,9,48],[9,19,9,21],[4,35,4,40],[4,44,4,46],[4,47,4,49],[0,41,0,43],[0,29,0,32],[0,37,0,40],[0,45,0,48],[0,33,0,35],[1,0,1,16],[3,3,3,14],[4,0,4,2],[4,3,4,16],[3,48,3,52]]}
[null,null,null,null,null,null,null,null,null,null,null,null,null,null,null,null,null,null,null,null,null,null,null,null,null,null,null,null,null,"1ヶ月目\n必須項目",null,null,null,{"$f":"IF(維持期データ出力用!I285=0,\"完了\",\"未完了\")","v":"未完了"},null,null,null,"3ヶ月目\n必須項目",null,null,null,{"$f":"IF(維持期データ出力用!J285=0,\"完了\",\"未完了\")","v":"未完了"},null,null,null,"3ヶ月目\n要記入項目",null,null,null,{"$f":"IF(維持期データ出力用!K285=0,\"完了\",\"未完了\")","v":"未完了"},null,null,null,null,"最終更新\n日時","2023-04-01T09:53:01"]
["脳卒中地域連携診療計画書",null,null,null,null,null,null,null,null,null,null,null,null,null,null,null,null,null,null,null,null,null,null,null,null,null,null,null,null,null,null,null,null,null,null,null,null,null,null,null,null,null,null,null,null,null,null,null,null,null,null,null,null,null,null,null,null,null,null,null,null,null,null,null,null,null,"生年月日ワーク",null,null,null,null,null,null,null,null,null,null,null,null,null,null,null,null,null,"チェック色変更用",null,null,null,null,null,"パス中止理由"]
["紹介元病院名（",null,null,null,null,null,null,null,null,null,null,null,null,null,null,null,null,"）⇒維持期・かかりつけ医（",null,null,null,null,null,null,null,null,null,null,null,null,null,null,null,null,null,null,null,null,null,null,null,null,"）",null,null,null,null,"【維持期用】version3",null,null,null,null,null,null,null,null,null,null,null,null,null,null,null,null,null,null,null,null,null,null,null,null,null,null,null,null,null,null,null,null,null,null,null,"性別",{"$f":"維持期データ出力用!D6","v":0},null,null,null,null,false,null,null,null,null,null,null,null,null,null,null,null,null,null,null,false]
["氏名",null,null,null,null,null,null,null,null,null,null,null,null,null,null,"性別",null,null,null,null,null,null,null,null,"生年月日",null,null,null,null,null,null,null,null,null,null,"　年",null,"月日",null,null,null,"（西暦入力用）",null,null,null,null,null,null,{"$f":"IF(ISERROR(BI15),\"\",\"（\"&  BI15 &\"歳）\")","v":""},null,null,null,null,null,null,null,null,null,null,null,null,null,null,null,null,null,"年号",null,null,{"$f":"維持期データ出力用!F7","v":""},null,null,null,null,null,null,null,null,null,null,null,null,null,"利き腕",{"$f":"維持期データ出力用!D15","v":0}]
["住所",null,null,null,null,null,null,null,null,null,null,null,null,null,null,null,null,"電話番号",null,null,null,null,"",null,null,null,null,null,null,null,null,null,"利き腕",null,null,null,null,null,null,null,null,"身長",null,null,null,null,null,"体重",null,null,null,null,null,null,null,null,false,null,null,null,null,null,null,null,null,null,null,null,null,null,null,null,null,null,null,null,null,null,null,null,null,null,null,"脳梗塞",{"$f":"維持期データ出力用!F18","v":""},null,null,null,null,false]
["診断名",null,null,null,"脳梗塞",null,null,null,null,null,null,null,null,null,null,null,null,null,null,null,null,null,null,null,null,null,null,null,null,null,null,null,null,null,null,null,null,null,null,null,null,null,null,null,null,null,null,null,null,null,null,null,null,null,"赤","1ヶ月目必須項目",null,null,null,null,null,null,null,null,null,null,null,null,null,null,null,null,null,null,null,null,null,null,null,null,null,null,null,"脳出血",{"$f":"維持期データ出力用!F26","v":""}]
[null,null,null,null,"脳出血",null,null,null,null,null,null,null,null,null,null,null,null,null,null,null,null,null,null,null,null,null,null,null,null,null,null,null,null,null,null,null,null,null,null,null,null,null,null,null,null,null,null,null,null,null,null,null,null,null,null,null,null,null,null,null,null,null,null,null,null,null,null,null,null,null,null,null,null,null,null,null,null,null,null,null,null,null,null,"くも膜下出血",{"$f":"維持期データ出力用!F35","v":""}]
[null,null,null,null,"くも膜下出血",null,null,null,null,null,null,null,null,null,null,null,null,null,null,null,null,null,null,null,null,null,null,null,null,null,null,null,null,null,null,null,null,null,null,null,null,null,null,null,null,null,null,null,null,null,null,null,null,null,"黄","3ヶ月目必須項目",null,null,null,null,null,null,null,null,null,null,null,null,null,null,null,null,null,null,null,null,null,null,null,null,null,null,null,"その他",{"$f":"維持期データ出力用!F40","v":""},{"$f":"維持期データ出力用!D40","v":false},{"$f":"IF(CH8=TRUE,IF(CH9=0,TRUE,FALSE),FALSE)","v":false}]
[null,null,null,null,null,null,null,null,null,null,null,null,null,null,null,null,null,null,null,null,null,null,null,null,null,null,null,null,null,null,null,null,null,null,null,null,null,null,null,null,null,null,null,null,null,null,null,null,null,null,null,null,null,null,null,null,null,null,null,null,null,null,null,null,null,null,null,null,null,null,null,null,null,null,null,null,null,null,null,null,null,null,null,"診断名",{"$f":"CG5&CG6&CG7&CG8","v":""},{"$f":"I9","v":0}]
[null,null,null,null,"発症日：",null,null,null,null,null,null,null,null,null,null,null,null,null,null," 部位：",null,null,null,null,null,null,null,null,null,null,null,null,null,null,null,null,null,null,null,"既往：",null,null,null,null,null,null,null,null,null,null,null,null,null,null,"オレンジ","3ヶ月目要記入項目",null,null,null,null,null,null,null,null,null,null,null,null,null,null,null,null,null,null,null,null,null,null,null,null,null,null,null,"部位",{"$f":"維持期データ出力用!D43","v":0}]
[null,null,null,null,"脳卒中危険因子：",null,null,null,null,null,null,null,null,null,null,null,null,null,null,null,null,null,null,null,null,null,null,null,null,null,null,null,null,null,null,null,null,null,null,null,null,null,null,null,null,null,null,null,null,null,null,null,null,null,null,null,null,null,null,null,null,null,null,null,null,null,null,null,null,null,null,null,null,null,null,null,null,null,null,null,null,null,null,"既往",{"$f":"維持期データ出力用!D44","v":0}]
[null,null,null,null,"　　　　　　　　",null,null,"酒：",null,null,null,null,null,null,null,null,null,null,null,null,null,null,null,"たばこ　：",null,null,null,null,null,null,null,null,null,null,null,null,null,null,null,null,null,null,null,null,null,null,null,null,null,null,null,null,null,null,"灰色","その他",null,null,null,null,{"$f":"TEXT(AL4,\"mm月dd日\")","v":"月日"},null,null,null,null,null,null,null,null,null,null,null,null,null,null,null,null,null,null,null,null,null,null,"脳卒中",{"$f":"維持期データ出力用!H52","v":""}]
["経過",null,null,null,"維持期移行後３ヶ月の状況",null,null,null,null,null,null,null,null,null,null,null,null,null,null,null,null,null,null,null,null,null,null,null,null,null,null,null,null,null,null,null,null,null,null,null,null,null,null,null,null,null,null,null,null,null,null,null,null,null,null,null,null,"生年月日西暦",null,null,{"$f":"DATEVALUE(BR4 & SUBSTITUTE(AJ4,\"元年\",\"１年\") & BI12)","v":{"$error":"#VALUE!"}},null,null,null,null,null,null,null,null,null,null,null,null,null,null,null,null,null,null,null,null,null,null,"酒",{"$f":"維持期データ出力用!D53","v":0}]
["評価日",null,null,null,null,null,null,null,null,null,null,null,null,null,null,null,null,null,null,null,null,null,null,null,null,null,null,null,null,null,null,null,null,null,null,null,null,null,null,null,null,null,null,null,null,null,null,null,null,null,null,null,null,null,null,null,null,"発症日",null,null,{"$f":"H10","v":"00:00:00"},null,null,null,null,null,null,null,null,null,null,null,null,null,null,null,null,null,null,null,null,null,null,"たばこ",{"$f":"維持期データ出力用!D54","v":0}]
["処置",null,null,null,"経過中の症状変動の有無（　　　　　　　　）",null,null,null,null,null,null,null,null,null,null,null,null,null,null,null,null,null,null,null,null,null,null,null,null,null,null,null,null,null,null,null,null,null,null,null,null,null,null,null,null,null,null,null,null,null,null,null,null,null,null,null,null,"年齢",null,null,{"$f":"DATEDIF(BI13,BI14,\"Y\")","v":{"$error":"#VALUE!"}},null,null,null,null,null,null,null,null,null,null,null,null,null,null,null,null,null,null,null,null,null,null,"経過中の症状変動",{"$f":"維持期データ出力用!D56","v":0}]
[null,null,null,null,"症状と原因："]
["検査",null,null,null,"検査の有無（　　　　　　　　）",null,null,null,null,null,null,null,null,null,null,null,null,null,null,null,null,null,null,null,null,null,null,null,null,null,null,null,null,null,null,null,null,null,null,null,null,null,null,null,null,null,null,null,null,null,null,null,null,null,null,null,null,null,null,null,null,null,null,null,null,null,null,null,null,null,null,null,null,null,null,null,null,null,null,null,null,null,null,null,{"$f":"維持期データ出力用!D225","v":0}]
[]
["内服",null,null,null,"内服：",null,null,null,null,null,null,null,null,null,null,null,null,null,null,null,null,null,null,null,null,null,null,null,null,null,null,null,null,null,null,null,null,null,null,null,null,null,null,null,null,null,null,null,null,null,null,null,null,null,null,null,null,null,null,null,null,null,null,null,null,null,null,null,null,null,null,null,null,null,null,null,null,null,null,null,null,null,null,"内服",{"$f":"維持期データ出力用!H68","v":""}]
[null,null,null,null,null,null,null,null,null,null,null,null,null,null,null,null,null,null,null,null,null,"（",null,null,null,null,null,null,null,null,null,null,null,null,null,null,null,null,null,null,"）",null,null,null,null,null,null,null,null,null,null,null,null,null,null,null,null,null,null,null,null,null,null,null,null,null,null,null,null,null,null,null,null,null,null,null,null,null,null,null,null,null,null,"その他",{"$f":"維持期データ出力用!D69","v":false}]
[null,null,null,null,"　　服薬管理",null,null,null,null,null,null,null,null,null,null,null,null,null,null,null,null,null,null,null,null,null,null,null,null,null,null,null,null,null,null,null,null,null,null,null,null,null,null,null,null,null,null,null,null,null,null,null,null,null,null,null,null,null,null,null,null,null,null,null,null,null,null,null,null,null,null,null,null,null,null,null,null,null,null,null,null,null,null,"服薬",{"$f":"維持期データ出力用!D71","v":0}]
["治療",null,null,null,null,null,null,null,null,null,null,null,null,null,null,null,null,null,null,null,null,null,null,null,null,null,null,null,null,null,null,null,null,null,null,null,null,null,null,null,null,null,null,null,null,null,null,null,null,null,null,null,null,null,null,null,null,null,null,null,null,null,null,null,null,null,null,null,null,null,null,null,null,null,null,null,null,null,null,null,null,null,null,"治療",{"$f":"維持期データ出力用!D72","v":0}]
[null,null,null,null,null,"（治療）　",null,null,null,null,null,null,null,null,null,null,null,null,null,null,null,null,null,null,null,null,null,null,null,null,null,null,null,null,null,null,null,null,null,null,null,null,null,null,null,null,null,null,null,null,null,null,null,null,null,null,null,null,null,null,null,null,null,null,null,null,null,null,null,null,null,null,null,null,null,null,null,null,null,null,null,null,null,null,{"$f":"維持期データ出力用!H76","v":""}]
[null,null,null,null,null,null,null,null,null,null,null,null,null,null,null,null,null,"（",null,null,null,null,null,null,null,null,"）"]
[]
[null,null,null,null,null,null,null,null,null,null,null,null,null,null,null,null,null,"★かかりつけ医（",null,null,null,null,null,null,null,null,null,"病院・医院）"]
["日常生活機能評価表",null,null,null,"計画管理病院もしくは、退院時指導料Ⅰ算定病院を退院後1ヶ月以内に計画管理病院へ日常生活機能評価表までを記入し返信"]
[null,null,null,null,"日付",null,null,null,null,null,null,null,null,null,null,null,null,"１ヶ月目：",null,null,null,null,null,null,null,null,null,null,null,null,null,null,null,null,null,"３ヶ月目：",null,null,null,null,null,null,null,null,null,null,null,null,null,null,null,null,null,null,null,null,null,null,null,null,null,null,null,null,null,null,null,null,null,null,null,null,null,null,null,null,null,null,null,null,null,null,null,"回復期退院日\n急性期",{"$f":"IF('回復期診療計画(入力用)'!AN13=0,'急性期診療計画(入力用)'!AF13,'回復期診療計画(入力用)'!AN13)","v":"00:00:00"}]
[null,null,null,null,null,null,null,null,null,null,null,null,null,null,null,null,null,null,"自立",null,null,null,null,null,"全介助",null,null,null,null,null,"クリア"]
[null,null,null,null,"患者の状況",null,null,null,null,null,null,null,null,null,null,null,null,"得　　点",null,null,null,null,null,null,null,null,null,null,null,null,null,null,null,null,null,"得　　点"]
[null,null,null,null,null,null,null,null,null,null,null,null,null,null,null,null,null,"０点",null,null,null,null,null,"１点",null,null,null,null,null,null,null,"２点",null,null,null,"０点",null,null,null,null,null,"１点",null,null,null,null,null,null,null,"２点"]
[null,null,null,null,"床上安静の指示",null,null,null,null,null,null,null,null,null,null,null,null,null,null,null,null,null,null,null,null,null,null,null,null,null,null,null,null,null,null,null,null,null,null,null,null,null,null,null,null,null,null,null,null,null,null,null,null,null,null,null,null,null,null,null,null,null,null,null,null,null,null,null,null,null,null,null,null,null,null,null,null,null,null,null,null,null,null,"床上安静の指示",{"$f":"維持期データ出力用!D81","v":0},{"$f":"維持期データ出力用!D244","v":0}]
[null,null,null,null,"どちらかの手を胸元まで持ち上げられる",null,null,null,null,null,null,null,null,null,null,null,null,null,null,null,null,null,null,null,null,null,null,null,null,null,null,null,null,null,null,null,null,null,null,null,null,null,null,null,null,null,null,null,null,null,null,null,null,null,null,null,null,null,null,null,null,null,null,null,null,null,null,null,null,null,null,null,null,null,null,null,null,null,null,null,null,null,null,"どちらかの手を胸元まで持ち上げられる",{"$f":"維持期データ出力用!D82","v":0},{"$f":"維持期データ出力用!D245","v":0}]
[null,null,null,null,"寝返り",null,null,null,null,null,null,null,null,null,null,null,null,null,null,null,null,null,null,null,null,null,null,null,null,null,null,null,null,null,null,null,null,null,null,null,null,null,null,null,null,null,null,null,null,null,null,null,null,null,null,null,null,null,null,null,null,null,null,null,null,null,null,null,null,null,null,null,null,null,null,null,null,null,null,null,null,null,null,"寝返り",{"$f":"維持期データ出力用!D83","v":0},{"$f":"維持期データ出力用!D246","v":0}]
[null,null,null,null,"起き上がり",null,null,null,null,null,null,null,null,null,null,null,null,null,null,null,null,null,null,null,null,null,null,null,null,null,null,null,null,null,null,null,null,null,null,null,null,null,null,null,null,null,null,null,null,null,null,null,null,null,null,null,null,null,null,null,null,null,null,null,null,null,null,null,null,null,null,null,null,null,null,null,null,null,null,null,null,null,null,"起き上がり",{"$f":"維持期データ出力用!D84","v":0},{"$f":"維持期データ出力用!D247","v":0}]
[null,null,null,null,"座位保持",null,null,null,null,null,null,null,null,null,null,null,null,null,null,null,null,null,null,null,null,null,null,null,null,null,null,null,null,null,null,null,null,null,null,null,null,null,null,null,null,null,null,null,null,null,null,null,null,null,null,null,null,null,null,null,null,null,null,null,null,null,null,null,null,null,null,null,null,null,null,null,null,null,null,null,null,null,null,"座位保持",{"$f":"維持期データ出力用!D85","v":0},{"$f":"維持期データ出力用!D248","v":0}]
[null,null,null,null,"移乗",null,null,null,null,null,null,null,null,null,null,null,null,null,null,null,null,null,null,null,null,null,null,null,null,null,null,null,null,null,null,null,null,null,null,null,null,null,null,null,null,null,null,null,null,null,null,null,null,null,null,null,null,null,null,null,null,null,null,null,null,null,null,null,null,null,null,null,null,null,null,null,null,null,null,null,null,null,null,"移乗",{"$f":"維持期データ出力用!D86","v":0},{"$f":"維持期データ出力用!D249","v":0}]
[null,null,null,null,"移動方法",null,null,null,null,null,null,null,null,null,null,null,null,null,null,null,null,null,null,"（搬送を含む）",null,null,null,null,null,null,null,null,null,null,null,null,null,null,null,null,null,"（搬送を含む）",null,null,null,null,null,null,null,null,null,null,null,null,null,null,null,null,null,null,null,null,null,null,null,null,null,null,null,null,null,null,null,null,null,null,null,null,null,null,null,null,null,"移動方法",{"$f":"維持期データ出力用!D87","v":0},{"$f":"維持期データ出力用!D250","v":0}]
[null,null,null,null,"口腔清潔",null,null,null,null,null,null,null,null,null,null,null,null,null,null,null,null,null,null,null,null,null,null,null,null,null,null,null,null,null,null,null,null,null,null,null,null,null,null,null,null,null,null,null,null,null,null,null,null,null,null,null,null,null,null,null,null,null,null,null,null,null,null,null,null,null,null,null,null,null,null,null,null,null,null,null,null,null,null,"口腔清潔",{"$f":"維持期データ出力用!D88","v":0},{"$f":"維持期データ出力用!D251","v":0}]
[null,null,null,null,"食事摂取",null,null,null,null,null,null,null,null,null,null,null,null,null,null,null,null,null,null,null,null,null,null,null,null,null,null,null,null,null,null,null,null,null,null,null,null,null,null,null,null,null,null,null,null,null,null,null,null,null,null,null,null,null,null,null,null,null,null,null,null,null,null,null,null,null,null,null,null,null,null,null,null,null,null,null,null,null,null,"食事摂取",{"$f":"維持期データ出力用!D89","v":0},{"$f":"維持期データ出力用!D252","v":0}]
[null,null,null,null,"衣服の着脱",null,null,null,null,null,null,null,null,null,null,null,null,null,null,null,null,null,null,null,null,null,null,null,null,null,null,null,null,null,null,null,null,null,null,null,null,null,null,null,null,null,null,null,null,null,null,null,null,null,null,null,null,null,null,null,null,null,null,null,null,null,null,null,null,null,null,null,null,null,null,null,null,null,null,null,null,null,null,"衣服の着脱",{"$f":"維持期データ出力用!D90","v":0},{"$f":"維持期データ出力用!D253","v":0}]
[null,null,null,null,"他者への意思の伝達",null,null,null,null,null,null,null,null,null,null,null,null,null,null,null,null,null,null,null,null,null,null,null,null,null,null,null,null,null,null,null,null,null,null,null,null,null,null,null,null,null,null,null,null,null,null,null,null,null,null,null,null,null,null,null,null,null,null,null,null,null,null,null,null,null,null,null,null,null,null,null,null,null,null,null,null,null,null,"他者への意思の伝達",{"$f":"維持期データ出力用!D91","v":0},{"$f":"維持期データ出力用!D254","v":0}]
[null,null,null,null,"診療・療養上の指示が通じる",null,null,null,null,null,null,null,null,null,null,null,null,null,null,null,null,null,null,null,null,null,null,null,null,null,null,null,null,null,null,null,null,null,null,null,null,null,null,null,null,null,null,null,null,null,null,null,null,null,null,null,null,null,null,null,null,null,null,null,null,null,null,null,null,null,null,null,null,null,null,null,null,null,null,null,null,null,null,"診療・療養上の指示が通じる",{"$f":"維持期データ出力用!D92","v":0},{"$f":"維持期データ出力用!D255","v":0}]
[null,null,null,null,"危険行動",null,null,null,null,null,null,null,null,null,null,null,null,null,null,null,null,null,null,null,null,null,null,null,null,null,null,null,null,null,null,null,null,null,null,null,null,null,null,null,null,null,null,null,null,null,null,null,null,null,null,null,null,null,null,null,null,null,null,null,null,null,null,null,null,null,null,null,null,null,null,null,null,null,null,null,null,null,null,"危険行動",{"$f":"維持期データ出力用!D93","v":0},{"$f":"維持期データ出力用!D256","v":0}]
[null,null,null,null,null,null,null,null,null,null,"身体拘束",null,null,null,null,null,null,null,null,null,null,null,null,null,null,null,null,null,null,null,null,null,null,null,null,null,null,null,null,null,null,null,null,null,null,null,null,null,null,null,null,null,null,null,null,null,null,null,null,null,null,null,null,null,null,null,null,null,null,null,null,null,null,null,null,null,null,null,null,null,null,null,null,null,{"$f":"維持期データ出力用!D94","v":0},{"$f":"維持期データ出力用!H96","v":""},{"$f":"IF(CG45=2,IF(CH45=\"\",TRUE,FALSE),FALSE)","v":false},{"$f":"維持期データ出力用!D97","v":false}]
[null,null,null,null,null,null,null,null,null,null,null,null,null,null,null,null,null,null,null,null,null,null,null,null,null,null,"(",null,null,null,null,null,null,null,"）",null,null,null,null,null,null,null,null,null,"(",null,null,null,null,null,null,null,"）",null,null,null,null,null,null,null,null,null,null,null,null,null,null,null,null,null,null,null,null,null,null,null,null,null,null,null,null,null,null,null,{"$f":"維持期データ出力用!D257","v":0},{"$f":"維持期データ出力用!H259","v":""},{"$f":"IF(CG46=2,IF(CH46=\"\",TRUE,FALSE),FALSE)","v":false},{"$f":"維持期データ出力用!D260","v":false}]
[null,null,null,null,"合計点",null,null,null,null,null,null,null,null,null,null,null,null,{"$f":"日常生活機能評価!AK22","v":0},null,null,null,null,null,null,null,null,null,null,null,null,null,null,null,null,null,{"$f":"日常生活機能評価!AN22","v":0}]
["その他",null,null,null,"認知症：",null,null,null,null,null,null,null,"半側空間無視：",null,null,null,null,null,null,null,null,null,null,"視野障害：",null,null,null,null,null,null,null,null,"麻痺：",null,null,null,null,null,null,null,null,null,null,null,null,null,null,null,null,null,null,null,null,null,null,null,null,null,null,null,null,null,null,null,null,null,null,null,null,null,null,null,null,null,null,null,null,null,null,null,null,null,null,"認知症",{"$f":"維持期データ出力用!D99","v":0},{"$f":"維持期データ出力用!D100","v":0},{"$f":"維持期データ出力用!D101","v":0},{"$f":"維持期データ出力用!D102","v":0}]
[null,null,null,null,"感覚障害：",null,null,null,null,null,null,null,"失調：",null,null,null,null,null,null,null,"疼痛：",null,null,null,null,null,"（",null,null,null,null,"）",null,"拘縮：",null,null,null,null,null,"（",null,null,null,null,"）",null,null,null,null,null,null,null,null,null,null,null,null,null,null,null,null,null,null,null,null,null,null,null,null,null,null,null,null,null,null,null,null,null,null,null,null,null,null,"感覚障害",{"$f":"維持期データ出力用!D103","v":0},{"$f":"維持期データ出力用!D104","v":0},{"$f":"維持期データ出力用!D105","v":0},{"$f":"維持期データ出力用!D106","v":0},{"$f":"維持期データ出力用!D107","v":0},{"$f":"維持期データ出力用!D108","v":0}]
[null,null,null,null,"嚥下障害：",null,null,null,null,null,null,null,"失語：",null,null,null,null,null,"（",null,null,null,null,null,null,null,null,null,null,null,null,null,null,"）",null,null,null,null,null,null,null,null,null,null,null,null,null,null,null,null,null,null,null,null,null,null,null,null,null,null,null,null,null,null,null,null,null,null,null,null,null,null,null,null,null,null,null,null,null,null,null,null,null,"失語",{"$f":"維持期データ出力用!D109","v":0},{"$f":"維持期データ出力用!D110","v":0}]
[null,null,null,null,"褥瘡：",null,null,null,null,null,null,"部位（",null,null,null,null,null,null,null,")",null,null,null,null,null,null,null,null,null,null,null,null,null,null,null,null,null,null,null,null,null,null,null,null,null,null,null,null,null,null,null,null,null,null,null,null,null,null,null,null,null,null,null,null,null,null,null,null,null,null,null,null,null,null,null,null,null,null,null,null,null,null,null,"褥瘡",{"$f":"維持期データ出力用!D111","v":0},{"$f":"維持期データ出力用!D113","v":0}]
["栄養・呼吸",null,null,null,null,null,null,null,null,null,null,null,null,null,null,null,null,null,null,null,null,null,null,null,null,null,null,null,null,null,null,null,null,null,null,null,null,null,null,null,null,null,null,null,null,null,null,null,null,null,null,null,null,null,null,null,null,null,null,null,null,null,null,null,null,null,null,null,null,null,null,null,null,null,null,null,null,null,null,null,null,null,null,"嚥下障害",{"$f":"維持期データ出力用!D115","v":0}]
[null,null,null,null,"食事形態",null,null,null,null,null,null,null,null,null,null,null,null,null,null,null,null,null,null,null,null,null,null,null,null,null,null,null,null,null,null,null,null,null,null,null,null,null,null,null,null,null,null,null,null,null,null,null,null,null,null,null,null,null,null,null,null,null,null,null,null,null,null,null,null,null,null,null,null,null,null,null,null,null,null,null,null,null,null,"食事形態",{"$f":"維持期データ出力用!H230","v":""}]
[null,null,null,null,null,null,null,null,null,null,null,null,"（",null,null,null,null,null,null,null,null,"）",null,null,null,null,"（",null,null,null,null,null,")",null,null,null,null,null,null,null,null,null,null,null,null,null,null,null,null,null,null,null,null,null,null,null,null,null,null,null,null,null,null,null,null,null,null,null,null,null,null,null,null,null,null,null,null,null,null,null,null,null,null,null,{"$f":"維持期データ出力用!D229","v":false},{"$f":"維持期データ出力用!D230","v":false}]
[null,null,null,null,"方法",null,null,null,null,null,null,null,null,null,null,"（","：",null,null,null,null,null,null,null,null,null,null,null,null,null,null,null,")",null,null,null,null,null,null,null,null,null,null,null,null,null,null,null,null,null,null,null,null,null,null,null,null,null,null,null,null,null,null,null,null,null,null,null,null,null,null,null,null,null,null,null,null,null,null,null,null,null,null,"方法",{"$f":"維持期データ出力用!H232","v":""},{"$f":"維持期データ出力用!H235","v":""},{"$f":"維持期データ出力用!D232","v":false},{"$f":"維持期データ出力用!D235","v":false},{"$f":"維持期データ出力用!D233","v":false},{"$f":"維持期データ出力用!D234","v":false}]
[null,null,null,null,null,null,null,null,null,null,null,null,null,"カテーテル：　　　　",null,null,null,null,null,"Ｆｒ",null,null,"ｃｍ　　　",null,null,null,null,"最終交換日："]
[null,null,null,null,"気管切開",null,null,null,null,null,null,null,null,null,null,"最終交換日：",null,null,null,null,null,null,null,null,null,null,null,null,null,null,null,null,null,null,null,null,null,null,null,null,null,null,null,null,null,null,null,null,null,null,null,null,null,null,null,null,null,null,null,null,null,null,null,null,null,null,null,null,null,null,null,null,null,null,null,null,null,null,null,null,null,null,null,"気管切開",{"$f":"維持期データ出力用!D125","v":0}]
["排泄",null,null,null,null,null,null,null,null,null,null,null,null,null,null,null,null,null,null,null,null,null,null,null,null,null,null,null,null,null,null,null,null,null,null,null,null,null,null,null,null,null,null,null,null,null,null,null,null,null,null,null,null,null,null,null,null,null,null,null,null,null,null,null,null,null,null,null,null,null,null,null,null,null,null,null,null,null,null,null,null,null,null,"排泄　介助",{"$f":"維持期データ出力用!D127","v":0}]
[null,null,null,null,"方法：",null,null,null,null,null,null,null,null,null,null,null,null,null,null,null,null,null,null,null,null,null,null,null,null,null,null,null,null,null,null,null,null,null,null,null,null,null,null,null,null,null,null,null,null,null,null,null,null,null,null,null,null,null,null,null,null,null,null,null,null,null,null,null,null,null,null,null,null,null,null,null,null,null,null,null,null,null,null,"　方法",{"$f":"維持期データ出力用!H240","v":""},{"$f":"維持期データ出力用!D240","v":false}]
[null,null,null,null,null,null,null,null,null,null,null,null,null,null,null,"Ｆｒ",null,"最終交換日："]
[]
["清潔",null,null,null,null,null,null,null,null,null,null,null,null,null,null,null,null,null,null,null,null,null,null,null,null,null,null,null,null,null,null,null,null,null,null,null,null,null,null,null,null,null,null,null,null,null,null,null,null,null,null,null,null,null,null,null,null,null,null,null,null,null,null,null,null,null,null,null,null,null,null,null,null,null,null,null,null,null,null,null,null,null,null,"清潔",{"$f":"維持期データ出力用!D131","v":0}]
["障害高齢者の日常生活自立度",null,null,null,null,null,null,null,null,null,null,null,null,null,null,null,null,null,null,null,null,null,null,null,null,null,null,null,null,null,null,null,null,null,null,null,null,null,null,null,null,null,null,null,null,null,null,null,null,null,null,null,null,null,null,null,null,null,null,null,null,null,null,null,null,null,null,null,null,null,null,null,null,null,null,null,null,null,null,null,null,null,null,null,{"$f":"維持期データ出力用!D132","v":0}]
["認知症高齢者の日常生活自立度",null,null,null,null,null,null,null,null,null,null,null,null,null,null,null,null,null,null,null,null,null,null,null,null,null,null,null,null,null,null,null,null,null,null,null,null,null,null,null,null,null,null,null,null,null,null,null,null,null,null,null,null,null,null,null,null,null,null,null,null,null,null,null,null,null,null,null,null,null,null,null,null,null,null,null,null,null,null,null,null,null,null,null,{"$f":"維持期データ出力用!D133","v":0}]
[null,null,null,null,null,null,null,null,null,null,null,null,"   （ 長谷川式",null,null,null,null,null,null,null,"点 ）　",null,null,"（ ＭＭＳＥ",null,null,null,null,null,null,null,null,null,"点 ）"]
["リハビリ",null,null,null,null,null,null,null,null,null,null,null,null,null,null,null,null,null,null,null,null,null,null,null,null,null,null,null,null,null,null,null,null,null,null,null,null,null,null,null,null,null,null,null,null,null,null,null,null,null,null,null,null,null,null,null,null,null,null,null,null,null,null,null,null,null,null,null,null,null,null,null,null,null,null,null,null,null,null,null,null,null,null,null,{"$f":"維持期データ出力用!D136","v":false}]
[null,null,null,null,null,null,null,null,null,null,null,null,null,null,null,null,null,null,null,null,null,null,null,null,null,null,null,null,null,null,null,null,null,null,null,null,null,null,null,null,null,null,null,null,null,null,null,null,null,null,null,null,null,null,null,null,null,null,null,null,null,null,null,null,null,null,null,null,null,null,null,null,null,null,null,null,null,null,null,null,null,null,null,null,{"$f":"維持期データ出力用!D138","v":false}]
[null,null,null,null,null,null,null,null,null,null,null,null,null,null,null,null,null,null,null,null,null,null,null,null,null,null,null,null,null,null,null,null,null,null,null,null,null,null,null,null,null,null,null,null,null,null,null,null,null,null,null,null,null,null,null,null,null,null,null,null,null,null,null,null,null,null,null,null,null,null,null,null,null,null,null,null,null,null,null,null,null,null,null,null,{"$f":"維持期データ出力用!D140","v":false}]
[null,null,null,null,null,null,null,null,null,null,null,null,null,null,null,null,null,null,null,null,null,null,null,null,null,null,null,null,null,null,null,null,null,null,null,null,null,null,null,null,null,null,null,null,null,null,null,null,null,null,null,null,null,null,null,null,null,null,null,null,null,null,null,null,null,null,null,null,null,null,null,null,null,null,null,null,null,null,null,null,null,null,null,null,{"$f":"維持期データ出力用!D141","v":false}]
[null,null,null,null,null,null,null,null,null,null,null,null,null,null,null,null,null,null,null,null,null,null,null,null,null,null,null,null,null,null,null,null,null,null,null,null,null,null,null,null,null,null,null,null,null,null,null,null,null,null,null,null,null,null,null,null,null,null,null,null,null,null,null,null,null,null,null,null,null,null,null,null,null,null,null,null,null,null,null,null,null,null,null,null,null,{"$f":"IF(CG68=TRUE,TRUE,IF(CG69=TRUE,TRUE,FALSE))","v":false}]
[null,null,null,null,null,null,null,null,null,null,null,null,null,null,null,null,null,null,null,null,null,null,null,null,null,null,null,null,null,null,null,null,null,null,null,null,null,null,null,null,null,null,null,null,null,null,null,null,null,null,null,null,null,null,null,null,null,null,null,null,null,null,null,null,null,null,null,null,null,null,null,null,null,null,null,null,null,null,null,null,null,null,null,"リハビリ",{"$f":"維持期データ出力用!H170","v":""},{"$f":"維持期データ出力用!H141","v":"\r"}]
[null,null,null,null,"生活機能に合わせたリハビリ",null,null,null,null,null,null,null,null,null,null,null,null,null,null,null,null,null,null,null,null,null,null,null,null,null,null,null,null,null,null,null,null,null,null,null,null,null,null,null,null,null,null,null,null,null,null,null,null,null,"赤","1ヶ月目必須項目",null,null,null,null,null,null,null,null,null,null,null,null,null,null,null,null,null,null,null,null,null,null,null,null,null,null,null,"介護保険",{"$f":"維持期データ出力用!D145","v":0}]
[null,null,null,null,null,null,null,null,null,null,null,null,null,null,null,null,null,null,null,null,null,null,null,null,null,null,null,"（",null,null,null,null,null,null,null,null,null,null,null,null,null,null,null,null,null,null,null,null,null,null,null,null,null,null,null,null,null,null,null,null,null,null,null,null,null,null,null,null,null,null,null,null,null,null,null,null,null,null,null,null,null,null,null,null,null,{"$f":"維持期データ出力用!D144","v":false},{"$f":"維持期データ出力用!D150","v":false},{"$f":"維持期データ出力用!H155","v":""}]
[null,null,null,null,null,null,null,null,null,null,null,null,null,null,null,null,null,null,null,null,null,null,null,null,null,null,null,null,null,null,null,null,null,null,null,null,null,null,null,null,null,null,null,"）",null,null,null,null,null,null,null,null,null,null,"黄","3ヶ月目必須項目"]
[null,null,null,null,null,null,null,null,null,null,null,null,"（",null,null,null,null,"）",null,null,null,null,null,null,null,null,null,"（",null,null,null,null,null,null,null,null,null,null,null,null,null,null,null,null,null,null,null,null,null,null,null,null,"）",null,null,null,null,null,null,null,null,null,null,null,null,null,null,null,null,null,null,null,null,null,null,null,null,null,null,null,null,null,null,null,null,null,{"$f":"維持期データ出力用!D156","v":false},{"$f":"維持期データ出力用!H160","v":""}]
[null,null,null,null,null,null,null,null,null,null,null,null,null,null,null,null,null,null,null,null,null,null,null,null,null,null,null,"（","内容：",null,null,null,null,null,null,null,null,null,null,null,null,null,null,null,null,null,null,null,"）",null,null,null,null,null,"オレンジ","3ヶ月目要記入項目",null,null,null,null,null,null,null,null,null,null,null,null,null,null,null,null,null,null,null,null,null,null,null,null,null,null,null,null,null,null,{"$f":"維持期データ出力用!D162","v":false}]
[null,null,null,null,null,null,null,null,null,null,null,null,null,null,null,null,null,null,null,null,null,null,null,null,null,null,null,"（",null,null,null,null,"）"]
[null,null,null,null,null,null,null,null,null,null,null,"（",null,null,null,null,"）",null,null,null,null,null,null,null,null,null,null,null,null,null,null,null,null,null,null,null,null,null,null,null,null,null,null,null,null,null,null,null,null,null,null,null,null,null,"灰色","その他"]
[]
[null,null,null,null,null,null,null,"（",null,null,null,null,null,null,null,null,null,null,null,null,null,null,null,null,null,null,null,null,"）",null,null,null,null,null,null,null,null,null,null,null,null,null,null,null,null,null,null,null,null,null,null,null,null,null,null,null,null,null,null,null,null,null,null,null,null,null,null,null,null,null,null,null,null,null,null,null,null,null,null,null,null,null,null,null,{"$f":"維持期データ出力用!D171","v":false}]
[null,null,null,null,"FIM",null,null,null,{"$f":"'FIM維持期 (3ヶ月)'!S15 & \"/126\n（運動項目：\" & 'FIM維持期 (3ヶ月)'!U15 & \"　認知項目：\" & 'FIM維持期 (3ヶ月)'!W15 & \"）\"","v":"0/126\n（運動項目：0　認知項目：0）"},null,null,null,null,null,null,null,null,null,null,null,null,null,null,null,null,null,null,"BI",null,null,null,{"$f":"'B.I維持期(3ヶ月)'!B3","v":0},null,null,null,null,null,null,null,null,null,null,null,null,null,null,null,null,null,null,null,null,null,null,null,null,null,null,null,null,null,null,null,null,null,null,null,null,null,null,null,null,null,null,null,null,null,null,null,null,null,null,null,"fim,bi",{"$f":"'FIM維持期 (3ヶ月)'!Z6","v":18},{"$f":"'B.I維持期(3ヶ月)'!U15","v":10}]
["介護保険",null,null,null,"要介護認定の申請",null,null,null,null,null,null,null,null,null,null,null,null,null,null,null,null,null,null,"(","要支援",null,null,null,null,null,null,"要介護",null,null,null,null,null,null,null,null,null,null,null,")",null,null,null,null,null,null,null,null,null,null,null,null,null,null,null,null,null,null,null,null,null,null,null,null,null,null,null,null,null,null,null,null,null,null,null,null,null,null,null,"介護保険",{"$f":"維持期データ出力用!D175","v":0},{"$f":"維持期データ出力用!D176","v":0}]
[null,null,null,null,"居宅介護支援事業所",null,null,null,null,null,"(",null,null,null,null,null,null,null,null,null,null,null,null,"）　","担当者（",null,null,null,null,null,null,null,null,"）",null,null,null,null,null,null,null,null,null,null,null,null,null,null,null,null,null,null,null,null,null,null,null,null,null,null,null,null,null,null,null,null,null,null,null,null,null,null,null,null,null,null,null,null,null,null,null,null,null,"身障手帳",{"$f":"維持期データ出力用!D179","v":0}]
["身障手帳",null,null,null,null,null,null,null,null,null,null,null,null,null,null,null,null,null,"（",null,null,"）級"]
["現在の生活の場所",null,null,null,null,null,null,null,null,null,null,null,null,null,null,null,null,null,"(",null,null,null,null,null,null,"）",null,null,null,null,null,null,"（",null,null,null,null,null,null,"）",null,null,null,null,null,"（",null,null,null,null,null,null,"）",null,null,null,null,null,null,null,null,null,null,null,null,null,null,null,null,null,null,null,null,null,null,null,null,null,null,null,null,null,null,"生活の場",{"$f":"維持期データ出力用!D183","v":0}]
["説明",null,null,null,null,null,null,null,null,null,null,null,null,null,null,null,null,null,null,null,null,null,null,null,null,null,null,null,null,null,null,null,null,null,null,null,null,null,null,null,null,null,null,null,null,null,null,null,null,null,null,null,null,null,null,null,null,null,null,null,null,null,null,null,null,null,null,null,null,null,null,null,null,null,null,null,null,null,null,null,null,null,null,"症状説明",{"$f":"維持期データ出力用!D187","v":false}]
[null,null,null,null,null,null,null,null,null,null,"（",null,null,null,null,null,null,null,"）",null,null,null,null,null,null,null,null,null,null,"（","通所リハ利用の場合)",null,null,null,null,null,null,"（",null,null,null,null,null,null,null,"実施）",null,null,null,null,null,null,null,null,null,null,null,null,null,null,null,null,null,null,null,null,null,null,null,null,null,null,null,null,null,null,null,null,null,null,null,null,null,"サービス",{"$f":"維持期データ出力用!D188","v":false},"通所リハ",{"$f":"維持期データ出力用!D190","v":false},{"$f":"CG86+CG87+CI87","v":0}]
[null,null,null,null,null,"説明日：",null,null,null,null,null,"説明を行った者：（",null,null,null,null,null,null,null,null,null,null,null,null,null,"）"]
["目標",null,null,null,"今後の生活目標\n"]
[]
[]
[]
["（転院・退院基準）",null,null,null,"【施設入所の場合：今後の方向性】",null,null,null,null,null,null,null,null,null,null,null,null,null,null,null,null,null,null,null,"サービスの利用",null,null,null,null,null,null,null,null,null,null,null,null,null,null,null,null,null,null,null,null,null,null,null,null,null,null,null,null,null,null,null,null,null,null,null,null,null,null,null,null,null,null,null,null,null,null,null,null,null,null,null,null,null,null,null,null,null,null,"方向性",{"$f":"維持期データ出力用!D195","v":0}]
[null,null,null,null,null,null,null,null,null,null,null,null,null,null,null,null,null,null,null,null,null,null,null,null,null,"事業所名："]
[null,null,null,null,"(ケアハウス・グループホーム含む)",null,null,null,null,null,null,null,null,null,null,null,null,null,null,null,null,null,null,null,null,"サービスの種類："]
[]
[null,null,null,null,"(",null,null,null,null,null,null,null,null," )"]
[]
["施設入所の場合",null,null,null,"自宅訪問",null,null,null,null,null,null,null,null,"（訪問日",null,null,null,null,null,"）",null,null,null,null,null,null,null,null,null,null,null,null,null,null,null,null,null,null,null,null,null,null,null,null,null,null,null,null,null,null,null,null,null,null,null,null,null,null,null,null,null,null,null,null,null,null,null,null,null,null,null,null,null,null,null,null,null,null,null,null,null,null,null,"自宅訪問",{"$f":"維持期データ出力用!D200","v":0}]
[null,null,null,null,"住宅改修必要性",null,null,null,null,null,null,null,null,null,"（",null,null,null,null,null,null,null,null,null,"：",null,null,null,null,null,null,"）",null,null,null,null,null,null,null,null,null,null,null,null,null,null,null,null,null,null,null,null,null,null,null,null,null,null,null,null,null,null,null,null,null,null,null,null,null,null,null,null,null,null,null,null,null,null,null,null,null,null,null,"住宅改修必要性",{"$f":"維持期データ出力用!D202","v":0},{"$f":"維持期データ出力用!D203","v":0}]
[null,null,null,null,"　　　　　　　　　　　　　",null,null,null,null,null,null,null,"（",null,null,null,null,null,null,null,null,null,null,null,null,null,null,null,null,null,null,null,"：",null,null,null,null,null,null,"）",null,null,null,null,null,null,null,null,null,null,null,null,null,null,null,null,null,null,null,null,null,null,null,null,null,null,null,null,null,null,null,null,null,null,null,null,null,null,null,null,null,null,null,null,{"$f":"維持期データ出力用!H207","v":""},{"$f":"維持期データ出力用!D208","v":false}]
[null,null,null,null,"福祉用具の必要性",null,null,null,null,null,null,null,null,null,null,null,null,null,null,null,null,null,null,null,null,null,null,null,null,null,null,null,null,null,null,null,null,null,null,null,null,null,null,null,null,null,null,null,null,null,null,null,null,null,null,null,null,null,null,null,null,null,null,null,null,null,null,null,null,null,null,null,null,null,null,null,null,null,null,null,null,null,null,"福祉用具",{"$f":"維持期データ出力用!D210","v":0}]
[null,null,null,null,null,null,null,null,null,null,null,null,"(",null,null,null,null,null,null,null,null,null,null,null,null,null,null,null,null,null,null,null,null,null,"：",null,null,null,null,null,null,"）",null,null,null,null,null,null,null,null,null,null,null,null,null,null,null,null,null,null,null,null,null,null,null,null,null,null,null,null,null,null,null,null,null,null,null,null,null,null,null,null,null,null,{"$f":"維持期データ出力用!H213","v":""},{"$f":"維持期データ出力用!D214","v":false}]
[null,null,null,null,null,null,null,null,null,null,null,null,null,null,null,null,null,null,null,null,null,null,null,null,null,null,null,null,null,null,null,null,null,null,null,null,null,null,null,null,null,null,null,null,null,null,null,null,null,null,null,null,null,null,null,null,null,null,null,null,null,null,null,null,null,null,null,null,null,null,null,null,null,null,null,null,null,null,null,null,null,null,null,"退院",{"$f":"維持期データ出力用!D216","v":false}]
[null,null,null,null,null,"説明日：",null,null,null,null,null,"説明を行った者：（",null,null,null,null,null,null,null,null,null,null,null,null,null,"）"]
[null,null,null,null,null,null,null,null,null,null,null,null,null,null,null,null,null,null,null,null,null,null,null,null,null,null,null,null,null,null,null,null,null,null,null,null,null,null,null,null,null,null,null,null,null,null,null,null,null,null,null,null,null,null,null,null,null,null,null,null,null,null,null,null,null,null,null,null,null,null,null,null,null,null,null,null,null,null,null,null,null,null,null,"退院（所）時指導",{"$f":"維持期データ出力用!D219","v":false},{"$f":"維持期データ出力用!H224","v":""}]
[null,null,null,null,null,null,null,null,null,null,null,null,null,null,null,null,null,null,null,null,null,null,null,null,null,null,null,null,null,null,null,null,null,null,null,null,null,null,null,null,null,null,null,null,null,null,null,null,null,null,null,null,null,null,null,null,null,null,null,null,null,null,null,null,null,null,null,null,null,null,null,null,null,null,null,null,null,null,null,null,null,null,null,"かかりつけ",{"$f":"維持期データ出力用!D220","v":false}]
[null,null,null,null,null,null,null,null,null,null,null,null,null,null,null,null,null,null,null,null,null,null,null,null,null,null,null,null,null,null,null,null,null,null,null,null,null,null,null,null,null,null,null,null,null,null,null,null,null,null,null,null,null,null,null,null,null,null,null,null,null,null,null,null,null,null,null,null,null,null,null,null,null,null,null,null,null,null,null,null,null,null,null,"ケア",{"$f":"維持期データ出力用!D221","v":false}]
[null,null,null,null,null,null,null,null,null,null,null,null,null,null,null,null,null,null,null,null,null,null,null,null,null,null,null,null,null,null,null,null,null,null,null,null,null,null,null,null,null,null,null,null,null,null,null,null,null,null,null,null,null,null,null,null,null,null,null,null,null,null,null,null,null,null,null,null,null,null,null,null,null,null,null,null,null,null,null,null,null,null,null,"在宅ケア",{"$f":"維持期データ出力用!D222","v":false}]
[null,null,null,null,null,null,null,null,null,null,null,null,null,null,null,null,null,null,null,null,null,null,null,null,null,null,null,null,null,null,null,null,null,null,null,null,null,null,null,null,null,null,null,null,null,null,null,null,null,null,null,null,null,null,null,null,null,null,null,null,null,null,null,null,null,null,null,null,null,null,null,null,null,null,null,null,null,null,null,null,null,null,null,"居宅",{"$f":"維持期データ出力用!D223","v":false},"紹介元",{"$f":"維持期データ出力用!D224","v":false}]
[]
["医療連携上の特記事項",null,null,null,null,null,null,null,null,null,null,null,null,null,null,null,null,null,null,null,null,null,null,null,null,null,null,null,null,null,null,null,null,null,null,null,null,null,null,null,null,null,null,null,null,null,null,null,null,null,null,null,null,null,null,null,null,null,null,null,null,null,null,null,null,null,null,null,null,null,null,null,null,null,null,null,null,null,null,null,null,null,null,"特記事項",{"$f":"維持期データ出力用!D262","v":0}]
[]
[]
[]
[]
[]
[]
[]
[]
[]
[]
[]
[]
[]
[]
[]
[]
[]
[]
[]
[]
[]
[]
[]
[]
[]
[]
[]
[]
[]
[]
[]
[]
[]
[]
[]
[null,"事務局確認用ボタン"]
[null,"事務局以外の方は押さないでください。"]
[]
[null,null,"ボタンを削除しました。"]

{"sheet":"患者説明資料","index":4,"n_rows":53,"n_cols":69,"rows_kept":53,"cut":false,"hidden":false,"merged":[[31,0,35,4],[36,0,43,4],[36,5,49,7],[44,0,49,4],[15,5,19,23],[15,24,19,42],[15,43,19,60],[15,61,19,76],[12,0,30,4],[12,5,13,9],[12,10,13,23],[12,24,13,29],[12,30,13,42],[12,68,13,76],[14,5,14,9],[14,24,14,28],[14,43,14,47],[14,61,14,65],[12,43,13,48],[12,49,13,60],[12,61,13,67],[8,0,11,4],[8,5,10,23],[8,24,10,42],[11,43,11,60],[11,61,11,76],[8,43,8,76],[9,43,10,60],[9,61,10,76],[11,5,11,23],[11,24,11,42],[0,0,1,77],[3,0,3,2],[3,3,3,9],[3,10,5,10],[3,14,5,17],[3,18,5,31],[3,36,5,38],[3,39,5,53],[3,56,5,59],[3,60,5,70],[4,0,5,2],[4,3,5,9]]}
["宇部山陽小野田美祢圏域脳卒中地域連携診療計画書（患者説明用パス）　生活ができるよう支援させていただきます"]
[]
[]
["フリガナ",null,null,{"$f":"IF('急性期診療計画(入力用)'!D3<>\"\",'急性期診療計画(入力用)'!D3,\"\")","v":""},null,null,null,null,null,null,"様",null,null,null,"医療機関",null,null,null,{"$f":"IF('急性期診療計画(入力用)'!AI2<>\"\",'急性期診療計画(入力用)'!AI2,\"\")","v":""},null,null,null,null,null,null,null,null,null,null,null,null,null,null,null,null,null,"説明者",null,null,null,null,null,null,null,null,null,null,null,null,null,null,null,null,null,null,null,"説明日",null,null,null,"　　　　年　　月　　日"]
["氏名",null,null,{"$f":"IF(DATA_PATIENT!B5<>\"\",DATA_PATIENT!B5,\"\")","v":""}]
[]
[]
[]
["医療機関",null,null,null,null,"急性期医療機関",null,null,null,null,null,null,null,null,null,null,null,null,null,null,null,null,null,null,"回復期医療機関",null,null,null,null,null,null,null,null,null,null,null,null,null,null,null,null,null,null,"維持期"]
[null,null,null,null,null,null,null,null,null,null,null,null,null,null,null,null,null,null,null,null,null,null,null,null,null,null,null,null,null,null,null,null,null,null,null,null,null,null,null,null,null,null,null,"維持期医療機関",null,null,null,null,null,null,null,null,null,null,null,null,null,null,null,null,null,"在宅・サ高住・有料老人ホーム等"]
[]
[null,null,null,null,null,"急性期治療が必要な時期",null,null,null,null,null,null,null,null,null,null,null,null,null,null,null,null,null,null,"生活するための機能訓練を必要とする時期、　　　　再発予防",null,null,null,null,null,null,null,null,null,null,null,null,null,null,null,null,null,null,"機能維持のために医療機関での療養を            必要とする時期",null,null,null,null,null,null,null,null,null,null,null,null,null,null,null,null,null,"安心して在宅療養生活が送れる"]
["診療期間、内容と医療の流れ",null,null,null,null,"救急病院",null,null,null,null,"入院から2週間～1ヶ月程度",null,null,null,null,null,null,null,null,null,null,null,null,null,"リハビリ病院",null,null,null,null,null,"発症から　　　　　　　　　　　　　　　　　　　　　約1ヶ月～6ヶ月程度の期間",null,null,null,null,null,null,null,null,null,null,null,null,"病院\n介護保険施設",null,null,null,null,null,"継続した医療・リハビリが必要",null,null,null,null,null,null,null,null,null,null,null,"在宅",null,null,null,null,null,null,"かかりつけ医"]
[]
[null,null,null,null,null,"診療内容等：",null,null,null,null,null,null,null,null,null,null,null,null,null,null,null,null,null,null,"診療内容等：",null,null,null,null,null,null,null,null,null,null,null,null,null,null,null,null,null,null,"診療内容等：",null,null,null,null,null,null,null,null,null,null,null,null,null,null,null,null,null,"診療内容等："]
[null,null,null,null,null,"診断と専門的な治療を行います\n点滴や内服による治療を行います\n必要な場合には手術治療を行います\n早期にリハビリテーションを開始し症状の改善、機能低下の予防を目指します",null,null,null,null,null,null,null,null,null,null,null,null,null,null,null,null,null,null,"状態に応じて内服薬による治療を継続します\n在宅復帰にむけた機能改善、代償方法の取得を目指します\nサービス調整と退院準備を整えます",null,null,null,null,null,null,null,null,null,null,null,null,null,null,null,null,null,null,"状態に応じて内服薬による治療を継続します\n生活機能の維持・向上を目指します\nサービス調整と退院の準備を整えます",null,null,null,null,null,null,null,null,null,null,null,null,null,null,null,null,null,"獲得した機能を低下させないように生活しましょう\nかかりつけ医を定期的に受診し、再発予防に努めましょう"]
[]
[]
[]
[]
[]
[]
[]
[]
[]
[]
[]
[]
[]
[]
[]
["リハビリ\nテーション"]
[]
[]
[]
[]
["ご本人・家族",null,null,null,null,"　安心して過ごすための　　　　　　　　　　　　　　　　在宅生活の準備"]
[]
[]
[null,null,null,null,null,null,null,null,null,null,null,null,null,null,null,null,null,null,null,null,null,null,null,null,null,null,null,null,null,null,null,null,null,null,null,null,null,null,null,null,null,null,"発症から6ヶ月を過ぎて"]
[]
[]
[]
[]
["福祉窓口"]
[]
[]
[]
[]
[]
[]
["※地域連携パスには、あなたの大事な情報が記載されています。加筆や改変などは危険ですのでご遠慮ください。"]
["◆この計画書は、標準的な経過を説明したものです。\n　患者様の状態により、異なる経過になることもあります。\n　ご質問がありましたら、遠慮なくスタッフにお尋ねください。"]

{"sheet":"同意書","index":5,"n_rows":33,"n_cols":14,"rows_kept":33,"cut":false,"hidden":false,"merged":[[29,4,29,6],[16,0,16,2],[17,0,17,15],[19,0,19,2],[20,0,20,15],[22,0,22,7],[23,0,23,15],[12,0,14,15],[25,10,25,12],[25,6,25,8],[0,0,1,15],[3,0,4,15],[6,0,6,1],[7,0,9,15],[11,0,11,3]]}
["宇部山陽小野田美祢圏域脳卒中地域連携診療計画書利用について（同意書）"]
[]
[]
["　この文書は、脳卒中を発症された患者さんに対し、地域の病院が連携して診療に取り組むことを目的とした診療計画書（脳卒中地域連携パス）利用についてのご案内です。"]
[]
[]
["はじめに"]
["　脳卒中地域連携パスとは、良質な医療を効率的、かつ安全、適正に提供するための手段として開発された診療計画表のことで、平成２０年度より厚生労働省で制度化されております。当院でも、より質の高い医療を提供するため、脳卒中地域連携パスを導入しております。これは、あなたの治療情報を退院後にかかられる機関と情報共有することで、治療等を円滑に行うことが目的です。また、治療を受けられた方の情報を登録し、集計・分析することで、脳卒中治療の向上に寄与したいと考えておりますので、情報の利用につきましてもご理解とご協力をお願いいたします。なお、この場合においても個人が特定されることはありません。"]
[]
[]
[]
["１． 他病院との診療情報の共有"]
["あなたが宇部山陽小野田美祢圏域の連携機関を退院する際には、連携機関間で脳卒中地域連携パスを利用し、あなたの情報の共有が行われます。なお、共有される情報には、病名、治療内容、治療期間、リハビリ経過等が含まれます。また、宇部山陽小野田美祢圏域以外の機関に退院される際には、宇部山陽小野田美祢圏域脳卒中地域連携パスと同等の内容である情報提供で対応させて頂きます。"]
[]
[]
[]
["２． 同意書の取り扱い"]
["当院で、宇部山陽小野田美祢圏域脳卒中地域連携パスの利用並びに登録、集計にご同意いただいた場合には、これから退院後にかかられる機関においても同意されたものとし、宇部山陽小野田美祢圏域脳卒中地域連携パスを利用した治療が継続される予定です。"]
[]
["３． 個人情報の取り扱い"]
["宇部山陽小野田美祢圏域脳卒中地域連携パスに基づいて治療を受けられる際は、連携機関間で、あなたの診療情報の提供が行われます。診療情報はあなたの大切な個人情報のため、機関間での情報提供を含めた管理については、個人情報保護法を遵守し、宇部山陽小野田美祢圏域脳卒中地域連携パス運用以外の目的には使用いたしません。"]
[]
["４． 宇部山陽小野田美祢圏域脳卒中地域連携パス利用の任意性と、同意後の撤回等"]
["宇部山陽小野田美祢圏域脳卒中地域連携パスの利用においては、あなたの意志が何よりも尊重されます。同意後、同意を撤回したい場合や開示請求したい場合には、いつでもご遠慮なく下記事務局へお申し出ください。また宇部山陽小野田美祢圏域脳卒中地域連携パス利用への同意をしないとか同意を撤回したからと言って、あなたが不利益な扱いを受けることは全くありません。あなたが受けられる医療・介護・福祉サービスの内容は全く変わりません。"]
[]
["機関名：",{"$f":"IF('急性期診療計画(入力用)'!AI2<>\"\",'急性期診療計画(入力用)'!AI2,\"\")","v":""},null,null,null,"\n診療科：\n",null,null,null,"主治医：",null,null,null,"印"]
[]
["上記内容を理解した上で、宇部山陽小野田美祢圏域脳卒中地域連携パス及び情報の利用につきまして同意いたします。"]
["令和　　　　　　年　　　　　　月　　　　　　日"]
["署名：",null,null,null,"（続柄：　　　　　　　　　）",null,null,"    印","※代理人の場合は続柄も記入して下さい。"]
[]
["宇部山陽小野田美祢圏域脳卒中地域連携パス事務局"]
["宇部リハビリテーション病院　地域連携室　",null,null,null,"　Tell：0836-51-3111　　　FAX：0836-51-3137"]

{"sheet":"急性期診療計画 (印刷用)","index":6,"n_rows":48,"n_cols":49,"rows_kept":48,"cut":false,"hidden":true,"merged":[[45,18,45,21],[42,57,42,58],[41,7,41,49],[40,57,40,58],[41,57,41,58],[44,0,45,3],[45,31,45,34],[44,7,44,49],[36,0,42,3],[40,4,40,6],[42,4,42,6],[41,4,41,6],[45,41,45,49],[45,35,45,40],[45,22,45,27],[45,4,45,6],[45,7,45,14],[37,30,37,32],[36,20,36,49],[36,4,36,6],[38,4,38,6],[45,15,45,17],[45,28,45,30],[42,7,42,49],[34,57,34,58],[38,27,38,42],[36,14,36,16],[37,20,37,23],[38,11,38,16],[34,0,34,49],[37,7,37,10],[36,7,36,10],[37,33,37,36],[36,11,36,13],[37,37,37,42],[37,17,37,19],[38,17,38,22],[36,17,36,19],[37,4,37,6],[38,23,38,25],[37,24,37,29],[40,7,40,49],[39,12,39,49],[38,7,38,10],[32,22,32,29],[32,0,32,21],[30,9,30,18],[31,9,31,18],[31,5,31,8],[30,5,30,8],[37,11,37,16],[25,0,31,1],[26,9,26,18],[28,9,28,18],[29,2,29,4],[27,9,27,18],[29,9,29,18],[28,2,28,4],[30,2,30,4],[25,21,25,26],[26,27,26,32],[25,33,25,42],[29,5,29,8],[31,25,31,49],[31,2,31,4],[0,20,0,44],[0,0,0,19],[7,0,7,3],[3,4,3,49],[1,0,1,2],[6,0,6,3],[5,0,5,3],[1,18,1,19],[1,20,1,23],[6,4,6,26],[2,19,2,21],[4,46,4,49],[6,27,6,49],[5,27,5,49],[4,38,4,41],[2,22,2,25],[5,4,5,26],[1,3,1,14],[1,31,1,34],[2,32,2,34],[1,15,1,17],[2,0,4,3],[2,4,2,18],[1,37,1,40],[1,41,1,43],[2,45,2,47],[2,26,2,28],[1,35,1,36],[1,44,1,49],[2,35,2,44],[2,29,2,31],[2,48,2,49],[1,24,1,30],[26,43,26,49],[8,39,8,44],[10,0,10,49],[16,4,16,6],[15,7,15,49],[8,16,8,21],[7,4,7,26],[8,4,8,9],[4,4,4,35],[8,33,8,38],[8,10,8,15],[7,27,7,49],[4,42,4,45],[4,36,4,37],[8,0,9,3],[16,25,16,32],[16,45,16,47],[8,45,8,49],[8,27,8,32],[8,22,8,26],[15,4,15,6],[9,27,9,49],[9,4,9,26],[11,4,12,49],[22,10,22,14],[47,38,47,44],[26,33,26,42],[27,33,27,42],[43,0,43,49],[35,0,35,49],[47,26,47,32],[47,34,47,37],[47,20,47,25],[33,34,33,36],[29,27,29,32],[32,30,32,49],[31,21,31,24],[27,27,27,32],[28,5,28,8],[30,21,30,26],[30,30,30,40],[29,21,29,26],[28,43,28,49],[30,27,30,29],[29,33,29,49],[28,33,28,42],[28,27,28,32],[28,21,28,26],[11,0,12,3],[17,0,18,3],[18,4,18,49],[19,9,19,20],[19,4,19,8],[16,33,16,44],[16,48,16,49],[16,7,16,8],[16,9,16,11],[16,20,16,24],[19,25,19,49],[19,21,19,24],[19,0,19,3],[16,12,16,19],[13,0,16,3],[17,4,17,49],[13,4,14,49],[26,21,26,26],[23,9,23,12],[27,43,27,49],[22,4,22,6],[25,2,25,4],[21,9,21,12],[20,31,20,34],[22,27,22,28],[22,34,22,36],[25,27,25,32],[20,11,20,15],[22,21,22,22],[23,13,23,15],[23,7,23,8],[23,16,23,17],[23,18,23,21],[22,23,22,26],[22,44,22,45],[23,25,23,26],[23,36,23,37],[23,30,23,35],[22,40,22,43],[24,0,24,49],[23,27,23,29],[26,2,26,4],[22,17,22,20],[20,20,20,25],[25,19,31,20],[20,16,20,19],[20,26,20,30],[20,35,20,49],[23,38,23,49],[23,22,23,24],[22,29,22,31],[20,7,20,10],[20,0,21,3],[20,4,20,6],[22,0,23,3],[23,4,23,6],[27,5,27,8],[26,5,26,8],[25,5,25,8],[21,13,21,49],[27,21,27,26],[22,15,22,16],[25,9,25,18],[22,7,22,9],[25,43,25,49]]}
["脳卒中地域連携診療計画書",null,null,null,null,null,null,null,null,null,null,null,null,null,null,null,null,null,null,null,{"$f":"\"急性期病院名（\" & 急性期データ出力用!F3 & \"）\"","v":"急性期病院名（）"}]
["氏名",null,null,{"$f":"急性期データ出力用!F4","v":""},null,null,null,null,null,null,null,null,null,null,null,"性別",null,null,{"$f":"急性期データ出力用!F5","v":""},null,"生年月日",null,null,null,{"$f":"急性期データ出力用!F10","v":""},null,null,null,null,null,null,{"$f":"急性期データ出力用!F11","v":""},null,null,null,"身長",null,{"$f":"急性期データ出力用!F15","v":""},null,null,null,"体重",null,null,{"$f":"急性期データ出力用!F16","v":""}]
["診断名",null,null,null,{"$f":"急性期データ出力用!F17 & 急性期データ出力用!F25 & 急性期データ出力用!F34  & 急性期データ出力用!F39","v":""},null,null,null,null,null,null,null,null,null,null,null,null,null,null," 部位：",null,null,{"$f":"急性期データ出力用!F42","v":""},null,null,null,"既往：",null,null,{"$f":"急性期データ出力用!F43","v":""},null,null,"発症日：",null,null,{"$f":"急性期データ出力用!F41","v":""},null,null,null,null,null,null,null,null,null,"利き腕：",null,null,{"$f":"急性期データ出力用!F14","v":""}]
[null,null,null,null,{"$f":"\"脳卒中危険因子：\" & 急性期データ出力用!H50","v":"脳卒中危険因子："}]
[null,null,null,null,null,null,null,null,null,null,null,null,null,null,null,null,null,null,null,null,null,null,null,null,null,null,null,null,null,null,null,null,null,null,null,null,"酒：",null,{"$f":"急性期データ出力用!F52","v":""},null,null,null,"たばこ：",null,null,null,{"$f":"急性期データ出力用!F53","v":""}]
["経過",null,null,null,"入院時",null,null,null,null,null,null,null,null,null,null,null,null,null,null,null,null,null,null,null,null,null,null,"退院時"]
["日付",null,null,null,{"$f":"急性期データ出力用!F54","v":""},null,null,null,null,null,null,null,null,null,null,null,null,null,null,null,null,null,null,null,null,null,null,{"$f":"急性期データ出力用!F84","v":""}]
["目標",null,null,null,{"$f":"急性期データ出力用!H270","v":""},null,null,null,null,null,null,null,null,null,null,null,null,null,null,null,null,null,null,null,null,null,null,{"$f":"急性期データ出力用!H273","v":""}]
["神経学的所見",null,null,null,{"$f":"\"ＪＣＳ（\" & 急性期データ出力用!F55 & \"）\"","v":"ＪＣＳ（ ）"},null,null,null,null,null,{"$f":"\"GＣＳ（\" & 急性期データ出力用!F56 & \"）\"","v":"GＣＳ（）"},null,null,null,null,null,{"$f":"\"mRS（\" & 急性期データ出力用!F57 &  \"）\"","v":"mRS（ ）"},null,null,null,null,null,{"$f":"\"NIHSS（\" & 急性期データ出力用!F58 &  \"）\"","v":"NIHSS（）"},null,null,null,null,{"$f":"\"ＪＣＳ（\" & 急性期データ出力用!F85 & \"）\"","v":"ＪＣＳ（ ）"},null,null,null,null,null,{"$f":"\"GＣＳ（\" & 急性期データ出力用!F86 & \"）\"","v":"GＣＳ（）"},null,null,null,null,null,{"$f":"\"mRS（\" & 急性期データ出力用!F87 &  \"）\"","v":"mRS（ ）"},null,null,null,null,null,{"$f":"\"NIHSS（\" & 急性期データ出力用!F88 &  \"）\"","v":"NIHSS（）"}]
[null,null,null,null,{"$f":"\"MMT：\" & 急性期データ出力用!D59","v":"MMT：右上肢（   ）　　左上肢（   ）　　右下肢（   ）　　左下肢（   ）"},null,null,null,null,null,null,null,null,null,null,null,null,null,null,null,null,null,null,null,null,null,null,{"$f":"\"MMT：\" & 急性期データ出力用!D89","v":"MMT：右上肢（   ）　　左上肢（   ）　　右下肢（   ）　　左下肢（   ）"}]
[]
["検査",null,null,null,{"$f":" 急性期データ出力用!F173","v":""}]
[]
["治療",null,null,null,{"$f":"IF('急性期診療計画(入力用)'!I56<>0,'急性期診療計画(入力用)'!I56,\"\")","v":""}]
[]
[null,null,null,null,"内服：",null,null,{"$f":"急性期データ出力用!H182","v":""}]
[null,null,null,null,"手術：",null,null,{"$f":"急性期データ出力用!F184","v":""},null,"手術日：",null,null,{"$f":"急性期データ出力用!F185","v":""},null,null,null,null,null,null,null,"最終手術日：",null,null,null,null,{"$f":"急性期データ出力用!E185","v":""},null,null,null,null,null,null,null,{"$f":"急性期データ出力用!H193","v":""},null,null,null,null,null,null,null,null,null,null,null,"ｔPA：",null,null,{"$f":"急性期データ出力用!F186","v":""}]
["処置",null,null,null,{"$f":"\"経過中の症状変動の有無（  \"&急性期データ出力用!F171 & \"   ）\"","v":"経過中の症状変動の有無（     ）"}]
[null,null,null,null,{"$f":"\"症状と原因：\" & 急性期データ出力用!F172","v":"症状と原因："}]
["禁忌事項",null,null,null,"アレルギー：",null,null,null,null,{"$f":"IF(急性期データ出力用!D195=FALSE,\"なし\",急性期データ出力用!E196)","v":"なし"},null,null,null,null,null,null,null,null,null,null,null,"その他：",null,null,null,{"$f":"IF(急性期データ出力用!D197=FALSE,\"なし\",急性期データ出力用!E198)","v":"なし"}]
["合併症",null,null,null,"肺炎：",null,null,{"$f":"急性期データ出力用!F201","v":""},null,null,null,"尿路感染症：",null,null,null,null,{"$f":"急性期データ出力用!F202","v":""},null,null,null,"その他感染症：",null,null,null,null,null,{"$f":"急性期データ出力用!F203","v":""},null,null,null,null,"感染部位：",null,null,null,{"$f":"急性期データ出力用!F204","v":""}]
[null,null,null,null,"その他合併症：",null,null,null,null,{"$f":"急性期データ出力用!F205","v":""},null,null,null,{"$f":"急性期データ出力用!E205","v":""}]
["その他",null,null,null,"認知症：",null,null,{"$f":"急性期データ出力用!F206","v":""},null,null,"半側空間無視：",null,null,null,null,{"$f":"急性期データ出力用!F207","v":""},null,"視野障害：",null,null,null,{"$f":"急性期データ出力用!F208","v":""},null,"感覚障害：",null,null,null,{"$f":"急性期データ出力用!F209","v":""},null,"失調：",null,null,{"$f":"急性期データ出力用!F210","v":""},null,"疼痛：",null,null,{"$f":"急性期データ出力用!F211","v":""},null,null,"嚥下障害：",null,null,null,{"$f":"急性期データ出力用!F214","v":""},null,{"$f":"急性期データ出力用!F215","v":""}]
[null,null,null,null,"拘縮：",null,null,{"$f":"急性期データ出力用!F212","v":""},null,{"$f":"IF(急性期データ出力用!F213<>\"\",\"（\" & 急性期データ出力用!F213 &      \"）\",\"\")","v":""},null,null,null,"失語：",null,null,{"$f":"急性期データ出力用!F216","v":""},null,{"$f":"急性期データ出力用!F217","v":""},null,null,null,"褥瘡：",null,null,{"$f":"急性期データ出力用!F218","v":""},null,{"$f":"IF(急性期データ出力用!F219<>\"\",\"（\" & 急性期データ出力用!F219 &  \"）\",\"\")","v":""},null,null,"その他皮膚疾患：",null,null,null,null,null,{"$f":"急性期データ出力用!F220","v":""},null,{"$f":"IF(急性期データ出力用!F221<>\"\",\"（\" & 急性期データ出力用!F221 &  \"）\",\"\")","v":""}]
[]
["看護",null,"食事",null,null,{"$f":"急性期データ出力用!F93","v":""},null,null,null,{"$f":"急性期データ出力用!H97","v":""},null,null,null,null,null,null,null,null,null,"日常生活機能",null,"床上安静の指示",null,null,null,null,null,{"$f":"急性期データ出力用!F114","v":""},null,null,null,null,null,"衣服の着脱",null,null,null,null,null,null,null,null,null,{"$f":"急性期データ出力用!F119","v":""}]
[null,null,"移乗",null,null,{"$f":"急性期データ出力用!F100","v":""},null,null,null,null,null,null,null,null,null,null,null,null,null,null,null,"寝返り",null,null,null,null,null,{"$f":"急性期データ出力用!F115","v":""},null,null,null,null,null,"他者への意思の伝達",null,null,null,null,null,null,null,null,null,{"$f":"急性期データ出力用!F120","v":""}]
[null,null,"トイレ",null,null,{"$f":"急性期データ出力用!F100","v":""},null,null,null,null,null,null,null,null,null,null,null,null,null,null,null,"起き上がり",null,null,null,null,null,{"$f":"急性期データ出力用!F116","v":""},null,null,null,null,null,"診療・療養上の指示が通じる",null,null,null,null,null,null,null,null,null,{"$f":"急性期データ出力用!F121","v":""}]
[null,null,"入浴",null,null,{"$f":"急性期データ出力用!F101","v":""},null,null,null,{"$f":"急性期データ出力用!F102","v":""},null,null,null,null,null,null,null,null,null,null,null,"座位保持",null,null,null,null,null,{"$f":"急性期データ出力用!F117","v":""},null,null,null,null,null,"危険行動",null,null,null,null,null,null,null,null,null,{"$f":"急性期データ出力用!F122","v":""}]
[null,null,"移動",null,null,{"$f":"急性期データ出力用!F103","v":""},null,null,null,{"$f":"急性期データ出力用!H108","v":""},null,null,null,null,null,null,null,null,null,null,null,"口腔清潔",null,null,null,null,null,{"$f":"急性期データ出力用!F118","v":""}]
[null,null,"排尿",null,null,{"$f":"急性期データ出力用!F112","v":""},null,null,null,{"$f":"急性期データ出力用!F113","v":""},null,null,null,null,null,null,null,null,null,null,null,"身体拘束",null,null,null,null,null,{"$f":"急性期データ出力用!F123","v":""},null,null,{"$f":"急性期データ出力用!H125","v":""}]
[null,null,"排便",null,null,{"$f":"急性期データ出力用!F110","v":""},null,null,null,{"$f":"急性期データ出力用!F111","v":""},null,null,null,null,null,null,null,null,null,null,null,"特記事項",null,null,null,{"$f":"IF(急性期データ出力用!F127=\"\",\"なし\",急性期データ出力用!F127)","v":"なし"}]
[null,null,null,null,null,null,null,null,null,null,null,null,null,null,null,null,null,null,null,null,null,null,"日常機能評価点数",null,null,null,null,null,null,null,{"$f":"日常生活機能評価!AE22","v":0}]
["日常生活特記事項　　　　　　　　　　　　　　　　　　　　　　　　　　　",null,null,null,null,null,null,null,null,null,null,null,null,null,null,null,null,null,null,null,null,null,null,null,null,null,null,null,null,null,null,null,null,null,"記入者：",null,null,{"$f":"急性期データ出力用!F299","v":""}]
[{"$f":"IF(急性期データ出力用!F127=\"\",\"なし\",急性期データ出力用!F127)","v":"なし"}]
[]
["リハビリ",null,null,null,"FIM",null,null,{"$f":"FIM急性期!S15","v":0},null,null,null,"B.I",null,null,{"$f":"B.I急性期!B3","v":0},null,null,"麻痺",null,null,{"$f":"\"Br stage \" & 急性期データ出力用!D135","v":"Br stage 右上肢( 　 )　－手指( 　 )　－下肢( 　 )　　左上肢( 　 )　－手指( 　 )　－下肢( 　 ）"}]
[null,null,null,null,"食事",null,null,{"$f":"急性期データ出力用!F147","v":""},null,null,null,{"$f":"急性期データ出力用!H151","v":""},null,null,null,null,null,"移乗",null,null,{"$f":"急性期データ出力用!F154","v":""},null,null,null,null,null,null,null,null,null,"トイレ",null,null,{"$f":"急性期データ出力用!F156","v":""}]
[null,null,null,null,"移動",null,null,{"$f":"急性期データ出力用!F164","v":""},null,null,null,{"$f":"急性期データ出力用!H169","v":""},null,null,null,null,null,"リハビリ開始日（",null,null,null,null,null,{"$f":"急性期データ出力用!F222","v":""},null,null,"）",{"$f":"急性期データ出力用!H224","v":""}]
[null,null,null,null,"担当者（リハスタッフ）：",null,null,null,null,null,null,null,{"$f":"急性期データ出力用!H280","v":""}]
[null,null,null,null,"理学療法",null,null,{"$f":"急性期データ出力用!F275","v":""}]
[null,null,null,null,"作業療法",null,null,{"$f":"急性期データ出力用!F276","v":""}]
[null,null,null,null,"言語療法",null,null,{"$f":"急性期データ出力用!F277","v":""}]
[]
["転帰・転院基準",null,null,null,"転院先：",null,null,{"$f":"急性期データ出力用!F231","v":""}]
[null,null,null,null,"転院先",null,null,{"$f":"IF(I45<>\"自宅（在宅）：自宅生活可能とする状態まで　改善・回復 \",       急性期データ出力用!F233,\"\")","v":""},null,null,null,null,null,null,null,"退院日:",null,null,{"$f":"急性期データ出力用!F234","v":""},null,null,null,"連携パス説明",null,null,null,null,null,"説明日：",null,null,{"$f":"急性期データ出力用!F229","v":""},null,null,null,"主治医：",null,null,null,null,null,{"$f":"急性期データ出力用!F230","v":""}]
[]
[null,null,null,null,null,null,null,null,null,null,null,null,null,null,null,null,null,null,null,null,"最終確認年月日：",null,null,null,null,null,null,null,null,null,null,null,null,null,"担当者：（",null,null,null,null,null,null,null,null,null,null,"）"]

{"sheet":"患者基本情報（急性期）","index":7,"n_rows":64,"n_cols":49,"rows_kept":64,"cut":false,"hidden":true,"merged":[[19,4,19,8],[17,4,17,49],[15,7,15,49],[16,7,16,8],[16,33,16,44],[16,25,16,32],[16,45,16,47],[22,34,22,36],[22,27,22,28],[22,17,22,20],[22,4,22,6],[22,29,22,31],[20,31,20,34],[20,35,20,49],[22,40,22,43],[22,44,22,45],[20,16,20,19],[10,0,10,49],[11,4,12,49],[16,4,16,6],[16,12,16,19],[16,9,16,11],[18,4,18,49],[16,20,16,24],[13,4,14,49],[16,48,16,49],[15,4,15,6],[9,27,9,49],[11,0,12,3],[13,0,16,3],[22,23,22,26],[19,21,19,24],[22,7,22,9],[22,0,23,3],[22,21,22,22],[22,15,22,16],[23,22,23,24],[22,10,22,14],[23,18,23,21],[20,4,20,6],[20,11,20,15],[20,20,20,25],[21,13,21,49],[21,9,21,12],[20,26,20,30],[19,25,19,49],[19,0,19,3],[19,9,19,20],[20,0,21,3],[20,7,20,10],[17,0,18,3],[0,20,0,44],[0,0,0,19],[7,0,7,3],[3,4,3,49],[1,0,1,2],[1,3,1,14],[6,0,6,3],[2,48,2,49],[2,45,2,47],[1,31,1,34],[1,35,1,36],[6,27,6,49],[4,4,4,35],[4,36,4,37],[4,46,4,49],[6,4,6,26],[1,37,1,40],[1,44,1,49],[2,32,2,34],[1,41,1,43],[5,0,5,3],[2,26,2,28],[2,22,2,25],[4,42,4,45],[2,35,2,44],[2,0,4,3],[1,24,1,30],[1,15,1,17],[1,18,1,19],[1,20,1,23],[2,29,2,31],[2,4,2,18],[8,22,8,26],[5,27,5,49],[8,4,8,9],[8,39,8,44],[8,27,8,32],[8,33,8,38],[8,16,8,21],[2,19,2,21],[8,45,8,49],[7,27,7,49],[5,4,5,26],[4,38,4,41],[7,4,7,26],[8,0,9,3],[8,10,8,15],[9,4,9,26],[23,4,23,6],[29,21,29,26],[28,21,28,26],[23,7,23,8],[23,30,23,35],[23,16,23,17],[24,0,24,49],[25,27,25,32],[25,0,31,1],[25,2,25,4],[31,2,31,4],[29,33,29,49],[26,33,26,42],[30,2,30,4],[29,9,29,18],[28,5,28,8],[27,5,27,8],[29,2,29,4],[26,27,26,32],[30,21,30,26],[29,27,29,32],[25,9,25,18],[41,57,41,58],[23,27,23,29],[23,36,23,37],[25,33,25,42],[31,21,31,24],[30,5,30,8],[31,25,31,49],[28,27,28,32],[28,43,28,49],[27,21,27,26],[26,5,26,8],[26,21,26,26],[23,13,23,15],[23,9,23,12],[25,21,25,26],[28,33,28,42],[23,25,23,26],[25,5,25,8],[28,9,28,18],[25,43,25,49],[29,5,29,8],[26,9,26,18],[27,9,27,18],[23,38,23,49],[42,57,42,58],[34,57,34,58],[40,57,40,58],[35,0,35,49],[36,4,36,6],[37,7,37,10],[36,0,42,3],[38,7,38,10],[38,11,38,16],[42,7,42,49],[39,12,39,49],[37,37,37,42],[37,33,37,36],[37,11,37,16],[37,24,37,29],[36,14,36,16],[36,7,36,10],[41,7,41,49],[41,4,41,6],[38,4,38,6],[36,17,36,19],[36,11,36,13],[37,4,37,6],[40,7,40,49],[44,7,44,49],[45,15,45,17],[31,9,31,18],[31,5,31,8],[33,34,33,36],[32,22,32,29],[32,0,32,21],[32,30,32,49],[40,4,40,6],[36,20,36,49],[37,30,37,32],[37,17,37,19],[25,19,31,20],[27,33,27,42],[27,27,27,32],[26,43,26,49],[27,43,27,49],[37,20,37,23],[38,27,38,42],[38,17,38,22],[34,0,34,49],[38,23,38,25],[28,2,28,4],[26,2,26,4],[65,41,65,47],[53,13,53,15],[56,17,56,28],[56,35,56,40],[57,13,58,49],[59,18,59,23],[60,34,60,36],[63,0,64,49],[30,9,30,18],[45,18,45,21],[45,31,45,34],[45,35,45,40],[45,22,45,27],[45,28,45,30],[30,30,30,40],[30,27,30,29],[47,0,60,2],[52,20,52,27],[60,17,60,23],[45,4,45,6],[45,7,45,14],[43,0,43,49],[42,4,42,6],[44,0,45,3]]}
["脳卒中地域連携診療計画書",null,null,null,null,null,null,null,null,null,null,null,null,null,null,null,null,null,null,null,{"$f":"\"急性期病院名（\" & 急性期データ出力用!F3 & \"）\"","v":"急性期病院名（）"}]
["氏名",null,null,{"$f":"急性期データ出力用!F4","v":""},null,null,null,null,null,null,null,null,null,null,null,"性別",null,null,{"$f":"急性期データ出力用!F5","v":""},null,"生年月日",null,null,null,{"$f":"急性期データ出力用!F10","v":""},null,null,null,null,null,null,{"$f":"急性期データ出力用!F11","v":""},null,null,null,"身長",null,{"$f":"急性期データ出力用!F15","v":""},null,null,null,"体重",null,null,{"$f":"急性期データ出力用!F16","v":""}]
["診断名",null,null,null,{"$f":"急性期データ出力用!F17 & 急性期データ出力用!F25 & 急性期データ出力用!F34  & 急性期データ出力用!F39","v":""},null,null,null,null,null,null,null,null,null,null,null,null,null,null," 部位：",null,null,{"$f":"急性期データ出力用!F42","v":""},null,null,null,"既往：",null,null,{"$f":"急性期データ出力用!F43","v":""},null,null,"発症日：",null,null,{"$f":"急性期データ出力用!F41","v":""},null,null,null,null,null,null,null,null,null,"利き腕：",null,null,{"$f":"急性期データ出力用!F14","v":""}]
[null,null,null,null,{"$f":"\"脳卒中危険因子：\" & 急性期データ出力用!H50","v":"脳卒中危険因子："}]
[null,null,null,null,null,null,null,null,null,null,null,null,null,null,null,null,null,null,null,null,null,null,null,null,null,null,null,null,null,null,null,null,null,null,null,null,"酒：",null,{"$f":"急性期データ出力用!F52","v":""},null,null,null,"たばこ：",null,null,null,{"$f":"急性期データ出力用!F53","v":""}]
["経過",null,null,null,"入院時",null,null,null,null,null,null,null,null,null,null,null,null,null,null,null,null,null,null,null,null,null,null,"退院時"]
["日付",null,null,null,{"$f":"急性期データ出力用!F54","v":""},null,null,null,null,null,null,null,null,null,null,null,null,null,null,null,null,null,null,null,null,null,null,{"$f":"急性期データ出力用!F84","v":""}]
["目標",null,null,null,{"$f":"急性期データ出力用!H270","v":""},null,null,null,null,null,null,null,null,null,null,null,null,null,null,null,null,null,null,null,null,null,null,{"$f":"急性期データ出力用!H273","v":""}]
["神経学的所見",null,null,null,{"$f":"\"ＪＣＳ（\" & 急性期データ出力用!F55 & \"）\"","v":"ＪＣＳ（ ）"},null,null,null,null,null,{"$f":"\"GＣＳ（\" & 急性期データ出力用!F56 & \"）\"","v":"GＣＳ（）"},null,null,null,null,null,{"$f":"\"mRS（\" & 急性期データ出力用!F57 &  \"）\"","v":"mRS（ ）"},null,null,null,null,null,{"$f":"\"NIHSS（\" & 急性期データ出力用!F58 &  \"）\"","v":"NIHSS（）"},null,null,null,null,{"$f":"\"ＪＣＳ（\" & 急性期データ出力用!F85 & \"）\"","v":"ＪＣＳ（ ）"},null,null,null,null,null,{"$f":"\"GＣＳ（\" & 急性期データ出力用!F86 & \"）\"","v":"GＣＳ（）"},null,null,null,null,null,{"$f":"\"mRS（\" & 急性期データ出力用!F87 &  \"）\"","v":"mRS（ ）"},null,null,null,null,null,{"$f":"\"NIHSS（\" & 急性期データ出力用!F88 &  \"）\"","v":"NIHSS（）"}]
[null,null,null,null,{"$f":"\"MMT：\" & 急性期データ出力用!D59","v":"MMT：右上肢（   ）　　左上肢（   ）　　右下肢（   ）　　左下肢（   ）"},null,null,null,null,null,null,null,null,null,null,null,null,null,null,null,null,null,null,null,null,null,null,{"$f":"\"MMT：\" & 急性期データ出力用!D89","v":"MMT：右上肢（   ）　　左上肢（   ）　　右下肢（   ）　　左下肢（   ）"}]
[]
["検査",null,null,null,{"$f":" 急性期データ出力用!F173","v":""}]
[]
["治療",null,null,null,{"$f":"IF('急性期診療計画(入力用)'!I56<>0,'急性期診療計画(入力用)'!I56,\"\")","v":""}]
[]
[null,null,null,null,"内服：",null,null,{"$f":"急性期データ出力用!H182","v":""}]
[null,null,null,null,"手術：",null,null,{"$f":"急性期データ出力用!F184","v":""},null,"手術日：",null,null,{"$f":"急性期データ出力用!F185","v":""},null,null,null,null,null,null,null,"最終手術日：",null,null,null,null,{"$f":"急性期データ出力用!E185","v":""},null,null,null,null,null,null,null,{"$f":"急性期データ出力用!H193","v":""},null,null,null,null,null,null,null,null,null,null,null,"ｔPA：",null,null,{"$f":"急性期データ出力用!F186","v":""}]
["処置",null,null,null,{"$f":"\"経過中の症状変動の有無（  \"&急性期データ出力用!F171 & \"   ）\"","v":"経過中の症状変動の有無（     ）"}]
[null,null,null,null,{"$f":"\"症状と原因：\" & 急性期データ出力用!F172","v":"症状と原因："}]
["禁忌事項",null,null,null,"アレルギー：",null,null,null,null,{"$f":"IF(急性期データ出力用!D195=FALSE,\"なし\",急性期データ出力用!E196)","v":"なし"},null,null,null,null,null,null,null,null,null,null,null,"その他：",null,null,null,{"$f":"IF(急性期データ出力用!D197=FALSE,\"なし\",急性期データ出力用!E198)","v":"なし"}]
["合併症",null,null,null,"肺炎：",null,null,{"$f":"急性期データ出力用!F201","v":""},null,null,null,"尿路感染症：",null,null,null,null,{"$f":"急性期データ出力用!F202","v":""},null,null,null,"その他感染症：",null,null,null,null,null,{"$f":"急性期データ出力用!F203","v":""},null,null,null,null,"感染部位：",null,null,null,{"$f":"急性期データ出力用!F204","v":""}]
[null,null,null,null,"その他合併症：",null,null,null,null,{"$f":"急性期データ出力用!F205","v":""},null,null,null,{"$f":"急性期データ出力用!E205","v":""}]
["その他",null,null,null,"認知症：",null,null,{"$f":"急性期データ出力用!F206","v":""},null,null,"半側空間無視：",null,null,null,null,{"$f":"急性期データ出力用!F207","v":""},null,"視野障害：",null,null,null,{"$f":"急性期データ出力用!F208","v":""},null,"感覚障害：",null,null,null,{"$f":"急性期データ出力用!F209","v":""},null,"失調：",null,null,{"$f":"急性期データ出力用!F210","v":""},null,"疼痛：",null,null,{"$f":"急性期データ出力用!F211","v":""},null,null,"嚥下障害：",null,null,null,{"$f":"急性期データ出力用!F214","v":""},null,{"$f":"急性期データ出力用!F215","v":""}]
[null,null,null,null,"拘縮：",null,null,{"$f":"急性期データ出力用!F212","v":""},null,{"$f":"IF(急性期データ出力用!F213<>\"\",\"（\" & 急性期データ出力用!F213 &      \"）\",\"\")","v":""},null,null,null,"失語：",null,null,{"$f":"急性期データ出力用!F216","v":""},null,{"$f":"急性期データ出力用!F217","v":""},null,null,null,"褥瘡：",null,null,{"$f":"急性期データ出力用!F218","v":""},null,{"$f":"IF(急性期データ出力用!F219<>\"\",\"（\" & 急性期データ出力用!F219 &  \"）\",\"\")","v":""},null,null,"その他皮膚疾患：",null,null,null,null,null,{"$f":"急性期データ出力用!F220","v":""},null,{"$f":"IF(急性期データ出力用!F221<>\"\",\"（\" & 急性期データ出力用!F221 &  \"）\",\"\")","v":""}]
[]
["看護",null,"食事",null,null,{"$f":"急性期データ出力用!F93","v":""},null,null,null,{"$f":"急性期データ出力用!H97","v":""},null,null,null,null,null,null,null,null,null,"日常生活機能",null,"床上安静の指示",null,null,null,null,null,{"$f":"急性期データ出力用!F114","v":""},null,null,null,null,null,"衣服の着脱",null,null,null,null,null,null,null,null,null,{"$f":"急性期データ出力用!F119","v":""}]
[null,null,"移乗",null,null,{"$f":"急性期データ出力用!F100","v":""},null,null,null,null,null,null,null,null,null,null,null,null,null,null,null,"寝返り",null,null,null,null,null,{"$f":"急性期データ出力用!F115","v":""},null,null,null,null,null,"他者への意思の伝達",null,null,null,null,null,null,null,null,null,{"$f":"急性期データ出力用!F120","v":""}]
[null,null,"トイレ",null,null,{"$f":"急性期データ出力用!F100","v":""},null,null,null,null,null,null,null,null,null,null,null,null,null,null,null,"起き上がり",null,null,null,null,null,{"$f":"急性期データ出力用!F116","v":""},null,null,null,null,null,"診療・療養上の指示が通じる",null,null,null,null,null,null,null,null,null,{"$f":"急性期データ出力用!F121","v":""}]
[null,null,"入浴",null,null,{"$f":"急性期データ出力用!F101","v":""},null,null,null,{"$f":"急性期データ出力用!F102","v":""},null,null,null,null,null,null,null,null,null,null,null,"座位保持",null,null,null,null,null,{"$f":"急性期データ出力用!F117","v":""},null,null,null,null,null,"危険行動",null,null,null,null,null,null,null,null,null,{"$f":"急性期データ出力用!F122","v":""}]
[null,null,"移動",null,null,{"$f":"急性期データ出力用!F103","v":""},null,null,null,{"$f":"急性期データ出力用!H108","v":""},null,null,null,null,null,null,null,null,null,null,null,"口腔清潔",null,null,null,null,null,{"$f":"急性期データ出力用!F118","v":""}]
[null,null,"排尿",null,null,{"$f":"急性期データ出力用!F112","v":""},null,null,null,{"$f":"急性期データ出力用!F113","v":""},null,null,null,null,null,null,null,null,null,null,null,"身体拘束",null,null,null,null,null,{"$f":"急性期データ出力用!F123","v":""},null,null,{"$f":"急性期データ出力用!H125","v":""}]
[null,null,"排便",null,null,{"$f":"急性期データ出力用!F110","v":""},null,null,null,{"$f":"急性期データ出力用!F111","v":""},null,null,null,null,null,null,null,null,null,null,null,"特記事項",null,null,null,{"$f":"IF(急性期データ出力用!F127=\"\",\"なし\",急性期データ出力用!F127)","v":"なし"}]
[null,null,null,null,null,null,null,null,null,null,null,null,null,null,null,null,null,null,null,null,null,null,"日常機能評価点数",null,null,null,null,null,null,null,{"$f":"日常生活機能評価!AE22","v":0}]
["日常生活特記事項　　　　　　　　　　　　　　　　　　　　　　　　　　　",null,null,null,null,null,null,null,null,null,null,null,null,null,null,null,null,null,null,null,null,null,null,null,null,null,null,null,null,null,null,null,null,null,"記入者：",null,null,{"$f":"急性期データ出力用!F299","v":""}]
[{"$f":"IF(急性期データ出力用!F127=\"\",\"なし\",急性期データ出力用!F127)","v":"なし"}]
[]
["リハビリ",null,null,null,"FIM",null,null,{"$f":"FIM急性期!S15","v":0},null,null,null,"B.I",null,null,{"$f":"B.I急性期!B3","v":0},null,null,"麻痺",null,null,{"$f":"\"Br stage \" & 急性期データ出力用!D135","v":"Br stage 右上肢( 　 )　－手指( 　 )　－下肢( 　 )　　左上肢( 　 )　－手指( 　 )　－下肢( 　 ）"}]
[null,null,null,null,"食事",null,null,{"$f":"急性期データ出力用!F147","v":""},null,null,null,{"$f":"急性期データ出力用!H151","v":""},null,null,null,null,null,"移乗",null,null,{"$f":"急性期データ出力用!F154","v":""},null,null,null,null,null,null,null,null,null,"トイレ",null,null,{"$f":"急性期データ出力用!F156","v":""}]
[null,null,null,null,"移動",null,null,{"$f":"急性期データ出力用!F164","v":""},null,null,null,{"$f":"急性期データ出力用!H169","v":""},null,null,null,null,null,"リハビリ開始日（",null,null,null,null,null,{"$f":"急性期データ出力用!F222","v":""},null,null,"）",{"$f":"急性期データ出力用!H224","v":""}]
[null,null,null,null,"担当者（リハスタッフ）：",null,null,null,null,null,null,null,{"$f":"急性期データ出力用!H280","v":""}]
[null,null,null,null,"理学療法",null,null,{"$f":"急性期データ出力用!F275","v":""}]
[null,null,null,null,"作業療法",null,null,{"$f":"急性期データ出力用!F276","v":""}]
[null,null,null,null,"言語療法",null,null,{"$f":"急性期データ出力用!F277","v":""}]
[]
["転帰・転院基準",null,null,null,"転院先：",null,null,{"$f":"急性期データ出力用!F231","v":""}]
[null,null,null,null,"転院先",null,null,{"$f":"IF(I45<>\"自宅（在宅）：自宅生活可能とする状態まで　改善・回復 \",       急性期データ出力用!F233,\"\")","v":""},null,null,null,null,null,null,null,"退院日:",null,null,{"$f":"急性期データ出力用!F234","v":""},null,null,null,"連携パス説明",null,null,null,null,null,"説明日：",null,null,{"$f":"急性期データ出力用!F229","v":""},null,null,null,"説明を行った者：",null,null,null,null,null,{"$f":"急性期データ出力用!F230","v":""}]
[]
["基本情報",null,null,"現在の状況"]
[null,null,null,"職業",null,null,null,{"$f":"急性期データ出力用!F237  & 急性期データ出力用!H238","v":""},null,null,null,null,null,null,null,null,null,null,null,null,null,null,null,null,"復職見込み",null,null,null,null,{"$f":"急性期データ出力用!F239","v":""}]
[null,null,null,"生活の場",null,null,null,null,{"$f":"急性期データ出力用!G243","v":""}]
[]
[null,null,null,"保険の種類",null,null,null,null,{"$f":"急性期データ出力用!H245","v":""}]
[null,null,null,"退院後の主治医",null,null,null,null,null,{"$f":"急性期データ出力用!F246","v":""},null,null,"（医療機関・医師名：",null,null,null,null,null,null,null,{"$f":"急性期データ出力用!F247","v":""},null,null,null,null,null,null,null,"）"]
[null,null,null,"身体障害者手帳",null,null,null,null,null,{"$f":"急性期データ出力用!F248","v":""},null,null,"（　　　　　　　　　　）",{"$f":"急性期データ出力用!F251","v":""},null,null,"）級"]
[null,null,null,"介護保険",null,null,null,null,null,{"$f":"急性期データ出力用!F252","v":""}]
[null,null,null,null,null,null,null,null,null,"介護度：",null,null,{"$f":"急性期データ出力用!F253","v":""}]
[null,null,null,null,null,null,null,null,null,"居宅介護支援事業所（",null,null,null,null,null,null,null,{"$f":"急性期データ出力用!F254","v":""},null,null,null,null,null,null,null,null,null,null,null,"）　",null,"担当者（",null,null,null,{"$f":"急性期データ出力用!F255","v":""},null,null,null,null,null,"）"]
[null,null,null,"退院後の本人・家族の希望",null,null,null,null,null,null,null,null,null,{"$f":"急性期データ出力用!F256","v":""}]
[]
[null,null,null,"家族状況",null,null,null,null,null,"介護者：",null,null,null,{"$f":"急性期データ出力用!F257","v":""},null,null,null,"（",{"$f":"急性期データ出力用!F258","v":""},null,null,null,null,null,"）",null,null,null,null,null,"介護力：",null,null,null,{"$f":"急性期データ出力用!F259","v":""}]
[null,null,null,null,null,null,null,null,null,"キーパーソン：氏名（",null,null,null,null,null,null,null,{"$f":"急性期データ出力用!F260","v":""},null,null,null,null,null,null,"）",null,null,"本人との関係：（",null,null,null,null,null,null,{"$f":"急性期データ出力用!F261","v":""},null,null,"）"]
[]
["医療連携上の特記事項"]
[{"$f":"急性期データ出力用!F263","v":""}]

{"sheet":"回復期診療計画 (印刷用)","index":8,"n_rows":46,"n_cols":49,"rows_kept":46,"cut":false,"hidden":true,"merged":[[4,36,4,37],[18,15,18,19],[18,11,18,14],[18,4,18,7],[5,0,5,3],[7,27,7,49],[6,4,6,26],[10,27,10,49],[12,4,13,49],[10,4,10,26],[14,4,14,6],[14,0,14,3],[8,27,8,49],[7,0,7,3],[17,9,17,20],[17,4,17,8],[18,0,19,3],[9,4,9,20],[9,21,9,26],[19,26,19,37],[9,44,9,49],[19,48,19,49],[4,4,4,35],[5,27,5,49],[26,16,26,23],[45,20,45,25],[43,18,43,21],[43,22,43,27],[45,26,45,32],[43,28,43,30],[45,38,45,44],[43,31,43,34],[43,35,43,40],[43,41,43,49],[45,34,45,37],[40,0,40,49],[41,17,41,20],[41,21,41,24],[41,38,41,40],[41,0,41,3],[39,7,39,10],[39,4,39,6],[39,22,39,25],[41,25,41,27],[39,26,39,27],[39,28,39,49],[41,28,41,33],[42,0,43,3],[36,4,36,6],[43,4,43,6],[20,0,20,3],[43,7,43,14],[37,7,37,49],[39,0,39,3],[35,12,35,49],[24,44,24,49],[25,44,31,49],[30,36,30,43],[26,24,26,35],[20,22,20,26],[20,18,20,20],[43,15,43,17],[37,4,37,6],[39,11,39,13],[41,4,41,6],[41,7,41,9],[42,7,42,49],[38,4,38,6],[34,0,34,49],[22,7,22,8],[25,36,25,43],[25,4,25,15],[6,27,6,49],[2,45,2,47],[2,26,2,28],[2,35,2,44],[2,22,2,25],[1,41,1,43],[1,20,1,23],[41,10,41,13],[11,0,11,49],[39,14,39,21],[41,14,41,16],[38,7,38,49],[41,41,41,49],[8,0,8,3],[8,4,8,26],[9,0,9,3],[15,0,16,3],[12,0,13,3],[14,7,14,49],[10,0,10,3],[15,4,15,49],[20,8,20,10],[41,34,41,37],[18,29,18,33],[22,27,22,29],[0,20,0,31],[0,32,0,34],[0,35,0,48],[1,35,1,36],[4,46,4,49],[19,38,19,40],[18,42,18,45],[18,38,18,40],[17,25,17,49],[18,34,18,37],[3,4,3,49],[19,4,19,7],[0,0,0,19],[1,0,1,2],[1,37,1,40],[1,31,1,34],[1,44,1,49],[1,18,1,19],[1,3,1,14],[1,15,1,17],[1,24,1,30],[9,27,9,43],[17,0,17,3],[21,4,21,6],[21,27,21,28],[31,36,31,43],[31,4,31,15],[31,16,31,23],[31,24,31,35],[20,4,20,7],[22,9,22,12],[22,13,22,15],[21,15,21,16],[30,24,30,35],[29,16,29,23],[28,4,28,15],[27,4,27,15],[27,16,27,23],[26,4,26,15],[23,0,23,49],[22,38,22,49],[22,36,22,37],[22,25,22,26],[22,22,22,24],[21,0,22,3],[22,30,22,35],[24,36,24,43],[18,46,18,49],[19,16,19,21],[19,8,19,10],[18,8,18,10],[18,20,18,25],[17,21,17,24],[21,23,21,26],[21,7,21,9],[21,10,21,14],[21,44,21,45],[21,29,21,31],[21,21,21,22],[21,37,21,38],[21,34,21,36],[21,32,21,33],[18,26,18,28],[20,27,20,32],[4,38,4,41],[33,0,33,49],[2,0,4,3],[4,42,4,45],[2,19,2,21],[2,29,2,31],[2,32,2,34],[2,48,2,49],[2,4,2,18],[20,33,20,42],[19,41,19,44],[20,43,20,45],[5,4,5,26],[7,4,7,26],[6,0,6,3],[20,14,20,17],[22,4,22,6],[20,11,20,13],[21,17,21,20],[22,16,22,17],[22,18,22,21],[19,11,19,15],[16,4,16,49],[19,45,19,47],[24,0,31,3],[38,57,38,58],[33,57,33,58],[30,16,30,23],[28,24,28,35],[25,16,25,23],[25,24,25,35],[29,24,29,35],[28,16,28,23],[28,36,28,43],[29,36,29,43],[27,24,27,35],[37,57,37,58],[32,34,32,36],[36,57,36,58],[26,36,26,43],[35,0,38,3],[27,36,27,43],[30,4,30,15],[29,4,29,15],[36,7,36,49],[24,16,24,23],[24,4,24,15],[24,24,24,35]]}
["脳卒中地域連携診療計画書",null,null,null,null,null,null,null,null,null,null,null,null,null,null,null,null,null,null,null,{"$f":"\"急性期病院（\" & 回復期データ出力用!F4 & \"）\"","v":"急性期病院（）"},null,null,null,null,null,null,null,null,null,null,null,"→",null,null,{"$f":"\"回復期病院（\" & 回復期データ出力用!F3 & \"）\"","v":"回復期病院（）"}]
["氏名",null,null,{"$f":"回復期データ出力用!F5","v":""},null,null,null,null,null,null,null,null,null,null,null,"性別",null,null,{"$f":"回復期データ出力用!F6","v":""},null,"生年月日",null,null,null,{"$f":"回復期データ出力用!F11","v":""},null,null,null,null,null,null,{"$f":"回復期データ出力用!F12","v":""},null,null,null,"身長",null,{"$f":"回復期データ出力用!F16","v":""},null,null,null,"体重",null,null,{"$f":"回復期データ出力用!F17","v":0}]
["診断名",null,null,null,{"$f":"回復期データ出力用!F18 & 回復期データ出力用!F26 & 回復期データ出力用!F35  & 回復期データ出力用!F40","v":""},null,null,null,null,null,null,null,null,null,null,null,null,null,null," 部位：",null,null,{"$f":"回復期データ出力用!F43","v":""},null,null,null,"既往：",null,null,{"$f":"回復期データ出力用!F44","v":""},null,null,"発症日：",null,null,{"$f":"回復期データ出力用!F42","v":""},null,null,null,null,null,null,null,null,null,"利き腕：",null,null,{"$f":"回復期データ出力用!F15","v":""}]
[null,null,null,null,{"$f":"\"脳卒中危険因子：\" & 回復期データ出力用!H51","v":"脳卒中危険因子："}]
[null,null,null,null,null,null,null,null,null,null,null,null,null,null,null,null,null,null,null,null,null,null,null,null,null,null,null,null,null,null,null,null,null,null,null,null,"酒：",null,{"$f":"回復期データ出力用!F53","v":""},null,null,null,"たばこ：",null,null,null,{"$f":"回復期データ出力用!F54","v":""}]
["経過",null,null,null,"入院時",null,null,null,null,null,null,null,null,null,null,null,null,null,null,null,null,null,null,null,null,null,null,"退院時"]
["日付",null,null,null,{"$f":"回復期データ出力用!F55","v":""},null,null,null,null,null,null,null,null,null,null,null,null,null,null,null,null,null,null,null,null,null,null,{"$f":"回復期データ出力用!F65","v":""}]
["目標",null,null,null,{"$f":"回復期データ出力用!H231","v":""},null,null,null,null,null,null,null,null,null,null,null,null,null,null,null,null,null,null,null,null,null,null,{"$f":"回復期データ出力用!H237","v":""}]
["MMT",null,null,null,{"$f":"回復期データ出力用!F56","v":"右上肢（   ）　　左上肢（   ）　　右下肢（   ）　　左下肢（   ）"},null,null,null,null,null,null,null,null,null,null,null,null,null,null,null,null,null,null,null,null,null,null,{"$f":"回復期データ出力用!F66","v":"右上肢（   ）　　左上肢（   ）　　右下肢（   ）　　左下肢（   ）"}]
["FIM/B.I",null,null,null,{"$f":"\"FIM   \" &  'FIM回復期 (入院)'!S15 & \"/126　（運動項目：\" & 'FIM回復期 (入院)'!U15 & \" 認知項目：\" & 'FIM回復期 (入院)'!W15 & \"）\"","v":"FIM   0/126　（運動項目：0 認知項目：0）"},null,null,null,null,null,null,null,null,null,null,null,null,null,null,null,null,{"$f":"\"B.I    \" & 'B.I回復期(入院)'!B3 & \"／100\"","v":"B.I    0／100"},null,null,null,null,null,{"$f":"\"FIM   \" &  'FIM回復期 (退院)'!S15 & \"/126　（運動項目：\" & 'FIM回復期 (退院)'!U15 & \" 認知項目：\" & 'FIM回復期 (退院)'!W15 & \"）\"","v":"FIM   0/126　（運動項目：0 認知項目：0）"},null,null,null,null,null,null,null,null,null,null,null,null,null,null,null,null,{"$f":"\"B.I    \" & 'B.I回復期(退院)'!B3 & \"／100\"","v":"B.I    0／100"}]
["Br　stage",null,null,null,{"$f":"回復期データ出力用!F59","v":"右上肢( 　 )　－手指( 　 )　－下肢( 　 )\n左上肢( 　 )　－手指( 　 )　－下肢( 　 ）"},null,null,null,null,null,null,null,null,null,null,null,null,null,null,null,null,null,null,null,null,null,null,{"$f":"回復期データ出力用!F69","v":"右上肢( 　 )　－手指( 　 )　－下肢( 　 )\n左上肢( 　 )　－手指( 　 )　－下肢( 　 ）"}]
[]
["検査",null,null,null,{"$f":" \"画像所見等：\" & 回復期データ出力用!F83","v":"画像所見等："}]
[]
["治療",null,null,null,"内服：",null,null,{"$f":"回復期データ出力用!H206","v":""}]
["処置",null,null,null,{"$f":"\"経過中の症状変動の有無（  \"&回復期データ出力用!F86 & \"   ）\"","v":"経過中の症状変動の有無（     ）"}]
[null,null,null,null,{"$f":"\"症状と原因：\" & 回復期データ出力用!F87","v":"症状と原因："}]
["禁忌事項",null,null,null,"アレルギー：",null,null,null,null,{"$f":"IF(回復期データ出力用!D116=FALSE,\"なし\",回復期データ出力用!F117)","v":"なし"},null,null,null,null,null,null,null,null,null,null,null,"その他：",null,null,null,{"$f":"IF(回復期データ出力用!D118=FALSE,\"なし\",回復期データ出力用!F119)","v":"なし"}]
["栄養呼吸",null,null,null,"嚥下障害：",null,null,null,{"$f":"回復期データ出力用!F102","v":""},null,null,"食事形態：",null,null,null,{"$f":"回復期データ出力用!F103","v":""},null,null,null,null,{"$f":"IF(回復期データ出力用!D103=4,回復期データ出力用!F104,IF(回復期データ出力用!D103=5,回復期データ出力用!F105,\"\"))","v":""},null,null,null,null,null,"方法：",null,null,{"$f":"回復期データ出力用!F106&IF(回復期データ出力用!D106=2,回復期データ出力用!H210,\"\")","v":""},null,null,null,null,"カテーテル",null,null,null,{"$f":"回復期データ出力用!F107","v":""},null,null,"Fr","最終交換日:",null,null,null,{"$f":"回復期データ出力用!F109","v":""}]
[null,null,null,null,"気管切開：",null,null,null,{"$f":"回復期データ出力用!F110","v":""},null,null,"最終交換日：",null,null,null,null,{"$f":"回復期データ出力用!F211","v":""},null,null,null,null,null,null,null,null,null,"認知症高齢者の日常生活自立度：",null,null,null,null,null,null,null,null,null,null,null,{"$f":"回復期データ出力用!F121","v":""},null,null,"HDS-R",null,null,null,{"$f":"回復期データ出力用!F122","v":""},null,null,"点"]
["排泄",null,null,null,"移乗方法：",null,null,null,{"$f":"回復期データ出力用!F111","v":""},null,null,"方法：",null,null,{"$f":"回復期データ出力用!F112","v":""},null,null,null,{"$f":"回復期データ出力用!F113","v":""},null,null,"Fr","最終交換日：",null,null,null,null,{"$f":"回復期データ出力用!F114","v":""},null,null,null,null,null,"障害高齢者の日常生活自立度：",null,null,null,null,null,null,null,null,null,{"$f":"回復期データ出力用!F120","v":""}]
["その他",null,null,null,"認知症：",null,null,{"$f":"回復期データ出力用!F88","v":""},null,null,"半側空間無視：",null,null,null,null,{"$f":"回復期データ出力用!F89","v":""},null,"視野障害：",null,null,null,{"$f":"回復期データ出力用!F90","v":""},null,"感覚障害：",null,null,null,{"$f":"回復期データ出力用!F91","v":""},null,"失調：",null,null,{"$f":"回復期データ出力用!F92","v":""},null,"疼痛：",null,null,{"$f":"回復期データ出力用!F93","v":""}]
[null,null,null,null,"拘縮：",null,null,{"$f":"回復期データ出力用!F94","v":""},null,{"$f":"IF(回復期データ出力用!F95<>\"\",\"（\" & 回復期データ出力用!F95 &      \"）\",\"\")","v":""},null,null,null,"失語：",null,null,{"$f":"回復期データ出力用!F96","v":""},null,{"$f":"回復期データ出力用!F97","v":""},null,null,null,"褥瘡：",null,null,{"$f":"回復期データ出力用!F98","v":""},null,{"$f":"IF(回復期データ出力用!F99<>\"\",\"（\" & 回復期データ出力用!F99 &      \"）\",\"\")","v":""},null,null,"その他皮膚疾患：",null,null,null,null,null,{"$f":"回復期データ出力用!F100","v":""},null,{"$f":"IF(回復期データ出力用!F101<>\"\",\"（\" & 回復期データ出力用!F101 &  \"）\",\"\")","v":""}]
[]
["日常生活機能評価表",null,null,null,"患者の状況",null,null,null,null,null,null,null,null,null,null,null,"得　　点",null,null,null,null,null,null,null,"患者の状況",null,null,null,null,null,null,null,null,null,null,null,"得　　点",null,null,null,null,null,null,null,"合計"]
[null,null,null,null,"床上安静の指示",null,null,null,null,null,null,null,null,null,null,null,{"$f":"日常生活機能評価!BD9","v":""},null,null,null,null,null,null,null,"口腔清潔",null,null,null,null,null,null,null,null,null,null,null,{"$f":"日常生活機能評価!BD16","v":""},null,null,null,null,null,null,null,{"$f":"日常生活機能評価!AH22","v":0}]
[null,null,null,null,"どちらかの手を胸元まで持ち上げられる",null,null,null,null,null,null,null,null,null,null,null,{"$f":"日常生活機能評価!BD10","v":""},null,null,null,null,null,null,null,"食事摂取",null,null,null,null,null,null,null,null,null,null,null,{"$f":"日常生活機能評価!BD17","v":""}]
[null,null,null,null,"寝返り",null,null,null,null,null,null,null,null,null,null,null,{"$f":"日常生活機能評価!BD11","v":""},null,null,null,null,null,null,null,"衣服の着脱",null,null,null,null,null,null,null,null,null,null,null,{"$f":"日常生活機能評価!BD18","v":""}]
[null,null,null,null,"起き上がり",null,null,null,null,null,null,null,null,null,null,null,{"$f":"日常生活機能評価!BD12","v":""},null,null,null,null,null,null,null,"他者への意思の伝達",null,null,null,null,null,null,null,null,null,null,null,{"$f":"日常生活機能評価!BD19","v":""}]
[null,null,null,null,"座位保持",null,null,null,null,null,null,null,null,null,null,null,{"$f":"日常生活機能評価!BD13","v":""},null,null,null,null,null,null,null,"診療・療養上の指示が通じる",null,null,null,null,null,null,null,null,null,null,null,{"$f":"日常生活機能評価!BD20","v":""}]
[null,null,null,null,"移乗",null,null,null,null,null,null,null,null,null,null,null,{"$f":"日常生活機能評価!BD14","v":""},null,null,null,null,null,null,null,"危険行動",null,null,null,null,null,null,null,null,null,null,null,{"$f":"日常生活機能評価!BD21","v":""}]
[null,null,null,null,"移動方法",null,null,null,null,null,null,null,null,null,null,null,{"$f":"日常生活機能評価!BD15","v":""},null,null,null,null,null,null,null,"身体拘束",null,null,null,null,null,null,null,null,null,null,null,{"$f":"回復期データ出力用!F77 & IF(回復期データ出力用!H79=\"\",\"\",\"  (\" & 回復期データ出力用!H79 & \")\")","v":""}]
["日常生活特記事項　　　　　　　　　　　　　　　　　　　　　　　　　　　",null,null,null,null,null,null,null,null,null,null,null,null,null,null,null,null,null,null,null,null,null,null,null,null,null,null,null,null,null,null,null,null,null,"記入者：",null,null,{"$f":"回復期データ出力用!F194","v":""}]
[{"$f":"IF(回復期データ出力用!F82=\"\",\"なし\",回復期データ出力用!F82)","v":"なし"}]
[]
["リハビリ",null,null,null,"担当者（リハスタッフ）：",null,null,null,null,null,null,null,{"$f":"回復期データ出力用!H214","v":""}]
[null,null,null,null,"理学療法",null,null,{"$f":"回復期データ出力用!F125","v":""}]
[null,null,null,null,"作業療法",null,null,{"$f":"回復期データ出力用!F127","v":""}]
[null,null,null,null,"言語療法",null,null,{"$f":"回復期データ出力用!F129","v":""}]
["住宅訪問：",null,null,null,{"$f":"回復期データ出力用!F136","v":""},null,null,"住宅改修：",null,null,null,{"$f":"回復期データ出力用!F139","v":""},null,null,{"$f":"回復期データ出力用!H144","v":""},null,null,null,null,null,null,null,"福祉用具：",null,null,null,{"$f":"回復期データ出力用!F147","v":""},null,{"$f":"回復期データ出力用!H150","v":""}]
[]
["介護保険",null,null,null,"申請：",null,null,{"$f":"回復期データ出力用!F130","v":""},null,null,"要支・介",null,null,null,{"$f":"回復期データ出力用!F131","v":""},null,null,"身障手帳",null,null,null,"申請状況：",null,null,null,{"$f":"回復期データ出力用!F132","v":""},null,null,{"$f":"回復期データ出力用!F133","v":""},null,null,null,null,null,{"$f":"回復期データ出力用!F134 & \"種\"","v":"種"},null,null,null,{"$f":" 回復期データ出力用!F135 & \"級\"","v":"級"}]
["転帰・転院基準",null,null,null,"転院先：",null,null,{"$f":"回復期データ出力用!F160","v":""}]
[null,null,null,null,"転院先",null,null,{"$f":"回復期データ出力用!F162","v":""},null,null,null,null,null,null,null,"退院日:",null,null,{"$f":"回復期データ出力用!F163","v":""},null,null,null,"連携パス説明",null,null,null,null,null,"説明日：",null,null,{"$f":"回復期データ出力用!F155","v":""},null,null,null,"主治医：",null,null,null,null,null,{"$f":"回復期データ出力用!F156","v":""}]
[]
[null,null,null,null,null,null,null,null,null,null,null,null,null,null,null,null,null,null,null,null,"最終確認年月日：",null,null,null,null,null,null,null,null,null,null,null,null,null,"担当者：（",null,null,null,null,null,null,null,null,null,null,"）"]

{"sheet":"患者基本情報（回復期）","index":9,"n_rows":66,"n_cols":49,"rows_kept":66,"cut":false,"hidden":true,"merged":[[40,57,40,58],[35,57,35,58],[16,4,16,49],[21,45,21,47],[20,26,20,28],[20,46,20,49],[34,34,34,36],[23,23,23,26],[38,57,38,58],[28,24,28,35],[39,57,39,58],[17,9,17,20],[24,22,24,24],[23,21,23,22],[27,44,33,49],[32,4,32,15],[30,16,30,23],[26,24,26,35],[26,36,26,43],[17,25,17,49],[25,0,25,49],[24,36,24,37],[33,36,33,43],[31,36,31,43],[0,20,0,31],[0,32,0,34],[0,35,0,48],[2,0,4,3],[1,35,1,36],[0,0,0,19],[1,0,1,2],[2,26,2,28],[7,0,7,3],[1,41,1,43],[1,37,1,40],[1,31,1,34],[2,29,2,31],[1,20,1,23],[2,35,2,44],[2,22,2,25],[5,4,5,26],[1,18,1,19],[7,27,7,49],[1,44,1,49],[4,38,4,41],[1,24,1,30],[2,48,2,49],[2,45,2,47],[1,3,1,14],[6,0,6,3],[2,19,2,21],[1,15,1,17],[4,4,4,35],[2,4,2,18],[3,4,3,49],[5,27,5,49],[4,42,4,45],[5,0,5,3],[6,27,6,49],[6,4,6,26],[4,46,4,49],[4,36,4,37],[2,32,2,34],[7,4,7,26],[12,4,13,49],[8,27,8,49],[14,4,14,6],[14,0,14,3],[9,4,9,20],[9,21,9,26],[14,7,14,49],[11,0,11,49],[10,4,10,26],[8,0,8,3],[8,4,8,26],[9,0,9,3],[10,0,10,3],[12,0,13,3],[10,27,10,49],[9,27,9,43],[9,44,9,49],[37,0,40,3],[38,4,38,6],[38,7,38,49],[37,12,37,49],[21,41,21,44],[22,22,22,26],[23,29,23,31],[23,15,23,16],[22,27,22,32],[23,27,23,28],[24,18,24,21],[23,44,23,45],[24,38,24,49],[26,4,26,15],[26,16,26,23],[27,24,27,35],[29,16,29,23],[26,0,33,3],[32,24,32,35],[31,4,31,15],[30,24,30,35],[18,7,18,10],[22,14,22,17],[22,4,22,7],[24,4,24,6],[24,9,24,12],[24,13,24,15],[23,32,23,33],[23,34,23,36],[20,29,20,33],[15,0,16,3],[18,14,18,17],[23,0,24,3],[24,7,24,8],[23,4,23,6],[23,7,23,9],[21,8,21,10],[22,8,22,10],[20,4,20,7],[21,16,21,21],[15,4,15,49],[19,13,19,49],[20,11,20,14],[18,18,18,22],[18,27,18,32],[17,21,17,24],[18,23,18,26],[17,0,17,3],[20,0,21,3],[22,11,22,13],[21,4,21,7],[20,42,20,45],[20,38,20,40],[21,38,21,40],[17,4,17,8],[22,0,22,3],[22,33,22,42],[41,22,41,25],[40,7,40,49],[42,0,42,49],[30,4,30,15],[41,11,41,13],[33,16,33,23],[28,4,28,15],[20,8,20,10],[20,20,20,25],[29,4,29,15],[27,36,27,43],[22,18,22,20],[20,15,20,19],[29,24,29,35],[18,11,18,13],[19,9,19,12],[21,11,21,15],[21,26,21,37],[24,27,24,29],[24,30,24,35],[18,42,18,49],[18,38,18,41],[20,34,20,37],[24,16,24,17],[23,17,23,20],[21,48,21,49],[43,34,43,37],[22,43,22,45],[43,4,43,6],[41,26,41,27],[41,28,41,49],[32,16,32,23],[26,44,26,49],[35,0,35,49],[32,36,32,43],[31,16,31,23],[31,24,31,35],[43,10,43,13],[41,0,41,3],[41,14,41,21],[28,36,28,43],[33,4,33,15],[18,0,19,3],[18,33,18,37],[18,4,18,6],[45,31,45,34],[23,10,23,14],[43,7,43,9],[30,36,30,43],[29,36,29,43],[33,24,33,35],[40,4,40,6],[27,4,27,15],[28,16,28,23],[45,35,45,40],[45,41,45,49],[43,38,43,40],[45,18,45,21],[45,22,45,27],[41,4,41,6],[41,7,41,10],[27,16,27,23],[45,4,45,6],[44,7,44,49],[24,25,24,26],[23,37,23,38],[39,4,39,6],[36,0,36,49],[39,7,39,49],[65,41,65,47],[60,17,60,23],[60,34,60,36],[63,0,64,49],[47,0,60,2],[59,18,59,23],[57,13,58,49],[45,7,45,14],[43,41,43,49],[45,15,45,17],[45,28,45,30],[53,28,53,31],[53,35,53,38],[44,0,45,3],[56,17,56,28],[53,16,53,22],[43,0,43,3],[43,28,43,33],[56,35,56,40],[52,23,52,30],[43,17,43,20],[43,21,43,24],[43,14,43,16],[43,25,43,27]]}
["脳卒中地域連携診療計画書",null,null,null,null,null,null,null,null,null,null,null,null,null,null,null,null,null,null,null,{"$f":"\"急性期病院（\" & 回復期データ出力用!F4 & \"）\"","v":"急性期病院（）"},null,null,null,null,null,null,null,null,null,null,null,"→",null,null,{"$f":"\"回復期病院（\" & 回復期データ出力用!F3 & \"）\"","v":"回復期病院（）"}]
["氏名",null,null,{"$f":"回復期データ出力用!F5","v":""},null,null,null,null,null,null,null,null,null,null,null,"性別",null,null,{"$f":"回復期データ出力用!F6","v":""},null,"生年月日",null,null,null,{"$f":"回復期データ出力用!F11","v":""},null,null,null,null,null,null,{"$f":"回復期データ出力用!F12","v":""},null,null,null,"身長",null,{"$f":"回復期データ出力用!F16","v":""},null,null,null,"体重",null,null,{"$f":"回復期データ出力用!F17","v":0}]
["診断名",null,null,null,{"$f":"回復期データ出力用!F18 & 回復期データ出力用!F26 & 回復期データ出力用!F35  & 回復期データ出力用!F40","v":""},null,null,null,null,null,null,null,null,null,null,null,null,null,null," 部位：",null,null,{"$f":"回復期データ出力用!F43","v":""},null,null,null,"既往：",null,null,{"$f":"回復期データ出力用!F44","v":""},null,null,"発症日：",null,null,{"$f":"回復期データ出力用!F42","v":""},null,null,null,null,null,null,null,null,null,"利き腕：",null,null,{"$f":"回復期データ出力用!F15","v":""}]
[null,null,null,null,{"$f":"\"脳卒中危険因子：\" & 回復期データ出力用!H51","v":"脳卒中危険因子："}]
[null,null,null,null,null,null,null,null,null,null,null,null,null,null,null,null,null,null,null,null,null,null,null,null,null,null,null,null,null,null,null,null,null,null,null,null,"酒：",null,{"$f":"回復期データ出力用!F53","v":""},null,null,null,"たばこ：",null,null,null,{"$f":"回復期データ出力用!F54","v":""}]
["経過",null,null,null,"入院時",null,null,null,null,null,null,null,null,null,null,null,null,null,null,null,null,null,null,null,null,null,null,"退院時"]
["日付",null,null,null,{"$f":"回復期データ出力用!F55","v":""},null,null,null,null,null,null,null,null,null,null,null,null,null,null,null,null,null,null,null,null,null,null,{"$f":"回復期データ出力用!F65","v":""}]
["目標",null,null,null,{"$f":"回復期データ出力用!H231","v":""},null,null,null,null,null,null,null,null,null,null,null,null,null,null,null,null,null,null,null,null,null,null,{"$f":"回復期データ出力用!H237","v":""}]
["MMT",null,null,null,{"$f":"回復期データ出力用!F56","v":"右上肢（   ）　　左上肢（   ）　　右下肢（   ）　　左下肢（   ）"},null,null,null,null,null,null,null,null,null,null,null,null,null,null,null,null,null,null,null,null,null,null,{"$f":"回復期データ出力用!F66","v":"右上肢（   ）　　左上肢（   ）　　右下肢（   ）　　左下肢（   ）"}]
["FIM/B.I",null,null,null,{"$f":"\"FIM   \" &  'FIM回復期 (入院)'!S15 & \"/126　（運動項目：\" & 'FIM回復期 (入院)'!U15 & \" 認知項目：\" & 'FIM回復期 (入院)'!W15 & \"）\"","v":"FIM   0/126　（運動項目：0 認知項目：0）"},null,null,null,null,null,null,null,null,null,null,null,null,null,null,null,null,{"$f":"\"B.I    \" & 'B.I回復期(入院)'!B3 & \"／100\"","v":"B.I    0／100"},null,null,null,null,null,{"$f":"\"FIM   \" &  'FIM回復期 (退院)'!S15 & \"/126　（運動項目：\" & 'FIM回復期 (退院)'!U15 & \" 認知項目：\" & 'FIM回復期 (退院)'!W15 & \"）\"","v":"FIM   0/126　（運動項目：0 認知項目：0）"},null,null,null,null,null,null,null,null,null,null,null,null,null,null,null,null,{"$f":"\"B.I    \" & 'B.I回復期(退院)'!B3 & \"／100\"","v":"B.I    0／100"}]
["Br　stage",null,null,null,{"$f":"回復期データ出力用!F59","v":"右上肢( 　 )　－手指( 　 )　－下肢( 　 )\n左上肢( 　 )　－手指( 　 )　－下肢( 　 ）"},null,null,null,null,null,null,null,null,null,null,null,null,null,null,null,null,null,null,null,null,null,null,{"$f":"回復期データ出力用!F69","v":"右上肢( 　 )　－手指( 　 )　－下肢( 　 )\n左上肢( 　 )　－手指( 　 )　－下肢( 　 ）"}]
[]
["検査",null,null,null,{"$f":" \"画像所見等：\" & 回復期データ出力用!F83","v":"画像所見等："}]
[]
["治療",null,null,null,"内服：",null,null,{"$f":"回復期データ出力用!H206","v":""}]
["処置",null,null,null,{"$f":"\"経過中の症状変動の有無（  \"&回復期データ出力用!F86 & \"   ）\"","v":"経過中の症状変動の有無（     ）"}]
[null,null,null,null,{"$f":"\"症状と原因：\" & 回復期データ出力用!F87","v":"症状と原因："}]
["禁忌事項",null,null,null,"アレルギー：",null,null,null,null,{"$f":"IF(回復期データ出力用!D116=FALSE,\"なし\",回復期データ出力用!F117)","v":"なし"},null,null,null,null,null,null,null,null,null,null,null,"その他：",null,null,null,{"$f":"IF(回復期データ出力用!D118=FALSE,\"なし\",回復期データ出力用!F119)","v":"なし"}]
["合併症",null,null,null,"褥創：",null,null,{"$f":"急性期データ出力用!F200","v":""},null,null,null,"肺炎：",null,null,{"$f":"急性期データ出力用!F201","v":""},null,null,null,"尿路感染症：",null,null,null,null,{"$f":"急性期データ出力用!F202","v":""},null,null,null,"その他感染症：",null,null,null,null,null,{"$f":"急性期データ出力用!F203","v":""},null,null,null,null,"感染部位：",null,null,null,{"$f":"急性期データ出力用!F204","v":""}]
[null,null,null,null,"その他合併症：",null,null,null,null,{"$f":"急性期データ出力用!F205","v":""},null,null,null,{"$f":"急性期データ出力用!E205","v":""}]
["栄養呼吸",null,null,null,"嚥下障害：",null,null,null,{"$f":"回復期データ出力用!F102","v":""},null,null,"食事形態：",null,null,null,{"$f":"回復期データ出力用!F103","v":""},null,null,null,null,{"$f":"IF(回復期データ出力用!D103=4,回復期データ出力用!F104,IF(回復期データ出力用!D103=5,回復期データ出力用!F105,\"\"))","v":""},null,null,null,null,null,"方法：",null,null,{"$f":"回復期データ出力用!F106&IF(回復期データ出力用!D106=2,回復期データ出力用!H210,\"\")","v":""},null,null,null,null,"カテーテル",null,null,null,{"$f":"回復期データ出力用!F107","v":""},null,null,"Fr","最終交換日:",null,null,null,{"$f":"回復期データ出力用!F109","v":""}]
[null,null,null,null,"気管切開：",null,null,null,{"$f":"回復期データ出力用!F110","v":""},null,null,"最終交換日：",null,null,null,null,{"$f":"回復期データ出力用!F211","v":""},null,null,null,null,null,null,null,null,null,"認知症高齢者の日常生活自立度：",null,null,null,null,null,null,null,null,null,null,null,{"$f":"回復期データ出力用!F121","v":""},null,null,"HDS-R",null,null,null,{"$f":"回復期データ出力用!F122","v":""},null,null,"点"]
["排泄",null,null,null,"移乗方法：",null,null,null,{"$f":"回復期データ出力用!F111","v":""},null,null,"方法：",null,null,{"$f":"回復期データ出力用!F112","v":""},null,null,null,{"$f":"回復期データ出力用!F113","v":""},null,null,"Fr","最終交換日：",null,null,null,null,{"$f":"回復期データ出力用!F114","v":""},null,null,null,null,null,"障害高齢者の日常生活自立度：",null,null,null,null,null,null,null,null,null,{"$f":"回復期データ出力用!F120","v":""}]
["その他",null,null,null,"認知症：",null,null,{"$f":"回復期データ出力用!F88","v":""},null,null,"半側空間無視：",null,null,null,null,{"$f":"回復期データ出力用!F89","v":""},null,"視野障害：",null,null,null,{"$f":"回復期データ出力用!F90","v":""},null,"感覚障害：",null,null,null,{"$f":"回復期データ出力用!F91","v":""},null,"失調：",null,null,{"$f":"回復期データ出力用!F92","v":""},null,"疼痛：",null,null,{"$f":"回復期データ出力用!F93","v":""}]
[null,null,null,null,"拘縮：",null,null,{"$f":"回復期データ出力用!F94","v":""},null,{"$f":"IF(回復期データ出力用!F95<>\"\",\"（\" & 回復期データ出力用!F95 &      \"）\",\"\")","v":""},null,null,null,"失語：",null,null,{"$f":"回復期データ出力用!F96","v":""},null,{"$f":"回復期データ出力用!F97","v":""},null,null,null,"褥瘡：",null,null,{"$f":"回復期データ出力用!F98","v":""},null,{"$f":"IF(回復期データ出力用!F99<>\"\",\"（\" & 回復期データ出力用!F99 &      \"）\",\"\")","v":""},null,null,"その他皮膚疾患：",null,null,null,null,null,{"$f":"回復期データ出力用!F100","v":""},null,{"$f":"IF(回復期データ出力用!F101<>\"\",\"（\" & 回復期データ出力用!F101 &  \"）\",\"\")","v":""}]
[]
["日常生活機能評価表",null,null,null,"患者の状況",null,null,null,null,null,null,null,null,null,null,null,"得　　点",null,null,null,null,null,null,null,"患者の状況",null,null,null,null,null,null,null,null,null,null,null,"得　　点",null,null,null,null,null,null,null,"合計"]
[null,null,null,null,"床上安静の指示",null,null,null,null,null,null,null,null,null,null,null,{"$f":"日常生活機能評価!BD9","v":""},null,null,null,null,null,null,null,"口腔清潔",null,null,null,null,null,null,null,null,null,null,null,{"$f":"日常生活機能評価!BD16","v":""},null,null,null,null,null,null,null,{"$f":"日常生活機能評価!AH22","v":0}]
[null,null,null,null,"どちらかの手を胸元まで持ち上げられる",null,null,null,null,null,null,null,null,null,null,null,{"$f":"日常生活機能評価!BD10","v":""},null,null,null,null,null,null,null,"食事摂取",null,null,null,null,null,null,null,null,null,null,null,{"$f":"日常生活機能評価!BD17","v":""}]
[null,null,null,null,"寝返り",null,null,null,null,null,null,null,null,null,null,null,{"$f":"日常生活機能評価!BD11","v":""},null,null,null,null,null,null,null,"衣服の着脱",null,null,null,null,null,null,null,null,null,null,null,{"$f":"日常生活機能評価!BD18","v":""}]
[null,null,null,null,"起き上がり",null,null,null,null,null,null,null,null,null,null,null,{"$f":"日常生活機能評価!BD12","v":""},null,null,null,null,null,null,null,"他者への意思の伝達",null,null,null,null,null,null,null,null,null,null,null,{"$f":"日常生活機能評価!BD19","v":""}]
[null,null,null,null,"座位保持",null,null,null,null,null,null,null,null,null,null,null,{"$f":"日常生活機能評価!BD13","v":""},null,null,null,null,null,null,null,"診療・療養上の指示が通じる",null,null,null,null,null,null,null,null,null,null,null,{"$f":"日常生活機能評価!BD20","v":""}]
[null,null,null,null,"移乗",null,null,null,null,null,null,null,null,null,null,null,{"$f":"日常生活機能評価!BD14","v":""},null,null,null,null,null,null,null,"危険行動",null,null,null,null,null,null,null,null,null,null,null,{"$f":"日常生活機能評価!BD21","v":""}]
[null,null,null,null,"移動方法",null,null,null,null,null,null,null,null,null,null,null,{"$f":"日常生活機能評価!BD15","v":""},null,null,null,null,null,null,null,"身体拘束",null,null,null,null,null,null,null,null,null,null,null,{"$f":"回復期データ出力用!F77 & IF(回復期データ出力用!H79=\"\",\"\",\"  (\" & 回復期データ出力用!H79 & \")\")","v":""}]
["日常生活特記事項　　　　　　　　　　　　　　　　　　　　　　　　　　　",null,null,null,null,null,null,null,null,null,null,null,null,null,null,null,null,null,null,null,null,null,null,null,null,null,null,null,null,null,null,null,null,null,"記入者：",null,null,{"$f":"回復期データ出力用!F194","v":""}]
[{"$f":"IF(回復期データ出力用!F82=\"\",\"なし\",回復期データ出力用!F82)","v":"なし"}]
[]
["リハビリ",null,null,null,"担当者（リハスタッフ）：",null,null,null,null,null,null,null,{"$f":"回復期データ出力用!H214","v":""}]
[null,null,null,null,"理学療法",null,null,{"$f":"回復期データ出力用!F125","v":""}]
[null,null,null,null,"作業療法",null,null,{"$f":"回復期データ出力用!F127","v":""}]
[null,null,null,null,"言語療法",null,null,{"$f":"回復期データ出力用!F129","v":""}]
["住宅訪問：",null,null,null,{"$f":"回復期データ出力用!F136","v":""},null,null,"住宅改修：",null,null,null,{"$f":"回復期データ出力用!F139","v":""},null,null,{"$f":"回復期データ出力用!H144","v":""},null,null,null,null,null,null,null,"福祉用具：",null,null,null,{"$f":"回復期データ出力用!F147","v":""},null,{"$f":"回復期データ出力用!H150","v":""}]
[]
["介護保険",null,null,null,"申請：",null,null,{"$f":"回復期データ出力用!F130","v":""},null,null,"要支・介",null,null,null,{"$f":"回復期データ出力用!F131","v":""},null,null,"身障手帳",null,null,null,"申請状況：",null,null,null,{"$f":"回復期データ出力用!F132","v":""},null,null,{"$f":"回復期データ出力用!F133","v":""},null,null,null,null,null,{"$f":"回復期データ出力用!F134 & \"種\"","v":"種"},null,null,null,{"$f":" 回復期データ出力用!F135 & \"級\"","v":"級"}]
["転帰・転院基準",null,null,null,"転院先：",null,null,{"$f":"回復期データ出力用!F160","v":""}]
[null,null,null,null,"転院先",null,null,{"$f":"回復期データ出力用!F162","v":""},null,null,null,null,null,null,null,"退院日:",null,null,{"$f":"回復期データ出力用!F163","v":""},null,null,null,"連携パス説明",null,null,null,null,null,"説明日：",null,null,{"$f":"回復期データ出力用!F155","v":""},null,null,null,"説明を行った者：",null,null,null,null,null,{"$f":"回復期データ出力用!F156","v":""}]
[]
["基本情報",null,null,"現在の状況"]
[null,null,null,"職業",null,null,null,{"$f":"回復期データ出力用!F164  & 回復期データ出力用!H165","v":""},null,null,null,null,null,null,null,null,null,null,null,null,null,null,null,null,"復職見込み",null,null,null,null,{"$f":"回復期データ出力用!F166","v":""}]
[null,null,null,"生活の場",null,null,null,null,{"$f":"回復期データ出力用!G170","v":""}]
[]
[null,null,null,"保険の種類",null,null,null,null,{"$f":"回復期データ出力用!H172","v":""}]
[null,null,null,"退院後の主治医",null,null,null,null,null,{"$f":"回復期データ出力用!F173","v":""},null,null,null,null,null,"（医療機関・医師名：",null,null,null,null,null,null,null,{"$f":"回復期データ出力用!F174","v":""},null,null,null,null,null,null,null,"）"]
[null,null,null,"身体障害者手帳",null,null,null,null,null,{"$f":"回復期データ出力用!F132","v":""},null,null,null,null,null,"（　　　　　　　　　　）",{"$f":"回復期データ出力用!F133","v":""},null,null,null,null,null,null,"）",null,null,null,"（",{"$f":"回復期データ出力用!F134","v":""},null,null,null,"）種",null,"（",{"$f":"回復期データ出力用!F135","v":""},null,null,null,"）級"]
[null,null,null,"介護保険",null,null,null,null,null,{"$f":"回復期データ出力用!F130","v":""}]
[null,null,null,null,null,null,null,null,null,"介護度：",null,null,{"$f":"回復期データ出力用!F131","v":""}]
[null,null,null,null,null,null,null,null,null,"居宅介護支援事業所（",null,null,null,null,null,null,null,{"$f":"回復期データ出力用!F181","v":""},null,null,null,null,null,null,null,null,null,null,null,"）　",null,"担当者（",null,null,null,{"$f":"回復期データ出力用!F182","v":""},null,null,null,null,null,"）"]
[null,null,null,"退院後の本人・家族の希望",null,null,null,null,null,null,null,null,null,{"$f":"回復期データ出力用!F183","v":""}]
[]
[null,null,null,"家族状況",null,null,null,null,null,"介護者：",null,null,null,{"$f":"回復期データ出力用!F184","v":""},null,null,null,"（",{"$f":"回復期データ出力用!F185","v":""},null,null,null,null,null,"）",null,null,null,null,null,"介護力：",null,null,null,{"$f":"回復期データ出力用!F186","v":""}]
[null,null,null,null,null,null,null,null,null,"キーパーソン：氏名（",null,null,null,null,null,null,null,{"$f":"回復期データ出力用!F187","v":""},null,null,null,null,null,null,"）",null,null,"本人との関係：（",null,null,null,null,null,null,{"$f":"回復期データ出力用!F188","v":""},null,null,"）"]
[]
["医療連携上の特記事項"]
[{"$f":"回復期データ出力用!F190","v":""}]
[]
[null,null,null,null,null,null,null,null,null,null,null,null,null,null,null,null,null,null,null,null,null,null,null,null,null,null,null,null,null,null,null,null,null,null,null,null,null,"記入者"]

{"sheet":"維持期(印刷用)","index":10,"n_rows":44,"n_cols":49,"rows_kept":44,"cut":false,"hidden":true,"merged":[[17,0,18,3],[0,3,0,16],[0,17,0,31],[5,4,5,49],[6,4,6,49],[1,18,1,19],[4,36,4,37],[4,38,4,41],[2,22,2,25],[2,4,2,18],[4,4,4,35],[3,4,3,49],[2,29,2,31],[2,26,2,28],[4,46,4,49],[4,42,4,45],[5,0,5,3],[0,32,0,34],[0,35,0,48],[2,19,2,21],[9,4,9,15],[13,4,13,15],[13,24,13,35],[1,0,1,2],[1,3,1,14],[2,0,4,3],[1,15,1,17],[6,0,6,3],[7,0,7,3],[7,4,7,49],[2,48,2,49],[2,45,2,47],[1,31,1,34],[2,35,2,44],[1,44,1,49],[1,41,1,43],[1,37,1,40],[1,35,1,36],[2,32,2,34],[36,57,36,58],[37,57,37,58],[37,7,37,49],[31,9,31,12],[31,13,31,15],[36,7,36,49],[35,57,35,58],[34,12,34,49],[1,20,1,23],[1,24,1,30],[28,8,28,10],[9,36,9,43],[11,4,11,15],[10,16,10,23],[10,36,10,43],[11,24,11,35],[11,36,11,43],[8,4,8,49],[30,4,30,6],[30,29,30,31],[30,32,30,33],[30,23,30,26],[30,17,30,20],[31,18,31,21],[15,24,15,35],[9,16,9,23],[16,24,16,35],[11,16,11,23],[26,4,26,49],[30,21,30,22],[12,4,12,15],[31,36,31,37],[28,4,28,7],[29,8,29,10],[14,24,14,35],[16,4,16,15],[15,16,15,23],[14,16,14,23],[17,4,18,49],[16,16,16,23],[14,4,14,15],[15,4,15,15],[29,18,29,20],[20,4,21,49],[19,0,19,49],[29,0,29,3],[8,0,16,3],[20,0,21,3],[41,38,41,40],[31,38,31,49],[31,30,31,35],[31,16,31,17],[41,14,41,16],[41,17,41,20],[41,21,41,24],[41,25,41,27],[9,44,9,49],[10,44,16,49],[14,36,14,43],[12,36,12,43],[13,36,13,43],[16,36,16,43],[15,36,15,43],[13,16,13,23],[10,4,10,15],[9,24,9,35],[10,24,10,35],[12,16,12,23],[12,24,12,35],[30,7,30,9],[40,0,40,49],[41,34,41,37],[41,0,41,3],[27,42,27,45],[30,10,30,14],[31,25,31,26],[31,27,31,29],[30,15,30,16],[39,0,39,3],[39,26,39,27],[31,7,31,8],[39,28,39,49],[35,4,35,6],[32,0,32,49],[28,41,28,44],[28,26,28,37],[28,38,28,40],[28,11,28,15],[27,15,27,19],[27,20,27,25],[27,11,27,14],[27,46,27,49],[30,0,31,3],[30,44,30,45],[38,27,38,30],[37,4,37,6],[31,4,31,6],[38,8,38,26],[34,0,38,3],[38,4,38,7],[35,7,35,49],[22,4,23,49],[30,34,30,36],[29,22,29,26],[29,33,29,42],[27,0,28,3],[27,38,27,40],[27,29,27,33],[27,34,27,37],[29,11,29,13],[29,14,29,17],[31,22,31,24],[29,4,29,7],[36,4,36,6],[28,45,28,47],[24,7,24,49],[28,16,28,22],[22,0,24,3],[33,0,33,49],[25,0,26,3],[43,38,43,44],[43,26,43,32],[43,34,43,37],[43,20,43,25],[30,27,30,28],[24,4,24,6],[27,26,27,28],[25,4,25,49],[28,48,28,49],[41,28,41,33],[41,41,41,49],[41,10,41,13],[41,4,41,6],[39,14,39,21],[39,22,39,25],[39,7,39,10],[39,11,39,13],[41,7,41,9],[39,4,39,6],[27,4,27,7],[27,8,27,10],[29,27,29,32],[29,43,29,45],[38,31,38,49]]}
[null,null,null,"脳卒中地域連携診療計画書",null,null,null,null,null,null,null,null,null,null,null,null,null,{"$f":"\"紹介元病院（\" & 維持期データ出力用!F3 & \"）\"","v":"紹介元病院（）"},null,null,null,null,null,null,null,null,null,null,null,null,null,null,"→",null,null,{"$f":"\"維持期かかりつけ医施設\" & CHAR(10) & \"（\" & 維持期データ出力用!F4 & \"）\"","v":"維持期かかりつけ医施設\n（）"}]
["氏名",null,null,{"$f":"維持期データ出力用!F5","v":""},null,null,null,null,null,null,null,null,null,null,null,"性別",null,null,{"$f":"維持期データ出力用!F6","v":""},null,"生年月日",null,null,null,{"$f":"維持期データ出力用!F11","v":""},null,null,null,null,null,null,{"$f":"維持期データ出力用!F12","v":""},null,null,null,"身長",null,{"$f":"維持期データ出力用!F16","v":""},null,null,null,"体重",null,null,{"$f":"維持期データ出力用!F17","v":""}]
["診断名",null,null,null,{"$f":"維持期データ出力用!F18 & 維持期データ出力用!F26 & 維持期データ出力用!F35  & 維持期データ出力用!F40","v":""},null,null,null,null,null,null,null,null,null,null,null,null,null,null," 部位：",null,null,{"$f":"維持期データ出力用!F43","v":""},null,null,null,"既往：",null,null,{"$f":"維持期データ出力用!F44","v":""},null,null,"発症日：",null,null,{"$f":"維持期データ出力用!F42","v":""},null,null,null,null,null,null,null,null,null,"利き腕：",null,null,{"$f":"維持期データ出力用!F15","v":""}]
[null,null,null,null,{"$f":"\"脳卒中危険因子：\" & 維持期データ出力用!H51","v":"脳卒中危険因子："}]
[null,null,null,null,null,null,null,null,null,null,null,null,null,null,null,null,null,null,null,null,null,null,null,null,null,null,null,null,null,null,null,null,null,null,null,null,"酒：",null,{"$f":"維持期データ出力用!F53","v":""},null,null,null,"たばこ：",null,null,null,{"$f":"維持期データ出力用!F54","v":""}]
["経過",null,null,null,"維持期移行後１ヶ月以内"]
["日付",null,null,null,{"$f":"維持期データ出力用!F55","v":""}]
["目標",null,null,null,{"$f":"維持期データ出力用!F194","v":""}]
["日常生活機能評価表",null,null,null,"計画管理病院もしくは、退院時指導料Ⅰ算定病院を退院後1ヶ月以内に計画管理病院へ日常生活機能評価表までを記入し返信"]
[null,null,null,null,"患者の状況",null,null,null,null,null,null,null,null,null,null,null,"得　　点",null,null,null,null,null,null,null,"患者の状況",null,null,null,null,null,null,null,null,null,null,null,"得　　点",null,null,null,null,null,null,null,"合計"]
[null,null,null,null,"床上安静の指示",null,null,null,null,null,null,null,null,null,null,null,{"$f":"日常生活機能評価!AK9","v":""},null,null,null,null,null,null,null,"口腔清潔",null,null,null,null,null,null,null,null,null,null,null,{"$f":"日常生活機能評価!AK16","v":""},null,null,null,null,null,null,null,{"$f":"日常生活機能評価!AK22","v":0}]
[null,null,null,null,"どちらかの手を胸元まで持ち上げられる",null,null,null,null,null,null,null,null,null,null,null,{"$f":"日常生活機能評価!AK10","v":""},null,null,null,null,null,null,null,"食事摂取",null,null,null,null,null,null,null,null,null,null,null,{"$f":"日常生活機能評価!AK17","v":""}]
[null,null,null,null,"寝返り",null,null,null,null,null,null,null,null,null,null,null,{"$f":"日常生活機能評価!AK11","v":""},null,null,null,null,null,null,null,"衣服の着脱",null,null,null,null,null,null,null,null,null,null,null,{"$f":"日常生活機能評価!AK18","v":""}]
[null,null,null,null,"起き上がり",null,null,null,null,null,null,null,null,null,null,null,{"$f":"日常生活機能評価!AK12","v":""},null,null,null,null,null,null,null,"他者への意思の伝達",null,null,null,null,null,null,null,null,null,null,null,{"$f":"日常生活機能評価!AK19","v":""}]
[null,null,null,null,"座位保持",null,null,null,null,null,null,null,null,null,null,null,{"$f":"日常生活機能評価!AK13","v":""},null,null,null,null,null,null,null,"診療・療養上の指示が通じる",null,null,null,null,null,null,null,null,null,null,null,{"$f":"日常生活機能評価!AK20","v":""}]
[null,null,null,null,"移乗",null,null,null,null,null,null,null,null,null,null,null,{"$f":"日常生活機能評価!AK14","v":""},null,null,null,null,null,null,null,"危険行動",null,null,null,null,null,null,null,null,null,null,null,{"$f":"日常生活機能評価!AK21","v":""}]
[null,null,null,null,"移動方法",null,null,null,null,null,null,null,null,null,null,null,{"$f":"日常生活機能評価!AK15","v":""},null,null,null,null,null,null,null,"身体拘束",null,null,null,null,null,null,null,null,null,null,null,{"$f":"維持期データ出力用!F94 & IF(維持期データ出力用!H96<>\"\",\"　\" & 維持期データ出力用!H96,\"\")","v":""}]
["特記事項",null,null,null,{"$f":"維持期データ出力用!F263","v":""}]
[]
[]
["検査",null,null,null,{"$f":" \"画像所見等：\" & 維持期データ出力用!F58","v":"画像所見等："}]
[]
["治療",null,null,null,{"$f":"維持期データ出力用!F72 & \"　\" & 維持期データ出力用!H76","v":"　"}]
[]
[null,null,null,null,"内服：",null,null,{"$f":"維持期データ出力用!H68","v":""}]
["処置",null,null,null,{"$f":"\"経過中の症状変動の有無（  \"&維持期データ出力用!F56 & \"   ）\"","v":"経過中の症状変動の有無（     ）"}]
[null,null,null,null,{"$f":"\"症状と原因：\" & 維持期データ出力用!F57","v":"症状と原因："}]
["栄養呼吸",null,null,null,"嚥下障害：",null,null,null,{"$f":"維持期データ出力用!F115","v":""},null,null,"食事形態：",null,null,null,{"$f":"維持期データ出力用!F116","v":""},null,null,null,null,{"$f":"IF(維持期データ出力用!D116=4,維持期データ出力用!F117,IF(維持期データ出力用!D116=5,維持期データ出力用!F118,\"\"))","v":""},null,null,null,null,null,"方法：",null,null,{"$f":"維持期データ出力用!F119&IF(維持期データ出力用!D119=2,維持期データ出力用!H121,\"\")","v":""},null,null,null,null,"カテーテル",null,null,null,{"$f":"維持期データ出力用!F122","v":""},null,null,"Fr","最終交換日:",null,null,null,{"$f":"維持期データ出力用!F124","v":""}]
[null,null,null,null,"気管切開：",null,null,null,{"$f":"維持期データ出力用!F125","v":""},null,null,"最終交換日：",null,null,null,null,{"$f":"維持期データ出力用!F126","v":""},null,null,null,null,null,null,null,null,null,"認知症高齢者の日常生活自立度：",null,null,null,null,null,null,null,null,null,null,null,{"$f":"維持期データ出力用!F133","v":""},null,null,"HDS-R",null,null,null,{"$f":"維持期データ出力用!F134","v":""},null,null,"点"]
["排泄",null,null,null,"移乗方法：",null,null,null,{"$f":"維持期データ出力用!F127","v":""},null,null,"方法：",null,null,{"$f":"維持期データ出力用!F128","v":""},null,null,null,{"$f":"維持期データ出力用!F129","v":""},null,null,"Fr","最終交換日：",null,null,null,null,{"$f":"維持期データ出力用!F130","v":""},null,null,null,null,null,"障害高齢者の日常生活自立度：",null,null,null,null,null,null,null,null,null,{"$f":"維持期データ出力用!F132","v":""}]
["その他",null,null,null,"認知症：",null,null,{"$f":"維持期データ出力用!F99","v":""},null,null,"半側空間無視：",null,null,null,null,{"$f":"維持期データ出力用!F100","v":""},null,"視野障害：",null,null,null,{"$f":"維持期データ出力用!F101","v":""},null,"感覚障害：",null,null,null,{"$f":"維持期データ出力用!F103","v":""},null,"失調：",null,null,{"$f":"維持期データ出力用!F104","v":""},null,"疼痛：",null,null,{"$f":"維持期データ出力用!F105","v":""},null,{"$f":"維持期データ出力用!F106","v":""}]
[null,null,null,null,"拘縮：",null,null,{"$f":"維持期データ出力用!F107","v":""},null,{"$f":"維持期データ出力用!F108","v":""},null,null,null,"失語：",null,null,{"$f":"維持期データ出力用!F109","v":""},null,{"$f":"維持期データ出力用!F110","v":""},null,null,null,"褥瘡：",null,null,{"$f":"維持期データ出力用!F111","v":""},null,{"$f":"維持期データ出力用!F112","v":""},null,null,"その他皮膚疾患：",null,null,null,null,null,{"$f":"維持期データ出力用!F113","v":""},null,{"$f":"維持期データ出力用!F114","v":""}]
[]
[]
["リハビリ",null,null,null,"担当者（リハスタッフ）：",null,null,null,null,null,null,null,{"$f":"回復期データ出力用!H214","v":""}]
[null,null,null,null,"理学療法",null,null,{"$f":"維持期データ出力用!F137","v":""}]
[null,null,null,null,"作業療法",null,null,{"$f":"維持期データ出力用!F139","v":""}]
[null,null,null,null,{"$f":"IF(維持期データ出力用!H141=CHAR(13),\"言語療法\" & CHAR(13) &\"摂食機能療法\",維持期データ出力用!H141)","v":"言語療法\r摂食機能療法"},null,null,{"$f":"維持期データ出力用!F142","v":""}]
[null,null,null,null,"FIM",null,null,null,{"$f":"\"FIM   \" &  'FIM維持期 (3ヶ月)'!S15 & \"/126　\" & CHAR(10) & \"（運動項目：\" & 'FIM維持期 (3ヶ月)'!U15 & \"　認知項目：\" & 'FIM維持期 (3ヶ月)'!W15 & \"）\"","v":"FIM   0/126　\n（運動項目：0　認知項目：0）"},null,null,null,null,null,null,null,null,null,null,null,null,null,null,null,null,null,null,"BI",null,null,null,{"$f":"\"B.I    \" & 'B.I維持期(3ヶ月)'!B3 & \"／100\"","v":"B.I    0／100"}]
["住宅訪問：",null,null,null,{"$f":"維持期データ出力用!F200","v":""},null,null,"住宅改修：",null,null,null,{"$f":"維持期データ出力用!F203","v":""},null,null,{"$f":"維持期データ出力用!H207","v":""},null,null,null,null,null,null,null,"福祉用具：",null,null,null,{"$f":"維持期データ出力用!F210","v":""},null,{"$f":"維持期データ出力用!H213","v":""}]
[]
["介護保険",null,null,null,"申請：",null,null,{"$f":"維持期データ出力用!F175","v":""},null,null,"要支・介",null,null,null,{"$f":"維持期データ出力用!F176","v":""},null,null,"身障手帳",null,null,null,"申請状況：",null,null,null,{"$f":"維持期データ出力用!F179","v":""},null,null,{"$f":"維持期データ出力用!F180","v":""},null,null,null,null,null,{"$f":"維持期データ出力用!F181 & \"種\"","v":"種"},null,null,null,{"$f":" 維持期データ出力用!F182 & \"級\"","v":"級"}]
[]
[null,null,null,null,null,null,null,null,null,null,null,null,null,null,null,null,null,null,null,null,"最終確認年月日：",null,null,null,null,null,null,null,null,null,null,null,null,null,"担当者：（",null,null,null,null,null,null,null,null,null,null,"）"]

{"sheet":"DATA_PATIENT","index":11,"n_rows":11,"n_cols":2,"rows_kept":11,"cut":false,"hidden":true,"merged":[]}
["適用施設患者情報"]
["タグ名","値"]
["患者ID"]
["カナ氏名"]
["患者氏名"]
["性別"]
["生年月日"]
["年齢"]
["郵便番号"]
["住所"]
["電話番号"]

{"sheet":"急性期データ出力用","index":12,"n_rows":300,"n_cols":29,"rows_kept":300,"cut":false,"hidden":true,"merged":[[1,0,1,2],[1,6,1,7]]}
["データ出力用",null,null,null,null,null,null,null,"入力済み:0 未:1"]
["項目名",null,null,"値","備考","印刷文字","計算用",null,"入院","退院","入力日時","入力担当","ﾁｪｯｸ有","前回入力"]
["急性期病院名",null,null,{"$f":"IF('急性期診療計画(入力用)'!AI2=\"\",\"\",'急性期診療計画(入力用)'!AI2)","v":""},null,{"$f":"D3","v":""},null,null,null,{"$f":"IF(F3=\"\",1,0)","v":1},null,"N",{"$f":"IF('急性期診療計画(入力用)'!$BE$5=FALSE,IF(急性期データ出力用!K3=0,FALSE,IF(急性期データ出力用!K3<'急性期診療計画(入力用)'!$BD$1,TRUE,FALSE)))","v":false}]
["氏名",null,null,{"$f":"IF('急性期診療計画(入力用)'!D3=\"\",\"\",'急性期診療計画(入力用)'!D3)","v":""},null,{"$f":"D4","v":""},null,null,null,{"$f":"IF(F4=\"\",1,0)","v":1},null,"N",{"$f":"IF('急性期診療計画(入力用)'!$BE$5=FALSE,IF(急性期データ出力用!K4=0,FALSE,IF(急性期データ出力用!K4<'急性期診療計画(入力用)'!$BD$1,TRUE,FALSE)))","v":false}]
["性別",null,null,0,"1:男　2:女",{"$f":"IF(D5=1,\"男\",IF(D5=2,\"女\",\"\"))","v":""},null,null,null,{"$f":"IF(F5=\"\",1,0)","v":1},null,"N",{"$f":"IF('急性期診療計画(入力用)'!$BE$5=FALSE,IF(急性期データ出力用!K5=0,FALSE,IF(急性期データ出力用!K5<'急性期診療計画(入力用)'!$BD$1,TRUE,FALSE)))","v":false},0]
["生年月日","年号",null,0,"1:明治 2:大正 3:昭和 4:平成",{"$f":"IF(D6<>\"\",LOOKUP(D6,{0,1,2,3,4},{\"\",\"明治\",\"大正\",\"昭和\",\"平成\"}),\"\")","v":""},null,null,null,null,null,"N",{"$f":"IF('急性期診療計画(入力用)'!$BE$5=FALSE,IF(急性期データ出力用!K6=0,FALSE,IF(急性期データ出力用!K6<'急性期診療計画(入力用)'!$BD$1,TRUE,FALSE)))","v":false},0]
[null,"和暦年",null,{"$f":"'急性期診療計画(入力用)'!AJ3","v":"　年"},null,{"$f":"D7","v":"　年"},null,null,null,null,null,"N",{"$f":"IF('急性期診療計画(入力用)'!$BE$5=FALSE,IF(急性期データ出力用!K7=0,FALSE,IF(急性期データ出力用!K7<'急性期診療計画(入力用)'!$BD$1,TRUE,FALSE)))","v":false}]
[null,"月日",null,{"$f":"'急性期診療計画(入力用)'!AL3","v":"月日"},null,null,null,null,null,null,null,"N",{"$f":"IF('急性期診療計画(入力用)'!$BE$5=FALSE,IF(急性期データ出力用!K8=0,FALSE,IF(急性期データ出力用!K8<'急性期診療計画(入力用)'!$BD$1,TRUE,FALSE)))","v":false}]
[null,"和暦",null,{"$f":"F6 & F7 & TEXT(D8,\"mm月dd日\")","v":"　年月日"},null,{"$f":"D9","v":"　年月日"}]
[null,"西暦",null,{"$f":"'急性期診療計画(入力用)'!BI13","v":{"$error":"#VALUE!"}},null,{"$f":"IF(ISERROR(D10),\"\",D10)","v":""},null,null,null,{"$f":"IF(F10=\"\",1,0)","v":1},null,"N",{"$f":"IF('急性期診療計画(入力用)'!$BE$5=FALSE,IF(急性期データ出力用!K10=0,FALSE,IF(急性期データ出力用!K10<'急性期診療計画(入力用)'!$BD$1,TRUE,FALSE)))","v":false},"8/4/1931"]
["年齢",null,null,{"$f":"'急性期診療計画(入力用)'!BI15","v":{"$error":"#VALUE!"}},null,{"$f":"IF(ISERROR(D11),\"\",D11)","v":""},null,null,null,1]
["住所",null,null,{"$f":"IF('急性期診療計画(入力用)'!D4=\"\",\"\",'急性期診療計画(入力用)'!D4)","v":""},null,{"$f":"D12","v":""},null,null,null,1,null,"N",{"$f":"IF('急性期診療計画(入力用)'!$BE$5=FALSE,IF(急性期データ出力用!K12=0,FALSE,IF(急性期データ出力用!K12<'急性期診療計画(入力用)'!$BD$1,TRUE,FALSE)))","v":false}]
["電話番号",null,null,{"$f":"IF('急性期診療計画(入力用)'!W4=\"\",\"\",'急性期診療計画(入力用)'!W4)","v":""},null,{"$f":"D13","v":""},null,null,null,1,null,"N",{"$f":"IF('急性期診療計画(入力用)'!$BE$5=FALSE,IF(急性期データ出力用!K13=0,FALSE,IF(急性期データ出力用!K13<'急性期診療計画(入力用)'!$BD$1,TRUE,FALSE)))","v":false},""]
["利き腕",null,null,0,"1:右 2:左 3:両",{"$f":"IF(D14<>\"\",LOOKUP(D14,{0,1,2,3},{\"\",\"右\",\"左\",\"両\"}),\"\")","v":""},null,null,null,1,null,"N",{"$f":"IF('急性期診療計画(入力用)'!$BE$5=FALSE,IF(急性期データ出力用!K14=0,FALSE,IF(急性期データ出力用!K14<'急性期診療計画(入力用)'!$BD$1,TRUE,FALSE)))","v":false},0]
["身長",null,null,{"$f":"IF('急性期診療計画(入力用)'!AS4=\"\",\"\",'急性期診療計画(入力用)'!AS4)","v":""},null,{"$f":"D15","v":""},null,null,null,1,null,"N",{"$f":"IF('急性期診療計画(入力用)'!$BE$5=FALSE,IF(急性期データ出力用!K15=0,FALSE,IF(急性期データ出力用!K15<'急性期診療計画(入力用)'!$BD$1,TRUE,FALSE)))","v":false}]
["体重",null,null,{"$f":"IF('急性期診療計画(入力用)'!AY4=\"\",\"\",'急性期診療計画(入力用)'!AY4)","v":""},null,{"$f":"D16","v":""},null,null,null,1,null,"N",{"$f":"IF('急性期診療計画(入力用)'!$BE$5=FALSE,IF(急性期データ出力用!K16=0,FALSE,IF(急性期データ出力用!K16<'急性期診療計画(入力用)'!$BD$1,TRUE,FALSE)))","v":false}]
["診断名","脳梗塞",null,false,null,{"$f":"IF(D17=TRUE,B17,\"\") & IF(H24<>\"\",\"(\" & MID(H24,2,200) & \")\",\"\")","v":""},null,null,null,{"$f":"IF(F17=\"\",IF(F25=\"\",IF(F34=\"\",IF(F39=\"\",1,0),0),0),0)","v":1},null,"D",{"$f":"IF('急性期診療計画(入力用)'!$BE$3=FALSE,IF(急性期データ出力用!K17=0,FALSE,IF(急性期データ出力用!K17<'急性期診療計画(入力用)'!$BD$1,TRUE,FALSE)))","v":false}]
[null,null,"心原性",false,null,{"$f":"IF(D18=TRUE,C18,\"\")","v":""},null,null,null,null,null,null,null,false]
[null,null,"アテローム血栓性",false,null,{"$f":"IF(D19=TRUE,C19,\"\")","v":""},null,null,null,null,null,null,null,false]
[null,null,"BAD",false,null,"",null,null,null,null,null,null,null,false]
[null,null,"ラクナ",false,null,{"$f":"IF(D21=TRUE,C21,\"\")","v":""},null,null,null,null,null,null,null,false]
[null,null,"奇異性",false,null,"",null,null,null,null,null,null,null,false]
[null,null,"もやもや病",false,null,"",null,null,null,null,null,null,null,false]
[null,null,"その他",false,null,{"$f":"IF(D24=TRUE,C24,\"\")","v":""},"計算用",{"$f":"IF(F18<>\"\",\"，\" & F18,\"\") & IF(F19<>\"\",\"，\" & F19,\"\")  & IF(F20<>\"\",\"，\" & F20,\"\") & IF(F21<>\"\",\"，\" & F21,\"\") & IF(F22<>\"\",\"，\" & F22,\"\") & IF(F23<>\"\",\"，\" & F23,\"\") & IF(F24<>\"\",\"，\" & F24,\"\")","v":""},null,null,null,null,null,false]
[null,"脳出血",null,false,null,{"$f":"IF(D25=TRUE,B25,\"\") & IF(H33<>\"\",\"(\" & MID(H33,2,200) & \")\",\"\")","v":""},null,null,null,null,null,"D",{"$f":"IF('急性期診療計画(入力用)'!$BE$3=FALSE,IF(急性期データ出力用!K25=0,FALSE,IF(急性期データ出力用!K25<'急性期診療計画(入力用)'!$BD$1,TRUE,FALSE)))","v":false}]
[null,null,"被殻",false,null,"",null,null,null,null,null,null,null,false]
[null,null,"視床",false,null,"",null,null,null,null,null,null,null,false]
[null,null,"小脳",false,null,"",null,null,null,null,null,null,null,false]
[null,null,"皮質下",false,null,"",null,null,null,null,null,null,null,false]
[null,null,"脳室内",false,null,"",null,null,null,null,null,null,null,false]
[null,null,"もやもや病",false,null,"",null,null,null,null,null,null,null,false,null,null,null,null,null,null,null,null,null,null,null,null,null,null,0]
[null,null,"AVM",false,null,"",null,null,null,null,null,null,null,false]
[null,null,"その他",false,null,"","計算用",{"$f":"IF(F26<>\"\",\"，\" & F26,\"\") &  IF(F27<>\"\",\"，\" & F27,\"\") & IF(F28<>\"\",\"，\" & F28,\"\")  & IF(F29<>\"\",\"，\" & F29,\"\") & IF(F30<>\"\",\"，\" & F30,\"\") & IF(F31<>\"\",\"，\" & F31,\"\") & IF(F32<>\"\",\"，\" & F32,\"\") & IF(F33<>\"\",\"，\" & F33,\"\")","v":""},null,null,null,null,null,false]
[null,"くも膜下出血",null,false,null,{"$f":"IF(D34=TRUE,B34,\"\") & IF(H38<>\"\",\"(\" & MID(H38,2,200) & \")\",\"\")","v":""},null,null,null,null,null,"D",{"$f":"IF('急性期診療計画(入力用)'!$BE$3=FALSE,IF(急性期データ出力用!K34=0,FALSE,IF(急性期データ出力用!K34<'急性期診療計画(入力用)'!$BD$1,TRUE,FALSE)))","v":false}]
[null,null,"嚢状動脈瘤破裂",false,null,"",null,null,null,null,null,null,null,false]
[null,null,"動脈解離",false,null,"",null,null,null,null,null,null,null,false]
[null,null,"その他",false,null,"",null,null,null,null,null,null,null,false]
[null,null,"不明",false,null,"","計算用",{"$f":"  IF(F35<>\"\",\"，\" & F35,\"\") & IF(F36<>\"\",\"，\" & F36,\"\") & IF(F37<>\"\",\"，\" & F37,\"\") & IF(F38<>\"\",\"，\" & F38,\"\")","v":""},null,null,null,null,null,false]
[null,"その他",null,false,null,{"$f":"IF(D39=TRUE,B39,\"\") & IF(F40<>\"\",\"(\" & F40 & \")\",\"\")","v":""},null,null,null,null,null,"D",{"$f":"IF('急性期診療計画(入力用)'!$BE$3=FALSE,IF(急性期データ出力用!K39=0,FALSE,IF(急性期データ出力用!K39<'急性期診療計画(入力用)'!$BD$1,TRUE,FALSE)))","v":false},false]
[null,null,null,{"$f":"'急性期診療計画(入力用)'!I8","v":0},null,{"$f":"IF(D40<>0,D40,\"\")","v":""},null,null,null,{"$f":"IF(D39=TRUE,IF(F40=\"\",1,0),0)","v":0},null,"D",{"$f":"IF('急性期診療計画(入力用)'!$BE$3=FALSE,IF(急性期データ出力用!K40=0,FALSE,IF(急性期データ出力用!K40<'急性期診療計画(入力用)'!$BD$1,TRUE,FALSE)))","v":false}]
["発症日",null,null,{"$f":"'急性期診療計画(入力用)'!V2","v":"00:00:00"},null,{"$f":"IF(D41<>0,D41,\"\")","v":""},null,null,null,{"$f":"IF(F41=\"\",1,0)","v":1},null,"D",{"$f":"IF('急性期診療計画(入力用)'!$BE$3=FALSE,IF(急性期データ出力用!K41=0,FALSE,IF(急性期データ出力用!K41<'急性期診療計画(入力用)'!$BD$1,TRUE,FALSE)))","v":false}]
["部位",null,null,0,"1:右　2:左　3:両側　4:その他",{"$f":"IF(D42<>\"\",LOOKUP(D42,{0,1,2,3,4},{\"\",\"右\",\"左\",\"両側\",\"その他\"}),\"\")","v":""},null,null,null,{"$f":"IF(F42=\"\",1,0)","v":1},null,"D",{"$f":"IF('急性期診療計画(入力用)'!$BE$3=FALSE,IF(急性期データ出力用!K42=0,FALSE,IF(急性期データ出力用!K42<'急性期診療計画(入力用)'!$BD$1,TRUE,FALSE)))","v":false},0]
["既往",null,null,0,"1:初発　2:再発",{"$f":"IF(D43<>\"\",LOOKUP(D43,{0,1,2},{\"\",\"初発\",\"再発\"}),\"\")","v":""},null,null,null,{"$f":"IF(F43=\"\",1,0)","v":1},null,"D",{"$f":"IF('急性期診療計画(入力用)'!$BE$3=FALSE,IF(急性期データ出力用!K43=0,FALSE,IF(急性期データ出力用!K43<'急性期診療計画(入力用)'!$BD$1,TRUE,FALSE)))","v":false},0]
["脳卒中危険因子","高血圧",null,false,null,{"$f":"IF(D44=TRUE,B44,\"\")","v":""},null,null,null,null,null,"D",{"$f":"IF('急性期診療計画(入力用)'!$BE$3=FALSE,IF(急性期データ出力用!K44=0,FALSE,IF(急性期データ出力用!K44<'急性期診療計画(入力用)'!$BD$1,TRUE,FALSE)))","v":false},false]
[null,"心房細動",null,false,null,"",null,null,null,null,null,null,null,false]
[null,"高コレステロール血症",null,false,null,"",null,null,null,null,null,null,null,false]
[null,"高TG血症",null,false,null,"",null,null,null,null,null,null,null,false]
[null,"高LDL血症",null,false,null,{"$f":"IF(D48=TRUE,B48,\"\")","v":""},null,null,null,null,null,null,null,false]
[null,"糖尿病",null,false,null,"",null,null,null,null,null,null,null,false]
[null,"卵円孔開存",null,false,null,"",null,{"$f":"IF(H51<>\"\", MID(H51,2,200),\"\")","v":""},null,{"$f":"IF(H50=\"\",1,0)","v":1},null,null,null,false]
[null,"なし",null,false,null,"","計算用",{"$f":"IF(F44<>\"\",\"，\" & F44,\"\")  & IF(F45<>\"\",\"，\" & F45,\"\")  & IF(F46<>\"\",\"，\" & F46,\"\") & IF(F47<>\"\",\"，\" & F47,\"\") & IF(F48<>\"\",\"，\" & F48,\"\") & IF(F49<>\"\",\"，\" & F49,\"\") & IF(F50<>\"\",\"，\" & F50,\"\") & IF(F51<>\"\",\"，\" & F51,\"\")","v":""},null,null,null,null,null,false]
["酒",null,null,0,"1:なし 2:機会飲酒 3:あり",{"$f":"IF(D52<>\"\",LOOKUP(D52,{0,1,2,3},{\"\",\"なし\",\"機会飲酒\",\"あり\"}),\"\")","v":""},null,null,null,{"$f":"IF(F52=\"\",1,0)","v":1},null,"D",{"$f":"IF('急性期診療計画(入力用)'!$BE$3=FALSE,IF(急性期データ出力用!K52=0,FALSE,IF(急性期データ出力用!K52<'急性期診療計画(入力用)'!$BD$1,TRUE,FALSE)))","v":false},0]
["たばこ",null,null,0,"1:なし 2:過去にあり 3:あり",{"$f":"IF(D53<>\"\",LOOKUP(D53,{0,1,2,3},{\"\",\"なし\",\"過去にあり\",\"あり\"}),\"\")","v":""},null,null,null,{"$f":"IF(F53=\"\",1,0)","v":1},null,"D",{"$f":"IF('急性期診療計画(入力用)'!$BE$3=FALSE,IF(急性期データ出力用!K53=0,FALSE,IF(急性期データ出力用!K53<'急性期診療計画(入力用)'!$BD$1,TRUE,FALSE)))","v":false},0]
["入院時","日付",null,{"$f":"'急性期診療計画(入力用)'!$H$13","v":"00:00:00"},null,{"$f":"IF(D54<>0,D54,\"\")","v":""},null,null,{"$f":"IF(F54=\"\",1,0)","v":1},null,null,"D",{"$f":"IF('急性期診療計画(入力用)'!$BE$3=FALSE,IF(急性期データ出力用!K54=0,FALSE,IF(急性期データ出力用!K54<'急性期診療計画(入力用)'!$BD$1,TRUE,FALSE)))","v":false}]
[null,"意識","JCS",{"$f":"'急性期診療計画(入力用)'!$E$15","v":" "},null,{"$f":"D55","v":" "},null,null,{"$f":"IF(F55=\" \",1,0)","v":1},null,null,"D",{"$f":"IF('急性期診療計画(入力用)'!$BE$3=FALSE,IF(急性期データ出力用!K55=0,FALSE,IF(急性期データ出力用!K55<'急性期診療計画(入力用)'!$BD$1,TRUE,FALSE)))","v":false}," "]
[null,null,"GCS",{"$f":"'急性期診療計画(入力用)'!P15","v":0},null,{"$f":"IF(D56<>0,D56,\"\")","v":""},null,null,{"$f":"IF(F56=\"\",1,0)","v":1},null,null,"D",{"$f":"IF('急性期診療計画(入力用)'!$BE$3=FALSE,IF(急性期データ出力用!K56=0,FALSE,IF(急性期データ出力用!K56<'急性期診療計画(入力用)'!$BD$1,TRUE,FALSE)))","v":false}]
[null,null,"mRS",{"$f":"'急性期診療計画(入力用)'!E16","v":" "},null,{"$f":"D57","v":" "},null,null,{"$f":"IF(F57=\"\",1,0)","v":0},null,null,"D",{"$f":"IF('急性期診療計画(入力用)'!$BE$3=FALSE,IF(急性期データ出力用!K57=0,FALSE,IF(急性期データ出力用!K57<'急性期診療計画(入力用)'!$BD$1,TRUE,FALSE)))","v":false}," "]
[null,null,"NIHSS",{"$f":"IF('急性期診療計画(入力用)'!S16=\"\",\"\",'急性期診療計画(入力用)'!S16)","v":""},null,{"$f":"D58","v":""},null,null,{"$f":"IF(F58=\"\",1,0)","v":1},null,null,"D",{"$f":"IF('急性期診療計画(入力用)'!$BE$3=FALSE,IF(急性期データ出力用!K58=0,FALSE,IF(急性期データ出力用!K58<'急性期診療計画(入力用)'!$BD$1,TRUE,FALSE)))","v":false}]
[null,"MMT",null,{"$f":"'急性期診療計画(入力用)'!E17","v":"右上肢（   ）　　左上肢（   ）　　右下肢（   ）　　左下肢（   ）"},null,{"$f":"D59","v":"右上肢（   ）　　左上肢（   ）　　右下肢（   ）　　左下肢（   ）"},null,null,{"$f":"'急性期診療計画(入力用)'!CK17","v":4},null,null,"D",{"$f":"IF('急性期診療計画(入力用)'!$BE$3=FALSE,IF(急性期データ出力用!K59=0,FALSE,IF(急性期データ出力用!K59<'急性期診療計画(入力用)'!$BD$1,TRUE,FALSE)))","v":false},"右上肢（   ）　　左上肢（   ）　　右下肢（   ）　　左下肢（   ）"]
[]
[]
[]
[null,"看護　食事",null,0,"1:自立 2:部分介助 3:全介助",{"$f":"IF(D63<>\"\",LOOKUP(D63,{0,1,2,3},{\"\",\"自立\",\"部分介助\",\"全介助\"}),\"\")","v":""},null,null,{"$f":"IF(F63=\"\",1,0)","v":1},null,null,"N",{"$f":"IF('急性期診療計画(入力用)'!$BE$5=FALSE,IF(急性期データ出力用!K63=0,FALSE,IF(急性期データ出力用!K63<'急性期診療計画(入力用)'!$BD$1,TRUE,FALSE)))","v":false},0]
[null,null,"食形態",0,null,{"$f":"IF(D64<>\"\",LOOKUP(D64,{0,1,2,3},{\"\",\"常食\",\"きざみ色\",\"ペースト食\"}),\"\")","v":""},"計算用",{"$f":"IF(D64>0, C64 & \"：\" & F64,\"\")","v":""},null,null,null,"N",{"$f":"IF('急性期診療計画(入力用)'!$BE$5=FALSE,IF(急性期データ出力用!K64=0,FALSE,IF(急性期データ出力用!K64<'急性期診療計画(入力用)'!$BD$1,TRUE,FALSE)))","v":false},0]
[null,null,"その他　テキスト",false,{"$f":"'急性期診療計画(入力用)'!V22","v":0},{"$f":"IF(D65=FALSE,\"\",IF(E65<>0,\"（その他：\"&E65&\"）\",\"\"))","v":""},null,null,{"$f":"IF(D65=TRUE,IF(E65=0,1,0),0)","v":0},null,null,"N",{"$f":"IF('急性期診療計画(入力用)'!$BE$5=FALSE,IF(急性期データ出力用!K65=0,FALSE,IF(急性期データ出力用!K65<'急性期診療計画(入力用)'!$BD$1,TRUE,FALSE)))","v":false},false]
[null,null,"胃管",false,null,{"$f":"IF(D66=TRUE,C66,\"\")","v":""},null,null,null,null,null,"N",{"$f":"IF('急性期診療計画(入力用)'!$BE$5=FALSE,IF(急性期データ出力用!K66=0,FALSE,IF(急性期データ出力用!K66<'急性期診療計画(入力用)'!$BD$1,TRUE,FALSE)))","v":false},false]
[null,null,"胃瘻",false,null,{"$f":"IF(D67=TRUE,C67,\"\")","v":""},null,{"$f":"IF(H68<>\"\", MID(H68,2,200),\"\")","v":""},null,null,null,null,null,false]
[null,null,"点滴",false,null,{"$f":"IF(D68=TRUE,C68,\"\")","v":""},"計算用",{"$f":" IF(H64<>\"\",\"，\" & H64,\"\") & IF(F65<>\"\",\" \" & F65,\"\") & IF(F66<>\"\",\"，\" & F66,\"\") & IF(F67<>\"\",\"，\" & F67,\"\") & IF(F68<>\"\",\"，\" & F68,\"\")","v":""},{"$f":"IF(H68=\"\",1,0)","v":1},null,null,null,null,false]
[null,"看護　移乗",null,0,"1:自立 2:介助監視 3:部分介助 4:全介助",{"$f":"IF(D69<>\"\",LOOKUP(D69,{0,1,2,3,4},{\"\",\"自立\",\"介助監視\",\"部分介助\",\"全介助\"}),\"\")","v":""},null,null,{"$f":"IF(F69=\"\",1,0)","v":1},null,null,"N",{"$f":"IF('急性期診療計画(入力用)'!$BE$5=FALSE,IF(急性期データ出力用!K69=0,FALSE,IF(急性期データ出力用!K69<'急性期診療計画(入力用)'!$BD$1,TRUE,FALSE)))","v":false},0]
[null,"看護　トイレ",null,0,"1:自立 2:部分介助 3:全介助",{"$f":"IF(D70<>\"\",LOOKUP(D70,{0,1,2,3},{\"\",\"自立\",\"部分介助\",\"全介助\"}),\"\")","v":""},null,null,{"$f":"IF(F70=\"\",1,0)","v":1},null,null,"N",{"$f":"IF('急性期診療計画(入力用)'!$BE$5=FALSE,IF(急性期データ出力用!K70=0,FALSE,IF(急性期データ出力用!K70<'急性期診療計画(入力用)'!$BD$1,TRUE,FALSE)))","v":false},0]
[null,"看護　入浴","介助？",0,"1:自立 2:部分介助 3:全介助",{"$f":"IF(D71<>\"\",LOOKUP(D71,{0,1,2,3},{\"\",\"自立\",\"部分介助\",\"全介助\"}),\"\")","v":""},null,null,{"$f":"IF(F71=\"\",1,0)","v":1},null,null,"N",{"$f":"IF('急性期診療計画(入力用)'!$BE$5=FALSE,IF(急性期データ出力用!K71=0,FALSE,IF(急性期データ出力用!K71<'急性期診療計画(入力用)'!$BD$1,TRUE,FALSE)))","v":false},0]
[null,null,"方法？",0,"1:通常入浴 2:シャワー 3:機械入浴 4:清拭",{"$f":"IF(D72<>\"\",LOOKUP(D72,{0,1,2,3,4},{\"\",\"通常入浴\",\"シャワー\",\"機械入浴\",\"清拭\"}),\"\")","v":""},null,null,{"$f":"IF(F72=\"\",1,0)","v":1},null,null,"N",{"$f":"IF('急性期診療計画(入力用)'!$BE$5=FALSE,IF(急性期データ出力用!K72=0,FALSE,IF(急性期データ出力用!K72<'急性期診療計画(入力用)'!$BD$1,TRUE,FALSE)))","v":false},0]
[null,"看護　歩行","介助？",0,"1:自立 2:介助監視 3:全介助",{"$f":"IF(D73<>\"\",LOOKUP(D73,{0,1,2,3},{\"\",\"自立\",\"介助監視\",\"全介助\"}),\"\")","v":""},null,null,{"$f":"IF(F73=\"\",1,0)","v":1},null,null,"N",{"$f":"IF('急性期診療計画(入力用)'!$BE$5=FALSE,IF(急性期データ出力用!K73=0,FALSE,IF(急性期データ出力用!K73<'急性期診療計画(入力用)'!$BD$1,TRUE,FALSE)))","v":false},0]
[null,null,"独歩",false,null,{"$f":"IF(D74=TRUE,C74,\"\")","v":""},null,null,null,null,null,"N",{"$f":"IF('急性期診療計画(入力用)'!$BE$5=FALSE,IF(急性期データ出力用!K74=0,FALSE,IF(急性期データ出力用!K74<'急性期診療計画(入力用)'!$BD$1,TRUE,FALSE)))","v":false},false]
[null,null,"杖",false,null,{"$f":"IF(D75=TRUE,C75,\"\")","v":""},null,null,null,null,null,null,null,false]
[null,null,"歩行器",false,null,{"$f":"IF(D76=TRUE,C76,\"\")","v":""},null,null,null,null,null,null,null,false]
[null,null,"車いす",false,null,{"$f":"IF(D77=TRUE,C77,\"\")","v":""},null,null,null,null,null,null,null,false]
[null,null,"装具",false,null,{"$f":"IF(D78=TRUE,C78,\"\")","v":""},null,{"$f":"IF(H79<>\"\", MID(H79,2,200),\"\")","v":""},{"$f":"IF(D79=TRUE,IF(E79=0,1,0),0)","v":0},null,null,null,null,false]
[null,null,"その他",false,{"$f":"'急性期診療計画(入力用)'!W29","v":0},{"$f":"IF(D79=TRUE,IF(E79<>0,C79&\"(\"&E79&\")\",C79),\"\")","v":""},"計算用",{"$f":"IF(F74<>\"\",\"，\" & F74,\"\")  & IF(F75<>\"\",\"，\" & F75,\"\") & IF(F76<>\"\",\"，\" & F76,\"\") & IF(F77<>\"\",\"，\" & F77,\"\") & IF(F78<>\"\",\"，\" & F78,\"\") & IF(F79<>\"\",\"，\" & F79,\"\")","v":""},{"$f":"IF(H79=\"\",1,0)","v":1},null,null,"N",{"$f":"IF('急性期診療計画(入力用)'!$BE$5=FALSE,IF(急性期データ出力用!K79=0,FALSE,IF(急性期データ出力用!K79<'急性期診療計画(入力用)'!$BD$1,TRUE,FALSE)))","v":false},false]
[null,"排便","介助",0,"1:失禁なし 2:時に失禁 3:全介助",{"$f":"IF(D80<>\"\",LOOKUP(D80,{0,1,2,3},{\"\",\"失禁なし\",\"時に失禁\",\"全介助\"}),\"\")","v":""},null,null,{"$f":"IF(F80=\"\",1,0)","v":1},null,null,"N",{"$f":"IF('急性期診療計画(入力用)'!$BE$5=FALSE,IF(急性期データ出力用!K80=0,FALSE,IF(急性期データ出力用!K80<'急性期診療計画(入力用)'!$BD$1,TRUE,FALSE)))","v":false},0]
[null,null,"方法",0,"1:トイレ 2:ポータブル 3:おむつ（常時） 4:おむつ（夜間） ",{"$f":"H282","v":""},null,null,{"$f":"IF(F81=\"\",1,0)","v":1}]
[null,"排尿","介助",0,"1:失禁なし 2:時に失禁 3:全介助",{"$f":"IF(D82<>\"\",LOOKUP(D82,{0,1,2,3},{\"\",\"失禁なし\",\"時に失禁\",\"全介助\"}),\"\")","v":""},null,null,{"$f":"IF(F82=\"\",1,0)","v":1},null,null,"N",{"$f":"IF('急性期診療計画(入力用)'!$BE$5=FALSE,IF(急性期データ出力用!K82=0,FALSE,IF(急性期データ出力用!K82<'急性期診療計画(入力用)'!$BD$1,TRUE,FALSE)))","v":false},0]
[null,null,"方法",0,"1:トイレ 2:ポータブル 3:おむつ（常時） 4:おむつ（夜間） 5:バルン",{"$f":"H287","v":""},null,null,{"$f":"IF(F83=\"\",1,0)","v":1}]
["退院時","日付",null,{"$f":"'急性期診療計画(入力用)'!AF13","v":"00:00:00"},null,{"$f":"IF(D84<>0,D84,\"\")","v":""},null,null,null,{"$f":"IF(F84=\"\",1,0)","v":1},null,"D",{"$f":"IF('急性期診療計画(入力用)'!$BE$3=FALSE,IF(急性期データ出力用!K84=0,FALSE,IF(急性期データ出力用!K84<'急性期診療計画(入力用)'!$BD$1,TRUE,FALSE)))","v":false}]
[null,"意識","JCS",{"$f":"'急性期診療計画(入力用)'!AC15","v":" "},null,{"$f":"D85","v":" "},null,null,null,{"$f":"IF(F85=\" \",1,0)","v":1},null,"D",{"$f":"IF('急性期診療計画(入力用)'!$BE$3=FALSE,IF(急性期データ出力用!K85=0,FALSE,IF(急性期データ出力用!K85<'急性期診療計画(入力用)'!$BD$1,TRUE,FALSE)))","v":false}," "]
[null,null,"GCS",{"$f":"'急性期診療計画(入力用)'!AO15","v":0},null,{"$f":"IF(D86<>0,D86,\"\")","v":""},null,null,null,{"$f":"IF(F86=\"\",1,0)","v":1},null,"D",{"$f":"IF('急性期診療計画(入力用)'!$BE$3=FALSE,IF(急性期データ出力用!K86=0,FALSE,IF(急性期データ出力用!K86<'急性期診療計画(入力用)'!$BD$1,TRUE,FALSE)))","v":false}]
[null,null,"mRS",{"$f":"'急性期診療計画(入力用)'!AC16","v":" "},null,{"$f":"D87","v":" "},null,null,null,0,null,"D",{"$f":"IF('急性期診療計画(入力用)'!$BE$3=FALSE,IF(急性期データ出力用!K87=0,FALSE,IF(急性期データ出力用!K87<'急性期診療計画(入力用)'!$BD$1,TRUE,FALSE)))","v":false}," "]
[null,null,"NIHSS",{"$f":"IF('急性期診療計画(入力用)'!AR16=\"\",\"\",'急性期診療計画(入力用)'!AR16)","v":""},null,{"$f":"D88","v":""},null,null,null,1,null,"D",{"$f":"IF('急性期診療計画(入力用)'!$BE$3=FALSE,IF(急性期データ出力用!K88=0,FALSE,IF(急性期データ出力用!K88<'急性期診療計画(入力用)'!$BD$1,TRUE,FALSE)))","v":false}]
[null,"MMT",null,{"$f":"'急性期診療計画(入力用)'!AC17","v":"右上肢（   ）　　左上肢（   ）　　右下肢（   ）　　左下肢（   ）"},null,{"$f":"D89","v":"右上肢（   ）　　左上肢（   ）　　右下肢（   ）　　左下肢（   ）"},null,null,null,{"$f":"'急性期診療計画(入力用)'!CK18","v":4},null,"D",{"$f":"IF('急性期診療計画(入力用)'!$BE$3=FALSE,IF(急性期データ出力用!K89=0,FALSE,IF(急性期データ出力用!K89<'急性期診療計画(入力用)'!$BD$1,TRUE,FALSE)))","v":false},"右上肢（   ）　　左上肢（   ）　　右下肢（   ）　　左下肢（   ）"]
[]
[]
[]
[null,"看護　食事",null,0,"1:自立 2:部分介助 3:全介助",{"$f":"IF(D93<>\"\",LOOKUP(D93,{0,1,2,3},{\"\",\"自立\",\"部分介助\",\"全介助\"}),\"\")","v":""},null,null,null,1,null,"N",{"$f":"IF('急性期診療計画(入力用)'!$BE$5=FALSE,IF(急性期データ出力用!K93=0,FALSE,IF(急性期データ出力用!K93<'急性期診療計画(入力用)'!$BD$1,TRUE,FALSE)))","v":false},0]
[null,null,"食形態",0,null,{"$f":"IF(D94<>\"\",LOOKUP(D94,{0,1,2,3},{\"\",\"常食\",\"きざみ色\",\"ペースト食\"}),\"\")","v":""},"計算用",{"$f":"IF(D94>0, C94 & \"：\" & F94,\"\")","v":""},null,null,null,"N",{"$f":"IF('急性期診療計画(入力用)'!$BE$5=FALSE,IF(急性期データ出力用!K94=0,FALSE,IF(急性期データ出力用!K94<'急性期診療計画(入力用)'!$BD$1,TRUE,FALSE)))","v":false},0]
[null,null,"その他　テキスト",false,{"$f":"'急性期診療計画(入力用)'!AT22","v":0},{"$f":"IF(D95=FALSE,\"\",IF(E95<>0,\"（その他：\"&E95&\"）\",\"\"))","v":""},null,null,null,{"$f":"IF(D95=TRUE,IF(E95=0,1,0),0)","v":0},null,"N",{"$f":"IF('急性期診療計画(入力用)'!$BE$5=FALSE,IF(急性期データ出力用!K95=0,FALSE,IF(急性期データ出力用!K95<'急性期診療計画(入力用)'!$BD$1,TRUE,FALSE)))","v":false},false]
[null,null,"胃管",false,null,{"$f":"IF(D96=TRUE,C96,\"\")","v":""},null,null,null,null,null,"N",{"$f":"IF('急性期診療計画(入力用)'!$BE$5=FALSE,IF(急性期データ出力用!K96=0,FALSE,IF(急性期データ出力用!K96<'急性期診療計画(入力用)'!$BD$1,TRUE,FALSE)))","v":false},false]
[null,null,"胃瘻",false,null,{"$f":"IF(D97=TRUE,C97,\"\")","v":""},null,{"$f":"IF(H98<>\"\", MID(H98,2,200),\"\")","v":""},null,null,null,null,null,false]
[null,null,"点滴",false,null,{"$f":"IF(D98=TRUE,C98,\"\")","v":""},"計算用",{"$f":" IF(H94<>\"\",\"，\" & H94,\"\") & IF(F95<>\"\",\" \" & F95,\"\") & IF(F96<>\"\",\"，\" & F96,\"\") & IF(F97<>\"\",\"，\" & F97,\"\") & IF(F98<>\"\",\"，\" & F98,\"\")","v":""},null,{"$f":"IF(H98=\"\",1,0)","v":1},null,null,null,false]
[null,"看護　移乗",null,0,"1:自立 2:介助監視 3:部分介助 4:全介助",{"$f":"IF(D99<>\"\",LOOKUP(D99,{0,1,2,3,4},{\"\",\"自立\",\"介助監視\",\"部分介助\",\"全介助\"}),\"\")","v":""},null,null,null,1,null,"N",{"$f":"IF('急性期診療計画(入力用)'!$BE$5=FALSE,IF(急性期データ出力用!K99=0,FALSE,IF(急性期データ出力用!K99<'急性期診療計画(入力用)'!$BD$1,TRUE,FALSE)))","v":false},0]
[null,"看護　トイレ",null,0,"1:自立 2:部分介助 3:全介助",{"$f":"IF(D100<>\"\",LOOKUP(D100,{0,1,2,3},{\"\",\"自立\",\"部分介助\",\"全介助\"}),\"\")","v":""},null,null,null,1,null,"N",{"$f":"IF('急性期診療計画(入力用)'!$BE$5=FALSE,IF(急性期データ出力用!K100=0,FALSE,IF(急性期データ出力用!K100<'急性期診療計画(入力用)'!$BD$1,TRUE,FALSE)))","v":false},0]
[null,"看護　入浴","介助？",0,"1:自立 2:部分介助 3:全介助",{"$f":"IF(D101<>\"\",LOOKUP(D101,{0,1,2,3},{\"\",\"自立\",\"部分介助\",\"全介助\"}),\"\")","v":""},null,null,null,1,null,"N",{"$f":"IF('急性期診療計画(入力用)'!$BE$5=FALSE,IF(急性期データ出力用!K101=0,FALSE,IF(急性期データ出力用!K101<'急性期診療計画(入力用)'!$BD$1,TRUE,FALSE)))","v":false},0]
[null,null,"方法？",0,"1:通常入浴 2:シャワー 3:機械入浴 4:清拭",{"$f":"IF(D102<>\"\",LOOKUP(D102,{0,1,2,3,4},{\"\",\"通常入浴\",\"シャワー\",\"機械入浴\",\"清拭\"}),\"\")","v":""},null,null,null,1,null,"N",{"$f":"IF('急性期診療計画(入力用)'!$BE$5=FALSE,IF(急性期データ出力用!K102=0,FALSE,IF(急性期データ出力用!K102<'急性期診療計画(入力用)'!$BD$1,TRUE,FALSE)))","v":false},0]
[null,"看護　歩行","介助？",0,"1:自立 2:介助監視 3:全介助",{"$f":"IF(D103<>\"\",LOOKUP(D103,{0,1,2,3},{\"\",\"自立\",\"介助監視\",\"全介助\"}),\"\")","v":""},null,null,null,1,null,"N",{"$f":"IF('急性期診療計画(入力用)'!$BE$5=FALSE,IF(急性期データ出力用!K103=0,FALSE,IF(急性期データ出力用!K103<'急性期診療計画(入力用)'!$BD$1,TRUE,FALSE)))","v":false},0]
[null,null,"独歩",false,null,{"$f":"IF(D104=TRUE,C104,\"\")","v":""},null,null,null,null,null,"N",{"$f":"IF('急性期診療計画(入力用)'!$BE$5=FALSE,IF(急性期データ出力用!K104=0,FALSE,IF(急性期データ出力用!K104<'急性期診療計画(入力用)'!$BD$1,TRUE,FALSE)))","v":false},false]
[null,null,"杖",false,null,{"$f":"IF(D105=TRUE,C105,\"\")","v":""},null,null,null,null,null,null,null,false]
[null,null,"歩行器",false,null,{"$f":"IF(D106=TRUE,C106,\"\")","v":""},null,null,null,null,null,null,null,false]
[null,null,"車いす",false,null,{"$f":"IF(D107=TRUE,C107,\"\")","v":""},null,null,null,null,null,null,null,false]
[null,null,"装具",false,null,{"$f":"IF(D108=TRUE,C108,\"\")","v":""},null,{"$f":"IF(H109<>\"\", MID(H109,2,200),\"\")","v":""},null,{"$f":"IF(D109=TRUE,IF(E109=0,1,0),0)","v":0},null,null,null,false]
[null,null,"その他",false,{"$f":"'急性期診療計画(入力用)'!AU29","v":0},{"$f":"IF(D109=TRUE,IF(E109<>0,C109&\"(\"&E109&\")\",C109),\"\")","v":""},"計算用",{"$f":"IF(F104<>\"\",\"，\" & F104,\"\")  & IF(F105<>\"\",\"，\" & F105,\"\") & IF(F106<>\"\",\"，\" & F106,\"\") & IF(F107<>\"\",\"，\" & F107,\"\") & IF(F108<>\"\",\"，\" & F108,\"\") & IF(F109<>\"\",\"，\" & F109,\"\")","v":""},null,{"$f":"IF(H109=\"\",1,0)","v":1},null,"N",{"$f":"IF('急性期診療計画(入力用)'!$BE$5=FALSE,IF(急性期データ出力用!K109=0,FALSE,IF(急性期データ出力用!K109<'急性期診療計画(入力用)'!$BD$1,TRUE,FALSE)))","v":false},false]
[null,"排便","介助",0,"1:失禁なし 2:時に失禁 3:全介助",{"$f":"IF(D110<>\"\",LOOKUP(D110,{0,1,2,3},{\"\",\"失禁なし\",\"時に失禁\",\"全介助\"}),\"\")","v":""},null,null,null,1,null,"N",{"$f":"IF('急性期診療計画(入力用)'!$BE$5=FALSE,IF(急性期データ出力用!K110=0,FALSE,IF(急性期データ出力用!K110<'急性期診療計画(入力用)'!$BD$1,TRUE,FALSE)))","v":false},0]
[null,null,"方法",0,"1:トイレ 2:ポータブル 3:おむつ（常時） 4:おむつ（夜間） ",{"$f":"H290","v":""},null,null,null,{"$f":"IF(F111=\"\",1,0)","v":1}]
[null,"排尿","介助",0,"1:失禁なし 2:時に失禁 3:全介助",{"$f":"IF(D112<>\"\",LOOKUP(D112,{0,1,2,3},{\"\",\"失禁なし\",\"時に失禁\",\"全介助\"}),\"\")","v":""},null,null,null,1,null,"N",{"$f":"IF('急性期診療計画(入力用)'!$BE$5=FALSE,IF(急性期データ出力用!K112=0,FALSE,IF(急性期データ出力用!K112<'急性期診療計画(入力用)'!$BD$1,TRUE,FALSE)))","v":false},0]
[null,null,"方法",0,"1:トイレ 2:ポータブル 3:おむつ（常時） 4:おむつ（夜間） 5:バルン",{"$f":"H295","v":""},null,null,null,1]
["日常生活機能","床上安静の指示",null,0,null,{"$f":"IF(D114<>\"\",LOOKUP(D114,{0,1,2},{\"\",\"なし\",\"あり\"}),\"\")","v":""},null,null,null,{"$f":"IF(F114=\"\",1,0)","v":1},null,"N",{"$f":"IF('急性期診療計画(入力用)'!$BE$5=FALSE,IF(急性期データ出力用!K114=0,FALSE,IF(急性期データ出力用!K114<'急性期診療計画(入力用)'!$BD$1,TRUE,FALSE)))","v":false},0]
[null,"寝返り",null,0,null,{"$f":"IF(D115<>\"\",LOOKUP(D115,{0,1,2,3},{\"\",\"できる\",\"何かにつかまればできる\",\"できない\"}),\"\")","v":""},null,null,null,1,null,"N",{"$f":"IF('急性期診療計画(入力用)'!$BE$5=FALSE,IF(急性期データ出力用!K115=0,FALSE,IF(急性期データ出力用!K115<'急性期診療計画(入力用)'!$BD$1,TRUE,FALSE)))","v":false},0]
[null,"起き上がり",null,0,null,{"$f":"IF(D116<>\"\",LOOKUP(D116,{0,1,2},{\"\",\"できる\",\"できない\"}),\"\")","v":""},null,null,null,1,null,"N",{"$f":"IF('急性期診療計画(入力用)'!$BE$5=FALSE,IF(急性期データ出力用!K116=0,FALSE,IF(急性期データ出力用!K116<'急性期診療計画(入力用)'!$BD$1,TRUE,FALSE)))","v":false},0]
[null,"座位保持",null,0,null,{"$f":"IF(D117<>\"\",LOOKUP(D117,{0,1,2,3},{\"\",\"できる\",\"支えがあればできる\",\"できない\"}),\"\")","v":""},null,null,null,1,null,"N",{"$f":"IF('急性期診療計画(入力用)'!$BE$5=FALSE,IF(急性期データ出力用!K117=0,FALSE,IF(急性期データ出力用!K117<'急性期診療計画(入力用)'!$BD$1,TRUE,FALSE)))","v":false},0]
[null,"口腔清潔",null,0,null,{"$f":"IF(D118<>\"\",LOOKUP(D118,{0,1,2},{\"\",\"できる\",\"できない\"}),\"\")","v":""},null,null,null,1,null,"N",{"$f":"IF('急性期診療計画(入力用)'!$BE$5=FALSE,IF(急性期データ出力用!K118=0,FALSE,IF(急性期データ出力用!K118<'急性期診療計画(入力用)'!$BD$1,TRUE,FALSE)))","v":false},0]
[null,"衣服の着脱",null,0,null,{"$f":"IF(D119<>\"\",LOOKUP(D119,{0,1,2,3},{\"\",\"介助なし\",\"一部介助\",\"全介助\"}),\"\")","v":""},null,null,null,1,null,"N",{"$f":"IF('急性期診療計画(入力用)'!$BE$5=FALSE,IF(急性期データ出力用!K119=0,FALSE,IF(急性期データ出力用!K119<'急性期診療計画(入力用)'!$BD$1,TRUE,FALSE)))","v":false},0]
[null,"他者への意思の伝達",null,0,null,{"$f":"IF(D120<>\"\",LOOKUP(D120,{0,1,2,3},{\"\",\"できる\",\"出来る時と出来ない時がある\",\"できない\"}),\"\")","v":""},null,null,null,1,null,"N",{"$f":"IF('急性期診療計画(入力用)'!$BE$5=FALSE,IF(急性期データ出力用!K120=0,FALSE,IF(急性期データ出力用!K120<'急性期診療計画(入力用)'!$BD$1,TRUE,FALSE)))","v":false},0]
[null,"診療・療養上の指示が通じる",null,0,null,{"$f":"IF(D121<>\"\",LOOKUP(D121,{0,1,2},{\"\",\"はい\",\"いいえ\"}),\"\")","v":""},null,null,null,{"$f":"IF(F121=\"\",1,0)","v":1},null,"N",{"$f":"IF('急性期診療計画(入力用)'!$BE$5=FALSE,IF(急性期データ出力用!K121=0,FALSE,IF(急性期データ出力用!K121<'急性期診療計画(入力用)'!$BD$1,TRUE,FALSE)))","v":false},0]
[null,"危険行動",null,0,null,{"$f":"IF(D122<>\"\",LOOKUP(D122,{0,1,2},{\"\",\"ない\",\"ある\"}),\"\")","v":""},null,null,null,1,null,"N",{"$f":"IF('急性期診療計画(入力用)'!$BE$5=FALSE,IF(急性期データ出力用!K122=0,FALSE,IF(急性期データ出力用!K122<'急性期診療計画(入力用)'!$BD$1,TRUE,FALSE)))","v":false},0]
[null,"身体拘束",null,0,null,{"$f":"IF(D123<>\"\",LOOKUP(D123,{0,1,2},{\"\",\"無\",\"有\"}),\"\")","v":""},null,null,null,{"$f":"IF(F123=\"\",1,0)","v":1},null,"N",{"$f":"IF('急性期診療計画(入力用)'!$BE$5=FALSE,IF(急性期データ出力用!K123=0,FALSE,IF(急性期データ出力用!K123<'急性期診療計画(入力用)'!$BD$1,TRUE,FALSE)))","v":false},0]
[null,null,"４点柵",false,null,{"$f":"IF(D124=TRUE,C124,\"\")","v":""},null,null,null,null,null,null,null,false]
[null,null,"センサー",false,null,{"$f":"IF(D125=TRUE,C125,\"\")","v":""},null,{"$f":"IF(H126<>\"\",  MID(H126,2,200),\"\")","v":""},null,{"$f":"IF(D126=TRUE,IF(E126=0,1,0),0)","v":0},null,null,null,false]
[null,null,"その他",false,{"$f":"'急性期診療計画(入力用)'!AR43","v":0},{"$f":"IF(D126=TRUE,IF(E126=0,C126,  C126 & \"(\" & E126 & \")\"),\"\")","v":""},"計算用",{"$f":" IF(F124<>\"\",\"，\" & F124,\"\") & IF(F125<>\"\",\"，\" & F125,\"\") & IF(F126<>\"\",\"，\" & F126,\"\")","v":""},null,{"$f":"IF(D123=2,IF(H126=\"\",1,0),0)","v":0},null,null,null,false]
[null,"特記事項",0,{"$f":"'急性期診療計画(入力用)'!L44","v":0},null,{"$f":"IF(D127<>0,D127,\"\")","v":""},null,null,null,{"$f":"IF(C127=1,IF(F127=\"\",1,0),0) + IF(C127=0,1,0)","v":1},null,"N",{"$f":"IF('急性期診療計画(入力用)'!$BE$5=FALSE,IF(急性期データ出力用!K127=0,FALSE,IF(急性期データ出力用!K127<'急性期診療計画(入力用)'!$BD$1,TRUE,FALSE)))","v":false},0]
["リハビリ","初回評価日",null,{"$f":"'急性期診療計画(入力用)'!Q45","v":"00:00:00"},null,{"$f":"IF(D128<>0,D128,\"\")","v":""},null,null,{"$f":"IF(F128=\"\",1,0)","v":1},null,null,"S",{"$f":"IF('急性期診療計画(入力用)'!$BE$7=FALSE,IF(急性期データ出力用!K128=0,FALSE,IF(急性期データ出力用!K128<'急性期診療計画(入力用)'!$BD$1,TRUE,FALSE)))","v":false}]
["入院時","リハビリ　麻痺　Br stage",null,{"$f":"'急性期診療計画(入力用)'!H46","v":"右上肢( 　 )　－手指( 　 )　－下肢( 　 )　　左上肢( 　 )　－手指( 　 )　－下肢( 　 ）"},null,{"$f":"D129","v":"右上肢( 　 )　－手指( 　 )　－下肢( 　 )　　左上肢( 　 )　－手指( 　 )　－下肢( 　 ）"},{"$f":"'急性期診療計画(入力用)'!CG46","v":"　"},{"$f":"IF(G129=\"Ⅵ\",6,IF(G129=\"Ⅴ\",5,IF(G129=\"Ⅳ\",4,IF(G129=\"Ⅲ\",3,IF(G129=\"Ⅱ\",2,IF(G129=\"Ⅰ\",1,IF(G129=\"　\",\"\",\"\")))))))","v":""},{"$f":"'急性期診療計画(入力用)'!CM46","v":6},null,null,"S",{"$f":"IF('急性期診療計画(入力用)'!$BE$7=FALSE,IF(急性期データ出力用!K129=0,FALSE,IF(急性期データ出力用!K129<'急性期診療計画(入力用)'!$BD$1,TRUE,FALSE)))","v":false},"右上肢( 　 )　－手指( 　 )　－下肢( 　 )　　左上肢( 　 )　－手指( 　 )　－下肢( 　 ）"]
[null,null,null,{"$f":"'急性期診療計画(入力用)'!K46","v":0},null,{"$f":"D130","v":0},{"$f":"'急性期診療計画(入力用)'!CH46","v":"　"},{"$f":"IF(G130=\"Ⅵ\",6,IF(G130=\"Ⅴ\",5,IF(G130=\"Ⅳ\",4,IF(G130=\"Ⅲ\",3,IF(G130=\"Ⅱ\",2,IF(G130=\"Ⅰ\",1,IF(G130=\"　\",\"\",\"\")))))))","v":""}]
[null,null,null,{"$f":"'急性期診療計画(入力用)'!N46","v":0},null,0,{"$f":"'急性期診療計画(入力用)'!CI46","v":"　"},""]
[null,null,null,{"$f":"'急性期診療計画(入力用)'!R46","v":0},null,0,{"$f":"'急性期診療計画(入力用)'!CJ46","v":"　"},""]
[null,null,null,{"$f":"'急性期診療計画(入力用)'!U46","v":0},null,0,{"$f":"'急性期診療計画(入力用)'!CK46","v":"　"},""]
[null,null,null,{"$f":"'急性期診療計画(入力用)'!X46","v":0},null,0,{"$f":"'急性期診療計画(入力用)'!CL46","v":"　"},""]
["退院時","リハビリ　麻痺　Br stage",null,{"$f":"'急性期診療計画(入力用)'!AF46","v":"右上肢( 　 )　－手指( 　 )　－下肢( 　 )　　左上肢( 　 )　－手指( 　 )　－下肢( 　 ）"},null,"右上肢( 　 )　－手指( 　 )　－下肢( 　 )　　左上肢( 　 )　－手指( 　 )　－下肢( 　 ）",{"$f":"'急性期診療計画(入力用)'!CN46","v":"　"},"",null,{"$f":"'急性期診療計画(入力用)'!CT46","v":6},null,"S",{"$f":"IF('急性期診療計画(入力用)'!$BE$7=FALSE,IF(急性期データ出力用!K135=0,FALSE,IF(急性期データ出力用!K135<'急性期診療計画(入力用)'!$BD$1,TRUE,FALSE)))","v":false},"右上肢( 　 )　－手指( 　 )　－下肢( 　 )　　左上肢( 　 )　－手指( 　 )　－下肢( 　 ）"]
[null,null,null,{"$f":"'急性期診療計画(入力用)'!AI46","v":0},null,0,{"$f":"'急性期診療計画(入力用)'!CO46","v":"　"},""]
[null,null,null,{"$f":"'急性期診療計画(入力用)'!AL46","v":0},null,0,{"$f":"'急性期診療計画(入力用)'!CP46","v":"　"},""]
[null,null,null,{"$f":"'急性期診療計画(入力用)'!AP46","v":0},null,0,{"$f":"'急性期診療計画(入力用)'!CQ46","v":"　"},""]
[null,null,null,{"$f":"'急性期診療計画(入力用)'!AS46","v":0},null,0,{"$f":"'急性期診療計画(入力用)'!CR46","v":"　"},""]
[null,null,null,{"$f":"'急性期診療計画(入力用)'!AV46","v":0},null,0,{"$f":"'急性期診療計画(入力用)'!CS46","v":"　"},""]
["入院時","食事","自立、介助",0,"1:自立 2:部分介助 3:全介助",{"$f":"IF(D141<>\"\",LOOKUP(D141,{0,1,2,3},{\"\",\"自立\",\"部分介助\",\"全介助\"}),\"\")","v":""},null,null,{"$f":"IF(F141=\"\",1,0)","v":1},null,null,"S",{"$f":"IF('急性期診療計画(入力用)'!$BE$7=FALSE,IF(急性期データ出力用!K141=0,FALSE,IF(急性期データ出力用!K141<'急性期診療計画(入力用)'!$BD$1,TRUE,FALSE)))","v":false},0]
[null,null,"食形態",0,null,{"$f":"IF(D142<>\"\",LOOKUP(D142,{0,1,2,3},{\"\",\"常食\",\"きざみ色\",\"ペースト食\"}),\"\")","v":""},"計算用",{"$f":"IF(D142>0, C142 & \"：\" & F142,\"\")","v":""},null,null,null,"S",{"$f":"IF('急性期診療計画(入力用)'!$BE$7=FALSE,IF(急性期データ出力用!K142=0,FALSE,IF(急性期データ出力用!K142<'急性期診療計画(入力用)'!$BD$1,TRUE,FALSE)))","v":false},0]
[null,null,"その他　テキスト",false,{"$f":"'急性期診療計画(入力用)'!$V$48","v":0},{"$f":"IF(D143=FALSE,\"\",IF(E143<>0,\"（その他：\"&E143&\"）\",\"\"))","v":""},null,null,{"$f":"IF(D143=TRUE,IF(E143=0,1,0),0)","v":0},null,null,"S",{"$f":"IF('急性期診療計画(入力用)'!$BE$7=FALSE,IF(急性期データ出力用!K143=0,FALSE,IF(急性期データ出力用!K143<'急性期診療計画(入力用)'!$BD$1,TRUE,FALSE)))","v":false},false]
[null,null,"胃管",false,null,{"$f":"IF(D144=TRUE,C144,\"\")","v":""},null,null,null,null,null,"S",{"$f":"IF('急性期診療計画(入力用)'!$BE$7=FALSE,IF(急性期データ出力用!K144=0,FALSE,IF(急性期データ出力用!K144<'急性期診療計画(入力用)'!$BD$1,TRUE,FALSE)))","v":false},false]
[null,null,"胃瘻",false,null,{"$f":"IF(D145=TRUE,C145,\"\")","v":""},null,{"$f":"IF(H146<>\"\", MID(H146,2,200),\"\")","v":""},null,null,null,null,null,false]
[null,null,"点滴",false,null,{"$f":"IF(D146=TRUE,C146,\"\")","v":""},"計算用",{"$f":" IF(H142<>\"\",\"，\" & H142,\"\") & IF(F143<>\"\",\" \" & F143,\"\") & IF(F144<>\"\",\"，\" & F144,\"\") & IF(F145<>\"\",\"，\" & F145,\"\") & IF(F146<>\"\",\"，\" & F146,\"\")","v":""},{"$f":"IF(H146=\"\",1,0)","v":1},null,null,null,null,false]
["退院時","食事","自立、介助",0,"1:自立 2:部分介助 3:全介助",{"$f":"IF(D147<>\"\",LOOKUP(D147,{0,1,2,3},{\"\",\"自立\",\"部分介助\",\"全介助\"}),\"\")","v":""},null,null,null,{"$f":"IF(F147=\"\",1,0)","v":1},null,"S",{"$f":"IF('急性期診療計画(入力用)'!$BE$7=FALSE,IF(急性期データ出力用!K147=0,FALSE,IF(急性期データ出力用!K147<'急性期診療計画(入力用)'!$BD$1,TRUE,FALSE)))","v":false},0]
[null,null,"食形態",0,null,{"$f":"IF(D148<>\"\",LOOKUP(D148,{0,1,2,3},{\"\",\"常食\",\"きざみ色\",\"ペースト食\"}),\"\")","v":""},"計算用",{"$f":"IF(D148>0, C148 & \"：\" & F148,\"\")","v":""},null,null,null,"S",{"$f":"IF('急性期診療計画(入力用)'!$BE$7=FALSE,IF(急性期データ出力用!K148=0,FALSE,IF(急性期データ出力用!K148<'急性期診療計画(入力用)'!$BD$1,TRUE,FALSE)))","v":false},0]
[null,null,"その他　テキスト",false,{"$f":"'急性期診療計画(入力用)'!$AT$48","v":0},{"$f":"IF(D149=FALSE,\"\",IF(E149<>0,\"（その他：\"&E149&\"）\",\"\"))","v":""},null,null,null,{"$f":"IF(D149=TRUE,IF(E149=0,1,0),0)","v":0},null,"S",{"$f":"IF('急性期診療計画(入力用)'!$BE$7=FALSE,IF(急性期データ出力用!K149=0,FALSE,IF(急性期データ出力用!K149<'急性期診療計画(入力用)'!$BD$1,TRUE,FALSE)))","v":false},false]
[null,null,"胃管",false,null,{"$f":"IF(D150=TRUE,C150,\"\")","v":""},null,null,null,null,null,"S",{"$f":"IF('急性期診療計画(入力用)'!$BE$7=FALSE,IF(急性期データ出力用!K150=0,FALSE,IF(急性期データ出力用!K150<'急性期診療計画(入力用)'!$BD$1,TRUE,FALSE)))","v":false}]
[null,null,"胃瘻",false,null,{"$f":"IF(D151=TRUE,C151,\"\")","v":""},null,{"$f":"IF(H152<>\"\", MID(H152,2,200),\"\")","v":""}]
[null,null,"点滴",false,null,{"$f":"IF(D152=TRUE,C152,\"\")","v":""},"計算用",{"$f":" IF(H148<>\"\",\"，\" & H148,\"\") & IF(F149<>\"\",\" \" & F149,\"\") & IF(F150<>\"\",\"，\" & F150,\"\") & IF(F151<>\"\",\"，\" & F151,\"\") & IF(F152<>\"\",\"，\" & F152,\"\")","v":""},null,{"$f":"IF(H152=\"\",1,0)","v":1}]
["入院時","移乗",null,0,"1:自立 2:介助監視 3:移動介助 4:全介助",{"$f":"IF(D153<>\"\",LOOKUP(D153,{0,1,2,3,4},{\"\",\"自立\",\"介助監視\",\"移動介助\",\"全介助\"}),\"\")","v":""},null,null,{"$f":"IF(F153=\"\",1,0)","v":1},null,null,"S",{"$f":"IF('急性期診療計画(入力用)'!$BE$7=FALSE,IF(急性期データ出力用!K153=0,FALSE,IF(急性期データ出力用!K153<'急性期診療計画(入力用)'!$BD$1,TRUE,FALSE)))","v":false},0]
["退院時","移乗",null,0,"1:自立 2:介助監視 3:移動介助 4:全介助",{"$f":"IF(D154<>\"\",LOOKUP(D154,{0,1,2,3,4},{\"\",\"自立\",\"介助監視\",\"移動介助\",\"全介助\"}),\"\")","v":""},null,null,null,{"$f":"IF(F154=\"\",1,0)","v":1},null,"S",{"$f":"IF('急性期診療計画(入力用)'!$BE$7=FALSE,IF(急性期データ出力用!K154=0,FALSE,IF(急性期データ出力用!K154<'急性期診療計画(入力用)'!$BD$1,TRUE,FALSE)))","v":false},0]
["入院時","トイレ",null,0,"1:自立 2:部分介助 3:全介助",{"$f":"IF(D155<>\"\",LOOKUP(D155,{0,1,2,3},{\"\",\"自立\",\"部分介助\",\"全介助\"}),\"\")","v":""},null,null,{"$f":"IF(F155=\"\",1,0)","v":1},null,null,"S",{"$f":"IF('急性期診療計画(入力用)'!$BE$7=FALSE,IF(急性期データ出力用!K155=0,FALSE,IF(急性期データ出力用!K155<'急性期診療計画(入力用)'!$BD$1,TRUE,FALSE)))","v":false},0]
["退院時","トイレ",null,0,"1:自立 2:部分介助 3:全介助",{"$f":"IF(D156<>\"\",LOOKUP(D156,{0,1,2,3},{\"\",\"自立\",\"部分介助\",\"全介助\"}),\"\")","v":""},null,null,null,{"$f":"IF(F156=\"\",1,0)","v":1},null,"S",{"$f":"IF('急性期診療計画(入力用)'!$BE$7=FALSE,IF(急性期データ出力用!K156=0,FALSE,IF(急性期データ出力用!K156<'急性期診療計画(入力用)'!$BD$1,TRUE,FALSE)))","v":false},0]
["入院時","歩行","自立、介助",0,"1:自立 2:介助監視 3:全介助",{"$f":"IF(D157<>\"\",LOOKUP(D157,{0,1,2,3},{\"\",\"自立\",\"介助監視\",\"全介助\"}),\"\")","v":""},null,null,{"$f":"IF(F157=\"\",1,0)","v":1},null,null,"S",{"$f":"IF('急性期診療計画(入力用)'!$BE$7=FALSE,IF(急性期データ出力用!K157=0,FALSE,IF(急性期データ出力用!K157<'急性期診療計画(入力用)'!$BD$1,TRUE,FALSE)))","v":false},0]
[null,null,"独歩",false,null,{"$f":"IF(D158=TRUE,C158,\"\")","v":""},null,null,null,null,null,"S",{"$f":"IF('急性期診療計画(入力用)'!$BE$7=FALSE,IF(急性期データ出力用!K158=0,FALSE,IF(急性期データ出力用!K158<'急性期診療計画(入力用)'!$BD$1,TRUE,FALSE)))","v":false},false]
[null,null,"杖",false,null,{"$f":"IF(D159=TRUE,C159,\"\")","v":""},null,null,null,null,null,null,null,false]
[null,null,"歩行器",false,null,{"$f":"IF(D160=TRUE,C160,\"\")","v":""},null,null,null,null,null,null,null,false]
[null,null,"車いす",false,null,{"$f":"IF(D161=TRUE,C161,\"\")","v":""},null,null,null,null,null,null,null,false]
[null,null,"装具",false,null,{"$f":"IF(D162=TRUE,C162,\"\")","v":""},null,{"$f":"IF(H163<>\"\", MID(H163,2,200),\"\")","v":""},{"$f":"IF(D163=TRUE,IF(E163=0,1,0),0)","v":0},null,null,null,null,false]
[null,null,"その他",false,{"$f":"'急性期診療計画(入力用)'!W53","v":0},{"$f":"IF(D163=TRUE,IF(E163<>0,C163&\"(\"&E163&\")\",C163),\"\")","v":""},"計算用",{"$f":"IF(F158<>\"\",\"，\" & F158,\"\")  & IF(F159<>\"\",\"，\" & F159,\"\") & IF(F160<>\"\",\"，\" & F160,\"\") & IF(F161<>\"\",\"，\" & F161,\"\") & IF(F162<>\"\",\"，\" & F162,\"\") & IF(F163<>\"\",\"，\" & F163,\"\")","v":""},{"$f":"IF(H163=\"\",1,0)","v":1},null,null,"S",{"$f":"IF('急性期診療計画(入力用)'!$BE$7=FALSE,IF(急性期データ出力用!K163=0,FALSE,IF(急性期データ出力用!K163<'急性期診療計画(入力用)'!$BD$1,TRUE,FALSE)))","v":false},false]
["退院時","歩行","自立、介助",0,"1:自立 2:介助監視 3:全介助",{"$f":"IF(D164<>\"\",LOOKUP(D164,{0,1,2,3},{\"\",\"自立\",\"介助監視\",\"全介助\"}),\"\")","v":""},null,null,null,{"$f":"IF(F164=\"\",1,0)","v":1},null,"S",{"$f":"IF('急性期診療計画(入力用)'!$BE$7=FALSE,IF(急性期データ出力用!K164=0,FALSE,IF(急性期データ出力用!K164<'急性期診療計画(入力用)'!$BD$1,TRUE,FALSE)))","v":false},0]
[null,null,"独歩",false,null,{"$f":"IF(D165=TRUE,C165,\"\")","v":""},null,null,null,null,null,"S",{"$f":"IF('急性期診療計画(入力用)'!$BE$7=FALSE,IF(急性期データ出力用!K165=0,FALSE,IF(急性期データ出力用!K165<'急性期診療計画(入力用)'!$BD$1,TRUE,FALSE)))","v":false},false]
[null,null,"杖",false,null,{"$f":"IF(D166=TRUE,C166,\"\")","v":""},null,null,null,null,null,null,null,false]
[null,null,"歩行器",false,null,{"$f":"IF(D167=TRUE,C167,\"\")","v":""},null,null,null,null,null,null,null,false]
[null,null,"車いす",false,null,{"$f":"IF(D168=TRUE,C168,\"\")","v":""},null,null,null,null,null,null,null,false]
[null,null,"装具",false,null,{"$f":"IF(D169=TRUE,C169,\"\")","v":""},null,{"$f":"IF(H170<>\"\", MID(H170,2,200),\"\")","v":""},null,{"$f":"IF(D170=TRUE,IF(E170=0,1,0),0)","v":0},null,null,null,false]
[null,null,"その他",false,{"$f":"'急性期診療計画(入力用)'!AU53","v":0},{"$f":"IF(D170=TRUE,IF(E170<>0,C170&\"(\"&E170&\")\",C170),\"\")","v":""},"計算用",{"$f":"IF(F165<>\"\",\"，\" & F165,\"\")  & IF(F166<>\"\",\"，\" & F166,\"\") & IF(F167<>\"\",\"，\" & F167,\"\") & IF(F168<>\"\",\"，\" & F168,\"\") & IF(F169<>\"\",\"，\" & F169,\"\") & IF(F170<>\"\",\"，\" & F170,\"\")","v":""},null,{"$f":"IF(H170=\"\",1,0)","v":1},null,"S",{"$f":"IF('急性期診療計画(入力用)'!$BE$7=FALSE,IF(急性期データ出力用!K170=0,FALSE,IF(急性期データ出力用!K170<'急性期診療計画(入力用)'!$BD$1,TRUE,FALSE)))","v":false},false]
["処置","経過中の症状変動の有無",null,0,null,{"$f":"IF(D171<>\"\",LOOKUP(D171,{0,1,2},{\"\",\"無\",\"有\"}),\"\")","v":""},null,null,null,{"$f":"IF(F171=\"\",1,0)","v":1},null,"D",{"$f":"IF('急性期診療計画(入力用)'!$BE$3=FALSE,IF(急性期データ出力用!K171=0,FALSE,IF(急性期データ出力用!K171<'急性期診療計画(入力用)'!$BD$1,TRUE,FALSE)))","v":false},0]
[null,"症状と原因",null,{"$f":"'急性期診療計画(入力用)'!I62","v":0},null,{"$f":"IF(D172=0,\"\",D172)","v":""},null,null,null,{"$f":"IF(D171=2,IF(F172=\"\",1,0),0)","v":0},null,"D",{"$f":"IF('急性期診療計画(入力用)'!$BE$3=FALSE,IF(急性期データ出力用!K172=0,FALSE,IF(急性期データ出力用!K172<'急性期診療計画(入力用)'!$BD$1,TRUE,FALSE)))","v":false}]
["検査","画像所見等",null,{"$f":"'急性期診療計画(入力用)'!$I$54","v":0},null,{"$f":"IF(D173=0,\"\",D173)","v":""},null,null,null,{"$f":"IF(F173=\"\",1,0)","v":1},null,"D",{"$f":"IF('急性期診療計画(入力用)'!$BE$3=FALSE,IF(急性期データ出力用!K173=0,FALSE,IF(急性期データ出力用!K173<'急性期診療計画(入力用)'!$BD$1,TRUE,FALSE)))","v":false}]
["治療",null,"ワルファリン",false,null,{"$f":"IF(D174=TRUE,C174,\"\")","v":""},null,null,null,null,null,"D",{"$f":"IF('急性期診療計画(入力用)'!$BE$3=FALSE,IF(急性期データ出力用!K174=0,FALSE,IF(急性期データ出力用!K174<'急性期診療計画(入力用)'!$BD$1,TRUE,FALSE)))","v":false},false]
[null,null,"ダビガトラン",false,null,{"$f":"IF(D175=TRUE,C175,\"\")","v":""},null,null,null,null,null,null,null,false]
[null,null,"リバーロキサバン",false,null,"",null,null,null,null,null,null,null,false]
[null,null,"アピキサバン",false,null,"",null,null,null,null,null,null,null,false]
[null,null,"エドキサバン トシル",false,null,"",null,null,null,null,null,null,null,false]
[null,null,"アスピリン",false,null,"",null,null,null,null,null,null,null,false]
[null,null,"シロスタゾール",false,null,"",null,null,null,null,null,null,null,false]
[null,null,"クロピドグレル",false,null,"",null,null,null,null,null,null,null,false]
[null,null,"チクロピジン",false,false,{"$f":"IF(D182=TRUE,C182,\"\")","v":""},null,{"$f":"IF(H183<>\"\", MID(H183,2,200),\"\")","v":""},null,{"$f":"IF(D183=TRUE,IF(E183=\"\",1,0),0)","v":0},null,null,null,false,false]
[null,null,"その他",false,{"$f":"IF('急性期診療計画(入力用)'!W58=\"\",\"\",'急性期診療計画(入力用)'!W58)","v":""},{"$f":"IF(D183=TRUE,IF(E183<>\"\",C183&\"(\" & E183 & \")\",C183),\"\")","v":""},"計算用",{"$f":"IF(F174<>\"\",\"，\" & F174,\"\")  & IF(F175<>\"\",\"，\" & F175,\"\")  &  IF(F176<>\"\",\"，\" & F176,\"\")  &  IF(F177<>\"\",\"，\" & F177,\"\")  &  IF(F178<>\"\",\"，\" & F178,\"\")  & IF(F179<>\"\",\"，\" & F179,\"\") & IF(F180<>\"\",\"，\" & F180,\"\") & IF(F181<>\"\",\"，\" & F181,\"\") & IF(F182<>\"\",\"，\" & F182,\"\") & IF(F183<>\"\",\"，\" & F183,\"\") & IF(E182=TRUE,\",なし\",\"\")","v":""},null,{"$f":"IF(H183=\"\",1,0)","v":1},null,"D",{"$f":"IF('急性期診療計画(入力用)'!$BE$3=FALSE,IF(急性期データ出力用!K183=0,FALSE,IF(急性期データ出力用!K183<'急性期診療計画(入力用)'!$BD$1,TRUE,FALSE)))","v":false},false]
[null,"手術",null,0,null,{"$f":"IF(D184<>\"\",LOOKUP(D184,{0,1,2},{\"\",\"なし\",\"あり\"}),\"\")","v":""},null,null,null,{"$f":"IF(F184=\"\",1,0)","v":1},null,"D",{"$f":"IF('急性期診療計画(入力用)'!$BE$3=FALSE,IF(急性期データ出力用!K184=0,FALSE,IF(急性期データ出力用!K184<'急性期診療計画(入力用)'!$BD$1,TRUE,FALSE)))","v":false},0]
[null,"手術日",null,{"$f":"'急性期診療計画(入力用)'!Q59","v":"00:00:00"},{"$f":"IF('急性期診療計画(入力用)'!AC59<>0,'急性期診療計画(入力用)'!AC59,\"\")","v":""},{"$f":"IF(D185<>0,D185,\"\")","v":""},null,null,null,{"$f":"IF(D184=2,IF(F185=\"\",1,0),0)","v":0},null,"D",{"$f":"IF('急性期診療計画(入力用)'!$BE$3=FALSE,IF(急性期データ出力用!K185=0,FALSE,IF(急性期データ出力用!K185<'急性期診療計画(入力用)'!$BD$1,TRUE,FALSE)))","v":false}]
[null,"ivｔPA",null,0,"1:なし 2:あり",{"$f":"IF(D186<>\"\",LOOKUP(D186,{0,1,2},{\"\",\"なし\",\"あり\"}),\"\")","v":""},null,null,null,{"$f":"IF(D17=TRUE,IF(F186=\"\",1,0),0)","v":0},null,"D",{"$f":"IF('急性期診療計画(入力用)'!$BE$3=FALSE,IF(急性期データ出力用!K186=0,FALSE,IF(急性期データ出力用!K186<'急性期診療計画(入力用)'!$BD$1,TRUE,FALSE)))","v":false},0]
[null,null,"クリッピング",false,null,{"$f":"IF(D187=TRUE,C187,\"\")","v":""},null,null,null,{"$f":"IF(D184=2,IF(H194=\"\",1,0),0)","v":0},null,"D",{"$f":"IF('急性期診療計画(入力用)'!$BE$3=FALSE,IF(急性期データ出力用!K187=0,FALSE,IF(急性期データ出力用!K187<'急性期診療計画(入力用)'!$BD$1,TRUE,FALSE)))","v":false},false]
[null,null,"コイリング",false,null,"",null,null,null,null,null,null,null,false]
[null,null,"血腫除去",false,null,"",null,null,null,null,null,null,null,false]
[null,null,"バイパス",false,null,{"$f":"IF(D190=TRUE,C190,\"\")","v":""},null,null,null,null,null,null,null,false]
[null,null,"CAS",false,null,"",null,null,null,null,null,null,null,false]
[null,null,"CEA",false,null,"",null,null,null,null,null,null,null,false]
[null,null,"シャント",false,{"$f":"'急性期診療計画(入力用)'!$AD$60","v":0},{"$f":"IF(D193=TRUE,IF(E193=0,C193, C193&\"（\"& E193 &\"）\"),\"\")","v":""},null,{"$f":"IF(H194<>\"\", MID(H194,2,200),\"\")","v":""},null,{"$f":"IF(D193=TRUE,IF(E193=0,1,0),0)","v":0},null,"D",{"$f":"IF('急性期診療計画(入力用)'!$BE$3=FALSE,IF(急性期データ出力用!K193=0,FALSE,IF(急性期データ出力用!K193<'急性期診療計画(入力用)'!$BD$1,TRUE,FALSE)))","v":false},false]
[null,null,"その他",false,{"$f":"'急性期診療計画(入力用)'!$AN$60","v":0},{"$f":"IF(D194=TRUE,IF(E194=0,C194, C194&\"（\"& E194 &\"）\"),\"\")","v":""},"計算用",{"$f":"  IF(F187<>\"\",\"，\" & F187,\"\")  &  IF(F188<>\"\",\"，\" & F188,\"\")  &  IF(F189<>\"\",\"，\" & F189,\"\")  & IF(F190<>\"\",\"，\" & F190,\"\") & IF(F191<>\"\",\"，\" & F191,\"\") & IF(F192<>\"\",\"，\" & F192,\"\") & IF(F193<>\"\",\"，\" & F193,\"\") & IF(F194<>\"\",\"，\" & F194,\"\")","v":""},null,{"$f":"IF(D194=TRUE,IF(E194=0,1,0),0)","v":0},null,"D",{"$f":"IF('急性期診療計画(入力用)'!$BE$3=FALSE,IF(急性期データ出力用!K194=0,FALSE,IF(急性期データ出力用!K194<'急性期診療計画(入力用)'!$BD$1,TRUE,FALSE)))","v":false},false]
["禁忌事項","アレルギー","アレルギー",false,null,{"$f":"IF(D195=TRUE,C195,\"\")","v":""},null,null,null,null,null,"D",{"$f":"IF('急性期診療計画(入力用)'!$BE$3=FALSE,IF(急性期データ出力用!K195=0,FALSE,IF(急性期データ出力用!K195<'急性期診療計画(入力用)'!$BD$1,TRUE,FALSE)))","v":false},false]
[null,null,"テキスト",{"$f":"'急性期診療計画(入力用)'!M63","v":0},{"$f":"IF(D196=0,\"\",D196)","v":""},{"$f":"IF(D195=TRUE,IF(D196=0,\"\",\"（\"&D196&\"）\"),\"\")","v":""},null,null,null,{"$f":"IF(D195=TRUE,IF(D196=0,1,0),0)","v":0},null,"D",{"$f":"IF('急性期診療計画(入力用)'!$BE$3=FALSE,IF(急性期データ出力用!K196=0,FALSE,IF(急性期データ出力用!K196<'急性期診療計画(入力用)'!$BD$1,TRUE,FALSE)))","v":false}]
[null,"その他","その他",false,null,{"$f":"IF(D197=TRUE,C197,\"\")","v":""},null,{"$f":"IF(H198<>\"\", MID(H198,2,200),\"\")","v":""},null,{"$f":"IF(H197=\"\",1,0)","v":1},null,null,null,false]
[null,null,"テキスト",{"$f":"'急性期診療計画(入力用)'!AD63","v":0},{"$f":"IF(D198=0,\"\",D198)","v":""},{"$f":"IF(D197=TRUE,IF(D198=0,\"\",\"（\"&D198&\"）\"),\"\")","v":""},"計算用",{"$f":"IF(F195<>\"\",\"，\"&F195,\"\")&IF(F196<>\"\",\" \"&F196,\"\")&IF(F197<>\"\",\"，\"&F197,\"\")&IF(F198<>\"\",\" \"&F198,\"\"&IF(F199<>\"\",\" \"&F199,\"\"))","v":""},null,{"$f":"IF(D197=TRUE,IF(D198=0,1,0),0)","v":0},null,"D",{"$f":"IF('急性期診療計画(入力用)'!$BE$3=FALSE,IF(急性期データ出力用!K198=0,FALSE,IF(急性期データ出力用!K198<'急性期診療計画(入力用)'!$BD$1,TRUE,FALSE)))","v":false}]
[null,"なし","なし",false,null,{"$f":"IF(D199=TRUE,C199,\"\")","v":""},null,null,null,null,null,null,null,false]
["合併症","褥創",null,0,"1:なし 2:軽快 3:治療継続",{"$f":"IF(D200<>\"\",LOOKUP(D200,{0,1,2,3},{\"\",\"なし\",\"軽快\",\"治療継続\"}),\"\")","v":""},null,null,null,null,null,"D",{"$f":"IF('急性期診療計画(入力用)'!$BE$3=FALSE,IF(急性期データ出力用!K200=0,FALSE,IF(急性期データ出力用!K200<'急性期診療計画(入力用)'!$BD$1,TRUE,FALSE)))","v":false},"0"]
[null,"肺炎",null,0,"1:なし 2:軽快 3:治療継続",{"$f":"IF(D201<>\"\",LOOKUP(D201,{0,1,2,3},{\"\",\"なし\",\"軽快\",\"治療継続\"}),\"\")","v":""},null,null,null,{"$f":"IF(F201=\"\",1,0)","v":1},null,"D",{"$f":"IF('急性期診療計画(入力用)'!$BE$3=FALSE,IF(急性期データ出力用!K201=0,FALSE,IF(急性期データ出力用!K201<'急性期診療計画(入力用)'!$BD$1,TRUE,FALSE)))","v":false},"0"]
[null,"尿路感染症",null,0,"1:なし 2:軽快 3:治療継続",{"$f":"IF(D202<>\"\",LOOKUP(D202,{0,1,2,3},{\"\",\"なし\",\"軽快\",\"治療継続\"}),\"\")","v":""},null,null,null,{"$f":"IF(F202=\"\",1,0)","v":1},null,"D",{"$f":"IF('急性期診療計画(入力用)'!$BE$3=FALSE,IF(急性期データ出力用!K202=0,FALSE,IF(急性期データ出力用!K202<'急性期診療計画(入力用)'!$BD$1,TRUE,FALSE)))","v":false},"0"]
[null,"その他感染症",null,0,"1:なし 2:軽快 3:治療継続",{"$f":"IF(D203<>\"\",LOOKUP(D203,{0,1,2,3},{\"\",\"なし\",\"軽快\",\"治療継続\"}),\"\")","v":""},null,null,null,{"$f":"IF(F203=\"\",1,0)","v":1},null,"D",{"$f":"IF('急性期診療計画(入力用)'!$BE$3=FALSE,IF(急性期データ出力用!K203=0,FALSE,IF(急性期データ出力用!K203<'急性期診療計画(入力用)'!$BD$1,TRUE,FALSE)))","v":false},"0"]
[null,null,"感染部位",{"$f":"'急性期診療計画(入力用)'!$V$65","v":0},null,{"$f":"IF(D204=0,\"\",D204)","v":""},null,null,null,{"$f":"IF(D203>1,IF(F204=\"\",1,0),0)","v":0},null,"D",{"$f":"IF('急性期診療計画(入力用)'!$BE$3=FALSE,IF(急性期データ出力用!K204=0,FALSE,IF(急性期データ出力用!K204<'急性期診療計画(入力用)'!$BD$1,TRUE,FALSE)))","v":false}]
[null,"その他合併症",null,0,{"$f":"IF('急性期診療計画(入力用)'!AL65=\"\",\"\",'急性期診療計画(入力用)'!AL65)","v":""},{"$f":"IF(D205<>\"\",LOOKUP(D205,{0,1,2},{\"\",\"なし\",\"あり\"}),\"\")","v":""},null,null,null,{"$f":"IF(F205=\"\",1,0) + IF(D205=2,IF(E205=\"\",1,0),0)","v":1},null,"D",{"$f":"IF('急性期診療計画(入力用)'!$BE$3=FALSE,IF(急性期データ出力用!K205=0,FALSE,IF(急性期データ出力用!K205<'急性期診療計画(入力用)'!$BD$1,TRUE,FALSE)))","v":false},"0"]
["-","認知症",null,0,null,{"$f":"IF(D206<>\"\",LOOKUP(D206,{0,1,2,3},{\"\",\"なし\",\"あり\",\"判定不可\"}),\"\")","v":""},null,null,null,{"$f":"IF(F206=\"\",1,0)","v":1},null,"S",{"$f":"IF('急性期診療計画(入力用)'!$BE$7=FALSE,IF(急性期データ出力用!K206=0,FALSE,IF(急性期データ出力用!K206<'急性期診療計画(入力用)'!$BD$1,TRUE,FALSE)))","v":false},0]
[null,"半側空間無視",null,0,null,{"$f":"IF(D207<>\"\",LOOKUP(D207,{0,1,2},{\"\",\"なし\",\"あり\"}),\"\")","v":""},null,null,null,1,null,"S",{"$f":"IF('急性期診療計画(入力用)'!$BE$7=FALSE,IF(急性期データ出力用!K207=0,FALSE,IF(急性期データ出力用!K207<'急性期診療計画(入力用)'!$BD$1,TRUE,FALSE)))","v":false},"0"]
[null,"視野障害",null,0,null,{"$f":"IF(D208<>\"\",LOOKUP(D208,{0,1,2},{\"\",\"なし\",\"あり\"}),\"\")","v":""},null,null,null,1,null,"S",{"$f":"IF('急性期診療計画(入力用)'!$BE$7=FALSE,IF(急性期データ出力用!K208=0,FALSE,IF(急性期データ出力用!K208<'急性期診療計画(入力用)'!$BD$1,TRUE,FALSE)))","v":false},"0"]
[null,"感覚障害",null,0,null,{"$f":"IF(D209<>\"\",LOOKUP(D209,{0,1,2},{\"\",\"なし\",\"あり\"}),\"\")","v":""},null,null,null,1,null,"S",{"$f":"IF('急性期診療計画(入力用)'!$BE$7=FALSE,IF(急性期データ出力用!K209=0,FALSE,IF(急性期データ出力用!K209<'急性期診療計画(入力用)'!$BD$1,TRUE,FALSE)))","v":false},"0"]
[null,"失調",null,0,null,{"$f":"IF(D210<>\"\",LOOKUP(D210,{0,1,2},{\"\",\"なし\",\"あり\"}),\"\")","v":""},null,null,null,{"$f":"IF(F210=\"\",1,0)","v":1},null,"S",{"$f":"IF('急性期診療計画(入力用)'!$BE$7=FALSE,IF(急性期データ出力用!K210=0,FALSE,IF(急性期データ出力用!K210<'急性期診療計画(入力用)'!$BD$1,TRUE,FALSE)))","v":false},"0"]
[null,"疼痛",null,0,null,{"$f":"IF(D211<>\"\",LOOKUP(D211,{0,1,2},{\"\",\"なし\",\"あり\"}),\"\")","v":""},null,null,null,1,null,"S",{"$f":"IF('急性期診療計画(入力用)'!$BE$7=FALSE,IF(急性期データ出力用!K211=0,FALSE,IF(急性期データ出力用!K211<'急性期診療計画(入力用)'!$BD$1,TRUE,FALSE)))","v":false},"0"]
[null,"拘縮",null,0,null,{"$f":"IF(D212<>\"\",LOOKUP(D212,{0,1,2},{\"\",\"なし\",\"あり\"}),\"\")","v":""},null,null,null,1,null,"S",{"$f":"IF('急性期診療計画(入力用)'!$BE$7=FALSE,IF(急性期データ出力用!K212=0,FALSE,IF(急性期データ出力用!K212<'急性期診療計画(入力用)'!$BD$1,TRUE,FALSE)))","v":false},"0"]
[null,null,"テキスト",{"$f":"'急性期診療計画(入力用)'!AK67","v":0},null,{"$f":"IF(D213=0,\"\",D213)","v":""},null,null,null,{"$f":"IF(D212>1,IF(F213=\"\",1,0),0)","v":0},null,"S",{"$f":"IF('急性期診療計画(入力用)'!$BE$7=FALSE,IF(急性期データ出力用!K213=0,FALSE,IF(急性期データ出力用!K213<'急性期診療計画(入力用)'!$BD$1,TRUE,FALSE)))","v":false},"指"]
[null,"嚥下障害",null,0,null,{"$f":"IF(D214<>\"\",LOOKUP(D214,{0,1,2},{\"\",\"なし\",\"あり\"}),\"\")","v":""},null,null,null,1,null,"S",{"$f":"IF('急性期診療計画(入力用)'!$BE$7=FALSE,IF(急性期データ出力用!K214=0,FALSE,IF(急性期データ出力用!K214<'急性期診療計画(入力用)'!$BD$1,TRUE,FALSE)))","v":false},"0"]
[null,null,"食事可能、不可能",0,null,{"$f":"IF(D215<>\"\",LOOKUP(D215,{0,1,2},{\"\",\"食事可能\",\"食事不可能\"}),\"\")","v":""},null,null,null,{"$f":"IF(D214>1,IF(F215=\"\",1,0),0)","v":0},null,"S",{"$f":"IF('急性期診療計画(入力用)'!$BE$7=FALSE,IF(急性期データ出力用!K215=0,FALSE,IF(急性期データ出力用!K215<'急性期診療計画(入力用)'!$BD$1,TRUE,FALSE)))","v":false},0]
[null,"失語",null,0,null,{"$f":"IF(D216<>\"\",LOOKUP(D216,{0,1,2},{\"\",\"なし\",\"あり\"}),\"\")","v":""},null,null,null,1,null,"S",{"$f":"IF('急性期診療計画(入力用)'!$BE$7=FALSE,IF(急性期データ出力用!K216=0,FALSE,IF(急性期データ出力用!K216<'急性期診療計画(入力用)'!$BD$1,TRUE,FALSE)))","v":false},0]
[null,null,"種類",0,null,{"$f":"IF(D217<>\"\",LOOKUP(D217,{0,1,2,3,4},{\"\",\"運動性\",\"感覚性\",\"混合性失語\",\"その他\"}),\"\")","v":""},null,null,null,{"$f":"IF(D216>1,IF(F217=\"\",1,0),0)","v":0},null,"S",{"$f":"IF('急性期診療計画(入力用)'!$BE$7=FALSE,IF(急性期データ出力用!K217=0,FALSE,IF(急性期データ出力用!K217<'急性期診療計画(入力用)'!$BD$1,TRUE,FALSE)))","v":false},0]
[null,"褥瘡",null,0,null,{"$f":"IF(D218<>\"\",LOOKUP(D218,{0,1,2},{\"\",\"なし\",\"あり\"}),\"\")","v":""},null,null,null,1,null,"N",{"$f":"IF('急性期診療計画(入力用)'!$BE$5=FALSE,IF(急性期データ出力用!K218=0,FALSE,IF(急性期データ出力用!K218<'急性期診療計画(入力用)'!$BD$1,TRUE,FALSE)))","v":false},0]
[null,null,"テキスト",{"$f":"'急性期診療計画(入力用)'!M69","v":""},null,{"$f":"IF(D219=0,\"\",D219)","v":""},null,null,null,{"$f":"IF(D218>1,IF(F219=\"\",1,0),0)","v":0},null,"N",{"$f":"IF('急性期診療計画(入力用)'!$BE$5=FALSE,IF(急性期データ出力用!K219=0,FALSE,IF(急性期データ出力用!K219<'急性期診療計画(入力用)'!$BD$1,TRUE,FALSE)))","v":false}]
[null,"その他皮膚疾患",null,0,null,{"$f":"IF(D220<>\"\",LOOKUP(D220,{0,1,2},{\"\",\"なし\",\"あり\"}),\"\")","v":""},null,null,null,1,null,"N",{"$f":"IF('急性期診療計画(入力用)'!$BE$5=FALSE,IF(急性期データ出力用!K220=0,FALSE,IF(急性期データ出力用!K220<'急性期診療計画(入力用)'!$BD$1,TRUE,FALSE)))","v":false},0]
[null,null,"テキスト",{"$f":"'急性期診療計画(入力用)'!AH69","v":""},null,{"$f":"IF(D221=0,\"\",D221)","v":""},null,null,null,{"$f":"IF(D220>1,IF(F221=\"\",1,0),0)","v":0},null,"N",{"$f":"IF('急性期診療計画(入力用)'!$BE$5=FALSE,IF(急性期データ出力用!K221=0,FALSE,IF(急性期データ出力用!K221<'急性期診療計画(入力用)'!$BD$1,TRUE,FALSE)))","v":false}]
["リハビリ","リハビリ開始日",0,{"$f":"'急性期診療計画(入力用)'!Q70","v":"00:00:00"},null,{"$f":"IF(D222<>0,D222,\"\")","v":""},null,null,null,{"$f":"IF(C222=2,IF(F222=\"\",1,0),0) + IF(C222=0,1,0)","v":1},null,"S",{"$f":"IF('急性期診療計画(入力用)'!$BE$7=FALSE,IF(急性期データ出力用!K222=0,FALSE,IF(急性期データ出力用!K222<'急性期診療計画(入力用)'!$BD$1,TRUE,FALSE)))","v":false},0]
[null,"療法","理学療法",false,null,{"$f":"IF(D223=TRUE,C223,\"\")","v":""},null,null,null,null,null,"S",{"$f":"IF('急性期診療計画(入力用)'!$BE$7=FALSE,IF(急性期データ出力用!K223=0,FALSE,IF(急性期データ出力用!K223<'急性期診療計画(入力用)'!$BD$1,TRUE,FALSE)))","v":false},false]
[null,null,"作業療法",false,null,{"$f":"IF(D224=TRUE,C224,\"\")","v":""},null,{"$f":"IF(H225<>\"\", MID(H225,2,200),\"\")","v":""},null,null,null,null,null,false]
[null,null,"言語療法",false,null,{"$f":"IF(D225=TRUE,C225,\"\")","v":""},"計算用",{"$f":"  IF(F223<>\"\",\"，\" & F223,\"\") & IF(F224<>\"\",\"，\" & F224,\"\") & IF(F225<>\"\",\"，\" & F225,\"\")","v":""},null,{"$f":"IF(C222=2,IF(H225=\"\",1,0),0)","v":0},null,null,null,false]
[null,null,"テキスト",null,null,{"$f":"IF(D226<>0,D226,\"\")","v":""}]
[null,null,"担当者（リハスタッフ）："]
["説明","連携パス説明",null,false,null,{"$f":"IF(D228,\"連携パス説明\",\"\")","v":""},null,null,null,{"$f":"IF(F228=\"\",1,0)","v":1},null,"D",{"$f":"IF('急性期診療計画(入力用)'!$BE$3=FALSE,IF(急性期データ出力用!K228=0,FALSE,IF(急性期データ出力用!K228<'急性期診療計画(入力用)'!$BD$1,TRUE,FALSE)))","v":false},false]
[null,"説明日",null,{"$f":"'急性期診療計画(入力用)'!AD75","v":"00:00:00"},null,{"$f":"IF(D229<>0,D229,\"\")","v":""},null,null,null,{"$f":"IF(F229=\"\",1,0)","v":1},null,"D",{"$f":"IF('急性期診療計画(入力用)'!$BE$3=FALSE,IF(急性期データ出力用!K229=0,FALSE,IF(急性期データ出力用!K229<'急性期診療計画(入力用)'!$BD$1,TRUE,FALSE)))","v":false}]
[null,"説明を行った者",null,{"$f":"'急性期診療計画(入力用)'!AN75","v":0},null,{"$f":"IF(D230=0,\"\",D230)","v":""},null,null,null,{"$f":"IF(F230=\"\",1,0)","v":1},null,"D",{"$f":"IF('急性期診療計画(入力用)'!$BE$3=FALSE,IF(急性期データ出力用!K230=0,FALSE,IF(急性期データ出力用!K230<'急性期診療計画(入力用)'!$BD$1,TRUE,FALSE)))","v":false}]
["転帰・転院基準","転院先",null,{"$f":"'急性期診療計画(入力用)'!J77","v":0},null,{"$f":"IF(D231=0,\"\",D231)","v":""},{"$f":"FIND(\"：\",D231,1)","v":{"$error":"#VALUE!"}},{"$f":"IF(ISERROR(G231),\"\",LEFT(D231,FIND(\"：\",D231,1)-1))","v":""},null,{"$f":"IF(F231=\"\",1,0)","v":1},null,"M",{"$f":"IF('急性期診療計画(入力用)'!$BE$9=FALSE,IF(急性期データ出力用!K231=0,FALSE,IF(急性期データ出力用!K231<'急性期診療計画(入力用)'!$BD$1,TRUE,FALSE)))","v":false}]
[null,"情報提供"]
[null,"転院先　病院",null,{"$f":"'急性期診療計画(入力用)'!I81","v":0},null,{"$f":"IF(D233=0,\"\",D233)","v":""},null,null,null,{"$f":"IF(F231=\"\",0,IF(F231<>\"自宅（在宅）：自宅生活可能とする状態まで　改善・回復\",IF(F233=\"\",1,0),0))","v":0},null,"M",{"$f":"IF('急性期診療計画(入力用)'!$BE$9=FALSE,IF(急性期データ出力用!K233=0,FALSE,IF(急性期データ出力用!K233<'急性期診療計画(入力用)'!$BD$1,TRUE,FALSE)))","v":false}]
[null,"転院日",null,null,null,{"$f":"IF(D234<>0,D234,\"\")","v":""},null,null,null,null,null,"M",{"$f":"IF('急性期診療計画(入力用)'!$BE$9=FALSE,IF(急性期データ出力用!K234=0,FALSE,IF(急性期データ出力用!K234<'急性期診療計画(入力用)'!$BD$1,TRUE,FALSE)))","v":false}]
[null,"連絡票送付",null,false,null,{"$f":"IF(D235,\"在宅ケア希望者退院連絡票送付\",\"\")","v":""},null,null,null,{"$f":"IF(F231=\"自宅（在宅）：自宅生活可能とする状態まで　改善・回復 \",IF(D235=FALSE,1,0),0)","v":0},null,"M",{"$f":"IF('急性期診療計画(入力用)'!$BE$9=FALSE,IF(急性期データ出力用!K235=0,FALSE,IF(急性期データ出力用!K235<'急性期診療計画(入力用)'!$BD$1,TRUE,FALSE)))","v":false},false]
["担当者","サイン",null,{"$f":"'急性期診療計画(入力用)'!E83","v":"サイン（医師）"}]
["職業",null,null,0,"1:無 2:有",{"$f":"IF(D237<>\"\",LOOKUP(D237,{0,1,2},{\"\",\"無\",\"有\"}),\"\")","v":""},null,null,null,{"$f":"IF(F237=\"\",1,0)","v":1},null,"M",{"$f":"IF('急性期診療計画(入力用)'!$BE$9=FALSE,IF(急性期データ出力用!K237=0,FALSE,IF(急性期データ出力用!K237<'急性期診療計画(入力用)'!$BD$1,TRUE,FALSE)))","v":false},0]
[null,"テキスト",null,{"$f":"'急性期診療計画(入力用)'!$O$86","v":0},null,{"$f":"IF(D238=0,\"\",D238)","v":""},null,{"$f":"IF(D237=2, \"（\" &F238 & \"）\",\"\")","v":""},null,{"$f":"IF(D237>1,IF(F238=\"\",1,0),0)","v":0},null,"M",{"$f":"IF('急性期診療計画(入力用)'!$BE$9=FALSE,IF(急性期データ出力用!K238=0,FALSE,IF(急性期データ出力用!K238<'急性期診療計画(入力用)'!$BD$1,TRUE,FALSE)))","v":false}]
["復職見込み",null,null,0,"1:無 2:有",{"$f":"IF(D239<>\"\",LOOKUP(D239,{0,1,2},{\"\",\"無\",\"有\"}),\"\")","v":""},null,null,null,{"$f":"IF(F239=\"\",1,0)","v":1},null,"M",{"$f":"IF('急性期診療計画(入力用)'!$BE$9=FALSE,IF(急性期データ出力用!K239=0,FALSE,IF(急性期データ出力用!K239<'急性期診療計画(入力用)'!$BD$1,TRUE,FALSE)))","v":false},0]
["生活の場",null,null,0,null,{"$f":"IF(D240<>\"\",LOOKUP(D240,{0,1,2,3,4},{\"\",\"在宅\",\"介護老人保健施設\",\"介護老人福祉施設\",\"その他\"}),\"\")","v":""},null,null,null,{"$f":"IF(F240=\"\",1,0)","v":1},null,"M",{"$f":"IF('急性期診療計画(入力用)'!$BE$9=FALSE,IF(急性期データ出力用!K240=0,FALSE,IF(急性期データ出力用!K240<'急性期診療計画(入力用)'!$BD$1,TRUE,FALSE)))","v":false},0]
[null,"介護老人保健施設",null,{"$f":"'急性期診療計画(入力用)'!$U$87","v":0},null,{"$f":"IF(D241=0,\"\",D241)","v":""},null,null,null,{"$f":"IF(D240=2,IF($D$241>0,0,1),0)","v":0},null,"M",{"$f":"IF('急性期診療計画(入力用)'!$BE$9=FALSE,IF(急性期データ出力用!K241=0,FALSE,IF(急性期データ出力用!K241<'急性期診療計画(入力用)'!$BD$1,TRUE,FALSE)))","v":false}]
[null,"介護老人福祉施設",null,{"$f":"'急性期診療計画(入力用)'!$AO$87","v":0},null,{"$f":"IF(D242=0,\"\",D242)","v":""},null,null,null,{"$f":"IF($D$240=3,IF(D242>0,0,1),0)","v":0},null,"M",{"$f":"IF('急性期診療計画(入力用)'!$BE$9=FALSE,IF(急性期データ出力用!K242=0,FALSE,IF(急性期データ出力用!K242<'急性期診療計画(入力用)'!$BD$1,TRUE,FALSE)))","v":false}]
[null,"その他",null,{"$f":"'急性期診療計画(入力用)'!$N$88","v":0},null,{"$f":"IF(D243=0,\"\",D243)","v":""},{"$f":"IF(D240=2,F240&\"(\"&F241&\")\",IF(D240=3,F240&\"(\"&F242&\")\",IF(D240=4,F240&\"(\"&F243&\")\",F240)))","v":""},null,null,{"$f":"IF($D$240=4,IF(D243>0,0,1),0)","v":0},null,"M",{"$f":"IF('急性期診療計画(入力用)'!$BE$9=FALSE,IF(急性期データ出力用!K243=0,FALSE,IF(急性期データ出力用!K243<'急性期診療計画(入力用)'!$BD$1,TRUE,FALSE)))","v":false}]
["保険の種類",null,null,0,null,{"$f":"IF(D244<>\"\",LOOKUP(D244,{0,1,2,3,4,5},{\"\",\"国保\",\"社保\",\"生保\",\"後期高齢者\",\"その他\"}),\"\")","v":""},null,null,null,{"$f":"IF(F244=\"\",1,0)","v":1},null,"M",{"$f":"IF('急性期診療計画(入力用)'!$BE$9=FALSE,IF(急性期データ出力用!K244=0,FALSE,IF(急性期データ出力用!K244<'急性期診療計画(入力用)'!$BD$1,TRUE,FALSE)))","v":false},0]
[null,"その他テキスト",null,{"$f":"'急性期診療計画(入力用)'!$AD$89","v":0},null,{"$f":"IF(D245<>0,D245,\"\")","v":""},null,{"$f":"IF(D244=5,F244& \"（\" &F245& \"）\",F244)","v":""},null,{"$f":"IF(D244=5,IF(F245=\"\",1,0),0)","v":0},null,"M",{"$f":"IF('急性期診療計画(入力用)'!$BE$9=FALSE,IF(急性期データ出力用!K245=0,FALSE,IF(急性期データ出力用!K245<'急性期診療計画(入力用)'!$BD$1,TRUE,FALSE)))","v":false}]
["退院後の主治医",null,null,0,"1:無 2:有",{"$f":"IF(D246<>\"\",LOOKUP(D246,{0,1,2},{\"\",\"無\",\"有\"}),\"\")","v":""},null,null,null,{"$f":"IF(F246=\"\",1,0)","v":1},null,"M",{"$f":"IF('急性期診療計画(入力用)'!$BE$9=FALSE,IF(急性期データ出力用!K246=0,FALSE,IF(急性期データ出力用!K246<'急性期診療計画(入力用)'!$BD$1,TRUE,FALSE)))","v":false},0]
[null,"医療機関　医師名",null,{"$f":"'急性期診療計画(入力用)'!$X$90","v":0},null,{"$f":"IF(D247=0,\"\",D247)","v":""},null,null,null,{"$f":"IF(D246>1,IF(F247=\"\",1,0),0)","v":0},null,"M",{"$f":"IF('急性期診療計画(入力用)'!$BE$9=FALSE,IF(急性期データ出力用!K247=0,FALSE,IF(急性期データ出力用!K247<'急性期診療計画(入力用)'!$BD$1,TRUE,FALSE)))","v":false}]
["身体障害者手帳",null,null,0,"1:無 2:有",{"$f":"IF(D248<>\"\",LOOKUP(D248,{0,1,2},{\"\",\"無\",\"有\"}),\"\")","v":""},null,null,null,{"$f":"IF(F248=\"\",1,0)","v":1},null,"M",{"$f":"IF('急性期診療計画(入力用)'!$BE$9=FALSE,IF(急性期データ出力用!K248=0,FALSE,IF(急性期データ出力用!K248<'急性期診療計画(入力用)'!$BD$1,TRUE,FALSE)))","v":false},0]
[null,"テキスト",null,null,null,{"$f":"IF(D249=0,\"\",D249 )","v":""},null,null,null,null,null,"M",{"$f":"IF('急性期診療計画(入力用)'!$BE$9=FALSE,IF(急性期データ出力用!K249=0,FALSE,IF(急性期データ出力用!K249<'急性期診療計画(入力用)'!$BD$1,TRUE,FALSE)))","v":false}]
[null,"種",null,null,null,{"$f":"IF(D250=0,\"\",D250 )","v":""},null,null,null,null,null,"M",{"$f":"IF('急性期診療計画(入力用)'!$BE$9=FALSE,IF(急性期データ出力用!K250=0,FALSE,IF(急性期データ出力用!K250<'急性期診療計画(入力用)'!$BD$1,TRUE,FALSE)))","v":false}]
[null,"級",null,{"$f":"'急性期診療計画(入力用)'!Q91","v":0},null,{"$f":"IF(D251=0,\"\",D251 )","v":""},null,null,null,{"$f":"IF(D248>1,IF(F251=\"\",1,0),0)","v":0},null,"M",{"$f":"IF('急性期診療計画(入力用)'!$BE$9=FALSE,IF(急性期データ出力用!K251=0,FALSE,IF(急性期データ出力用!K251<'急性期診療計画(入力用)'!$BD$1,TRUE,FALSE)))","v":false}]
["介護保険",null,null,0,"1:無 2:申請中 3:変更申請中 4:有",{"$f":"IF(D252<>\"\",LOOKUP(D252,{0,1,2,3,4},{\"\",\"無\",\"申請中\",\"変更申請中\",\"有\"}),\"\")","v":""},null,null,null,{"$f":"IF(F252=\"\",1,0)","v":1},null,"M",{"$f":"IF('急性期診療計画(入力用)'!$BE$9=FALSE,IF(急性期データ出力用!K252=0,FALSE,IF(急性期データ出力用!K252<'急性期診療計画(入力用)'!$BD$1,TRUE,FALSE)))","v":false},0]
[null,"介護度",null,0,null,{"$f":"IF(D253<>\"\",LOOKUP(D253,{0,1,2,3,4,5,6,7},{\"\",\"要支援１\",\"要支援２\",\"要介護１\",\"要介護２\",\"要介護３\",\"要介護４\",\"要介護５\"}),\"\")","v":""},null,null,null,{"$f":"IF(D252>2,IF(F253=\"\",1,0),0)","v":0},null,"M",{"$f":"IF('急性期診療計画(入力用)'!$BE$9=FALSE,IF(急性期データ出力用!K253=0,FALSE,IF(急性期データ出力用!K253<'急性期診療計画(入力用)'!$BD$1,TRUE,FALSE)))","v":false},0]
[null,"居宅介護支援事業所",null,{"$f":"'急性期診療計画(入力用)'!$S$94","v":0},null,{"$f":"IF(D254=0,\"\",D254)","v":""},null,null,null,{"$f":"IF(D252>2,IF(F254=\"\",1,0),0)","v":0},null,"M",{"$f":"IF('急性期診療計画(入力用)'!$BE$9=FALSE,IF(急性期データ出力用!K254=0,FALSE,IF(急性期データ出力用!K254<'急性期診療計画(入力用)'!$BD$1,TRUE,FALSE)))","v":false}]
[null,"担当者",null,{"$f":"'急性期診療計画(入力用)'!$AK$94","v":0},null,{"$f":"IF(D255=0,\"\",D255)","v":""},null,null,null,{"$f":"IF(D252>2,IF(F255=\"\",1,0),0)","v":0},null,"M",{"$f":"IF('急性期診療計画(入力用)'!$BE$9=FALSE,IF(急性期データ出力用!K255=0,FALSE,IF(急性期データ出力用!K255<'急性期診療計画(入力用)'!$BD$1,TRUE,FALSE)))","v":false}]
["退院後の本人・家族の希望",null,null,{"$f":"'急性期診療計画(入力用)'!$O$95","v":0},null,{"$f":"IF(D256=0,\"\",D256)","v":""},null,null,null,{"$f":"IF(D252>1,IF(F256=\"\",1,0),0)","v":0},null,"M",{"$f":"IF('急性期診療計画(入力用)'!$BE$9=FALSE,IF(急性期データ出力用!K256=0,FALSE,IF(急性期データ出力用!K256<'急性期診療計画(入力用)'!$BD$1,TRUE,FALSE)))","v":false}]
["家族状況","介護者",null,0,"1:無 2:有",{"$f":"IF(D257<>\"\",LOOKUP(D257,{0,1,2},{\"\",\"無\",\"有\"}),\"\")","v":""},null,null,null,{"$f":"IF(F257=\"\",1,0)","v":1},null,"M",{"$f":"IF('急性期診療計画(入力用)'!$BE$9=FALSE,IF(急性期データ出力用!K257=0,FALSE,IF(急性期データ出力用!K257<'急性期診療計画(入力用)'!$BD$1,TRUE,FALSE)))","v":false},0]
[null,"テキスト",null,{"$f":"'急性期診療計画(入力用)'!$T$97","v":0},null,{"$f":"IF(D258=0,\"\",D258)","v":""},null,null,null,{"$f":"IF(D257>1,IF(F258=\"\",1,0),0)","v":0},null,"M",{"$f":"IF('急性期診療計画(入力用)'!$BE$9=FALSE,IF(急性期データ出力用!K258=0,FALSE,IF(急性期データ出力用!K258<'急性期診療計画(入力用)'!$BD$1,TRUE,FALSE)))","v":false}]
[null,"介護力",null,0,null,{"$f":"IF(D259<>\"\",LOOKUP(D259,{0,1,2,3},{\"\",\"常時可\",\"夜間のみ可\",\"不可\"}),\"\")","v":""},null,null,null,{"$f":"IF(F259=\"\",1,0)","v":1},null,"M",{"$f":"IF('急性期診療計画(入力用)'!$BE$9=FALSE,IF(急性期データ出力用!K259=0,FALSE,IF(急性期データ出力用!K259<'急性期診療計画(入力用)'!$BD$1,TRUE,FALSE)))","v":false}]
[null,"キーパーソン","氏名",{"$f":"'急性期診療計画(入力用)'!$S$98","v":0},null,{"$f":"IF(D260=0,\"\",D260)","v":""},null,null,null,{"$f":"IF(F260=\"\",1,0)","v":1},null,"M",{"$f":"IF('急性期診療計画(入力用)'!$BE$9=FALSE,IF(急性期データ出力用!K260=0,FALSE,IF(急性期データ出力用!K260<'急性期診療計画(入力用)'!$BD$1,TRUE,FALSE)))","v":false}]
[null,null,"本人との関係",{"$f":"'急性期診療計画(入力用)'!$AJ$98","v":0},null,"",null,null,null,{"$f":"IF(F261=\"\",1,0)","v":1},null,"M",{"$f":"IF('急性期診療計画(入力用)'!$BE$9=FALSE,IF(急性期データ出力用!K261=0,FALSE,IF(急性期データ出力用!K261<'急性期診療計画(入力用)'!$BD$1,TRUE,FALSE)))","v":false}]
["特記事項",null,null,1,"1:無 2:有",{"$f":"IF(D262<>\"\",LOOKUP(D262,{0,1,2},{\"\",\"無\",\"有\"}),\"\")","v":"無"},null,null,null,{"$f":"IF(F262=\"\",1,0)","v":0},"2015-02-06T19:12:59","F",{"$f":"IF('急性期診療計画(入力用)'!$BE$11=FALSE,IF(急性期データ出力用!K262=0,FALSE,IF(急性期データ出力用!K262<'急性期診療計画(入力用)'!$BD$1,TRUE,FALSE)))","v":true},1]
[null,null,null,{"$f":"'急性期診療計画(入力用)'!$A$100","v":0},null,{"$f":"IF(D263=0,\"\",D263)","v":""},null,null,null,{"$f":"IF(D262>1,IF(F263=\"\",1,0),0)","v":0},null,"F",{"$f":"IF('急性期診療計画(入力用)'!$BE$11=FALSE,IF(急性期データ出力用!K263=0,FALSE,IF(急性期データ出力用!K263<'急性期診療計画(入力用)'!$BD$1,TRUE,FALSE)))","v":false}]
[null,"記入者"]
["最終確認年月日",null,null,null,null,{"$f":"IF(D265<>0,D265,\"\")","v":""}]
[null,"担当者",null,null,null,""]
["退院時FIM",null,null,null,null,null,null,null,null,{"$f":"'急性期診療計画(入力用)'!CG19","v":18}]
["退院時BI",null,null,null,null,null,null,null,null,{"$f":"'急性期診療計画(入力用)'!CG20","v":10}]
["目標","入院時","診断の確定・治療の開始",false,null,{"$f":"IF(D269=TRUE,C269,\"\")","v":""},null,null,{"$f":"IF(D269=FALSE,IF(D270=FALSE,1,0),0)","v":1},null,null,"D",{"$f":"IF('急性期診療計画(入力用)'!$BE$3=FALSE,IF(急性期データ出力用!K269=0,FALSE,IF(急性期データ出力用!K269<'急性期診療計画(入力用)'!$BD$1,TRUE,FALSE)))","v":false},false]
[null,null,"その他",false,null,null,null,{"$f":"IF(H271<>\"\", MID(H271,2,200),\"\")","v":""},null,null,null,"D",{"$f":"IF('急性期診療計画(入力用)'!$BE$3=FALSE,IF(急性期データ出力用!K270=0,FALSE,IF(急性期データ出力用!K270<'急性期診療計画(入力用)'!$BD$1,TRUE,FALSE)))","v":false},false]
[null,null,"その他テキスト",{"$f":"'急性期診療計画(入力用)'!U14","v":0},null,{"$f":"IF(D270=TRUE,IF(D271=0,\"\", \"その他（\" & D271 & \"）\"),\"\")","v":""},"計算用",{"$f":"IF(F269<>\"\",\"，\"&F269,\"\")&IF(D270=TRUE,\"，\"&F271,\"\")","v":""},{"$f":"IF(D270=TRUE,IF(F271=\"\",1,0),0)","v":0},null,null,"D",{"$f":"IF('急性期診療計画(入力用)'!$BE$3=FALSE,IF(急性期データ出力用!K271=0,FALSE,IF(急性期データ出力用!K271<'急性期診療計画(入力用)'!$BD$1,TRUE,FALSE)))","v":false}]
[null,"退院時","内科一般状態の安定",false,null,{"$f":"IF(D272=TRUE,C272,\"\")","v":""},null,null,null,{"$f":"IF(D272=FALSE,IF(D273=FALSE,1,0),0)","v":1},null,"D",{"$f":"IF('急性期診療計画(入力用)'!$BE$3=FALSE,IF(急性期データ出力用!K272=0,FALSE,IF(急性期データ出力用!K272<'急性期診療計画(入力用)'!$BD$1,TRUE,FALSE)))","v":false},false]
[null,null,"その他",false,null,null,"計算用",{"$f":"IF(H274<>\"\", MID(H274,2,200),\"\")","v":""},null,null,null,"D",{"$f":"IF('急性期診療計画(入力用)'!$BE$3=FALSE,IF(急性期データ出力用!K273=0,FALSE,IF(急性期データ出力用!K273<'急性期診療計画(入力用)'!$BD$1,TRUE,FALSE)))","v":false},false]
[null,null,"その他テキスト",{"$f":"'急性期診療計画(入力用)'!AT14","v":0},null,{"$f":"IF(D273=TRUE,IF(D274=0,\"\", \"その他（\" & D274 & \"）\"),\"\")","v":""},null,{"$f":"IF(F272<>\"\",\"，\"&F272,\"\")&IF(D273=TRUE,\"，\"&F274,\"\")","v":""},null,{"$f":"IF(D273=TRUE,IF(F274=\"\",1,0),0)","v":0},null,"D",{"$f":"IF('急性期診療計画(入力用)'!$BE$3=FALSE,IF(急性期データ出力用!K274=0,FALSE,IF(急性期データ出力用!K274<'急性期診療計画(入力用)'!$BD$1,TRUE,FALSE)))","v":false}]
["リハビリ","理学療法",null,{"$f":"'急性期診療計画(入力用)'!I71","v":0},null,{"$f":"IF(D275<>0,D275,\"\")","v":""},null,null,null,{"$f":"IF(D223=TRUE,IF(F275=\"\",1,0),0)","v":0},null,"S",{"$f":"IF('急性期診療計画(入力用)'!$BE$7=FALSE,IF(急性期データ出力用!K275=0,FALSE,IF(急性期データ出力用!K275<'急性期診療計画(入力用)'!$BD$1,TRUE,FALSE)))","v":false}]
[null,"作業療法",null,{"$f":"'急性期診療計画(入力用)'!I72","v":0},null,{"$f":"IF(D276<>0,D276,\"\")","v":""},null,{"$f":"IF(F275=\"\",F276,F275& IF(F276<>\"\",CHAR(10),\"\") & F276)","v":""},null,{"$f":"IF(D224=TRUE,IF(F276=\"\",1,0),0)","v":0},null,"S",{"$f":"IF('急性期診療計画(入力用)'!$BE$7=FALSE,IF(急性期データ出力用!K276=0,FALSE,IF(急性期データ出力用!K276<'急性期診療計画(入力用)'!$BD$1,TRUE,FALSE)))","v":false}]
[null,"言語療法",null,{"$f":"'急性期診療計画(入力用)'!I73","v":0},null,{"$f":"IF(D277<>0,D277,\"\")","v":""},null,{"$f":"IF(H276=\"\",F277,H276& IF(F277<>\"\",CHAR(10),\"\") & F277)","v":""},null,{"$f":"IF(D225=TRUE,IF(F277=\"\",1,0),0)","v":0},null,"S",{"$f":"IF('急性期診療計画(入力用)'!$BE$7=FALSE,IF(急性期データ出力用!K277=0,FALSE,IF(急性期データ出力用!K277<'急性期診療計画(入力用)'!$BD$1,TRUE,FALSE)))","v":false}]
[null,"ＰＴ：",null,{"$f":"'急性期診療計画(入力用)'!N74","v":0},null,{"$f":"IF(D278<>0,B278 &D278,\"\")","v":""},null,null,null,{"$f":"IF(D223=TRUE,IF(F278=\"\",1,0),0)","v":0},null,"S",{"$f":"IF('急性期診療計画(入力用)'!$BE$7=FALSE,IF(急性期データ出力用!K278=0,FALSE,IF(急性期データ出力用!K278<'急性期診療計画(入力用)'!$BD$1,TRUE,FALSE)))","v":false}]
[null,"ＯＴ：",null,{"$f":"'急性期診療計画(入力用)'!X74","v":0},null,{"$f":"IF(D279<>0,B279 &D279,\"\")","v":""},null,null,null,{"$f":"IF(D224=TRUE,IF(F279=\"\",1,0),0)","v":0},null,"S",{"$f":"IF('急性期診療計画(入力用)'!$BE$7=FALSE,IF(急性期データ出力用!K279=0,FALSE,IF(急性期データ出力用!K279<'急性期診療計画(入力用)'!$BD$1,TRUE,FALSE)))","v":false}]
[null,"ＳＴ：",null,{"$f":"'急性期診療計画(入力用)'!AH74","v":0},null,{"$f":"IF(D280<>0,B280 &D280,\"\")","v":""},null,{"$f":" TRIM(F278& \"　\" & F279&\"　\" & F280)","v":""},null,{"$f":"IF(D225=TRUE,IF(F280=\"\",1,0),0)","v":0},null,"S",{"$f":"IF('急性期診療計画(入力用)'!$BE$7=FALSE,IF(急性期データ出力用!K280=0,FALSE,IF(急性期データ出力用!K280<'急性期診療計画(入力用)'!$BD$1,TRUE,FALSE)))","v":false}]
["入院時","排便","トイレ",false,null,{"$f":"IF(D281=TRUE,C281,\"\")","v":""},null,null,null,null,null,"N",{"$f":"IF('急性期診療計画(入力用)'!$BE$5=FALSE,IF(急性期データ出力用!K281=0,FALSE,IF(急性期データ出力用!K281<'急性期診療計画(入力用)'!$BD$1,TRUE,FALSE)))","v":false},false]
[null,null,"ポータブル",false,null,"",null,{"$f":"IF(H283<>\"\", MID(H283,2,200),\"\")","v":""},null,null,null,null,null,false]
[null,null,"おむつ",false,null,"",null,{"$f":" IF(F281<>\"\",\"，\" & F281,\"\") & IF(F282<>\"\",\"，\" & F282,\"\") & IF(F283<>\"\",\"，\" & F283,\"\")","v":""},null,null,null,null,null,false]
[null,"排尿","トイレ",false,null,"",null,null,null,null,null,"N",{"$f":"IF('急性期診療計画(入力用)'!$BE$5=FALSE,IF(急性期データ出力用!K284=0,FALSE,IF(急性期データ出力用!K284<'急性期診療計画(入力用)'!$BD$1,TRUE,FALSE)))","v":false},false]
[null,null,"ポータブル",false,null,"",null,null,null,null,null,null,null,false]
[null,null,"尿器",false,null,"",null,null,null,null,null,null,null,false]
[null,null,"おむつ",false,null,"",null,{"$f":"IF(H288<>\"\", MID(H288,2,200),\"\")","v":""},null,null,null,null,null,false]
[null,null,"バルン",false,null,"",null,{"$f":"  IF(F284<>\"\",\"，\" & F284,\"\") & IF(F285<>\"\",\"，\" & F285,\"\") & IF(F286<>\"\",\"，\" & F286,\"\") & IF(F287<>\"\",\"，\" & F287,\"\") & IF(F288<>\"\",\"，\" & F288,\"\")","v":""},null,null,null,null,null,false]
["退院時","排便","トイレ",false,null,"",null,null,null,null,null,"N",{"$f":"IF('急性期診療計画(入力用)'!$BE$5=FALSE,IF(急性期データ出力用!K289=0,FALSE,IF(急性期データ出力用!K289<'急性期診療計画(入力用)'!$BD$1,TRUE,FALSE)))","v":false},false]
[null,null,"ポータブル",false,null,"",null,{"$f":"IF(H291<>\"\", MID(H291,2,200),\"\")","v":""},null,null,null,null,null,false]
[null,null,"おむつ",false,null,"",null,{"$f":" IF(F289<>\"\",\"，\" & F289,\"\") & IF(F290<>\"\",\"，\" & F290,\"\") & IF(F291<>\"\",\"，\" & F291,\"\")","v":""},null,null,null,null,null,false]
[null,"排尿","トイレ",false,null,"",null,null,null,null,null,"N",{"$f":"IF('急性期診療計画(入力用)'!$BE$5=FALSE,IF(急性期データ出力用!K292=0,FALSE,IF(急性期データ出力用!K292<'急性期診療計画(入力用)'!$BD$1,TRUE,FALSE)))","v":false},false]
[null,null,"ポータブル",false,null,"",null,null,null,null,null,null,null,false]
[null,null,"尿器",false,null,"",null,null,null,null,null,null,null,false]
[null,null,"おむつ",false,null,"",null,{"$f":"IF(H296<>\"\", MID(H296,2,200),\"\")","v":""},null,null,null,null,null,false]
[null,null,"バルン",false,null,"",null,{"$f":"  IF(F292<>\"\",\"，\" & F292,\"\") & IF(F293<>\"\",\"，\" & F293,\"\") & IF(F294<>\"\",\"，\" & F294,\"\") & IF(F295<>\"\",\"，\" & F295,\"\") & IF(F296<>\"\",\"，\" & F296,\"\")","v":""},null,null,null,null,null,false]
["治療","自由記載欄",null,{"$f":"'急性期診療計画(入力用)'!I56","v":0},null,null,null,null,null,null,null,"D",{"$f":"IF('急性期診療計画(入力用)'!$BE$3=FALSE,IF(急性期データ出力用!K297=0,FALSE,IF(急性期データ出力用!K297<'急性期診療計画(入力用)'!$BD$1,TRUE,FALSE)))","v":false}]
[null,"最終手術日",null,{"$f":"'急性期診療計画(入力用)'!AC59","v":"00:00:00"},null,null,null,null,null,null,null,"D",{"$f":"IF('急性期診療計画(入力用)'!$BE$3=FALSE,IF(急性期データ出力用!K298=0,FALSE,IF(急性期データ出力用!K298<'急性期診療計画(入力用)'!$BD$1,TRUE,FALSE)))","v":false}]
["日常生活","記入者",null,{"$f":"'急性期診療計画(入力用)'!AV44","v":0},null,{"$f":"IF(D299=0,\"\",D299)","v":""},null,null,null,{"$f":"IF(F299=\"\",1,0)","v":1},null,"N",{"$f":"IF('急性期診療計画(入力用)'!$BE$5=FALSE,IF(急性期データ出力用!K299=0,FALSE,IF(急性期データ出力用!K299<'急性期診療計画(入力用)'!$BD$1,TRUE,FALSE)))","v":false}]
["急性期入力完了日",null,null,null,null,{"$f":"IF(D300=0,\"\",D300)","v":""},null,null,{"$f":"SUM(I3:I296)","v":34},{"$f":"SUM(J3:J234)+J299","v":86}]

{"sheet":"回復期データ出力用","index":13,"n_rows":240,"n_cols":29,"rows_kept":240,"cut":false,"hidden":true,"merged":[[1,0,1,2],[1,6,1,7]]}
["データ出力用",null,null,null,null,null,null,null,"入力済み:0 未:1"]
["項目名",null,null,"値","備考","印刷文字","計算用",null,"入院","3ヶ月","退院","入力日時","入力担当","ﾁｪｯｸ有","前回入力"]
["回復期病院名",null,null,{"$f":"IF('回復期診療計画(入力用)'!Y2=\"\",\"\",'回復期診療計画(入力用)'!Y2)","v":""},null,{"$f":"D3","v":""},null,null,null,null,{"$f":"IF(F3=\"\",1,0)","v":1},null,"N",{"$f":"IF('回復期診療計画(入力用)'!$BE$5=FALSE,IF(回復期データ出力用!L3=0,FALSE,IF(回復期データ出力用!L3<'回復期診療計画(入力用)'!$BD$1,TRUE,FALSE)))","v":false}]
["急性期病院名",null,null,{"$f":"IF('回復期診療計画(入力用)'!AN2=\"\",\"\",'回復期診療計画(入力用)'!AN2)","v":""},null,{"$f":"D4","v":""},null,null,null,null,{"$f":"IF(F4=\"\",1,0)","v":1},null,"N",{"$f":"IF('回復期診療計画(入力用)'!$BE$5=FALSE,IF(回復期データ出力用!L4=0,FALSE,IF(回復期データ出力用!L4<'回復期診療計画(入力用)'!$BD$1,TRUE,FALSE)))","v":false}]
["氏名",null,null,{"$f":"'回復期診療計画(入力用)'!D3","v":0},null,{"$f":"IF(D5<>0,D5,\"\")","v":""},null,null,null,null,1,null,"N",{"$f":"IF('回復期診療計画(入力用)'!$BE$5=FALSE,IF(回復期データ出力用!L5=0,FALSE,IF(回復期データ出力用!L5<'回復期診療計画(入力用)'!$BD$1,TRUE,FALSE)))","v":false}]
["性別",null,null,0,"1:男　2:女",{"$f":"IF(D6=1,\"男\",IF(D6=2,\"女\",\"\"))","v":""},null,null,null,null,1,null,"N",{"$f":"IF('回復期診療計画(入力用)'!$BE$5=FALSE,IF(回復期データ出力用!L6=0,FALSE,IF(回復期データ出力用!L6<'回復期診療計画(入力用)'!$BD$1,TRUE,FALSE)))","v":false},0]
["生年月日","年号",null,0,"1:明治 2:大正 3:昭和 4:平成",{"$f":"IF(D7<>\"\",LOOKUP(D7,{0,1,2,3,4},{\"\",\"明治\",\"大正\",\"昭和\",\"平成\"}),\"\")","v":""},null,null,null,null,null,null,"N",{"$f":"IF('回復期診療計画(入力用)'!$BE$5=FALSE,IF(回復期データ出力用!L7=0,FALSE,IF(回復期データ出力用!L7<'回復期診療計画(入力用)'!$BD$1,TRUE,FALSE)))","v":false},0]
[null,"和暦年",null,{"$f":"'回復期診療計画(入力用)'!AJ3","v":"　年"},null,{"$f":"D8","v":"　年"}]
[null,"月日",null,{"$f":"'回復期診療計画(入力用)'!AL3","v":"月日"}]
[null,"和暦",null,{"$f":"F7 & F8 & TEXT(D9,\"mm月dd日\")","v":"　年月日"},null,{"$f":"D10","v":"　年月日"}]
[null,"西暦",null,{"$f":"IF(ISERROR('回復期診療計画(入力用)'!BI13),\"\",'回復期診療計画(入力用)'!BI13)","v":""},null,{"$f":"IF(D11>0,D11,\"\")","v":""},null,null,null,null,{"$f":"IF(F11=\"\",1,0)","v":1},null,"N",{"$f":"IF('回復期診療計画(入力用)'!$BE$5=FALSE,IF(回復期データ出力用!L11=0,FALSE,IF(回復期データ出力用!L11<'回復期診療計画(入力用)'!$BD$1,TRUE,FALSE)))","v":false}]
["年齢",null,null,{"$f":"IF(ISERROR('回復期診療計画(入力用)'!BI15),\"\",'回復期診療計画(入力用)'!BI15)","v":""},null,{"$f":"D12","v":""},null,null,null,null,1,null,"N",{"$f":"IF('回復期診療計画(入力用)'!$BE$5=FALSE,IF(回復期データ出力用!L12=0,FALSE,IF(回復期データ出力用!L12<'回復期診療計画(入力用)'!$BD$1,TRUE,FALSE)))","v":false}]
["住所",null,null,{"$f":"IF('回復期診療計画(入力用)'!D4=\"\",\"\",'回復期診療計画(入力用)'!D4)","v":""},null,{"$f":"D13","v":""},null,null,null,null,1,null,"N",{"$f":"IF('回復期診療計画(入力用)'!$BE$5=FALSE,IF(回復期データ出力用!L13=0,FALSE,IF(回復期データ出力用!L13<'回復期診療計画(入力用)'!$BD$1,TRUE,FALSE)))","v":false}]
["電話番号",null,null,0,null,{"$f":"D14","v":0},null,null,null,null,0,null,"N",{"$f":"IF('回復期診療計画(入力用)'!$BE$5=FALSE,IF(回復期データ出力用!L14=0,FALSE,IF(回復期データ出力用!L14<'回復期診療計画(入力用)'!$BD$1,TRUE,FALSE)))","v":false}]
["利き腕",null,null,0,"1:右 2:左 3:両",{"$f":"IF(D15<>\"\",LOOKUP(D15,{0,1,2,3},{\"\",\"右\",\"左\",\"両\"}),\"\")","v":""},null,null,null,null,{"$f":"IF(F15=\"\",1,0)","v":1},null,"N",{"$f":"IF('回復期診療計画(入力用)'!$BE$5=FALSE,IF(回復期データ出力用!L15=0,FALSE,IF(回復期データ出力用!L15<'回復期診療計画(入力用)'!$BD$1,TRUE,FALSE)))","v":false},0]
["身長",null,null,{"$f":"IF('回復期診療計画(入力用)'!AS4=\"\",\"\",'回復期診療計画(入力用)'!AS4)","v":""},null,{"$f":"D16","v":""},null,null,null,null,1,null,"N",{"$f":"IF('回復期診療計画(入力用)'!$BE$5=FALSE,IF(回復期データ出力用!L16=0,FALSE,IF(回復期データ出力用!L16<'回復期診療計画(入力用)'!$BD$1,TRUE,FALSE)))","v":false}]
["体重",null,null,{"$f":"'回復期診療計画(入力用)'!AY4","v":0},null,{"$f":"D17","v":0},null,null,null,null,0,null,"N",{"$f":"IF('回復期診療計画(入力用)'!$BE$5=FALSE,IF(回復期データ出力用!L17=0,FALSE,IF(回復期データ出力用!L17<'回復期診療計画(入力用)'!$BD$1,TRUE,FALSE)))","v":false}]
["診断名","脳梗塞",null,false,null,{"$f":"IF(D18=TRUE,B18,\"\") & IF(H25<>\"\",\"(\" & MID(H25,2,200) & \")\",\"\")","v":""},null,null,null,null,{"$f":"IF(F18=\"\",IF(F26=\"\",IF(F35=\"\",IF(F40=\"\",1,0),0),0),0)","v":1},null,"D",{"$f":"IF('回復期診療計画(入力用)'!$BE$3=FALSE,IF(回復期データ出力用!L18=0,FALSE,IF(回復期データ出力用!L18<'回復期診療計画(入力用)'!$BD$1,TRUE,FALSE)))","v":false}]
[null,null,"心原性",false,null,{"$f":"IF(D19=TRUE,C19,\"\")","v":""},null,null,null,null,null,null,null,null,false]
[null,null,"アテローム血栓性",false,null,"",null,null,null,null,null,null,null,null,false]
[null,null,"BAD",false,null,"",null,null,null,null,null,null,null,null,false]
[null,null,"ラクナ",false,null,"",null,null,null,null,null,null,null,null,false]
[null,null,"奇異性",false,null,"",null,null,null,null,null,null,null,null,false]
[null,null,"もやもや病",false,null,"",null,null,null,null,null,null,null,null,false]
[null,null,"その他",false,null,"","計算用",{"$f":"IF(F19<>\"\",\"，\" & F19,\"\") & IF(F20<>\"\",\"，\" & F20,\"\")  & IF(F21<>\"\",\"，\" & F21,\"\") & IF(F22<>\"\",\"，\" & F22,\"\") & IF(F23<>\"\",\"，\" & F23,\"\") & IF(F24<>\"\",\"，\" & F24,\"\") & IF(F25<>\"\",\"，\" & F25,\"\")","v":""},null,null,null,null,null,null,false]
[null,"脳出血",null,false,null,{"$f":"IF(D26=TRUE,B26,\"\") & IF(H34<>\"\",\"(\" & MID(H34,2,200) & \")\",\"\")","v":""},null,null,null,null,null,null,"D",{"$f":"IF('回復期診療計画(入力用)'!$BE$3=FALSE,IF(回復期データ出力用!L26=0,FALSE,IF(回復期データ出力用!L26<'回復期診療計画(入力用)'!$BD$1,TRUE,FALSE)))","v":false}]
[null,null,"被殻",false,null,{"$f":"IF(D27=TRUE,C27,\"\")","v":""},null,null,null,null,null,null,null,null,false]
[null,null,"視床",false,null,"",null,null,null,null,null,null,null,null,false]
[null,null,"小脳",false,null,"",null,null,null,null,null,null,null,null,false]
[null,null,"皮質下",false,null,"",null,null,null,null,null,null,null,null,false]
[null,null,"脳室内",false,null,"",null,null,null,null,null,null,null,null,false]
[null,null,"もやもや病",false,null,"",null,null,null,null,null,null,null,null,false,null,null,null,null,null,null,null,null,null,null,null,null,null,0]
[null,null,"AVM",false,null,"",null,null,null,null,null,null,null,null,false]
[null,null,"その他",false,null,"","計算用",{"$f":"IF(F27<>\"\",\"，\" & F27,\"\") &  IF(F28<>\"\",\"，\" & F28,\"\") & IF(F29<>\"\",\"，\" & F29,\"\")  & IF(F30<>\"\",\"，\" & F30,\"\") & IF(F31<>\"\",\"，\" & F31,\"\") & IF(F32<>\"\",\"，\" & F32,\"\") & IF(F33<>\"\",\"，\" & F33,\"\") & IF(F34<>\"\",\"，\" & F34,\"\")","v":""},null,null,null,null,null,null,false]
[null,"くも膜下出血　",null,false,null,{"$f":"IF(D35=TRUE,B35,\"\") & IF(H39<>\"\",\"(\" & MID(H39,2,200) & \")\",\"\")","v":""},null,null,null,null,null,null,"D",{"$f":"IF('回復期診療計画(入力用)'!$BE$3=FALSE,IF(回復期データ出力用!L35=0,FALSE,IF(回復期データ出力用!L35<'回復期診療計画(入力用)'!$BD$1,TRUE,FALSE)))","v":false}]
[null,null,"嚢状動脈瘤破裂",false,null,{"$f":"IF(D36=TRUE,C36,\"\")","v":""},null,null,null,null,null,null,null,null,false]
[null,null,"動脈解離",false,null,{"$f":"IF(D37=TRUE,C37,\"\")","v":""},null,null,null,null,null,null,null,null,false]
[null,null,"その他",false,null,{"$f":"IF(D38=TRUE,C38,\"\")","v":""},null,null,null,null,null,null,null,null,false]
[null,null,"不明",false,null,{"$f":"IF(D39=TRUE,C39,\"\")","v":""},"計算用",{"$f":"  IF(F36<>\"\",\"，\" & F36,\"\") & IF(F37<>\"\",\"，\" & F37,\"\") & IF(F38<>\"\",\"，\" & F38,\"\") & IF(F39<>\"\",\"，\" & F39,\"\")","v":""},null,null,null,null,null,null,false]
[null,"その他",null,false,null,{"$f":"IF(D40=TRUE,B40,\"\") & IF(F41<>\"\",\"(\" & F41 & \")\",\"\")","v":""},null,null,null,null,null,null,"D",{"$f":"IF('回復期診療計画(入力用)'!$BE$3=FALSE,IF(回復期データ出力用!L40=0,FALSE,IF(回復期データ出力用!L40<'回復期診療計画(入力用)'!$BD$1,TRUE,FALSE)))","v":false},true]
[null,null,null,{"$f":"'回復期診療計画(入力用)'!I8","v":0},null,{"$f":"IF(D41<>0,D41,\"\")","v":""},null,null,null,null,{"$f":"IF(D40=TRUE,IF(F41=\"\",1,0),0)","v":0},null,"D",{"$f":"IF('回復期診療計画(入力用)'!$BE$3=FALSE,IF(回復期データ出力用!L41=0,FALSE,IF(回復期データ出力用!L41<'回復期診療計画(入力用)'!$BD$1,TRUE,FALSE)))","v":false}]
["発症日",null,null,{"$f":"'回復期診療計画(入力用)'!H9","v":"00:00:00"},null,{"$f":"IF(D42<>0,D42,\"\")","v":""},null,null,null,null,{"$f":"IF(F42=\"\",1,0)","v":1},null,"D",{"$f":"IF('回復期診療計画(入力用)'!$BE$3=FALSE,IF(回復期データ出力用!L42=0,FALSE,IF(回復期データ出力用!L42<'回復期診療計画(入力用)'!$BD$1,TRUE,FALSE)))","v":false}]
["部位",null,null,0,"1:右　2:左　3:両側　4:その他",{"$f":"IF(D43<>\"\",LOOKUP(D43,{0,1,2,3,4},{\"\",\"右\",\"左\",\"両側\",\"その他\"}),\"\")","v":""},null,null,null,null,{"$f":"IF(F43=\"\",1,0)","v":1},null,"D",{"$f":"IF('回復期診療計画(入力用)'!$BE$3=FALSE,IF(回復期データ出力用!L43=0,FALSE,IF(回復期データ出力用!L43<'回復期診療計画(入力用)'!$BD$1,TRUE,FALSE)))","v":false},0]
["既往",null,null,0,"1:初発　2:再発",{"$f":"IF(D44<>\"\",LOOKUP(D44,{0,1,2},{\"\",\"初発\",\"再発\"}),\"\")","v":""},null,null,null,null,{"$f":"IF(F44=\"\",1,0)","v":1},null,"D",{"$f":"IF('回復期診療計画(入力用)'!$BE$3=FALSE,IF(回復期データ出力用!L44=0,FALSE,IF(回復期データ出力用!L44<'回復期診療計画(入力用)'!$BD$1,TRUE,FALSE)))","v":false},0]
["脳卒中危険因子","高血圧",null,false,null,{"$f":"IF(D45=TRUE,B45,\"\")","v":""},null,null,null,null,null,null,"D",{"$f":"IF('回復期診療計画(入力用)'!$BE$3=FALSE,IF(回復期データ出力用!L45=0,FALSE,IF(回復期データ出力用!L45<'回復期診療計画(入力用)'!$BD$1,TRUE,FALSE)))","v":false},false]
[null,"心房細動",null,false,null,"",null,null,null,null,null,null,null,null,false]
[null,"高コレステロール血症",null,false,null,"",null,null,null,null,null,null,null,null,false]
[null,"高TG血症",null,false,null,"",null,null,null,null,null,null,null,null,false]
[null,"高LDL血症",null,false,null,{"$f":"IF(D49=TRUE,B49,\"\")","v":""},null,null,null,null,null,null,null,null,false]
[null,"糖尿病",null,false,null,"",null,null,null,null,null,null,null,null,false]
[null,"卵円孔開存",null,false,null,"",null,{"$f":"IF(H52<>\"\", MID(H52,2,200),\"\")","v":""},null,null,null,null,null,null,false]
[null,"なし",null,false,null,"","計算用",{"$f":"IF(F45<>\"\",\"，\" & F45,\"\")  & IF(F46<>\"\",\"，\" & F46,\"\")  & IF(F47<>\"\",\"，\" & F47,\"\") & IF(F48<>\"\",\"，\" & F48,\"\") & IF(F49<>\"\",\"，\" & F49,\"\") & IF(F50<>\"\",\"，\" & F50,\"\") & IF(F51<>\"\",\"，\" & F51,\"\") & IF(F52<>\"\",\"，\" & F52,\"\")","v":""},null,null,{"$f":"IF(H52=\"\",1,0)","v":1},null,null,null,false]
["酒",null,null,0,"1:なし 2:機会飲酒 3:あり",{"$f":"IF(D53<>\"\",LOOKUP(D53,{0,1,2,3},{\"\",\"なし\",\"機会飲酒\",\"あり\"}),\"\")","v":""},null,null,null,null,{"$f":"IF(F53=\"\",1,0)","v":1},null,"D",{"$f":"IF('回復期診療計画(入力用)'!$BE$3=FALSE,IF(回復期データ出力用!L53=0,FALSE,IF(回復期データ出力用!L53<'回復期診療計画(入力用)'!$BD$1,TRUE,FALSE)))","v":false},0]
["たばこ",null,null,0,"1:なし 2:過去にあり 3:あり",{"$f":"IF(D54<>\"\",LOOKUP(D54,{0,1,2,3},{\"\",\"なし\",\"過去にあり\",\"あり\"}),\"\")","v":""},null,null,null,null,{"$f":"IF(F54=\"\",1,0)","v":1},null,"D",{"$f":"IF('回復期診療計画(入力用)'!$BE$3=FALSE,IF(回復期データ出力用!L54=0,FALSE,IF(回復期データ出力用!L54<'回復期診療計画(入力用)'!$BD$1,TRUE,FALSE)))","v":false},0]
["入院時","日付",null,{"$f":"'回復期診療計画(入力用)'!$H$13","v":"00:00:00"},null,{"$f":"IF(D55<>0,D55,\"\")","v":""},null,null,{"$f":"IF(F55=\"\",1,0)","v":1},null,null,null,"D",{"$f":"IF('回復期診療計画(入力用)'!$BE$3=FALSE,IF(回復期データ出力用!L55=0,FALSE,IF(回復期データ出力用!L55<'回復期診療計画(入力用)'!$BD$1,TRUE,FALSE)))","v":false}]
[null,"MMT",null,{"$f":"'回復期診療計画(入力用)'!E16","v":"右上肢（   ）　　左上肢（   ）　　右下肢（   ）　　左下肢（   ）"},null,{"$f":"D56","v":"右上肢（   ）　　左上肢（   ）　　右下肢（   ）　　左下肢（   ）"},null,null,{"$f":"'回復期診療計画(入力用)'!CK15","v":4},null,null,null,"D",{"$f":"IF('回復期診療計画(入力用)'!$BE$3=FALSE,IF(回復期データ出力用!L56=0,FALSE,IF(回復期データ出力用!L56<'回復期診療計画(入力用)'!$BD$1,TRUE,FALSE)))","v":false},"右上肢（   ）　　左上肢（   ）　　右下肢（   ）　　左下肢（   ）"]
[null,"FIM",null,{"$f":"'回復期診療計画(入力用)'!E17","v":"0/126\n（運動項目：0　認知項目：0）"},null,"0/126\n（運動項目：0　認知項目：0）",null,null,{"$f":"'回復期診療計画(入力用)'!CG17","v":18},null,null,null,null,null,null,"brstage"]
[null,"BI",null,{"$f":"'回復期診療計画(入力用)'!E18","v":0},null,0,null,null,{"$f":"'回復期診療計画(入力用)'!CG18","v":10},null,null,null,null,null,null,"入院",null,"３ヶ月",null,"退院"]
[null,"BrStage",null,{"$f":"'回復期診療計画(入力用)'!H19","v":"右上肢( 　 )　－手指( 　 )　－下肢( 　 )\n左上肢( 　 )　－手指( 　 )　－下肢( 　 ）"},null,"右上肢( 　 )　－手指( 　 )　－下肢( 　 )\n左上肢( 　 )　－手指( 　 )　－下肢( 　 ）",null,null,{"$f":"'回復期診療計画(入力用)'!CM19","v":6},null,null,null,"S",{"$f":"IF('回復期診療計画(入力用)'!$BE$7=FALSE,IF(回復期データ出力用!L59=0,FALSE,IF(回復期データ出力用!L59<'回復期診療計画(入力用)'!$BD$1,TRUE,FALSE)))","v":false},"右上肢( 　 )　－手指( 　 )　－下肢( 　 )\n左上肢( 　 )　－手指( 　 )　－下肢( 　 ）",{"$f":"'回復期診療計画(入力用)'!CG19","v":"　"},{"$f":"IF(P59=\"Ⅵ\",6,IF(P59=\"Ⅴ\",5,IF(P59=\"Ⅳ\",4,IF(P59=\"Ⅲ\",3,IF(P59=\"Ⅱ\",2,IF(P59=\"Ⅰ\",1,IF(P59=\"　\",\"\",\"\")))))))","v":""},{"$f":"'回復期診療計画(入力用)'!CN19","v":"　"},{"$f":"IF(R59=\"Ⅵ\",6,IF(R59=\"Ⅴ\",5,IF(R59=\"Ⅳ\",4,IF(R59=\"Ⅲ\",3,IF(R59=\"Ⅱ\",2,IF(R59=\"Ⅰ\",1,IF(R59=\"　\",\"\",\"\")))))))","v":""},{"$f":"'回復期診療計画(入力用)'!CU19","v":"　"},{"$f":"IF(T59=\"Ⅵ\",6,IF(T59=\"Ⅴ\",5,IF(T59=\"Ⅳ\",4,IF(T59=\"Ⅲ\",3,IF(T59=\"Ⅱ\",2,IF(T59=\"Ⅰ\",1,IF(T59=\"　\",\"\",\"\")))))))","v":""}]
["発症３ヶ月後","日付",null,{"$f":"'回復期診療計画(入力用)'!$U$13","v":"00:00:00"},null,{"$f":"IF(D60<>0,D60,\"\")","v":""},null,null,null,{"$f":"IF(F60=\"\",1,0)","v":1},null,null,"D",{"$f":"IF('回復期診療計画(入力用)'!$BE$3=FALSE,IF(回復期データ出力用!L60=0,FALSE,IF(回復期データ出力用!L60<'回復期診療計画(入力用)'!$BD$1,TRUE,FALSE)))","v":false},null,{"$f":"'回復期診療計画(入力用)'!CH19","v":"　"},{"$f":"IF(P60=\"Ⅵ\",6,IF(P60=\"Ⅴ\",5,IF(P60=\"Ⅳ\",4,IF(P60=\"Ⅲ\",3,IF(P60=\"Ⅱ\",2,IF(P60=\"Ⅰ\",1,IF(P60=\"　\",\"\",\"\")))))))","v":""},{"$f":"'回復期診療計画(入力用)'!CO19","v":"　"},"",{"$f":"'回復期診療計画(入力用)'!CV19","v":"　"},""]
[null,"MMT",null,{"$f":"'回復期診療計画(入力用)'!U16","v":"右上肢（   ）　　左上肢（   ）　　右下肢（   ）　　左下肢（   ）"},null,"右上肢（   ）　　左上肢（   ）　　右下肢（   ）　　左下肢（   ）",null,null,null,{"$f":"'回復期診療計画(入力用)'!CK16","v":4},null,null,"D",{"$f":"IF('回復期診療計画(入力用)'!$BE$3=FALSE,IF(回復期データ出力用!L61=0,FALSE,IF(回復期データ出力用!L61<'回復期診療計画(入力用)'!$BD$1,TRUE,FALSE)))","v":false},"右上肢（   ）　　左上肢（   ）　　右下肢（   ）　　左下肢（   ）",{"$f":"'回復期診療計画(入力用)'!CI19","v":"　"},"",{"$f":"'回復期診療計画(入力用)'!CP19","v":"　"},"",{"$f":"'回復期診療計画(入力用)'!CW19","v":"　"},""]
[null,"FIM",null,{"$f":"'回復期診療計画(入力用)'!U17","v":"0/126\n（運動項目：0　認知項目：0）"},null,"0/126\n（運動項目：0　認知項目：0）",null,null,null,{"$f":"'回復期診療計画(入力用)'!CH17","v":18},null,null,null,null,null,{"$f":"'回復期診療計画(入力用)'!CJ19","v":"　"},"",{"$f":"'回復期診療計画(入力用)'!CQ19","v":"　"},"",{"$f":"'回復期診療計画(入力用)'!CX19","v":"　"},""]
[null,"BI",null,{"$f":"'回復期診療計画(入力用)'!U18","v":0},null,null,null,null,null,{"$f":"'回復期診療計画(入力用)'!CH18","v":10},null,null,null,null,null,{"$f":"'回復期診療計画(入力用)'!CK19","v":"　"},"",{"$f":"'回復期診療計画(入力用)'!CR19","v":"　"},"",{"$f":"'回復期診療計画(入力用)'!CY19","v":"　"},""]
[null,"BrStage",null,{"$f":"'回復期診療計画(入力用)'!X19","v":"右上肢( 　 )　－手指( 　 )　－下肢( 　 )\n左上肢( 　 )　－手指( 　 )　－下肢( 　 ）"},null,"右上肢( 　 )　－手指( 　 )　－下肢( 　 )\n左上肢( 　 )　－手指( 　 )　－下肢( 　 ）",null,null,null,{"$f":"'回復期診療計画(入力用)'!CT19","v":6},null,null,"S",{"$f":"IF('回復期診療計画(入力用)'!$BE$7=FALSE,IF(回復期データ出力用!L64=0,FALSE,IF(回復期データ出力用!L64<'回復期診療計画(入力用)'!$BD$1,TRUE,FALSE)))","v":false},"右上肢( 　 )　－手指( 　 )　－下肢( 　 )\n左上肢( 　 )　－手指( 　 )　－下肢( 　 ）",{"$f":"'回復期診療計画(入力用)'!CL19","v":"　"},"",{"$f":"'回復期診療計画(入力用)'!CS19","v":"　"},"",{"$f":"'回復期診療計画(入力用)'!CZ19","v":"　"},""]
["退院時","日付",null,{"$f":"'回復期診療計画(入力用)'!$AN$13","v":"00:00:00"},null,{"$f":"IF(D65<>0,D65,\"\")","v":""},null,null,null,null,{"$f":"IF(F65=\"\",1,0)","v":1},null,"D",{"$f":"IF('回復期診療計画(入力用)'!$BE$3=FALSE,IF(回復期データ出力用!L65=0,FALSE,IF(回復期データ出力用!L65<'回復期診療計画(入力用)'!$BD$1,TRUE,FALSE)))","v":false}]
[null,"MMT",null,{"$f":"'回復期診療計画(入力用)'!AK16","v":"右上肢（   ）　　左上肢（   ）　　右下肢（   ）　　左下肢（   ）"},null,{"$f":"D66","v":"右上肢（   ）　　左上肢（   ）　　右下肢（   ）　　左下肢（   ）"},null,null,null,null,{"$f":"'回復期診療計画(入力用)'!CP15","v":4},null,"D",{"$f":"IF('回復期診療計画(入力用)'!$BE$3=FALSE,IF(回復期データ出力用!L66=0,FALSE,IF(回復期データ出力用!L66<'回復期診療計画(入力用)'!$BD$1,TRUE,FALSE)))","v":false},"右上肢（   ）　　左上肢（   ）　　右下肢（   ）　　左下肢（   ）"]
[null,"FIM",null,{"$f":"'回復期診療計画(入力用)'!AK17","v":"0/126\n（運動項目：0　認知項目：0）"},null,{"$f":"D67","v":"0/126\n（運動項目：0　認知項目：0）"},null,null,null,null,{"$f":"'回復期診療計画(入力用)'!CI17","v":18}]
[null,"BI",null,{"$f":"'回復期診療計画(入力用)'!AK18","v":0},null,null,null,null,null,null,{"$f":"'回復期診療計画(入力用)'!CI18","v":10}]
[null,"BrStage",null,{"$f":"'回復期診療計画(入力用)'!AN19","v":"右上肢( 　 )　－手指( 　 )　－下肢( 　 )\n左上肢( 　 )　－手指( 　 )　－下肢( 　 ）"},null,{"$f":"D69","v":"右上肢( 　 )　－手指( 　 )　－下肢( 　 )\n左上肢( 　 )　－手指( 　 )　－下肢( 　 ）"},null,null,null,null,{"$f":"'回復期診療計画(入力用)'!DA19","v":6},null,"S",{"$f":"IF('回復期診療計画(入力用)'!$BE$7=FALSE,IF(回復期データ出力用!L69=0,FALSE,IF(回復期データ出力用!L69<'回復期診療計画(入力用)'!$BD$1,TRUE,FALSE)))","v":false},"右上肢( 　 )　－手指( 　 )　－下肢( 　 )\n左上肢( 　 )　－手指( 　 )　－下肢( 　 ）"]
["日常生活機能","床上安静の指示",null,0,null,{"$f":"IF(D70<>\"\",LOOKUP(D70,{0,1,2},{\"\",\"なし\",\"あり\"}),\"\")","v":""},null,null,null,null,{"$f":"IF(F70=\"\",1,0)","v":1},null,"N",{"$f":"IF('回復期診療計画(入力用)'!$BE$5=FALSE,IF(回復期データ出力用!L70=0,FALSE,IF(回復期データ出力用!L70<'回復期診療計画(入力用)'!$BD$1,TRUE,FALSE)))","v":false},0]
[null,"寝返り",null,0,null,{"$f":"IF(D71<>\"\",LOOKUP(D71,{0,1,2,3},{\"\",\"できる\",\"何かにつかまればできる\",\"できない\"}),\"\")","v":""},null,null,null,null,{"$f":"IF(F71=\"\",1,0)","v":1},null,"N",{"$f":"IF('回復期診療計画(入力用)'!$BE$5=FALSE,IF(回復期データ出力用!L71=0,FALSE,IF(回復期データ出力用!L71<'回復期診療計画(入力用)'!$BD$1,TRUE,FALSE)))","v":false},0]
[null,"起き上がり",null,0,null,{"$f":"IF(D72<>\"\",LOOKUP(D72,{0,1,2},{\"\",\"できる\",\"できない\"}),\"\")","v":""},null,null,null,null,1,null,"N",{"$f":"IF('回復期診療計画(入力用)'!$BE$5=FALSE,IF(回復期データ出力用!L72=0,FALSE,IF(回復期データ出力用!L72<'回復期診療計画(入力用)'!$BD$1,TRUE,FALSE)))","v":false},0]
[null,"座位保持",null,0,null,{"$f":"IF(D73<>\"\",LOOKUP(D73,{0,1,2,3},{\"\",\"できる\",\"支えがあればできる\",\"できない\"}),\"\")","v":""},null,null,null,null,1,null,"N",{"$f":"IF('回復期診療計画(入力用)'!$BE$5=FALSE,IF(回復期データ出力用!L73=0,FALSE,IF(回復期データ出力用!L73<'回復期診療計画(入力用)'!$BD$1,TRUE,FALSE)))","v":false},0]
[null,"口腔清潔",null,0,null,{"$f":"IF(D74<>\"\",LOOKUP(D74,{0,1,2},{\"\",\"できる\",\"できない\"}),\"\")","v":""},null,null,null,null,1,null,"N",{"$f":"IF('回復期診療計画(入力用)'!$BE$5=FALSE,IF(回復期データ出力用!L74=0,FALSE,IF(回復期データ出力用!L74<'回復期診療計画(入力用)'!$BD$1,TRUE,FALSE)))","v":false},0]
[null,"診療・療養上の指示が通じる",null,0,null,{"$f":"IF(D75<>\"\",LOOKUP(D75,{0,1,2},{\"\",\"はい\",\"いいえ\"}),\"\")","v":""},null,null,null,null,1,null,"N",{"$f":"IF('回復期診療計画(入力用)'!$BE$5=FALSE,IF(回復期データ出力用!L75=0,FALSE,IF(回復期データ出力用!L75<'回復期診療計画(入力用)'!$BD$1,TRUE,FALSE)))","v":false},0]
[null,"危険行動",null,0,null,{"$f":"IF(D76<>\"\",LOOKUP(D76,{0,1,2},{\"\",\"ない\",\"ある\"}),\"\")","v":""},null,null,null,null,1,null,"N",{"$f":"IF('回復期診療計画(入力用)'!$BE$5=FALSE,IF(回復期データ出力用!L76=0,FALSE,IF(回復期データ出力用!L76<'回復期診療計画(入力用)'!$BD$1,TRUE,FALSE)))","v":false},0]
[null,"身体拘束",null,0,null,{"$f":"IF(D77<>\"\",LOOKUP(D77,{0,1,2},{\"\",\"無\",\"有\"}),\"\")","v":""},null,null,null,null,{"$f":"IF(F77=\"\",1,0)","v":1},null,"N",{"$f":"IF('回復期診療計画(入力用)'!$BE$5=FALSE,IF(回復期データ出力用!L77=0,FALSE,IF(回復期データ出力用!L77<'回復期診療計画(入力用)'!$BD$1,TRUE,FALSE)))","v":false},0]
[null,null,"４点柵",false,null,{"$f":"IF(D78=TRUE,C78,\"\")","v":""},null,null,null,null,null,null,null,null,false]
[null,null,"センサー",false,null,{"$f":"IF(D79=TRUE,C79,\"\")","v":""},null,{"$f":"IF(H80<>\"\",  MID(H80,2,200),\"\")","v":""},null,null,{"$f":"IF(D80=TRUE,IF(E80=0,1,0),0)","v":0},null,null,null,false]
[null,null,"その他",false,{"$f":"'回復期診療計画(入力用)'!AR29","v":0},{"$f":"IF(D80=TRUE,IF(E80=0,C80,  C80 & \"(\" & E80 & \")\"),\"\")","v":""},"計算用",{"$f":" IF(F78<>\"\",\"，\" & F78,\"\") & IF(F79<>\"\",\"，\" & F79,\"\") & IF(F80<>\"\",\"，\" & F80,\"\")","v":""},null,null,{"$f":"IF(D77=2,IF(H80=\"\",1,0),0)","v":0},null,null,null,false]
[null,"特記事項","有無",0,null,null,null,null,null,null,null,null,"N",{"$f":"IF('回復期診療計画(入力用)'!$BE$5=FALSE,IF(回復期データ出力用!L81=0,FALSE,IF(回復期データ出力用!L81<'回復期診療計画(入力用)'!$BD$1,TRUE,FALSE)))","v":false},0]
[null,null,"テキスト",{"$f":"'回復期診療計画(入力用)'!L30","v":0},null,{"$f":"IF(D82<>0,D82,\"\")","v":""},null,null,null,null,{"$f":"IF(D81=1,IF(F82=\"\",1,0),0) + IF(D81=0,1,0)","v":1},null,"N",{"$f":"IF('回復期診療計画(入力用)'!$BE$5=FALSE,IF(回復期データ出力用!L82=0,FALSE,IF(回復期データ出力用!L82<'回復期診療計画(入力用)'!$BD$1,TRUE,FALSE)))","v":false}]
["検査","画像所見等",null,{"$f":"'回復期診療計画(入力用)'!I31","v":0},null,{"$f":"IF(D83=0,\"\",D83)","v":""},null,null,null,null,{"$f":"IF(F83=\"\",1,0)","v":1},null,"D",{"$f":"IF('回復期診療計画(入力用)'!$BE$3=FALSE,IF(回復期データ出力用!L83=0,FALSE,IF(回復期データ出力用!L83<'回復期診療計画(入力用)'!$BD$1,TRUE,FALSE)))","v":false}]
["内服",null,null,{"$f":"'回復期診療計画(入力用)'!E33","v":"内服："},null,{"$f":"IF(D84=0,\"\",D84)","v":"内服："}]
[null,"服薬管理",null,0,null,{"$f":"IF(D85<>\"\",LOOKUP(D85,{0,1,2,3},{\"\",\"自立\",\"一部介助\",\"全介助\"}),\"\")","v":""},null,null,null,null,{"$f":"IF(F85=\"\",1,0)","v":1},null,"D",{"$f":"IF('回復期診療計画(入力用)'!$BE$3=FALSE,IF(回復期データ出力用!L85=0,FALSE,IF(回復期データ出力用!L85<'回復期診療計画(入力用)'!$BD$1,TRUE,FALSE)))","v":false},0]
["処置","経過中の症状変動の有無",null,0,null,{"$f":"IF(D86<>\"\",LOOKUP(D86,{0,1,2},{\"\",\"無\",\"有\"}),\"\")","v":""},null,null,null,null,{"$f":"IF(F86=\"\",1,0)","v":1},null,"D",{"$f":"IF('回復期診療計画(入力用)'!$BE$3=FALSE,IF(回復期データ出力用!L86=0,FALSE,IF(回復期データ出力用!L86<'回復期診療計画(入力用)'!$BD$1,TRUE,FALSE)))","v":false},0]
[null,"症状と原因",null,{"$f":"'回復期診療計画(入力用)'!I38","v":0},null,{"$f":"IF(D87=0,\"\",D87)","v":""},null,null,null,null,{"$f":"IF(D86=2,IF(F87=\"\",1,0),0)","v":0},null,"D",{"$f":"IF('回復期診療計画(入力用)'!$BE$3=FALSE,IF(回復期データ出力用!L87=0,FALSE,IF(回復期データ出力用!L87<'回復期診療計画(入力用)'!$BD$1,TRUE,FALSE)))","v":false}]
["-","認知症",null,0,null,{"$f":"IF(D88<>\"\",LOOKUP(D88,{0,1,2,3},{\"\",\"なし\",\"あり\",\"判定不可\"}),\"\")","v":""},null,null,null,null,{"$f":"IF(F88=\"\",1,0)","v":1},null,"S",{"$f":"IF('回復期診療計画(入力用)'!$BE$7=FALSE,IF(回復期データ出力用!L88=0,FALSE,IF(回復期データ出力用!L88<'回復期診療計画(入力用)'!$BD$1,TRUE,FALSE)))","v":false},0]
[null,"半側空間無視",null,0,null,{"$f":"IF(D89<>\"\",LOOKUP(D89,{0,1,2},{\"\",\"なし\",\"あり\"}),\"\")","v":""},null,null,null,null,1,null,"S",{"$f":"IF('回復期診療計画(入力用)'!$BE$7=FALSE,IF(回復期データ出力用!L89=0,FALSE,IF(回復期データ出力用!L89<'回復期診療計画(入力用)'!$BD$1,TRUE,FALSE)))","v":false},0]
[null,"視野障害",null,0,null,{"$f":"IF(D90<>\"\",LOOKUP(D90,{0,1,2},{\"\",\"なし\",\"あり\"}),\"\")","v":""},null,null,null,null,1,null,"S",{"$f":"IF('回復期診療計画(入力用)'!$BE$7=FALSE,IF(回復期データ出力用!L90=0,FALSE,IF(回復期データ出力用!L90<'回復期診療計画(入力用)'!$BD$1,TRUE,FALSE)))","v":false},0]
[null,"感覚障害",null,0,null,{"$f":"IF(D91<>\"\",LOOKUP(D91,{0,1,2},{\"\",\"なし\",\"あり\"}),\"\")","v":""},null,null,null,null,{"$f":"IF(F91=\"\",1,0)","v":1},null,"S",{"$f":"IF('回復期診療計画(入力用)'!$BE$7=FALSE,IF(回復期データ出力用!L91=0,FALSE,IF(回復期データ出力用!L91<'回復期診療計画(入力用)'!$BD$1,TRUE,FALSE)))","v":false},0]
[null,"失調",null,0,null,{"$f":"IF(D92<>\"\",LOOKUP(D92,{0,1,2},{\"\",\"なし\",\"あり\"}),\"\")","v":""},null,null,null,null,1,null,"S",{"$f":"IF('回復期診療計画(入力用)'!$BE$7=FALSE,IF(回復期データ出力用!L92=0,FALSE,IF(回復期データ出力用!L92<'回復期診療計画(入力用)'!$BD$1,TRUE,FALSE)))","v":false},0]
[null,"疼痛",null,0,null,{"$f":"IF(D93<>\"\",LOOKUP(D93,{0,1,2},{\"\",\"なし\",\"あり\"}),\"\")","v":""},null,null,null,null,1,null,"S",{"$f":"IF('回復期診療計画(入力用)'!$BE$7=FALSE,IF(回復期データ出力用!L93=0,FALSE,IF(回復期データ出力用!L93<'回復期診療計画(入力用)'!$BD$1,TRUE,FALSE)))","v":false},0]
[null,"拘縮",null,0,null,{"$f":"IF(D94<>\"\",LOOKUP(D94,{0,1,2},{\"\",\"なし\",\"あり\"}),\"\")","v":""},null,null,null,null,1,null,"S",{"$f":"IF('回復期診療計画(入力用)'!$BE$7=FALSE,IF(回復期データ出力用!L94=0,FALSE,IF(回復期データ出力用!L94<'回復期診療計画(入力用)'!$BD$1,TRUE,FALSE)))","v":false},0]
[null,null,"テキスト",{"$f":"'回復期診療計画(入力用)'!$AK$40","v":0},null,{"$f":"IF(D95=0,\"\",D95)","v":""},null,null,null,null,{"$f":"IF(D94>1,IF(F95=\"\",1,0),0)","v":0},null,"S",{"$f":"IF('回復期診療計画(入力用)'!$BE$7=FALSE,IF(回復期データ出力用!L95=0,FALSE,IF(回復期データ出力用!L95<'回復期診療計画(入力用)'!$BD$1,TRUE,FALSE)))","v":false}]
[null,"失語",null,0,null,{"$f":"IF(D96<>\"\",LOOKUP(D96,{0,1,2},{\"\",\"なし\",\"あり\"}),\"\")","v":""},null,null,null,null,1,null,"S",{"$f":"IF('回復期診療計画(入力用)'!$BE$7=FALSE,IF(回復期データ出力用!L96=0,FALSE,IF(回復期データ出力用!L96<'回復期診療計画(入力用)'!$BD$1,TRUE,FALSE)))","v":false},0]
[null,null,"種類",0,null,{"$f":"IF(D97<>\"\",LOOKUP(D97,{0,1,2,3,4},{\"\",\"運動性\",\"感覚性\",\"混合性失語\",\"その他\"}),\"\")","v":""},null,null,null,null,{"$f":"IF(D96>1,IF(F97=\"\",1,0),0)","v":0},null,"S",{"$f":"IF('回復期診療計画(入力用)'!$BE$7=FALSE,IF(回復期データ出力用!L97=0,FALSE,IF(回復期データ出力用!L97<'回復期診療計画(入力用)'!$BD$1,TRUE,FALSE)))","v":false},0]
[null,"褥瘡",null,0,"1:なし 2:あり",{"$f":"IF(D98<>\"\",LOOKUP(D98,{0,1,2},{\"\",\"なし\",\"あり\"}),\"\")","v":""},null,null,null,null,{"$f":"IF(F98=\"\",1,0)","v":1},null,"N",{"$f":"IF('回復期診療計画(入力用)'!$BE$5=FALSE,IF(回復期データ出力用!L98=0,FALSE,IF(回復期データ出力用!L98<'回復期診療計画(入力用)'!$BD$1,TRUE,FALSE)))","v":false},0]
[null,null,"テキスト",{"$f":"'回復期診療計画(入力用)'!$M$42","v":0},null,{"$f":"IF(D99=0,\"\",D99)","v":""},null,null,null,null,{"$f":"IF(D98>1,IF(F99=\"\",1,0),0)","v":0},null,"N",{"$f":"IF('回復期診療計画(入力用)'!$BE$5=FALSE,IF(回復期データ出力用!L99=0,FALSE,IF(回復期データ出力用!L99<'回復期診療計画(入力用)'!$BD$1,TRUE,FALSE)))","v":false}]
[null,"その他皮膚疾患",null,0,null,{"$f":"IF(D100<>\"\",LOOKUP(D100,{0,1,2},{\"\",\"なし\",\"あり\"}),\"\")","v":""},null,null,null,null,{"$f":"IF(F100=\"\",1,0)","v":1},null,"N",{"$f":"IF('回復期診療計画(入力用)'!$BE$5=FALSE,IF(回復期データ出力用!L100=0,FALSE,IF(回復期データ出力用!L100<'回復期診療計画(入力用)'!$BD$1,TRUE,FALSE)))","v":false},0]
[null,null,"テキスト",{"$f":"'回復期診療計画(入力用)'!$AH$42","v":0},null,{"$f":"IF(D101=0,\"\",D101)","v":""},null,null,null,null,{"$f":"IF(D100>1,IF(F101=\"\",1,0),0)","v":0},null,"N",{"$f":"IF('回復期診療計画(入力用)'!$BE$5=FALSE,IF(回復期データ出力用!L101=0,FALSE,IF(回復期データ出力用!L101<'回復期診療計画(入力用)'!$BD$1,TRUE,FALSE)))","v":false}]
[null,"嚥下障害",null,0,"1:なし 2:あり",{"$f":"IF(D102<>\"\",LOOKUP(D102,{0,1,2},{\"\",\"なし\",\"あり\"}),\"\")","v":""},null,null,null,null,{"$f":"IF(F102=\"\",1,0)","v":1},null,"S",{"$f":"IF('回復期診療計画(入力用)'!$BE$7=FALSE,IF(回復期データ出力用!L102=0,FALSE,IF(回復期データ出力用!L102<'回復期診療計画(入力用)'!$BD$1,TRUE,FALSE)))","v":false},0]
["栄養呼吸","食事形態",null,0,"1:普通食 2:きざみ食 3:とろみ食 4:治療食 5:その他",{"$f":"IF(D103<>\"\",LOOKUP(D103,{0,1,2,3,4,5},{\"\",\"普通食\",\"きざみ食\",\"とろみ食\",\"治療食\",\"その他\"}),\"\")","v":""},null,null,null,null,null,null,"N",{"$f":"IF('回復期診療計画(入力用)'!$BE$5=FALSE,IF(回復期データ出力用!L103=0,FALSE,IF(回復期データ出力用!L103<'回復期診療計画(入力用)'!$BD$1,TRUE,FALSE)))","v":false},0]
[null,null,"治療食　テキスト",{"$f":"'回復期診療計画(入力用)'!N46","v":0},null,{"$f":"IF(D104=0,\"\",\"（\" & D104 & \"）\")","v":""},null,null,null,null,{"$f":"IF(D218=TRUE,IF(F104=\"\",1,0),0)","v":0},null,"N",{"$f":"IF('回復期診療計画(入力用)'!$BE$5=FALSE,IF(回復期データ出力用!L104=0,FALSE,IF(回復期データ出力用!L104<'回復期診療計画(入力用)'!$BD$1,TRUE,FALSE)))","v":false}]
[null,null,"その他テキスト",{"$f":"'回復期診療計画(入力用)'!AB46","v":0},null,{"$f":"IF(D105=0,\"\",\"（\" & D105 & \"）\")","v":""},null,null,null,null,{"$f":"IF(D219=TRUE,IF(F105=\"\",1,0),0)","v":0},null,"N",{"$f":"IF('回復期診療計画(入力用)'!$BE$5=FALSE,IF(回復期データ出力用!L105=0,FALSE,IF(回復期データ出力用!L105<'回復期診療計画(入力用)'!$BD$1,TRUE,FALSE)))","v":false}]
[null,"方法",null,0,"1:経口 2:経管",{"$f":"IF(D106<>\"\",LOOKUP(D106,{0,1,2},{\"\",\"経口\",\"経管\"}),\"\")","v":""},null,null,null,null,null,null,"N",{"$f":"IF('回復期診療計画(入力用)'!$BE$5=FALSE,IF(回復期データ出力用!L106=0,FALSE,IF(回復期データ出力用!L106<'回復期診療計画(入力用)'!$BD$1,TRUE,FALSE)))","v":false},0]
[null,null,"カテーテル　太さ",{"$f":"'回復期診療計画(入力用)'!R48","v":0},null,{"$f":"IF(D107=0,\"\",D107 )","v":""},null,null,null,null,{"$f":"IF(D106=2,IF(F107=\"\",1,0),0)","v":0},null,"N",{"$f":"IF('回復期診療計画(入力用)'!$BE$5=FALSE,IF(回復期データ出力用!L107=0,FALSE,IF(回復期データ出力用!L107<'回復期診療計画(入力用)'!$BD$1,TRUE,FALSE)))","v":false}]
[null,null,"　　　　　　　　長さ",{"$f":"'回復期診療計画(入力用)'!U48","v":0},null,{"$f":"IF(D108=0,\"\",D108 )","v":""},null,null,null,null,{"$f":"IF(D106=2,IF(F108=\"\",1,0),0)","v":0},null,"N",{"$f":"IF('回復期診療計画(入力用)'!$BE$5=FALSE,IF(回復期データ出力用!L108=0,FALSE,IF(回復期データ出力用!L108<'回復期診療計画(入力用)'!$BD$1,TRUE,FALSE)))","v":false}]
[null,null,"最終交換日",{"$f":"'回復期診療計画(入力用)'!AG48","v":0},null,{"$f":"IF(D109=0,\"\",D109)","v":""},null,null,null,null,{"$f":"IF(D106=2,IF(F109=\"\",1,0),0)","v":0},null,"N",{"$f":"IF('回復期診療計画(入力用)'!$BE$5=FALSE,IF(回復期データ出力用!L109=0,FALSE,IF(回復期データ出力用!L109<'回復期診療計画(入力用)'!$BD$1,TRUE,FALSE)))","v":false}]
[null,"気管切開",null,0,"1:なし 2:あり",{"$f":"IF(D110<>\"\",LOOKUP(D110,{0,1,2},{\"\",\"なし\",\"あり\"}),\"\")","v":""},null,null,null,null,{"$f":"IF(F110=\"\",1,0)","v":1},null,"N",{"$f":"IF('回復期診療計画(入力用)'!$BE$5=FALSE,IF(回復期データ出力用!L110=0,FALSE,IF(回復期データ出力用!L110<'回復期診療計画(入力用)'!$BD$1,TRUE,FALSE)))","v":false},0]
["排泄","介助",null,0,"1:自立 2:一部介助 3:全介助",{"$f":"IF(D111<>\"\",LOOKUP(D111,{0,1,2,3},{\"\",\"自立\",\"一部介助\",\"全介助\"}),\"\")","v":""},null,null,null,null,{"$f":"IF(F111=\"\",1,0)","v":1},null,"N",{"$f":"IF('回復期診療計画(入力用)'!$BE$5=FALSE,IF(回復期データ出力用!L111=0,FALSE,IF(回復期データ出力用!L111<'回復期診療計画(入力用)'!$BD$1,TRUE,FALSE)))","v":false},0]
[null,"方法",null,0,"1:トイレ 2:ポータブルトイレ 3:尿器　4:オムツ 5:バルン",{"$f":"IF(D112<>\"\",LOOKUP(D112,{0,1,2,3,4,5},{\"\",\"トイレ\",\"ポータブルトイレ\",\"尿器\",\"オムツ\",\"バルン\"}),\"\")","v":""},null,null,null,null,null,null,"N",{"$f":"IF('回復期診療計画(入力用)'!$BE$5=FALSE,IF(回復期データ出力用!L112=0,FALSE,IF(回復期データ出力用!L112<'回復期診療計画(入力用)'!$BD$1,TRUE,FALSE)))","v":false},5]
[null,null,"バルン　Ｆｒ",{"$f":"'回復期診療計画(入力用)'!N52","v":0},null,{"$f":"IF(D113=0,\"\",D113)","v":""},null,null,null,null,{"$f":"IF(D229=TRUE,IF(F113=\"\",1,0),0)","v":0},null,"N",{"$f":"IF('回復期診療計画(入力用)'!$BE$5=FALSE,IF(回復期データ出力用!L113=0,FALSE,IF(回復期データ出力用!L113<'回復期診療計画(入力用)'!$BD$1,TRUE,FALSE)))","v":false}]
[null,null,"最終交換日",{"$f":"'回復期診療計画(入力用)'!W52","v":"00:00:00"},null,{"$f":"IF(D114=0,\"\",D114)","v":""},null,null,null,null,{"$f":"IF(D229=TRUE,IF(F114=\"\",1,0),0)","v":0},null,"N",{"$f":"IF('回復期診療計画(入力用)'!$BE$5=FALSE,IF(回復期データ出力用!L114=0,FALSE,IF(回復期データ出力用!L114<'回復期診療計画(入力用)'!$BD$1,TRUE,FALSE)))","v":false}]
["禁忌事項","なし",null,false,null,{"$f":"IF(D115=TRUE,B115,\"\")","v":""},null,null,null,null,{"$f":"IF(H118=\"\",1,0)","v":1},null,null,null,false]
[null,"アレルギー","アレルギー",false,null,{"$f":"IF(D116=TRUE,C116,\"\")","v":""},null,null,null,null,null,null,null,null,false]
[null,null,"テキスト",{"$f":"'回復期診療計画(入力用)'!$M$54","v":0},null,{"$f":"IF(D117=0,\"\", D117 )","v":""},null,null,null,null,{"$f":"IF(D116=TRUE,IF(D117=0,1,0),0)","v":0},null,"N",{"$f":"IF('回復期診療計画(入力用)'!$BE$5=FALSE,IF(回復期データ出力用!L117=0,FALSE,IF(回復期データ出力用!L117<'回復期診療計画(入力用)'!$BD$1,TRUE,FALSE)))","v":false}]
[null,"その他","その他",false,null,{"$f":"IF(D118=TRUE,C118,\"\")","v":""},null,{"$f":"IF(H119<>\"\", MID(H119,2,200),\"\")","v":""},null,null,null,null,"N",{"$f":"IF('回復期診療計画(入力用)'!$BE$5=FALSE,IF(回復期データ出力用!L118=0,FALSE,IF(回復期データ出力用!L118<'回復期診療計画(入力用)'!$BD$1,TRUE,FALSE)))","v":false},false]
[null,null,"テキスト",{"$f":"'回復期診療計画(入力用)'!$AD$54","v":0},null,{"$f":"IF(D119=0,\"\", D119 )","v":""},"計算用",{"$f":"  IF(F115<>\"\",\"，\" & F115,\"\") & IF(F116<>\"\",\"，\" & F116,\"\") & IF(F117<>\"\",\" \" & F117,\"\") & IF(F118<>\"\",\"，\" & F118,\"\") & IF(F119<>\"\",\" \" & F119,\"\")","v":""},null,null,{"$f":"IF(D118=TRUE,IF(D119=0,1,0),0)","v":0},null,"N",{"$f":"IF('回復期診療計画(入力用)'!$BE$5=FALSE,IF(回復期データ出力用!L119=0,FALSE,IF(回復期データ出力用!L119<'回復期診療計画(入力用)'!$BD$1,TRUE,FALSE)))","v":false}]
["障害高齢者の日常生活自立度",null,null,{"$f":"'回復期診療計画(入力用)'!M55","v":0},null,{"$f":"IF(D120=0,\"\",D120)","v":""},null,null,null,null,{"$f":"IF(F120=\"\",1,0)","v":1},null,"N/S",{"$f":"IF('回復期診療計画(入力用)'!$BE$13=FALSE,IF(回復期データ出力用!L120=0,FALSE,IF(回復期データ出力用!L120<'回復期診療計画(入力用)'!$BD$1,TRUE,FALSE)))","v":false}]
["認知症高齢者の日常生活自立度",null,null,{"$f":"'回復期診療計画(入力用)'!M56","v":0},null,{"$f":"IF(D121=0,\"\",D121)","v":""},null,null,null,null,{"$f":"IF(F121=\"\",1,0)","v":1},null,"N",{"$f":"IF('回復期診療計画(入力用)'!$BE$5=FALSE,IF(回復期データ出力用!L121=0,FALSE,IF(回復期データ出力用!L121<'回復期診療計画(入力用)'!$BD$1,TRUE,FALSE)))","v":false}]
[null,"長谷川式",null,{"$f":"IF('回復期診療計画(入力用)'!S57=\"\",\"\",'回復期診療計画(入力用)'!S57)","v":""},null,{"$f":"IF(D122=\"\",\"\",D122)","v":""},null,null,null,null,{"$f":"IF(F122=\"\",1,0)","v":1},null,"N",{"$f":"IF('回復期診療計画(入力用)'!$BE$5=FALSE,IF(回復期データ出力用!L122=0,FALSE,IF(回復期データ出力用!L122<'回復期診療計画(入力用)'!$BD$1,TRUE,FALSE)))","v":false}]
[null,"MMSE",null,{"$f":"IF('回復期診療計画(入力用)'!AF57=\"\",\"\",'回復期診療計画(入力用)'!AF57)","v":""},null,{"$f":"IF(D123=\"\",\"\",D123)","v":""},null,null,null,null,null,null,"N",{"$f":"IF('回復期診療計画(入力用)'!$BE$5=FALSE,IF(回復期データ出力用!L123=0,FALSE,IF(回復期データ出力用!L123<'回復期診療計画(入力用)'!$BD$1,TRUE,FALSE)))","v":false}]
["リハビリ","理学療法",null,false,null,{"$f":"IF(D124=TRUE,B124,\"\")","v":""},null,null,null,null,null,null,"S",{"$f":"IF('回復期診療計画(入力用)'!$BE$7=FALSE,IF(回復期データ出力用!L124=0,FALSE,IF(回復期データ出力用!L124<'回復期診療計画(入力用)'!$BD$1,TRUE,FALSE)))","v":false},false]
[null,null,"テキスト",{"$f":"'回復期診療計画(入力用)'!I58","v":0},null,{"$f":"IF(D125=0,\"\",D125)","v":""},null,null,null,null,{"$f":"IF(D124=TRUE,IF(F125=\"\",1,0),0)","v":0},null,"S",{"$f":"IF('回復期診療計画(入力用)'!$BE$7=FALSE,IF(回復期データ出力用!L125=0,FALSE,IF(回復期データ出力用!L125<'回復期診療計画(入力用)'!$BD$1,TRUE,FALSE)))","v":false}]
[null,"作業療法",null,false,null,{"$f":"IF(D126=TRUE,B126,\"\")","v":""},null,null,null,null,null,null,null,null,false]
[null,null,"テキスト",{"$f":"'回復期診療計画(入力用)'!I59","v":0},null,{"$f":"IF(D127=0,\"\",D127)","v":""},null,null,null,null,{"$f":"IF(D126=TRUE,IF(F127=\"\",1,0),0)","v":0},null,"S",{"$f":"IF('回復期診療計画(入力用)'!$BE$7=FALSE,IF(回復期データ出力用!L127=0,FALSE,IF(回復期データ出力用!L127<'回復期診療計画(入力用)'!$BD$1,TRUE,FALSE)))","v":false}]
[null,"言語療法",null,false,null,{"$f":"IF(D128=TRUE,B128,\"\")","v":""},null,{"$f":"F124&F126&F128","v":""},null,null,{"$f":"IF(H128=\"\",1,0)","v":1},null,null,null,false]
[null,null,"テキスト",{"$f":"'回復期診療計画(入力用)'!I60","v":0},null,{"$f":"IF(D129=0,\"\",D129)","v":""},null,null,null,null,{"$f":"IF(D128=TRUE,IF(F129=\"\",1,0),0)","v":0},null,"S",{"$f":"IF('回復期診療計画(入力用)'!$BE$7=FALSE,IF(回復期データ出力用!L129=0,FALSE,IF(回復期データ出力用!L129<'回復期診療計画(入力用)'!$BD$1,TRUE,FALSE)))","v":false}]
["介護保険","要介護認定の申請",null,0,"1:なし 2:申請中 3:変更申請中 4:あり",{"$f":"IF(D130<>\"\",LOOKUP(D130,{0,1,2,3,4},{\"\",\"なし\",\"申請中\",\"変更申請中\",\"あり\"}),\"\")","v":""},null,null,null,null,{"$f":"IF(F130=\"\",1,0)","v":1},null,"M",{"$f":"IF('回復期診療計画(入力用)'!$BE$9=FALSE,IF(回復期データ出力用!L130=0,FALSE,IF(回復期データ出力用!L130<'回復期診療計画(入力用)'!$BD$1,TRUE,FALSE)))","v":false},0]
[6,null,"介護度",0,null,{"$f":"IF(D131<>\"\",LOOKUP(D131,{0,1,2,3,4,5,6,7},{\"\",\"要支援１\",\"要支援２\",\"要介護１\",\"要介護２\",\"要介護３\",\"要介護４\",\"要介護５\"}),\"\")","v":""},null,null,null,null,{"$f":"IF(D130=3,IF(F131=\"\",1,0),IF(D130=4,IF(F131=\"\",1,0),0))","v":0},null,"M",{"$f":"IF('回復期診療計画(入力用)'!$BE$9=FALSE,IF(回復期データ出力用!L131=0,FALSE,IF(回復期データ出力用!L131<'回復期診療計画(入力用)'!$BD$1,TRUE,FALSE)))","v":false},0]
["身障手帳","説明　未　済",null,0,"1:説明未 2:説明済 3:申請済　4:取得済",{"$f":"IF(D132<>\"\",LOOKUP(D132,{0,1,2,3,4},{\"\",\"説明未\",\"説明済\",\"申請済\",\"取得済\"}),\"\")","v":""},null,null,null,null,{"$f":"IF(F132=\"\",1,0)","v":1},null,"M",{"$f":"IF('回復期診療計画(入力用)'!$BE$9=FALSE,IF(回復期データ出力用!L132=0,FALSE,IF(回復期データ出力用!L132<'回復期診療計画(入力用)'!$BD$1,TRUE,FALSE)))","v":false},0]
[null,null,"テキスト",null,null,{"$f":"IF(D133=0,\"\",D133)","v":""}]
[null,null,"種",null,null,{"$f":"IF(D134=0,\"\",D134)","v":""}]
[null,null,"級",{"$f":"'回復期診療計画(入力用)'!T65","v":0},null,{"$f":"IF(D135=0,\"\",D135)","v":""},null,null,null,null,null,null,"M",{"$f":"IF('回復期診療計画(入力用)'!$BE$9=FALSE,IF(回復期データ出力用!L135=0,FALSE,IF(回復期データ出力用!L135<'回復期診療計画(入力用)'!$BD$1,TRUE,FALSE)))","v":false}]
["-","自宅訪問",null,0,"1:無 2:有",{"$f":"IF(D136<>\"\",LOOKUP(D136,{0,1,2},{\"\",\"無\",\"有\"}),\"\")","v":""},null,null,null,null,{"$f":"IF(F136=\"\",1,0)","v":1},null,"S",{"$f":"IF('回復期診療計画(入力用)'!$BE$7=FALSE,IF(回復期データ出力用!L136=0,FALSE,IF(回復期データ出力用!L136<'回復期診療計画(入力用)'!$BD$1,TRUE,FALSE)))","v":false},0]
[null,null,"訪問日",{"$f":"'回復期診療計画(入力用)'!Q66","v":"00:00:00"},null,{"$f":"IF(D137=0,\"\",D137)","v":""},null,null,null,null,{"$f":"IF(D136=2,IF(F137=\"\",1,0),0)","v":0},null,"S",{"$f":"IF('回復期診療計画(入力用)'!$BE$7=FALSE,IF(回復期データ出力用!L137=0,FALSE,IF(回復期データ出力用!L137<'回復期診療計画(入力用)'!$BD$1,TRUE,FALSE)))","v":false}]
[null,"住宅改修必要性",null,0,"1:無 2:有",{"$f":"IF(D138<>\"\",LOOKUP(D138,{0,1,2},{\"\",\"無\",\"有\"}),\"\")","v":""},null,null,null,null,{"$f":"IF(F138=\"\",1,0)","v":1},null,"S",{"$f":"IF('回復期診療計画(入力用)'!$BE$7=FALSE,IF(回復期データ出力用!L138=0,FALSE,IF(回復期データ出力用!L138<'回復期診療計画(入力用)'!$BD$1,TRUE,FALSE)))","v":false},0]
[null,null,"有り　",0,null,{"$f":"IF(D139<>\"\",LOOKUP(D139,{0,1,2,3},{\"\",\"改修済み\",\"準備中\",\"その他\"}),\"\")","v":""},null,null,null,null,{"$f":"IF(D138=2,IF(F139=\"\",1,0),0)","v":0},null,"S",{"$f":"IF('回復期診療計画(入力用)'!$BE$7=FALSE,IF(回復期データ出力用!L139=0,FALSE,IF(回復期データ出力用!L139<'回復期診療計画(入力用)'!$BD$1,TRUE,FALSE)))","v":false},0]
[null,null,"その他　テキスト",{"$f":"'回復期診療計画(入力用)'!$Z$67","v":0},null,{"$f":"IF(D140=0,\"\",D140)","v":""},null,null,null,null,{"$f":"IF(D139=3,IF(F140=\"\",1,0),0)","v":0},null,"S",{"$f":"IF('回復期診療計画(入力用)'!$BE$7=FALSE,IF(回復期データ出力用!L140=0,FALSE,IF(回復期データ出力用!L140<'回復期診療計画(入力用)'!$BD$1,TRUE,FALSE)))","v":false}]
[null,null,"手すりの配置",false,null,{"$f":"IF(D141=TRUE,C141,\"\")","v":""},null,null,null,null,null,null,"S",{"$f":"IF('回復期診療計画(入力用)'!$BE$7=FALSE,IF(回復期データ出力用!L141=0,FALSE,IF(回復期データ出力用!L141<'回復期診療計画(入力用)'!$BD$1,TRUE,FALSE)))","v":false},false]
[null,null,"トイレ改修",false,null,{"$f":"IF(D142=TRUE,C142,\"\")","v":""},null,null,null,null,null,null,"S",{"$f":"IF('回復期診療計画(入力用)'!$BE$7=FALSE,IF(回復期データ出力用!L142=0,FALSE,IF(回復期データ出力用!L142<'回復期診療計画(入力用)'!$BD$1,TRUE,FALSE)))","v":false},false]
[null,null,"検討中",false,null,{"$f":"IF(D143=TRUE,C143,\"\")","v":""}]
[null,null,"浴室の改修",false,null,{"$f":"IF(D144=TRUE,C144,\"\")","v":""},null,{"$f":"IF(H145<>\"\", \"(\" & MID(H145,2,200) & \")\",\"\")","v":""},null,null,{"$f":"IF(D138=2,IF(H144=\"\",1,0),0)","v":0},null,"S",{"$f":"IF('回復期診療計画(入力用)'!$BE$7=FALSE,IF(回復期データ出力用!L144=0,FALSE,IF(回復期データ出力用!L144<'回復期診療計画(入力用)'!$BD$1,TRUE,FALSE)))","v":false},false]
[null,null,"その他",false,null,{"$f":"IF(D145=TRUE,C145,\"\")","v":""},"計算用",{"$f":" IF(F141<>\"\",\"，\" & F141,\"\") & IF(F142<>\"\",\"，\" & F142,\"\") & IF(F143<>\"\",\" \" & F143,\"\") & IF(F144<>\"\",\"，\" & F144,\"\") & IF(F145<>\"\",\" \" & F145,\"\")","v":""},null,null,null,null,"S",{"$f":"IF('回復期診療計画(入力用)'!$BE$7=FALSE,IF(回復期データ出力用!L145=0,FALSE,IF(回復期データ出力用!L145<'回復期診療計画(入力用)'!$BD$1,TRUE,FALSE)))","v":false},false]
[null,null,"その他テキスト",{"$f":"'回復期診療計画(入力用)'!$AH$68","v":0},null,{"$f":"IF(D146=0,\"\",D146)","v":""},null,null,null,null,{"$f":"IF(D145=TRUE,IF(F146=\"\",1,0),0)","v":0},null,"S",{"$f":"IF('回復期診療計画(入力用)'!$BE$7=FALSE,IF(回復期データ出力用!L146=0,FALSE,IF(回復期データ出力用!L146<'回復期診療計画(入力用)'!$BD$1,TRUE,FALSE)))","v":false}]
[null,"福祉用具の必要性",null,0,"1:無 2:有",{"$f":"IF(D147<>\"\",LOOKUP(D147,{0,1,2},{\"\",\"無\",\"有\"}),\"\")","v":""},null,null,null,null,{"$f":"IF(F147=\"\",1,0)","v":1},null,"S",{"$f":"IF('回復期診療計画(入力用)'!$BE$7=FALSE,IF(回復期データ出力用!L147=0,FALSE,IF(回復期データ出力用!L147<'回復期診療計画(入力用)'!$BD$1,TRUE,FALSE)))","v":false},0]
[null,null,"ベッドの利用",false,null,{"$f":"IF(D148=TRUE,C148,\"\")","v":""},null,null,null,null,null,null,"S",{"$f":"IF('回復期診療計画(入力用)'!$BE$7=FALSE,IF(回復期データ出力用!L148=0,FALSE,IF(回復期データ出力用!L148<'回復期診療計画(入力用)'!$BD$1,TRUE,FALSE)))","v":false},false]
[null,null,"入浴補助具の利用",false,null,{"$f":"IF(D149=TRUE,C149,\"\")","v":""},null,null,null,null,null,null,"S",{"$f":"IF('回復期診療計画(入力用)'!$BE$7=FALSE,IF(回復期データ出力用!L149=0,FALSE,IF(回復期データ出力用!L149<'回復期診療計画(入力用)'!$BD$1,TRUE,FALSE)))","v":false},false]
[null,null,"ポータブルトイレの利用",false,null,{"$f":"IF(D150=TRUE,C150,\"\")","v":""},null,{"$f":"IF(H151<>\"\", \"(\" & MID(H151,2,200) & \")\",\"\")","v":""},null,null,{"$f":"IF(D147=2,IF(H150=\"\",1,0),0)","v":0},null,"S",{"$f":"IF('回復期診療計画(入力用)'!$BE$7=FALSE,IF(回復期データ出力用!L150=0,FALSE,IF(回復期データ出力用!L150<'回復期診療計画(入力用)'!$BD$1,TRUE,FALSE)))","v":false},false]
[null,null,"その他",false,null,{"$f":"IF(D151=TRUE,C151,\"\")","v":""},"計算用",{"$f":" IF(F148<>\"\",\"，\" & F148,\"\") & IF(F149<>\"\",\" \" & F149,\"\") & IF(F150<>\"\",\"，\" & F150,\"\") & IF(F151<>\"\",\" \" & F151,\"\")","v":""},null,null,null,null,"S",{"$f":"IF('回復期診療計画(入力用)'!$BE$7=FALSE,IF(回復期データ出力用!L151=0,FALSE,IF(回復期データ出力用!L151<'回復期診療計画(入力用)'!$BD$1,TRUE,FALSE)))","v":false},false]
[null,null,"その他　テキスト",{"$f":"'回復期診療計画(入力用)'!$AK$70","v":0},null,{"$f":"IF(D152=0,\"\",D152)","v":""},null,null,null,null,{"$f":"IF(D151=TRUE,IF(F152=\"\",1,0),0)","v":0},null,"S",{"$f":"IF('回復期診療計画(入力用)'!$BE$7=FALSE,IF(回復期データ出力用!L152=0,FALSE,IF(回復期データ出力用!L152<'回復期診療計画(入力用)'!$BD$1,TRUE,FALSE)))","v":false}]
["説明","症状説明",null,false,null,{"$f":"IF(D153=TRUE,B153,\"\")","v":""},null,null,null,null,{"$f":"IF(F153=\"\",1,0)","v":1},null,"D",{"$f":"IF('回復期診療計画(入力用)'!$BE$3=FALSE,IF(回復期データ出力用!L153=0,FALSE,IF(回復期データ出力用!L153<'回復期診療計画(入力用)'!$BD$1,TRUE,FALSE)))","v":false},false]
[null,"退院・転院後のリハビリ・服薬・栄養に関する説明",null,false,null,{"$f":"IF(D154=TRUE,B154,\"\")","v":""},null,null,null,null,{"$f":"IF(F154=\"\",1,0)","v":1},null,"D",{"$f":"IF('回復期診療計画(入力用)'!$BE$3=FALSE,IF(回復期データ出力用!L154=0,FALSE,IF(回復期データ出力用!L154<'回復期診療計画(入力用)'!$BD$1,TRUE,FALSE)))","v":false},false]
[null,null,"説明日",{"$f":"'回復期診療計画(入力用)'!I73","v":"00:00:00"},null,{"$f":"IF(D155=0,\"\",D155)","v":""},null,null,null,null,{"$f":"IF(D154=TRUE,IF(F155=\"\",1,0),0)","v":0},null,"D",{"$f":"IF('回復期診療計画(入力用)'!$BE$3=FALSE,IF(回復期データ出力用!L155=0,FALSE,IF(回復期データ出力用!L155<'回復期診療計画(入力用)'!$BD$1,TRUE,FALSE)))","v":false}]
[null,null,"説明を行った者",{"$f":"'回復期診療計画(入力用)'!R73","v":0},null,{"$f":"IF(D156=0,\"\",D156)","v":""},null,null,null,null,{"$f":"IF(D154=TRUE,IF(F156=\"\",1,0),0)","v":0},null,"D",{"$f":"IF('回復期診療計画(入力用)'!$BE$3=FALSE,IF(回復期データ出力用!L156=0,FALSE,IF(回復期データ出力用!L156<'回復期診療計画(入力用)'!$BD$1,TRUE,FALSE)))","v":false}]
[null,"ケアマネジャーへの情報提供",null,false,null,{"$f":"IF(D157=TRUE,B157,\"\")","v":""},null,null,null,null,null,null,"M",{"$f":"IF('回復期診療計画(入力用)'!$BE$9=FALSE,IF(回復期データ出力用!L157=0,FALSE,IF(回復期データ出力用!L157<'回復期診療計画(入力用)'!$BD$1,TRUE,FALSE)))","v":false},false]
[null,"居宅ｻｰﾋﾞｽ計画書案作成",null,false,null,{"$f":"IF(D158=TRUE,B158,\"\")","v":""},null,{"$f":"IF(H159<>\"\", MID(H159,2,200),\"\")","v":""},null,null,null,null,"M",{"$f":"IF('回復期診療計画(入力用)'!$BE$9=FALSE,IF(回復期データ出力用!L158=0,FALSE,IF(回復期データ出力用!L158<'回復期診療計画(入力用)'!$BD$1,TRUE,FALSE)))","v":false},false]
[null,"在宅ケア希望者退院連絡票送付",null,false,null,{"$f":"IF(D159=TRUE,B159,\"\")","v":""},"計算用",{"$f":"   IF(F157<>\"\",\" \" & F157,\"\") & IF(F158<>\"\",\"，\" & F158,\"\") & IF(F159<>\"\",\" \" & F159,\"\")","v":""},null,null,null,null,"M",{"$f":"IF('回復期診療計画(入力用)'!$BE$9=FALSE,IF(回復期データ出力用!L159=0,FALSE,IF(回復期データ出力用!L159<'回復期診療計画(入力用)'!$BD$1,TRUE,FALSE)))","v":false},false]
["転帰・転院基準","転院先",null,{"$f":"'回復期診療計画(入力用)'!J76","v":0},null,{"$f":"IF(D160=0,\"\",D160)","v":""},{"$f":"FIND(\"：\",D160,1)","v":{"$error":"#VALUE!"}},{"$f":"IF(ISERROR(G160),\"\",LEFT(D160,FIND(\"：\",D160,1)-1))","v":""},null,null,{"$f":"IF(F160=\"\",1,0)","v":1},null,"M",{"$f":"IF('回復期診療計画(入力用)'!$BE$9=FALSE,IF(回復期データ出力用!L160=0,FALSE,IF(回復期データ出力用!L160<'回復期診療計画(入力用)'!$BD$1,TRUE,FALSE)))","v":false}]
[null,"情報提供",null,false]
[null,"転院先　病院",null,{"$f":"'回復期診療計画(入力用)'!$I$77","v":0},null,{"$f":"IF(D162=0,\"\",D162)","v":""},null,null,null,null,{"$f":"IF(F160=\"\",0,IF(F160<>\"自宅（在宅）：自宅生活可能とする状態まで　改善・回復\",IF(F162=\"\",1,0),0))","v":0},null,"M",{"$f":"IF('回復期診療計画(入力用)'!$BE$9=FALSE,IF(回復期データ出力用!L162=0,FALSE,IF(回復期データ出力用!L162<'回復期診療計画(入力用)'!$BD$1,TRUE,FALSE)))","v":false}]
[null,"転院日",null,null,null,{"$f":"IF(D163=0,\"\",D163)","v":""},null,null,null,null,null,null,"M",{"$f":"IF('回復期診療計画(入力用)'!$BE$9=FALSE,IF(回復期データ出力用!L163=0,FALSE,IF(回復期データ出力用!L163<'回復期診療計画(入力用)'!$BD$1,TRUE,FALSE)))","v":false}]
["職業",null,null,0,"1:無 2:有",{"$f":"IF(D164<>\"\",LOOKUP(D164,{0,1,2},{\"\",\"無\",\"有\"}),\"\")","v":""},null,null,null,null,null,null,"M",{"$f":"IF('回復期診療計画(入力用)'!$BE$9=FALSE,IF(回復期データ出力用!L164=0,FALSE,IF(回復期データ出力用!L164<'回復期診療計画(入力用)'!$BD$1,TRUE,FALSE)))","v":false},0]
[null,"テキスト",null,{"$f":"'回復期診療計画(入力用)'!O80","v":0},null,{"$f":"IF(D165=0,\"\",D165)","v":""},null,{"$f":"IF(D164=2, \"（\" &F165 & \"）\",\"\")","v":""},null,null,null,null,"M",{"$f":"IF('回復期診療計画(入力用)'!$BE$9=FALSE,IF(回復期データ出力用!L165=0,FALSE,IF(回復期データ出力用!L165<'回復期診療計画(入力用)'!$BD$1,TRUE,FALSE)))","v":false}]
["復職見込み",null,null,0,"1:無 2:有",{"$f":"IF(D166<>\"\",LOOKUP(D166,{0,1,2},{\"\",\"無\",\"有\"}),\"\")","v":""},null,null,null,null,null,null,"M",{"$f":"IF('回復期診療計画(入力用)'!$BE$9=FALSE,IF(回復期データ出力用!L166=0,FALSE,IF(回復期データ出力用!L166<'回復期診療計画(入力用)'!$BD$1,TRUE,FALSE)))","v":false},0]
["生活の場",null,null,0,null,{"$f":"IF(D167<>\"\",LOOKUP(D167,{0,1,2,3,4},{\"\",\"在宅\",\"介護老人保健施設\",\"介護老人福祉施設\",\"その他\"}),\"\")","v":""},null,null,null,null,null,null,"M",{"$f":"IF('回復期診療計画(入力用)'!$BE$9=FALSE,IF(回復期データ出力用!L167=0,FALSE,IF(回復期データ出力用!L167<'回復期診療計画(入力用)'!$BD$1,TRUE,FALSE)))","v":false},0]
[null,"介護老人保健施設",null,{"$f":"'回復期診療計画(入力用)'!U81","v":0},null,{"$f":"IF(D168=0,\"\",D168)","v":""},null,null,null,null,null,null,"M",{"$f":"IF('回復期診療計画(入力用)'!$BE$9=FALSE,IF(回復期データ出力用!L168=0,FALSE,IF(回復期データ出力用!L168<'回復期診療計画(入力用)'!$BD$1,TRUE,FALSE)))","v":false}]
[null,"介護老人福祉施設",null,{"$f":"'回復期診療計画(入力用)'!AO81","v":0},null,{"$f":"IF(D169=0,\"\",D169)","v":""},null,null,null,null,null,null,"M",{"$f":"IF('回復期診療計画(入力用)'!$BE$9=FALSE,IF(回復期データ出力用!L169=0,FALSE,IF(回復期データ出力用!L169<'回復期診療計画(入力用)'!$BD$1,TRUE,FALSE)))","v":false}]
[null,"その他",null,{"$f":"'回復期診療計画(入力用)'!N82","v":0},null,{"$f":"IF(D170=0,\"\",D170)","v":""},{"$f":"IF(D167=2,F167&\"(\"&F168&\")\",IF(D167=3,F167&\"(\"&F169&\")\",IF(D167=4,F167&\"(\"&F170&\")\",F167)))","v":""},null,null,null,null,null,"M",{"$f":"IF('回復期診療計画(入力用)'!$BE$9=FALSE,IF(回復期データ出力用!L170=0,FALSE,IF(回復期データ出力用!L170<'回復期診療計画(入力用)'!$BD$1,TRUE,FALSE)))","v":false}]
["保険の種類",null,null,0,null,{"$f":"IF(D171<>\"\",LOOKUP(D171,{0,1,2,3,4,5},{\"\",\"国保\",\"社保\",\"生保\",\"後期高齢者\",\"その他\"}),\"\")","v":""},null,null,null,null,null,null,"M",{"$f":"IF('回復期診療計画(入力用)'!$BE$9=FALSE,IF(回復期データ出力用!L171=0,FALSE,IF(回復期データ出力用!L171<'回復期診療計画(入力用)'!$BD$1,TRUE,FALSE)))","v":false},0]
[null,"その他テキスト",null,{"$f":"'回復期診療計画(入力用)'!AD83","v":0},null,{"$f":"IF(D172<>0,D172,\"\")","v":""},null,{"$f":"IF(D171=5,F171& \"（\" &F172& \"）\",F171)","v":""},null,null,null,null,"M",{"$f":"IF('回復期診療計画(入力用)'!$BE$9=FALSE,IF(回復期データ出力用!L172=0,FALSE,IF(回復期データ出力用!L172<'回復期診療計画(入力用)'!$BD$1,TRUE,FALSE)))","v":false}]
["退院後の主治医",null,null,0,"1:無 2:有",{"$f":"IF(D173<>\"\",LOOKUP(D173,{0,1,2},{\"\",\"無\",\"有\"}),\"\")","v":""},null,null,null,null,null,null,"M",{"$f":"IF('回復期診療計画(入力用)'!$BE$9=FALSE,IF(回復期データ出力用!L173=0,FALSE,IF(回復期データ出力用!L173<'回復期診療計画(入力用)'!$BD$1,TRUE,FALSE)))","v":false},0]
[null,"医療機関　医師名",null,{"$f":"'回復期診療計画(入力用)'!X84","v":0},null,{"$f":"IF(D174=0,\"\",D174)","v":""},null,null,null,null,null,null,"M",{"$f":"IF('回復期診療計画(入力用)'!$BE$9=FALSE,IF(回復期データ出力用!L174=0,FALSE,IF(回復期データ出力用!L174<'回復期診療計画(入力用)'!$BD$1,TRUE,FALSE)))","v":false}]
["身体障害者手帳",null,null,0,"1:無 2:有",{"$f":"IF(D175<>\"\",LOOKUP(D175,{0,1,2},{\"\",\"無\",\"有\"}),\"\")","v":""},null,null,null,null,null,null,"M",{"$f":"IF('回復期診療計画(入力用)'!$BE$9=FALSE,IF(回復期データ出力用!L175=0,FALSE,IF(回復期データ出力用!L175<'回復期診療計画(入力用)'!$BD$1,TRUE,FALSE)))","v":false},0]
[null,"テキスト",null,null,null,{"$f":"IF(D176=0,\"\",\"(\" & D176 & \")\")","v":""},null,null,null,null,null,null,"M",{"$f":"IF('回復期診療計画(入力用)'!$BE$9=FALSE,IF(回復期データ出力用!L176=0,FALSE,IF(回復期データ出力用!L176<'回復期診療計画(入力用)'!$BD$1,TRUE,FALSE)))","v":false}]
[null,"種",null,null,null,{"$f":"IF(D177=0,\"\",D177 &\"種\")","v":""},null,null,null,null,null,null,"M",{"$f":"IF('回復期診療計画(入力用)'!$BE$9=FALSE,IF(回復期データ出力用!L177=0,FALSE,IF(回復期データ出力用!L177<'回復期診療計画(入力用)'!$BD$1,TRUE,FALSE)))","v":false}]
[null,"級",null,null,null,{"$f":"IF(D178=0,\"\",D178 &\"級\")","v":""},null,null,null,null,null,null,"M",{"$f":"IF('回復期診療計画(入力用)'!$BE$9=FALSE,IF(回復期データ出力用!L178=0,FALSE,IF(回復期データ出力用!L178<'回復期診療計画(入力用)'!$BD$1,TRUE,FALSE)))","v":false}]
["介護保険",null,null,0,"1:無 2:有",{"$f":"IF(D179<>\"\",LOOKUP(D179,{0,1,2},{\"\",\"無\",\"有\"}),\"\")","v":""},null,null,null,null,null,null,"M",{"$f":"IF('回復期診療計画(入力用)'!$BE$9=FALSE,IF(回復期データ出力用!L179=0,FALSE,IF(回復期データ出力用!L179<'回復期診療計画(入力用)'!$BD$1,TRUE,FALSE)))","v":false},1]
[null,"介護度",null,0,null,{"$f":"IF(D180<>\"\",LOOKUP(D180,{0,1,2,3,4,5,6,7},{\"\",\"要支援１\",\"要支援２\",\"要介護１\",\"要介護２\",\"要介護３\",\"要介護４\",\"要介護５\"}),\"\")","v":""},null,null,null,null,null,null,"M",{"$f":"IF('回復期診療計画(入力用)'!$BE$9=FALSE,IF(回復期データ出力用!L180=0,FALSE,IF(回復期データ出力用!L180<'回復期診療計画(入力用)'!$BD$1,TRUE,FALSE)))","v":false},7]
[null,"居宅介護支援事業所",null,{"$f":"'回復期診療計画(入力用)'!S85","v":0},null,{"$f":"IF(D181=0,\"\",D181)","v":""},null,null,null,null,null,null,"M",{"$f":"IF('回復期診療計画(入力用)'!$BE$9=FALSE,IF(回復期データ出力用!L181=0,FALSE,IF(回復期データ出力用!L181<'回復期診療計画(入力用)'!$BD$1,TRUE,FALSE)))","v":false}]
[null,"担当者",null,{"$f":"'回復期診療計画(入力用)'!AK85","v":0},null,{"$f":"IF(D182=0,\"\",D182)","v":""},null,null,null,null,null,null,"M",{"$f":"IF('回復期診療計画(入力用)'!$BE$9=FALSE,IF(回復期データ出力用!L182=0,FALSE,IF(回復期データ出力用!L182<'回復期診療計画(入力用)'!$BD$1,TRUE,FALSE)))","v":false}]
["退院後の本人・家族の希望",null,null,{"$f":"'回復期診療計画(入力用)'!O86","v":0},null,{"$f":"IF(D183=0,\"\",D183)","v":""},null,null,null,null,null,null,"M",{"$f":"IF('回復期診療計画(入力用)'!$BE$9=FALSE,IF(回復期データ出力用!L183=0,FALSE,IF(回復期データ出力用!L183<'回復期診療計画(入力用)'!$BD$1,TRUE,FALSE)))","v":false}]
["家族状況","介護者",null,0,"1:無 2:有",{"$f":"IF(D184<>\"\",LOOKUP(D184,{0,1,2},{\"\",\"無\",\"有\"}),\"\")","v":""},null,null,null,null,null,null,"M",{"$f":"IF('回復期診療計画(入力用)'!$BE$9=FALSE,IF(回復期データ出力用!L184=0,FALSE,IF(回復期データ出力用!L184<'回復期診療計画(入力用)'!$BD$1,TRUE,FALSE)))","v":false},0]
[null,"テキスト",null,{"$f":"'回復期診療計画(入力用)'!T88","v":0},null,{"$f":"IF(D185=0,\"\",D185)","v":""},null,null,null,null,null,null,"M",{"$f":"IF('回復期診療計画(入力用)'!$BE$9=FALSE,IF(回復期データ出力用!L185=0,FALSE,IF(回復期データ出力用!L185<'回復期診療計画(入力用)'!$BD$1,TRUE,FALSE)))","v":false}]
[null,"介護力",null,0,null,{"$f":"IF(D186<>\"\",LOOKUP(D186,{0,1,2,3},{\"\",\"常時可\",\"夜間のみ可\",\"不可\"}),\"\")","v":""},null,null,null,null,null,null,"M",{"$f":"IF('回復期診療計画(入力用)'!$BE$9=FALSE,IF(回復期データ出力用!L186=0,FALSE,IF(回復期データ出力用!L186<'回復期診療計画(入力用)'!$BD$1,TRUE,FALSE)))","v":false},0]
[null,"キーパーソン","氏名",{"$f":"'回復期診療計画(入力用)'!S89","v":0},null,{"$f":"IF(D187=0,\"\",D187)","v":""},null,null,null,null,null,null,"M",{"$f":"IF('回復期診療計画(入力用)'!$BE$9=FALSE,IF(回復期データ出力用!L187=0,FALSE,IF(回復期データ出力用!L187<'回復期診療計画(入力用)'!$BD$1,TRUE,FALSE)))","v":false}]
[null,null,"本人との関係",{"$f":"'回復期診療計画(入力用)'!AJ89","v":0},null,"",null,null,null,null,null,null,"M",{"$f":"IF('回復期診療計画(入力用)'!$BE$9=FALSE,IF(回復期データ出力用!L188=0,FALSE,IF(回復期データ出力用!L188<'回復期診療計画(入力用)'!$BD$1,TRUE,FALSE)))","v":false}]
["特記事項","有無",null,0,"1:無 2:有",{"$f":"IF(D189<>\"\",LOOKUP(D189,{0,1,2},{\"\",\"無\",\"有\"}),\"\")","v":""},null,null,null,null,null,null,"F",{"$f":"IF('回復期診療計画(入力用)'!$BE$11=FALSE,IF(回復期データ出力用!L189=0,FALSE,IF(回復期データ出力用!L189<'回復期診療計画(入力用)'!$BD$1,TRUE,FALSE)))","v":false},0]
[null,"テキスト",null,{"$f":"'回復期診療計画(入力用)'!A94","v":0},null,{"$f":"IF(D190=0,\"\",D190)","v":""},null,null,null,null,null,null,"F",{"$f":"IF('回復期診療計画(入力用)'!$BE$11=FALSE,IF(回復期データ出力用!L190=0,FALSE,IF(回復期データ出力用!L190<'回復期診療計画(入力用)'!$BD$1,TRUE,FALSE)))","v":false}]
[null,"記入者",null,null,null,""]
["最終確認年月日",null,null,null,null,{"$f":"IF(D192<>0,D192,\"\")","v":""}]
[null,"担当者",null,null,null,""]
["日常生活","記入者",null,{"$f":"'回復期診療計画(入力用)'!AV30","v":0},null,{"$f":"IF(D194=0,\"\",D194)","v":""},null,null,null,null,{"$f":"IF(F194=\"\",1,0)","v":1},null,"N",{"$f":"IF('回復期診療計画(入力用)'!$BE$5=FALSE,IF(回復期データ出力用!L194=0,FALSE,IF(回復期データ出力用!L194<'回復期診療計画(入力用)'!$BD$1,TRUE,FALSE)))","v":false}]
["日常生活機能","衣服の着脱",null,0,null,{"$f":"IF(D195<>\"\",LOOKUP(D195,{0,1,2,3},{\"\",\"介助なし\",\"一部介助\",\"全介助\"}),\"\")","v":""},null,null,null,null,{"$f":"IF(F195=\"\",1,0)","v":1},null,"N",{"$f":"IF('回復期診療計画(入力用)'!$BE$5=FALSE,IF(回復期データ出力用!L195=0,FALSE,IF(回復期データ出力用!L195<'回復期診療計画(入力用)'!$BD$1,TRUE,FALSE)))","v":false},0]
[null,"他者への意思の伝達",null,0,null,{"$f":"IF(D196<>\"\",LOOKUP(D196,{0,1,2,3},{\"\",\"できる\",\"出来る時と出来ない時がある\",\"できない\"}),\"\")","v":""},null,null,null,null,{"$f":"IF(F196=\"\",1,0)","v":1},null,"N",{"$f":"IF('回復期診療計画(入力用)'!$BE$5=FALSE,IF(回復期データ出力用!L196=0,FALSE,IF(回復期データ出力用!L196<'回復期診療計画(入力用)'!$BD$1,TRUE,FALSE)))","v":false},0]
["治療","内服","なし",false,null,{"$f":"IF(D197=TRUE,C197,\"\")","v":""},null,null,null,null,null,null,"D",{"$f":"IF('回復期診療計画(入力用)'!$BE$3=FALSE,IF(回復期データ出力用!L197=0,FALSE,IF(回復期データ出力用!L197<'回復期診療計画(入力用)'!$BD$1,TRUE,FALSE)))","v":false},false]
[null,null,"ワルファリン",false,null,{"$f":"IF(D198=TRUE,C198,\"\")","v":""},null,null,null,null,null,null,null,null,false]
[null,null,"ダビガトラン",false,null,{"$f":"IF(D199=TRUE,C199,\"\")","v":""},null,null,null,null,null,null,null,null,false]
[null,null,"リバーロキサバン",false,null,"",null,null,null,null,null,null,null,null,false]
[null,null,"アピキサバン",false,null,"",null,null,null,null,null,null,null,null,false]
[null,null,"エドキサバン トシル",false,null,"",null,null,null,null,null,null,null,null,false]
[null,null,"アスピリン",false,null,"",null,null,null,null,null,null,null,null,false]
[null,null,"シロスタゾール",false,null,"",null,null,null,null,null,null,null,null,false]
[null,null,"クロピドグレル",false,null,"",null,null,null,null,null,null,null,null,false]
[null,null,"チクロピジン",false,null,{"$f":"IF(D206=TRUE,C206,\"\")","v":""},null,{"$f":"IF(H207<>\"\", MID(H207,2,200),\"\")","v":""},null,null,null,null,null,null,false]
[null,null,"その他",false,null,{"$f":"IF(D207=TRUE,IF(D208<>\"\",C207&\"(\" & D208 & \")\",C207),\"\")","v":""},"計算用",{"$f":"IF(F198<>\"\",\"，\" & F198,\"\")  & IF(F199<>\"\",\"，\" & F199,\"\")  &  IF(F200<>\"\",\"，\" & F200,\"\")  &  IF(F201<>\"\",\"，\" & F201,\"\")  &  IF(F202<>\"\",\"，\" & F202,\"\")  & IF(F203<>\"\",\"，\" & F203,\"\") & IF(F204<>\"\",\"，\" & F204,\"\") & IF(F205<>\"\",\"，\" & F205,\"\") & IF(F206<>\"\",\"，\" & F206,\"\") & IF(F207<>\"\",\"，\" & F207,\"\") & IF(D197=TRUE,\",なし\",\"\")","v":""},null,null,{"$f":"IF(H207=\"\",1,0)","v":1},null,null,null,false]
[null,null,"その他テキスト",{"$f":"'回復期診療計画(入力用)'!W34","v":0},null,{"$f":"IF(D208=0,\"\",D208)","v":""},null,null,null,null,{"$f":"IF(D207=TRUE,IF(F208=\"\",1,0),0)","v":0},null,"D",{"$f":"IF('回復期診療計画(入力用)'!$BE$3=FALSE,IF(回復期データ出力用!L207=0,FALSE,IF(回復期データ出力用!L207<'回復期診療計画(入力用)'!$BD$1,TRUE,FALSE)))","v":false}]
["栄養呼吸","方法","経管",0,"1:胃管 2:胃瘻 3:その他",{"$f":"IF(D209<>\"\",LOOKUP(D209,{0,1,2,3},{\"\",\"(胃管)\",\"(胃瘻)\",\"(その他：\"}),\"\")","v":""},null,null,null,null,null,null,"N",{"$f":"IF('回復期診療計画(入力用)'!$BE$5=FALSE,IF(回復期データ出力用!L209=0,FALSE,IF(回復期データ出力用!L209<'回復期診療計画(入力用)'!$BD$1,TRUE,FALSE)))","v":false},0]
[null,null,"その他テキスト",{"$f":"'回復期診療計画(入力用)'!Z47","v":"呼吸"},null,{"$f":"IF(D224=TRUE,IF(D210=0,\"\",D210 ),\"\")","v":""},null,{"$f":" F210","v":""},null,null,{"$f":"IF(D224=TRUE,IF(F210=\"\",1,0),0)","v":0}]
["栄養呼吸","気管切開","最終交換日",{"$f":"'回復期診療計画(入力用)'!U49","v":"00:00:00"},null,{"$f":"IF(D211=0,\"\",D211)","v":""},null,null,null,null,{"$f":"IF(D110=2,IF(F211=\"\",1,0),0)","v":0},null,"N",{"$f":"IF('回復期診療計画(入力用)'!$BE$5=FALSE,IF(回復期データ出力用!L211=0,FALSE,IF(回復期データ出力用!L211<'回復期診療計画(入力用)'!$BD$1,TRUE,FALSE)))","v":false}]
["リハビリ","ＰＴ：",null,{"$f":"'回復期診療計画(入力用)'!N61","v":0},null,{"$f":"IF(D212<>0,B212 &D212,\"\")","v":""},null,null,null,null,{"$f":"IF(D124=TRUE,IF(F212=\"\",1,0),0)","v":0},null,"S",{"$f":"IF('回復期診療計画(入力用)'!$BE$7=FALSE,IF(回復期データ出力用!L212=0,FALSE,IF(回復期データ出力用!L212<'回復期診療計画(入力用)'!$BD$1,TRUE,FALSE)))","v":false}]
[null,"ＯＴ：",null,{"$f":"'回復期診療計画(入力用)'!X61","v":0},null,{"$f":"IF(D213<>0,B213 &D213,\"\")","v":""},null,null,null,null,{"$f":"IF(D126=TRUE,IF(F213=\"\",1,0),0)","v":0},null,"S",{"$f":"IF('回復期診療計画(入力用)'!$BE$7=FALSE,IF(回復期データ出力用!L213=0,FALSE,IF(回復期データ出力用!L213<'回復期診療計画(入力用)'!$BD$1,TRUE,FALSE)))","v":false}]
[null,"ＳＴ：",null,{"$f":"'回復期診療計画(入力用)'!AH61","v":0},null,{"$f":"IF(D214<>0,B214 &D214,\"\")","v":""},null,{"$f":" TRIM(F212& \"　\" & F213&\"　\" & F214)","v":""},null,null,{"$f":"IF(D128=TRUE,IF(F214=\"\",1,0),0)","v":0},null,"S",{"$f":"IF('回復期診療計画(入力用)'!$BE$7=FALSE,IF(回復期データ出力用!L214=0,FALSE,IF(回復期データ出力用!L214<'回復期診療計画(入力用)'!$BD$1,TRUE,FALSE)))","v":false}]
["栄養呼吸","食事形態","普通食",false,null,{"$f":"IF(D215=TRUE,C215,\"\")","v":""},null,null,null,null,null,null,"N",{"$f":"IF('回復期診療計画(入力用)'!$BE$5=FALSE,IF(回復期データ出力用!L215=0,FALSE,IF(回復期データ出力用!L215<'回復期診療計画(入力用)'!$BD$1,TRUE,FALSE)))","v":false},false]
[null,null,"きざみ食",false,null,{"$f":"IF(D216=TRUE,C216,\"\")","v":""},null,null,null,null,null,null,null,null,false]
[null,null,"とろみ食",false,null,"",null,null,null,null,null,null,null,null,false]
[null,null,"治療食",false,null,"",null,{"$f":"IF(H219<>\"\", MID(H219,2,200),\"\")","v":""},null,null,null,null,null,null,false]
[null,null,"その他",false,null,"","計算用",{"$f":" IF(F215<>\"\",\"，\" & F215,\"\") & IF(F216<>\"\",\"，\" & F216,\"\") & IF(F217<>\"\",\"，\" & F217,\"\") & IF(F218<>\"\",\"，\" & F218,\"\") & IF(F219<>\"\",\"，\" & F219,\"\")","v":""},null,null,{"$f":"IF(H219=\"\",1,0)","v":1},null,null,null,false]
[null,"方法","経口",false,null,"",null,{"$f":"IF(H221<>\"\", MID(H221,2,200),\"\")","v":""},null,null,null,null,"N",{"$f":"IF('回復期診療計画(入力用)'!$BE$5=FALSE,IF(回復期データ出力用!L220=0,FALSE,IF(回復期データ出力用!L220<'回復期診療計画(入力用)'!$BD$1,TRUE,FALSE)))","v":false},false]
[null,null,"経管",false,null,"","計算用",{"$f":" IF(F220<>\"\",\"，\" & F220,\"\") & IF(F221<>\"\",\"，\" & F221,\"\")","v":""},null,null,{"$f":"IF(H221=\"\",1,0)","v":1},null,null,null,false]
[null,"経管","胃管",false,null,"",null,null,null,null,null,null,"N",{"$f":"IF('回復期診療計画(入力用)'!$BE$5=FALSE,IF(回復期データ出力用!L222=0,FALSE,IF(回復期データ出力用!L222<'回復期診療計画(入力用)'!$BD$1,TRUE,FALSE)))","v":false},false]
[null,null,"胃瘻",false,null,"",null,{"$f":"IF(H224<>\"\", MID(H224,2,200),\"\")","v":""},null,null,null,null,null,null,false]
[null,null,"その他",false,null,"","計算用",{"$f":" IF(F222<>\"\",\"，\" & F222,\"\") & IF(F223<>\"\",\"，\" & F223,\"\") & IF(F224<>\"\",\"，\" & F224,\"\")","v":""},null,null,{"$f":"IF(D221=TRUE,IF(H224=\"\",1,0),0)","v":0},null,null,null,false]
["排泄","方法","トイレ",false,null,"",null,null,null,null,null,null,"N",{"$f":"IF('回復期診療計画(入力用)'!$BE$5=FALSE,IF(回復期データ出力用!L225=0,FALSE,IF(回復期データ出力用!L225<'回復期診療計画(入力用)'!$BD$1,TRUE,FALSE)))","v":false},false]
[null,null,"ポータブルトイレ ",false,null,"",null,null,null,null,null,null,null,null,false]
[null,null,"尿器",false,null,"",null,null,null,null,null,null,null,null,false]
[null,null,"オムツ ",false,null,"",null,{"$f":"IF(H229<>\"\", MID(H229,2,200),\"\")","v":""},null,null,null,null,null,null,false]
[null,null,"バルン",false,null,"","計算用",{"$f":" IF(F225<>\"\",\"，\" & F225,\"\") & IF(F226<>\"\",\"，\" & F226,\"\") & IF(F227<>\"\",\"，\" & F227,\"\") & IF(F228<>\"\",\"，\" & F228,\"\") & IF(F229<>\"\",\"，\" & F229,\"\")","v":""},null,null,{"$f":"IF(H229=\"\",1,0)","v":1},null,null,null,false]
["目標","入院時","日常生活拡大に向けたリハビリ",false,null,{"$f":"IF(D230=TRUE,C230,\"\")","v":""},null,null,{"$f":"IF(D230=FALSE,IF(D231=FALSE,1,0),0)","v":1},null,null,null,"D",{"$f":"IF('回復期診療計画(入力用)'!$BE$3=FALSE,IF(回復期データ出力用!L230=0,FALSE,IF(回復期データ出力用!L230<'回復期診療計画(入力用)'!$BD$1,TRUE,FALSE)))","v":false},false]
[null,null,"その他",false,null,null,null,{"$f":"IF(H232<>\"\", MID(H232,2,200),\"\")","v":""},null,null,null,null,"D",{"$f":"IF('回復期診療計画(入力用)'!$BE$3=FALSE,IF(回復期データ出力用!L231=0,FALSE,IF(回復期データ出力用!L231<'回復期診療計画(入力用)'!$BD$1,TRUE,FALSE)))","v":false},false]
[null,null,"その他テキスト",{"$f":"'回復期診療計画(入力用)'!I15","v":0},null,{"$f":"IF(D231=TRUE,IF(D232=0,\"\", \"その他（\" & D232 & \"）\"),\"\")","v":""},"計算用",{"$f":"IF(F230<>\"\",\"，\"&F230,\"\")&IF(D231=TRUE,\"，\"&F232,\"\")","v":""},{"$f":"IF(D231=TRUE,IF(F232=\"\",1,0),0)","v":0},null,null,null,"D",{"$f":"IF('回復期診療計画(入力用)'!$BE$3=FALSE,IF(回復期データ出力用!L232=0,FALSE,IF(回復期データ出力用!L232<'回復期診療計画(入力用)'!$BD$1,TRUE,FALSE)))","v":false}]
[null,"３か月","日常生活拡大に向けたリハビリ",false,null,{"$f":"IF(D233=TRUE,C233,\"\")","v":""},null,null,null,{"$f":"IF(D233=FALSE,IF(D234=FALSE,1,0),0)","v":1},null,null,"D",{"$f":"IF('回復期診療計画(入力用)'!$BE$3=FALSE,IF(回復期データ出力用!L233=0,FALSE,IF(回復期データ出力用!L233<'回復期診療計画(入力用)'!$BD$1,TRUE,FALSE)))","v":false},false]
[null,null,"その他",false,null,null,null,{"$f":"IF(H235<>\"\", MID(H235,2,200),\"\")","v":""},null,null,null,null,"D",{"$f":"IF('回復期診療計画(入力用)'!$BE$3=FALSE,IF(回復期データ出力用!L234=0,FALSE,IF(回復期データ出力用!L234<'回復期診療計画(入力用)'!$BD$1,TRUE,FALSE)))","v":false},false]
[null,null,"その他テキスト",{"$f":"'回復期診療計画(入力用)'!Y15","v":0},null,{"$f":"IF(D234=TRUE,IF(D235=0,\"\", \"その他（\" & D235 & \"）\"),\"\")","v":""},"計算用",{"$f":"IF(F233<>\"\",\"，\"&F233,\"\")&IF(D234=TRUE,\"，\"&F235,\"\")","v":""},null,{"$f":"IF(D234=TRUE,IF(F235=\"\",1,0),0)","v":0},null,null,"D",{"$f":"IF('回復期診療計画(入力用)'!$BE$3=FALSE,IF(回復期データ出力用!L235=0,FALSE,IF(回復期データ出力用!L235<'回復期診療計画(入力用)'!$BD$1,TRUE,FALSE)))","v":false}]
[null,"退院時","日常生活能力の獲得",false,null,{"$f":"IF(D236=TRUE,C236,\"\")","v":""},null,null,null,null,{"$f":"IF(D236=FALSE,IF(D237=FALSE,1,0),0)","v":1},null,"D",{"$f":"IF('回復期診療計画(入力用)'!$BE$3=FALSE,IF(回復期データ出力用!L236=0,FALSE,IF(回復期データ出力用!L236<'回復期診療計画(入力用)'!$BD$1,TRUE,FALSE)))","v":false},false]
[null,null,"その他",false,null,null,null,{"$f":"IF(H238<>\"\", MID(H238,2,200),\"\")","v":""},null,null,null,null,"D",{"$f":"IF('回復期診療計画(入力用)'!$BE$3=FALSE,IF(回復期データ出力用!L237=0,FALSE,IF(回復期データ出力用!L237<'回復期診療計画(入力用)'!$BD$1,TRUE,FALSE)))","v":false},false]
[null,null,"その他テキスト",{"$f":"'回復期診療計画(入力用)'!AO15","v":0},null,{"$f":"IF(D237=TRUE,IF(D238=0,\"\", \"その他（\" & D238 & \"）\"),\"\")","v":""},"計算用",{"$f":"IF(F236<>\"\",\"，\"&F236,\"\")&IF(D237=TRUE,\"，\"&F238,\"\")","v":""},null,null,{"$f":"IF(D237=TRUE,IF(F238=\"\",1,0),0)","v":0},null,"D",{"$f":"IF('回復期診療計画(入力用)'!$BE$3=FALSE,IF(回復期データ出力用!L238=0,FALSE,IF(回復期データ出力用!L238<'回復期診療計画(入力用)'!$BD$1,TRUE,FALSE)))","v":false}]
[]
["回復期入力完了日",null,null,null,null,{"$f":"IF(D240=0,\"\",D240)","v":""},null,"入力ﾁｪｯｸ",{"$f":"SUM(I3:I239)","v":40},{"$f":"SUM(J3:J239)","v":40},{"$f":"SUM(K3:K239)","v":101}]

{"sheet":"維持期データ出力用","index":14,"n_rows":285,"n_cols":29,"rows_kept":285,"cut":false,"hidden":true,"merged":[[1,0,1,2],[1,6,1,7]]}
["データ出力用",null,null,null,null,null,null,null,"入力済み:0 未:1"]
["項目名",null,null,"値","備考","印刷文字","計算用",null,"1ヶ月必須","３ヶ月必須","３ヶ月要","入力日時","入力担当","ﾁｪｯｸ有","前回入力"]
["紹介元病院名",null,null,{"$f":"'維持期診療計画(入力用)'!H3","v":0},null,{"$f":"IF(D3=0,\"\",D3)","v":""},null,null,{"$f":"IF(F3=\"\",1,0)","v":1},null,null,null,null,{"$f":"IF('維持期診療計画(入力用)'!$BE$5=FALSE,IF(維持期データ出力用!L3=0,FALSE,IF(維持期データ出力用!L3<'維持期診療計画(入力用)'!$BD$1,TRUE,FALSE)))","v":false}]
["維持期・かかりつけ医",null,null,{"$f":"'維持期診療計画(入力用)'!AC3","v":0},null,{"$f":"IF(D4=0,\"\",D4)","v":""},null,null,{"$f":"IF(F4=\"\",1,0)","v":1},null,null,null,null,{"$f":"IF('維持期診療計画(入力用)'!$BE$5=FALSE,IF(維持期データ出力用!L4=0,FALSE,IF(維持期データ出力用!L4<'維持期診療計画(入力用)'!$BD$1,TRUE,FALSE)))","v":false}]
["氏名",null,null,{"$f":"IF('維持期診療計画(入力用)'!D4=\"\",\"\",'維持期診療計画(入力用)'!D4)","v":""},null,{"$f":"D5","v":""},null,null,{"$f":"IF(F5=\"\",1,0)","v":1},null,null,null,null,{"$f":"IF('維持期診療計画(入力用)'!$BE$5=FALSE,IF(維持期データ出力用!L5=0,FALSE,IF(維持期データ出力用!L5<'維持期診療計画(入力用)'!$BD$1,TRUE,FALSE)))","v":false}]
["性別",null,null,0,"1:男　2:女",{"$f":"IF(D6=1,\"男\",IF(D6=2,\"女\",\"\"))","v":""},null,null,{"$f":"IF(F6=\"\",1,0)","v":1},null,null,null,null,{"$f":"IF('維持期診療計画(入力用)'!$BE$5=FALSE,IF(維持期データ出力用!L6=0,FALSE,IF(維持期データ出力用!L6<'維持期診療計画(入力用)'!$BD$1,TRUE,FALSE)))","v":false},0]
["生年月日","年号",null,0,"1:明治 2:大正 3:昭和 4:平成",{"$f":"IF(D7<>\"\",LOOKUP(D7,{0,1,2,3,4},{\"\",\"明治\",\"大正\",\"昭和\",\"平成\"}),\"\")","v":""},null,null,null,null,null,null,null,{"$f":"IF('維持期診療計画(入力用)'!$BE$5=FALSE,IF(維持期データ出力用!L7=0,FALSE,IF(維持期データ出力用!L7<'維持期診療計画(入力用)'!$BD$1,TRUE,FALSE)))","v":false},0]
[null,"和暦年",null,{"$f":"'維持期診療計画(入力用)'!AJ4","v":"　年"},null,{"$f":"D8","v":"　年"}]
[null,"月日",null,{"$f":"'維持期診療計画(入力用)'!AL4","v":"月日"}]
[null,"和暦",null,{"$f":"F7 & F8 & TEXT(D9,\"mm月dd日\")","v":"　年月日"},null,{"$f":"D10","v":"　年月日"}]
[null,"西暦",null,{"$f":"IF(ISERROR('維持期診療計画(入力用)'!BI13),\"\",'維持期診療計画(入力用)'!BI13)","v":""},null,{"$f":"D11","v":""},null,null,{"$f":"IF(F11=\"\",1,0)","v":1},null,null,null,null,{"$f":"IF('維持期診療計画(入力用)'!$BE$5=FALSE,IF(維持期データ出力用!L11=0,FALSE,IF(維持期データ出力用!L11<'維持期診療計画(入力用)'!$BD$1,TRUE,FALSE)))","v":false},"1993-09-06"]
["年齢",null,null,{"$f":"IF(ISERROR('維持期診療計画(入力用)'!BI15),\"\",'維持期診療計画(入力用)'!BI15)","v":""},null,{"$f":"D12","v":""},null,null,1]
["住所",null,null,{"$f":"IF('維持期診療計画(入力用)'!D5=\"\",\"\",'維持期診療計画(入力用)'!D5)","v":""},null,{"$f":"D13","v":""},null,null,1,null,null,null,null,{"$f":"IF('維持期診療計画(入力用)'!$BE$5=FALSE,IF(維持期データ出力用!L13=0,FALSE,IF(維持期データ出力用!L13<'維持期診療計画(入力用)'!$BD$1,TRUE,FALSE)))","v":false}]
["電話番号",null,null,{"$f":"IF('維持期診療計画(入力用)'!W5=\"\",\"\",'維持期診療計画(入力用)'!W5)","v":""},null,{"$f":"D14","v":""},null,null,1,null,null,null,null,{"$f":"IF('維持期診療計画(入力用)'!$BE$5=FALSE,IF(維持期データ出力用!L14=0,FALSE,IF(維持期データ出力用!L14<'維持期診療計画(入力用)'!$BD$1,TRUE,FALSE)))","v":false},""]
["利き腕",null,null,0,"1:右 2:左 3:両",{"$f":"IF(D15<>\"\",LOOKUP(D15,{0,1,2,3},{\"\",\"右\",\"左\",\"両\"}),\"\")","v":""},null,null,1,null,null,null,null,{"$f":"IF('維持期診療計画(入力用)'!$BE$5=FALSE,IF(維持期データ出力用!L15=0,FALSE,IF(維持期データ出力用!L15<'維持期診療計画(入力用)'!$BD$1,TRUE,FALSE)))","v":false},0]
["身長",null,null,{"$f":"IF('維持期診療計画(入力用)'!AS5=\"\",\"\",'維持期診療計画(入力用)'!AS5)","v":""},null,{"$f":"D16","v":""},null,null,1,null,null,null,null,{"$f":"IF('維持期診療計画(入力用)'!$BE$5=FALSE,IF(維持期データ出力用!L16=0,FALSE,IF(維持期データ出力用!L16<'維持期診療計画(入力用)'!$BD$1,TRUE,FALSE)))","v":false}]
["体重",null,null,{"$f":"IF('維持期診療計画(入力用)'!AY5=\"\",\"\",'維持期診療計画(入力用)'!AY5)","v":""},null,{"$f":"D17","v":""},null,null,1,null,null,null,null,{"$f":"IF('維持期診療計画(入力用)'!$BE$5=FALSE,IF(維持期データ出力用!L17=0,FALSE,IF(維持期データ出力用!L17<'維持期診療計画(入力用)'!$BD$1,TRUE,FALSE)))","v":false}]
["診断名","脳梗塞",null,false,null,{"$f":"IF(D18=TRUE,B18,\"\") & IF(H25<>\"\",\"(\" & MID(H25,2,200) & \")\",\"\")","v":""},null,null,{"$f":"IF(F18=\"\",IF(F26=\"\",IF(F35=\"\",IF(F40=\"\",1,0),0),0),0)","v":1},null,null,null,null,{"$f":"IF('維持期診療計画(入力用)'!$BE$5=FALSE,IF(維持期データ出力用!L18=0,FALSE,IF(維持期データ出力用!L18<'維持期診療計画(入力用)'!$BD$1,TRUE,FALSE)))","v":false}]
[null,null,"心原性",false,null,{"$f":"IF(D19=TRUE,C19,\"\")","v":""},null,null,null,null,null,null,null,null,false]
[null,null,"アテローム血栓性",false,null,"",null,null,null,null,null,null,null,null,false]
[null,null,"BAD",false,null,"",null,null,null,null,null,null,null,null,false]
[null,null,"ラクナ",false,null,"",null,null,null,null,null,null,null,null,false]
[null,null,"奇異性",false,null,"",null,null,null,null,null,null,null,null,false]
[null,null,"もやもや病",false,null,"",null,null,null,null,null,null,null,null,false]
[null,null,"その他",false,null,"","計算用",{"$f":"IF(F19<>\"\",\"，\" & F19,\"\") & IF(F20<>\"\",\"，\" & F20,\"\")  & IF(F21<>\"\",\"，\" & F21,\"\") & IF(F22<>\"\",\"，\" & F22,\"\") & IF(F23<>\"\",\"，\" & F23,\"\") & IF(F24<>\"\",\"，\" & F24,\"\") & IF(F25<>\"\",\"，\" & F25,\"\")","v":""},null,null,null,null,null,null,false]
[null,"脳出血",null,false,null,{"$f":"IF(D26=TRUE,B26,\"\") & IF(H34<>\"\",\"(\" & MID(H34,2,200) & \")\",\"\")","v":""},null,null,null,null,null,null,null,{"$f":"IF('維持期診療計画(入力用)'!$BE$5=FALSE,IF(維持期データ出力用!L26=0,FALSE,IF(維持期データ出力用!L26<'維持期診療計画(入力用)'!$BD$1,TRUE,FALSE)))","v":false}]
[null,null,"被殻",false,null,{"$f":"IF(D27=TRUE,C27,\"\")","v":""},null,null,null,null,null,null,null,null,false]
[null,null,"視床",false,null,"",null,null,null,null,null,null,null,null,false]
[null,null,"小脳",false,null,"",null,null,null,null,null,null,null,null,false]
[null,null,"皮質下",false,null,"",null,null,null,null,null,null,null,null,false]
[null,null,"脳室内",false,null,"",null,null,null,null,null,null,null,null,false]
[null,null,"もやもや病",false,null,"",null,null,null,null,null,null,null,null,false,null,null,null,null,null,null,null,null,null,null,null,null,null,0]
[null,null,"AVM",false,null,"",null,null,null,null,null,null,null,null,false]
[null,null,"その他",false,null,"","計算用",{"$f":"IF(F27<>\"\",\"，\" & F27,\"\") &  IF(F28<>\"\",\"，\" & F28,\"\") & IF(F29<>\"\",\"，\" & F29,\"\")  & IF(F30<>\"\",\"，\" & F30,\"\") & IF(F31<>\"\",\"，\" & F31,\"\") & IF(F32<>\"\",\"，\" & F32,\"\") & IF(F33<>\"\",\"，\" & F33,\"\") & IF(F34<>\"\",\"，\" & F34,\"\")","v":""},null,null,null,null,null,null,false]
[null,"くも膜下出血　",null,false,null,{"$f":"IF(D35=TRUE,B35,\"\") & IF(H39<>\"\",\"(\" & MID(H39,2,200) & \")\",\"\")","v":""},null,null,null,null,null,null,null,{"$f":"IF('維持期診療計画(入力用)'!$BE$5=FALSE,IF(維持期データ出力用!L35=0,FALSE,IF(維持期データ出力用!L35<'維持期診療計画(入力用)'!$BD$1,TRUE,FALSE)))","v":false}]
[null,null,"嚢状動脈瘤破裂",false,null,{"$f":"IF(D36=TRUE,C36,\"\")","v":""},null,null,null,null,null,null,null,null,false]
[null,null,"動脈解離",false,null,{"$f":"IF(D37=TRUE,C37,\"\")","v":""},null,null,null,null,null,null,null,null,false]
[null,null,"その他",false,null,{"$f":"IF(D38=TRUE,C38,\"\")","v":""},null,null,null,null,null,null,null,null,false]
[null,null,"不明",false,null,{"$f":"IF(D39=TRUE,C39,\"\")","v":""},"計算用",{"$f":"  IF(F36<>\"\",\"，\" & F36,\"\") & IF(F37<>\"\",\"，\" & F37,\"\") & IF(F38<>\"\",\"，\" & F38,\"\") & IF(F39<>\"\",\"，\" & F39,\"\")","v":""},null,null,null,null,null,null,false]
[null,"その他",null,false,null,{"$f":"IF(D40=TRUE,B40,\"\") & IF(F41<>\"\",\"(\" & F41 & \")\",\"\")","v":""},null,null,null,null,null,null,null,{"$f":"IF('維持期診療計画(入力用)'!$BE$5=FALSE,IF(維持期データ出力用!L40=0,FALSE,IF(維持期データ出力用!L40<'維持期診療計画(入力用)'!$BD$1,TRUE,FALSE)))","v":false},false]
[null,null,null,{"$f":"'維持期診療計画(入力用)'!I9","v":0},null,{"$f":"IF(D41<>0,D41,\"\")","v":""},null,null,{"$f":"IF(D40=TRUE,IF(F41=\"\",1,0),0)","v":0},null,null,null,null,{"$f":"IF('維持期診療計画(入力用)'!$BE$5=FALSE,IF(維持期データ出力用!L41=0,FALSE,IF(維持期データ出力用!L41<'維持期診療計画(入力用)'!$BD$1,TRUE,FALSE)))","v":false}]
["発症日",null,null,{"$f":"'維持期診療計画(入力用)'!H10","v":"00:00:00"},null,{"$f":"IF(D42=0,\"\",D42)","v":""},null,null,{"$f":"IF(F42=\"\",1,0)","v":1},null,null,null,null,{"$f":"IF('維持期診療計画(入力用)'!$BE$5=FALSE,IF(維持期データ出力用!L42=0,FALSE,IF(維持期データ出力用!L42<'維持期診療計画(入力用)'!$BD$1,TRUE,FALSE)))","v":false}]
["部位",null,null,0,"1:右　2:左　3:両側　4:その他",{"$f":"IF(D43<>\"\",LOOKUP(D43,{0,1,2,3,4},{\"\",\"右\",\"左\",\"両側\",\"その他\"}),\"\")","v":""},null,null,{"$f":"IF(F43=\"\",1,0)","v":1},null,null,null,null,{"$f":"IF('維持期診療計画(入力用)'!$BE$5=FALSE,IF(維持期データ出力用!L43=0,FALSE,IF(維持期データ出力用!L43<'維持期診療計画(入力用)'!$BD$1,TRUE,FALSE)))","v":false},0]
["既往",null,null,0,"1:初発　2:再発",{"$f":"IF(D44<>\"\",LOOKUP(D44,{0,1,2},{\"\",\"初発\",\"再発\"}),\"\")","v":""},null,null,{"$f":"IF(F44=\"\",1,0)","v":1},null,null,null,null,{"$f":"IF('維持期診療計画(入力用)'!$BE$5=FALSE,IF(維持期データ出力用!L44=0,FALSE,IF(維持期データ出力用!L44<'維持期診療計画(入力用)'!$BD$1,TRUE,FALSE)))","v":false},0]
["脳卒中危険因子","高血圧",null,false,null,{"$f":"IF(D45=TRUE,B45,\"\")","v":""},null,null,null,null,null,null,null,{"$f":"IF('維持期診療計画(入力用)'!$BE$5=FALSE,IF(維持期データ出力用!L45=0,FALSE,IF(維持期データ出力用!L45<'維持期診療計画(入力用)'!$BD$1,TRUE,FALSE)))","v":false},false]
[null,"心房細動",null,false,null,{"$f":"IF(D46=TRUE,B46,\"\")","v":""},null,null,null,null,null,null,null,null,false]
[null,"高コレステロール血症",null,false,null,"",null,null,null,null,null,null,null,null,false]
[null,"高TG血症",null,false,null,"",null,null,null,null,null,null,null,null,false]
[null,"高LDL血症",null,false,null,"",null,null,null,null,null,null,null,null,false]
[null,"糖尿病",null,false,null,"",null,{"$f":"IF(H51<>\"\", MID(H51,2,200),\"\")","v":""},null,null,null,null,null,null,false]
[null,"卵円孔開存",null,false,null,"",null,{"$f":"IF(H52<>\"\", MID(H52,2,200),\"\")","v":""},null,null,null,null,null,null,false]
[null,"なし",null,false,null,"","計算用",{"$f":"IF(F45<>\"\",\"，\" & F45,\"\")  & IF(F46<>\"\",\"，\" & F46,\"\")  & IF(F47<>\"\",\"，\" & F47,\"\") & IF(F48<>\"\",\"，\" & F48,\"\") & IF(F49<>\"\",\"，\" & F49,\"\") & IF(F50<>\"\",\"，\" & F50,\"\") & IF(F51<>\"\",\"，\" & F51,\"\") & IF(F52<>\"\",\"，\" & F52,\"\")","v":""},{"$f":"IF(H52=\"\",1,0)","v":1},null,null,null,null,null,false]
["酒",null,null,0,"1:なし 2:機会飲酒 3:あり",{"$f":"IF(D53<>\"\",LOOKUP(D53,{0,1,2,3},{\"\",\"なし\",\"機会飲酒\",\"あり\"}),\"\")","v":""},null,null,{"$f":"IF(F53=\"\",1,0)","v":1},null,null,null,null,{"$f":"IF('維持期診療計画(入力用)'!$BE$5=FALSE,IF(維持期データ出力用!L53=0,FALSE,IF(維持期データ出力用!L53<'維持期診療計画(入力用)'!$BD$1,TRUE,FALSE)))","v":false},0]
["たばこ",null,null,0,"1:なし 2:過去にあり 3:あり",{"$f":"IF(D54<>\"\",LOOKUP(D54,{0,1,2,3},{\"\",\"なし\",\"過去にあり\",\"あり\"}),\"\")","v":""},null,null,{"$f":"IF(F54=\"\",1,0)","v":1},null,null,null,null,{"$f":"IF('維持期診療計画(入力用)'!$BE$5=FALSE,IF(維持期データ出力用!L54=0,FALSE,IF(維持期データ出力用!L54<'維持期診療計画(入力用)'!$BD$1,TRUE,FALSE)))","v":false},0]
["移行後３ヶ月","評価日",null,{"$f":"'維持期診療計画(入力用)'!E14","v":"00:00:00"},null,{"$f":"IF(D55=0,\"\",D55)","v":""},null,null,null,{"$f":"IF(F55=\"\",1,0)","v":1},null,null,null,{"$f":"IF('維持期診療計画(入力用)'!$BE$5=FALSE,IF(維持期データ出力用!L55=0,FALSE,IF(維持期データ出力用!L55<'維持期診療計画(入力用)'!$BD$1,TRUE,FALSE)))","v":false}]
["処置","経過中の症状変動の有無",null,0,"1:有　2:無",{"$f":"IF(D56<>\"\",LOOKUP(D56,{0,1,2},{\"\",\"無\",\"有\"}),\"\")","v":""},null,null,null,{"$f":"IF(F56=\"\",1,0)","v":1},null,null,null,{"$f":"IF('維持期診療計画(入力用)'!$BE$5=FALSE,IF(維持期データ出力用!L56=0,FALSE,IF(維持期データ出力用!L56<'維持期診療計画(入力用)'!$BD$1,TRUE,FALSE)))","v":false},0]
[null,"症状と原因",null,{"$f":"'維持期診療計画(入力用)'!I16","v":0},null,{"$f":"IF(D57=0,\"\",D57)","v":""},null,null,null,{"$f":"IF(D56=2,IF(F57=\"\",1,0),0)","v":0},null,null,null,{"$f":"IF('維持期診療計画(入力用)'!$BE$5=FALSE,IF(維持期データ出力用!L57=0,FALSE,IF(維持期データ出力用!L57<'維持期診療計画(入力用)'!$BD$1,TRUE,FALSE)))","v":false}]
["検査","テキスト",null,{"$f":"'維持期診療計画(入力用)'!E18","v":0},null,{"$f":"IF(D58=0,\"\",D58)","v":""},null,null,null,null,null,null,null,{"$f":"IF('維持期診療計画(入力用)'!$BE$5=FALSE,IF(維持期データ出力用!L58=0,FALSE,IF(維持期データ出力用!L58<'維持期診療計画(入力用)'!$BD$1,TRUE,FALSE)))","v":false}]
["治療","内服","なし",false,null,{"$f":"IF(D59=TRUE,C59,\"\")","v":""},null,null,null,null,null,null,null,{"$f":"IF('維持期診療計画(入力用)'!$BE$5=FALSE,IF(維持期データ出力用!L59=0,FALSE,IF(維持期データ出力用!L59<'維持期診療計画(入力用)'!$BD$1,TRUE,FALSE)))","v":false},false]
[null,null,"ワルファリン",false,null,{"$f":"IF(D60=TRUE,C60,\"\")","v":""},null,null,null,null,null,null,null,null,false]
[null,null,"ダビガトラン",false,null,{"$f":"IF(D61=TRUE,C61,\"\")","v":""},null,null,null,null,null,null,null,null,false]
[null,null,"リバーロキサバン",false,null,"",null,null,null,null,null,null,null,null,false]
[null,null,"アピキサバン",false,null,"",null,null,null,null,null,null,null,null,false]
[null,null,"エドキサバン トシル",false,null,"",null,null,null,null,null,null,null,null,false]
[null,null,"アスピリン",false,null,"",null,null,null,null,null,null,null,null,false]
[null,null,"シロスタゾール",false,null,"",null,null,null,null,null,null,null,null,false]
[null,null,"クロピドグレル",false,null,"",null,null,null,null,null,null,null,null,false]
[null,null,"チクロピジン",false,null,{"$f":"IF(D68=TRUE,C68,\"\")","v":""},null,{"$f":"IF(H69<>\"\", MID(H69,2,200),\"\")","v":""},null,null,null,null,null,null,false]
[null,null,"その他",false,null,{"$f":"IF(D69=TRUE,IF(D70<>\"\",C69&\"(\" & D70 & \")\",C69),\"\")","v":""},"計算用",{"$f":"IF(F60<>\"\",\"，\" & F60,\"\")  & IF(F61<>\"\",\"，\" & F61,\"\")  &  IF(F62<>\"\",\"，\" & F62,\"\")  &  IF(F63<>\"\",\"，\" & F63,\"\")  &  IF(F64<>\"\",\"，\" & F64,\"\")  & IF(F65<>\"\",\"，\" & F65,\"\") & IF(F66<>\"\",\"，\" & F66,\"\") & IF(F67<>\"\",\"，\" & F67,\"\") & IF(F68<>\"\",\"，\" & F68,\"\") & IF(F69<>\"\",\"，\" & F69,\"\") & IF(D59=TRUE,\",なし\",\"\")","v":""},null,null,null,null,null,null,false]
[null,null,"その他テキスト",{"$f":"'維持期診療計画(入力用)'!$W$20","v":0},null,{"$f":"IF(D70=0,\"\",D70)","v":""},null,null,null,null,null,null,null,{"$f":"IF('維持期診療計画(入力用)'!$BE$5=FALSE,IF(維持期データ出力用!L70=0,FALSE,IF(維持期データ出力用!L70<'維持期診療計画(入力用)'!$BD$1,TRUE,FALSE)))","v":false}]
[null,"服薬管理",null,0,"1:自立 2:一部介助 3:全介助",{"$f":"IF(D71<>\"\",LOOKUP(D71,{0,1,2,3},{\"\",\"自立\",\"一部介助\",\"全介助\"}),\"\")","v":""},null,null,null,null,null,null,null,{"$f":"IF('維持期診療計画(入力用)'!$BE$5=FALSE,IF(維持期データ出力用!L71=0,FALSE,IF(維持期データ出力用!L71<'維持期診療計画(入力用)'!$BD$1,TRUE,FALSE)))","v":false},0]
["治療",null,null,0,"1:継続治療要 2:継続治療不要だか要観察 3:特に治療の必要なし 4:特に受診の必要なし",{"$f":"IF(D72<>\"\",LOOKUP(D72,{0,1,2,3,4},{\"\",\"継続治療要\",\"継続治療不要だか要観察\",\"特に治療の必要なし\",\"特に受診の必要なし\"}),\"\")","v":""},null,null,null,null,null,null,null,{"$f":"IF('維持期診療計画(入力用)'!$BE$5=FALSE,IF(維持期データ出力用!L72=0,FALSE,IF(維持期データ出力用!L72<'維持期診療計画(入力用)'!$BD$1,TRUE,FALSE)))","v":false},0]
[null,"治療方法","薬剤管理",false,null,{"$f":"IF(D73=TRUE,C73,\"\")","v":""},null,null,null,null,null,null,null,{"$f":"IF('維持期診療計画(入力用)'!$BE$5=FALSE,IF(維持期データ出力用!L73=0,FALSE,IF(維持期データ出力用!L73<'維持期診療計画(入力用)'!$BD$1,TRUE,FALSE)))","v":false},false]
[null,null,"血圧管理",false,null,{"$f":"IF(D74=TRUE,C74,\"\")","v":""},null,null,null,null,null,null,null,null,false]
[null,null,"血糖管理",false,null,{"$f":"IF(D75=TRUE,C75,\"\")","v":""},null,null,null,null,null,null,null,null,false]
[null,null,"その他",false,null,{"$f":"IF(D76=TRUE,C76,\"\")","v":""},null,{"$f":"IF(H77<>\"\", MID(H77,2,200),\"\")","v":""},null,null,null,null,null,null,false]
[null,null,"その他（テキスト）",{"$f":"'維持期診療計画(入力用)'!$S$24","v":0},null,{"$f":"IF(D77=0,\"\",D77)","v":""},null,{"$f":"IF(F73<>\"\",\"，\" & F73,\"\") & IF(F74<>\"\",\"，\" & F74,\"\") & IF(F75<>\"\",\"，\" & F75,\"\") & IF(F76<>\"\",\"，\" & F76,\"\") & IF(F77<>\"\",\"(\" & F77 & \")\",\"\")","v":""},null,null,null,null,null,{"$f":"IF('維持期診療計画(入力用)'!$BE$5=FALSE,IF(維持期データ出力用!L77=0,FALSE,IF(維持期データ出力用!L77<'維持期診療計画(入力用)'!$BD$1,TRUE,FALSE)))","v":false}]
[null,"かかりつけ医",null,{"$f":"'維持期診療計画(入力用)'!X26","v":0},null,{"$f":"IF(D78=0,\"\",D78)","v":""},null,null,null,null,null,null,null,{"$f":"IF('維持期診療計画(入力用)'!$BE$5=FALSE,IF(維持期データ出力用!L78=0,FALSE,IF(維持期データ出力用!L78<'維持期診療計画(入力用)'!$BD$1,TRUE,FALSE)))","v":false}]
["初診日","日付",null,null,null,{"$f":"IF(D79=0,\"\",D79)","v":""}]
["日常生活機能評価表","合計点数",null,{"$f":"'維持期診療計画(入力用)'!R47","v":0}]
[null,"床上安静の指示",null,0,null,null,null,null,{"$f":"IF(D81=0,1,0)","v":1},null,null,null,null,{"$f":"IF('維持期診療計画(入力用)'!$BE$5=FALSE,IF(維持期データ出力用!L81=0,FALSE,IF(維持期データ出力用!L81<'維持期診療計画(入力用)'!$BD$1,TRUE,FALSE)))","v":false},0]
[null,"どちらかの手を胸元まで持ち上げられる",null,0,null,null,null,null,{"$f":"IF(D82=0,1,0)","v":1},null,null,null,null,{"$f":"IF('維持期診療計画(入力用)'!$BE$5=FALSE,IF(維持期データ出力用!L82=0,FALSE,IF(維持期データ出力用!L82<'維持期診療計画(入力用)'!$BD$1,TRUE,FALSE)))","v":false},0]
[null,"寝返り",null,0,null,null,null,null,1,null,null,null,null,{"$f":"IF('維持期診療計画(入力用)'!$BE$5=FALSE,IF(維持期データ出力用!L83=0,FALSE,IF(維持期データ出力用!L83<'維持期診療計画(入力用)'!$BD$1,TRUE,FALSE)))","v":false},0]
[null,"起き上がり",null,0,null,null,null,null,1,null,null,null,null,{"$f":"IF('維持期診療計画(入力用)'!$BE$5=FALSE,IF(維持期データ出力用!L84=0,FALSE,IF(維持期データ出力用!L84<'維持期診療計画(入力用)'!$BD$1,TRUE,FALSE)))","v":false},0]
[null,"座位保持",null,0,null,null,null,null,1,null,null,null,null,{"$f":"IF('維持期診療計画(入力用)'!$BE$5=FALSE,IF(維持期データ出力用!L85=0,FALSE,IF(維持期データ出力用!L85<'維持期診療計画(入力用)'!$BD$1,TRUE,FALSE)))","v":false},0]
[null,"移乗",null,0,null,null,null,null,1,null,null,null,null,{"$f":"IF('維持期診療計画(入力用)'!$BE$5=FALSE,IF(維持期データ出力用!L86=0,FALSE,IF(維持期データ出力用!L86<'維持期診療計画(入力用)'!$BD$1,TRUE,FALSE)))","v":false},0]
[null,"移動方法",null,0,null,null,null,null,1,null,null,null,null,{"$f":"IF('維持期診療計画(入力用)'!$BE$5=FALSE,IF(維持期データ出力用!L87=0,FALSE,IF(維持期データ出力用!L87<'維持期診療計画(入力用)'!$BD$1,TRUE,FALSE)))","v":false},0]
[null,"口腔清潔",null,0,null,null,null,null,1,null,null,null,null,{"$f":"IF('維持期診療計画(入力用)'!$BE$5=FALSE,IF(維持期データ出力用!L88=0,FALSE,IF(維持期データ出力用!L88<'維持期診療計画(入力用)'!$BD$1,TRUE,FALSE)))","v":false},0]
[null,"食事摂取",null,0,null,null,null,null,1,null,null,null,null,{"$f":"IF('維持期診療計画(入力用)'!$BE$5=FALSE,IF(維持期データ出力用!L89=0,FALSE,IF(維持期データ出力用!L89<'維持期診療計画(入力用)'!$BD$1,TRUE,FALSE)))","v":false},0]
[null,"衣服の着脱",null,0,null,null,null,null,1,null,null,null,null,{"$f":"IF('維持期診療計画(入力用)'!$BE$5=FALSE,IF(維持期データ出力用!L90=0,FALSE,IF(維持期データ出力用!L90<'維持期診療計画(入力用)'!$BD$1,TRUE,FALSE)))","v":false},0]
[null,"他者への意思の伝達",null,0,null,null,null,null,1,null,null,null,null,{"$f":"IF('維持期診療計画(入力用)'!$BE$5=FALSE,IF(維持期データ出力用!L91=0,FALSE,IF(維持期データ出力用!L91<'維持期診療計画(入力用)'!$BD$1,TRUE,FALSE)))","v":false},0]
[null,"診療・療養上の指示が通じる",null,0,null,null,null,null,1,null,null,null,null,{"$f":"IF('維持期診療計画(入力用)'!$BE$5=FALSE,IF(維持期データ出力用!L92=0,FALSE,IF(維持期データ出力用!L92<'維持期診療計画(入力用)'!$BD$1,TRUE,FALSE)))","v":false},0]
[null,"危険行動",null,0,null,null,null,null,1,null,null,null,null,{"$f":"IF('維持期診療計画(入力用)'!$BE$5=FALSE,IF(維持期データ出力用!L93=0,FALSE,IF(維持期データ出力用!L93<'維持期診療計画(入力用)'!$BD$1,TRUE,FALSE)))","v":false},0]
[null,"身体拘束",null,0,null,{"$f":"IF(D94<>\"\",LOOKUP(D94,{0,1,2},{\"\",\"無\",\"有\"}),\"\")","v":""},null,null,1,null,null,null,null,{"$f":"IF('維持期診療計画(入力用)'!$BE$5=FALSE,IF(維持期データ出力用!L94=0,FALSE,IF(維持期データ出力用!L94<'維持期診療計画(入力用)'!$BD$1,TRUE,FALSE)))","v":false},0]
[null,null,"４点柵",false,null,{"$f":"IF(D95=TRUE,C95,\"\")","v":""},null,null,{"$f":"IF(D94=2,IF(H96=\"\",1,0),0)","v":0},null,null,null,null,null,false]
[null,null,"センサー",false,null,{"$f":"IF(D96=TRUE,C96,\"\")","v":""},null,{"$f":"IF(H97<>\"\",  MID(H97,2,200),\"\")","v":""},null,null,null,null,null,null,false]
[null,null,"その他",false,null,{"$f":"IF(D97=TRUE,IF(D98=0,C97,  C97 & \"(\" & D98 & \")\"),\"\")","v":""},"計算用",{"$f":" IF(F95<>\"\",\"，\" & F95,\"\") & IF(F96<>\"\",\"，\" & F96,\"\") & IF(F97<>\"\",\"，\" & F97,\"\")","v":""},null,null,null,null,null,null,false]
[null,null,"その他テキスト",{"$f":"'維持期診療計画(入力用)'!AB46","v":0},null,null,null,null,{"$f":"IF(D97=TRUE,IF(D98=0,1,0),0)","v":0},null,null,null,null,{"$f":"IF('維持期診療計画(入力用)'!$BE$5=FALSE,IF(維持期データ出力用!L98=0,FALSE,IF(維持期データ出力用!L98<'維持期診療計画(入力用)'!$BD$1,TRUE,FALSE)))","v":false}]
["その他","認知症",null,0,"1:なし 2:あり",{"$f":"IF(D99<>\"\",LOOKUP(D99,{0,1,2},{\"\",\"なし\",\"あり\"}),\"\")","v":""},null,null,null,null,{"$f":"IF(F99=\"\",1,0)","v":1},null,null,{"$f":"IF('維持期診療計画(入力用)'!$BE$5=FALSE,IF(維持期データ出力用!L99=0,FALSE,IF(維持期データ出力用!L99<'維持期診療計画(入力用)'!$BD$1,TRUE,FALSE)))","v":false},0]
[null,"半側空間無視",null,0,"1:なし 2:あり",{"$f":"IF(D100<>\"\",LOOKUP(D100,{0,1,2},{\"\",\"なし\",\"あり\"}),\"\")","v":""},null,null,null,null,{"$f":"IF(F100=\"\",1,0)","v":1},null,null,{"$f":"IF('維持期診療計画(入力用)'!$BE$5=FALSE,IF(維持期データ出力用!L100=0,FALSE,IF(維持期データ出力用!L100<'維持期診療計画(入力用)'!$BD$1,TRUE,FALSE)))","v":false},0]
[null,"視野障害",null,0,null,{"$f":"IF(D101<>\"\",LOOKUP(D101,{0,1,2},{\"\",\"なし\",\"あり\"}),\"\")","v":""},null,null,null,null,1,null,null,{"$f":"IF('維持期診療計画(入力用)'!$BE$5=FALSE,IF(維持期データ出力用!L101=0,FALSE,IF(維持期データ出力用!L101<'維持期診療計画(入力用)'!$BD$1,TRUE,FALSE)))","v":false},0]
[null,"麻痺",null,0,null,{"$f":"IF(D102<>\"\",LOOKUP(D102,{0,1,2},{\"\",\"なし\",\"あり\"}),\"\")","v":""},null,null,null,null,{"$f":"IF(F102=\"\",1,0)","v":1},null,null,{"$f":"IF('維持期診療計画(入力用)'!$BE$5=FALSE,IF(維持期データ出力用!L102=0,FALSE,IF(維持期データ出力用!L102<'維持期診療計画(入力用)'!$BD$1,TRUE,FALSE)))","v":false},0]
[null,"感覚障害",null,0,null,{"$f":"IF(D103<>\"\",LOOKUP(D103,{0,1,2},{\"\",\"なし\",\"あり\"}),\"\")","v":""},null,null,null,null,1,null,null,{"$f":"IF('維持期診療計画(入力用)'!$BE$5=FALSE,IF(維持期データ出力用!L103=0,FALSE,IF(維持期データ出力用!L103<'維持期診療計画(入力用)'!$BD$1,TRUE,FALSE)))","v":false},0]
[null,"失調",null,0,null,{"$f":"IF(D104<>\"\",LOOKUP(D104,{0,1,2},{\"\",\"なし\",\"あり\"}),\"\")","v":""},null,null,null,null,1,null,null,{"$f":"IF('維持期診療計画(入力用)'!$BE$5=FALSE,IF(維持期データ出力用!L104=0,FALSE,IF(維持期データ出力用!L104<'維持期診療計画(入力用)'!$BD$1,TRUE,FALSE)))","v":false},0]
[null,"疼痛",null,0,null,{"$f":"IF(D105<>\"\",LOOKUP(D105,{0,1,2},{\"\",\"なし\",\"あり\"}),\"\")","v":""},null,null,null,null,{"$f":"IF(F105=\"\",1,0)","v":1},null,null,{"$f":"IF('維持期診療計画(入力用)'!$BE$5=FALSE,IF(維持期データ出力用!L105=0,FALSE,IF(維持期データ出力用!L105<'維持期診療計画(入力用)'!$BD$1,TRUE,FALSE)))","v":false},0]
[null,null,"テキスト",{"$f":"'維持期診療計画(入力用)'!$AB$49","v":0},null,{"$f":"IF(D106=0,\"\",\"（\"&D106&\"）\")","v":""},null,null,null,null,{"$f":"IF(D105>1,IF(F106=\"\",1,0),0)","v":0},null,null,{"$f":"IF('維持期診療計画(入力用)'!$BE$5=FALSE,IF(維持期データ出力用!L106=0,FALSE,IF(維持期データ出力用!L106<'維持期診療計画(入力用)'!$BD$1,TRUE,FALSE)))","v":false}]
[null,"拘縮",null,0,null,{"$f":"IF(D107<>\"\",LOOKUP(D107,{0,1,2},{\"\",\"なし\",\"あり\"}),\"\")","v":""},null,null,null,null,1,null,null,{"$f":"IF('維持期診療計画(入力用)'!$BE$5=FALSE,IF(維持期データ出力用!L107=0,FALSE,IF(維持期データ出力用!L107<'維持期診療計画(入力用)'!$BD$1,TRUE,FALSE)))","v":false},0]
[null,null,"テキスト",{"$f":"'維持期診療計画(入力用)'!$AO$49","v":0},null,{"$f":"IF(D108=0,\"\",\"（\"&D108&\"）\")","v":""},null,null,null,null,{"$f":"IF(D107>1,IF(F108=\"\",1,0),0)","v":0},null,null,{"$f":"IF('維持期診療計画(入力用)'!$BE$5=FALSE,IF(維持期データ出力用!L108=0,FALSE,IF(維持期データ出力用!L108<'維持期診療計画(入力用)'!$BD$1,TRUE,FALSE)))","v":false}]
[null,"失語",null,0,null,{"$f":"IF(D109<>\"\",LOOKUP(D109,{0,1,2},{\"\",\"なし\",\"あり\"}),\"\")","v":""},null,null,null,null,{"$f":"IF(F109=\"\",1,0)","v":1},null,null,{"$f":"IF('維持期診療計画(入力用)'!$BE$5=FALSE,IF(維持期データ出力用!L109=0,FALSE,IF(維持期データ出力用!L109<'維持期診療計画(入力用)'!$BD$1,TRUE,FALSE)))","v":false},0]
[null,null,"種類",0,null,{"$f":"IF(D110<>\"\",LOOKUP(D110,{0,1,2,3,4},{\"\",\"運動性\",\"感覚性\",\"混合性失語\",\"その他\"}),\"\")","v":""},null,null,null,null,{"$f":"IF(D109>1,IF(F110=\"\",1,0),0)","v":0},null,null,{"$f":"IF('維持期診療計画(入力用)'!$BE$5=FALSE,IF(維持期データ出力用!L110=0,FALSE,IF(維持期データ出力用!L110<'維持期診療計画(入力用)'!$BD$1,TRUE,FALSE)))","v":false},0]
[null,"褥瘡",null,0,null,{"$f":"IF(D111<>\"\",LOOKUP(D111,{0,1,2},{\"\",\"なし\",\"あり\"}),\"\")","v":""},null,null,null,null,{"$f":"IF(F111=\"\",1,0)","v":1},null,null,{"$f":"IF('維持期診療計画(入力用)'!$BE$5=FALSE,IF(維持期データ出力用!L111=0,FALSE,IF(維持期データ出力用!L111<'維持期診療計画(入力用)'!$BD$1,TRUE,FALSE)))","v":false},0]
[null,null,"テキスト",{"$f":"'維持期診療計画(入力用)'!$M$51","v":0},null,{"$f":"IF(D112=0,\"\",\"（\"&D112&\"）\")","v":""},null,null,null,null,{"$f":"IF(D111>1,IF(F112=\"\",1,0),0)","v":0},null,null,{"$f":"IF('維持期診療計画(入力用)'!$BE$5=FALSE,IF(維持期データ出力用!L112=0,FALSE,IF(維持期データ出力用!L112<'維持期診療計画(入力用)'!$BD$1,TRUE,FALSE)))","v":false}]
[null,"その他皮膚疾患",null,0,null,{"$f":"IF(D113<>\"\",LOOKUP(D113,{0,1,2},{\"\",\"なし\",\"あり\"}),\"\")","v":""}]
[null,null,"テキスト",{"$f":"'維持期診療計画(入力用)'!$AH$51","v":0},null,{"$f":"IF(D114=0,\"\",\"（\"&D114&\"）\")","v":""}]
["栄養呼吸","嚥下障害",null,0,"1:なし 2:あり",{"$f":"IF(D115<>\"\",LOOKUP(D115,{0,1,2},{\"\",\"なし\",\"あり\"}),\"\")","v":""},null,null,null,null,{"$f":"IF(F115=\"\",1,0)","v":1},null,null,{"$f":"IF('維持期診療計画(入力用)'!$BE$5=FALSE,IF(維持期データ出力用!L115=0,FALSE,IF(維持期データ出力用!L115<'維持期診療計画(入力用)'!$BD$1,TRUE,FALSE)))","v":false},0]
[null,"食事形態",null,0,"1:普通食 2:きざみ食 3:とろみ食 4:治療食 5:その他",{"$f":"IF(D116<>\"\",LOOKUP(D116,{0,1,2,3,4,5},{\"\",\"普通食\",\"きざみ食\",\"とろみ食\",\"治療食\",\"その他\"}),\"\")","v":""}]
[null,null,"治療食　テキスト",{"$f":"'維持期診療計画(入力用)'!$N$54","v":0},null,{"$f":"IF(D117=0,\"\",D117)","v":""},null,null,null,null,{"$f":"IF(D229=TRUE,IF(F117=\"\",1,0),0)","v":0},null,null,{"$f":"IF('維持期診療計画(入力用)'!$BE$5=FALSE,IF(維持期データ出力用!L117=0,FALSE,IF(維持期データ出力用!L117<'維持期診療計画(入力用)'!$BD$1,TRUE,FALSE)))","v":false}]
[null,null,"その他テキスト",{"$f":"'維持期診療計画(入力用)'!$AB$54","v":0},null,{"$f":"IF(D118=0,\"\",D118)","v":""},null,null,null,null,{"$f":"IF(D230,IF(F118=\"\",1,0),0)","v":0},null,null,{"$f":"IF('維持期診療計画(入力用)'!$BE$5=FALSE,IF(維持期データ出力用!L118=0,FALSE,IF(維持期データ出力用!L118<'維持期診療計画(入力用)'!$BD$1,TRUE,FALSE)))","v":false}]
[null,"方法",null,0,"1:経口 2:経管",{"$f":"IF(D119<>\"\",LOOKUP(D119,{0,1,2},{\"\",\"経口\",\"経管\"}),\"\")","v":""},null,null,null,null,null,null,null,null,0]
[null,null,"経管",0,"1:胃管 2:胃瘻 3:その他",{"$f":"IF(D120<>\"\",LOOKUP(D120,{0,1,2,3},{\"\",\"(胃管)\",\"(胃瘻)\",\"(その他：\"}),\"\")","v":""},null,null,null,null,null,null,null,null,0]
[null,null,"経管テキスト",{"$f":"'維持期診療計画(入力用)'!Z55","v":0},null,{"$f":"IF(D235=TRUE,IF(D121=0,\"\",D121 ),\"\")","v":""},null,{"$f":"F120 & F121","v":""},null,null,{"$f":"IF(D235=TRUE,IF(F121=\"\",1,0),0)","v":0},null,null,{"$f":"IF('維持期診療計画(入力用)'!$BE$5=FALSE,IF(維持期データ出力用!L121=0,FALSE,IF(維持期データ出力用!L121<'維持期診療計画(入力用)'!$BD$1,TRUE,FALSE)))","v":false}]
[null,null,"カテーテル　太さ",{"$f":"IF('維持期診療計画(入力用)'!R56=\"\",\"\",'維持期診療計画(入力用)'!R56)","v":""},null,{"$f":"D122","v":""},null,null,null,null,{"$f":"IF(D233=TRUE,IF(F122=\"\",1,0),0)","v":0},null,null,{"$f":"IF('維持期診療計画(入力用)'!$BE$5=FALSE,IF(維持期データ出力用!L122=0,FALSE,IF(維持期データ出力用!L122<'維持期診療計画(入力用)'!$BD$1,TRUE,FALSE)))","v":false}]
[null,null,"　　　　　　　　長さ",{"$f":"IF('維持期診療計画(入力用)'!U56=\"\",\"\",'維持期診療計画(入力用)'!U56)","v":""},null,{"$f":"D123","v":""},null,null,null,null,{"$f":"IF(D233=TRUE,IF(F123=\"\",1,0),0)","v":0},null,null,{"$f":"IF('維持期診療計画(入力用)'!$BE$5=FALSE,IF(維持期データ出力用!L123=0,FALSE,IF(維持期データ出力用!L123<'維持期診療計画(入力用)'!$BD$1,TRUE,FALSE)))","v":false}]
[null,null,"最終交換日",{"$f":"'維持期診療計画(入力用)'!AG56","v":"00:00:00"},null,{"$f":"IF(D124=0,\"\",D124)","v":""},null,null,null,null,{"$f":"IF(D233=TRUE,IF(F124=\"\",1,0),IF(D234=TRUE,IF(F124=\"\",1,0),0))","v":0},null,null,{"$f":"IF('維持期診療計画(入力用)'!$BE$5=FALSE,IF(維持期データ出力用!L124=0,FALSE,IF(維持期データ出力用!L124<'維持期診療計画(入力用)'!$BD$1,TRUE,FALSE)))","v":false}]
[null,"気管切開",null,0,"1:なし 2:あり",{"$f":"IF(D125<>\"\",LOOKUP(D125,{0,1,2},{\"\",\"なし\",\"あり\"}),\"\")","v":""},null,null,null,null,{"$f":"IF(F125=\"\",1,0)","v":1},null,null,{"$f":"IF('維持期診療計画(入力用)'!$BE$5=FALSE,IF(維持期データ出力用!L125=0,FALSE,IF(維持期データ出力用!L125<'維持期診療計画(入力用)'!$BD$1,TRUE,FALSE)))","v":false},0]
[null,null,"最終交換日",{"$f":"'維持期診療計画(入力用)'!U57","v":"00:00:00"},null,{"$f":"IF(D126=0,\"\",D126)","v":""},null,null,null,null,{"$f":"IF(D125=2,IF(F126=\"\",1,0),0)","v":0},null,null,{"$f":"IF('維持期診療計画(入力用)'!$BE$5=FALSE,IF(維持期データ出力用!L126=0,FALSE,IF(維持期データ出力用!L126<'維持期診療計画(入力用)'!$BD$1,TRUE,FALSE)))","v":false}]
["排泄","介助",null,0,"1:自立 2:一部介助 3:全介助",{"$f":"IF(D127<>\"\",LOOKUP(D127,{0,1,2,3},{\"\",\"自立\",\"一部介助\",\"全介助\"}),\"\")","v":""},null,null,null,null,{"$f":"IF(F127=\"\",1,0)","v":1},null,null,{"$f":"IF('維持期診療計画(入力用)'!$BE$5=FALSE,IF(維持期データ出力用!L127=0,FALSE,IF(維持期データ出力用!L127<'維持期診療計画(入力用)'!$BD$1,TRUE,FALSE)))","v":false},0]
[null,"方法",null,0,"1:トイレ 2:ポータブルトイレ 3:尿器　4:オムツ 5:バルン",{"$f":"IF(D128<>\"\",LOOKUP(D128,{0,1,2,3,4,5},{\"\",\"トイレ\",\"ポータブルトイレ\",\"尿器\",\"オムツ\",\"バルン\"}),\"\")","v":""},null,null,null,null,null,null,null,null,0]
[null,null,"バルン　Ｆｒ",{"$f":"'維持期診療計画(入力用)'!N60","v":0},null,{"$f":"IF(D129=0,\"\",D129)","v":""},null,null,null,null,{"$f":"IF(D240=TRUE,IF(F129=\"\",1,0),0)","v":0},null,null,{"$f":"IF('維持期診療計画(入力用)'!$BE$5=FALSE,IF(維持期データ出力用!L129=0,FALSE,IF(維持期データ出力用!L129<'維持期診療計画(入力用)'!$BD$1,TRUE,FALSE)))","v":false}]
[null,null,"最終交換日",{"$f":"'維持期診療計画(入力用)'!W60","v":0},null,{"$f":"IF(D130=0,\"\",D130)","v":""},null,null,null,null,{"$f":"IF(D240=TRUE,IF(F130=\"\",1,0),0)","v":0},null,null,{"$f":"IF('維持期診療計画(入力用)'!$BE$5=FALSE,IF(維持期データ出力用!L130=0,FALSE,IF(維持期データ出力用!L130<'維持期診療計画(入力用)'!$BD$1,TRUE,FALSE)))","v":false}]
["清潔","方法",null,0,"1:介助浴(自立・一部介助・全介助) 2:一般浴・自宅浴槽(自立・一部介助・全介助)",{"$f":"IF(D131<>\"\",LOOKUP(D131,{0,1,2},{\"\",\"介助浴(自立・一部介助・全介助)\",\"一般浴・自宅浴槽(自立・一部介助・全介助)\"}),\"\")","v":""},null,null,null,null,null,null,null,null,0]
["障害高齢者の日常生活自立度",null,null,{"$f":"'維持期診療計画(入力用)'!M63","v":0},null,{"$f":"IF(D132=0,\"\",D132)","v":""},null,null,null,null,{"$f":"IF(F132=\"\",1,0)","v":1},null,null,{"$f":"IF('維持期診療計画(入力用)'!$BE$5=FALSE,IF(維持期データ出力用!L132=0,FALSE,IF(維持期データ出力用!L132<'維持期診療計画(入力用)'!$BD$1,TRUE,FALSE)))","v":false}]
["認知症高齢者の日常生活自立度",null,null,{"$f":"'維持期診療計画(入力用)'!M64","v":0},null,{"$f":"IF(D133=0,\"\",D133)","v":""},null,null,null,null,{"$f":"IF(F133=\"\",1,0)","v":1},null,null,{"$f":"IF('維持期診療計画(入力用)'!$BE$5=FALSE,IF(維持期データ出力用!L133=0,FALSE,IF(維持期データ出力用!L133<'維持期診療計画(入力用)'!$BD$1,TRUE,FALSE)))","v":false}]
[null,"長谷川式",null,{"$f":"'維持期診療計画(入力用)'!S65","v":0},null,{"$f":"IF(D134=0,\"\",D134)","v":""},null,null,null,null,{"$f":"IF(F134=\"\",1,0)","v":1},null,null,{"$f":"IF('維持期診療計画(入力用)'!$BE$5=FALSE,IF(維持期データ出力用!L134=0,FALSE,IF(維持期データ出力用!L134<'維持期診療計画(入力用)'!$BD$1,TRUE,FALSE)))","v":false}]
[null,"MMSE",null,{"$f":"'維持期診療計画(入力用)'!AF65","v":0},null,{"$f":"IF(D135=0,\"\",D135)","v":""},null,null,null,null,null,null,null,{"$f":"IF('維持期診療計画(入力用)'!$BE$5=FALSE,IF(維持期データ出力用!L135=0,FALSE,IF(維持期データ出力用!L135<'維持期診療計画(入力用)'!$BD$1,TRUE,FALSE)))","v":false}]
["リハビリ","理学療法",null,false,null,{"$f":"IF(D136=TRUE,B136,\"\")","v":""},null,null,null,null,null,null,null,{"$f":"IF('維持期診療計画(入力用)'!$BE$5=FALSE,IF(維持期データ出力用!L136=0,FALSE,IF(維持期データ出力用!L136<'維持期診療計画(入力用)'!$BD$1,TRUE,FALSE)))","v":false},false]
[null,null,"テキスト",{"$f":"'維持期診療計画(入力用)'!J66","v":0},null,{"$f":"IF(D137=0,\"\",D137)","v":""},null,null,null,null,null,null,null,{"$f":"IF('維持期診療計画(入力用)'!$BE$5=FALSE,IF(維持期データ出力用!L137=0,FALSE,IF(維持期データ出力用!L137<'維持期診療計画(入力用)'!$BD$1,TRUE,FALSE)))","v":false}]
[null,"作業療法",null,false,null,{"$f":"IF(D138=TRUE,B138,\"\")","v":""},null,null,null,null,null,null,null,null,false]
[null,null,"テキスト",{"$f":"'維持期診療計画(入力用)'!J68","v":0},null,{"$f":"IF(D139=0,\"\",D139)","v":""},null,null,null,null,null,null,null,{"$f":"IF('維持期診療計画(入力用)'!$BE$5=FALSE,IF(維持期データ出力用!L139=0,FALSE,IF(維持期データ出力用!L139<'維持期診療計画(入力用)'!$BD$1,TRUE,FALSE)))","v":false}]
[null,"言語療法",null,false,null,{"$f":"IF(D140=TRUE,B140,\"\")","v":""},null,null,null,null,null,null,null,null,false]
[null,"摂食機能療法",null,false,null,{"$f":"IF(D141=TRUE,B141,\"\")","v":""},null,{"$f":"F140 & CHAR(13) &F141","v":"\r"},null,null,null,null,null,null,false]
[null,null,"テキスト",{"$f":"'維持期診療計画(入力用)'!J70","v":0},null,{"$f":"IF(D142=0,\"\",D142)","v":""},null,null,null,null,null,null,null,{"$f":"IF('維持期診療計画(入力用)'!$BE$5=FALSE,IF(維持期データ出力用!L142=0,FALSE,IF(維持期データ出力用!L142<'維持期診療計画(入力用)'!$BD$1,TRUE,FALSE)))","v":false}]
["生活機能に合わせたリハビリ","医療保険",null,false,null,{"$f":"IF(D143=TRUE,B143,\"\")","v":""},null,null,null,null,null,null,null,{"$f":"IF('維持期診療計画(入力用)'!$BE$5=FALSE,IF(維持期データ出力用!L143=0,FALSE,IF(維持期データ出力用!L143<'維持期診療計画(入力用)'!$BD$1,TRUE,FALSE)))","v":false},false]
[null,"介護保険",null,false,null,{"$f":"IF(D144=TRUE,B144,\"\")","v":""},null,null,null,null,null,null,null,null,false]
[null,null,"介護保険",0,null,null,null,null,null,null,null,null,null,{"$f":"IF('維持期診療計画(入力用)'!$BE$5=FALSE,IF(維持期データ出力用!L145=0,FALSE,IF(維持期データ出力用!L145<'維持期診療計画(入力用)'!$BD$1,TRUE,FALSE)))","v":false},0]
[null,null,"介護療養型医療施設　短期集中リハ",false,null,null,null,null,null,null,null,null,null,{"$f":"IF('維持期診療計画(入力用)'!$BE$5=FALSE,IF(維持期データ出力用!L146=0,FALSE,IF(維持期データ出力用!L146<'維持期診療計画(入力用)'!$BD$1,TRUE,FALSE)))","v":false},false]
[null,null,"介護老人保健施設　短期集中リハ",false,null,null,null,null,null,null,null,null,null,{"$f":"IF('維持期診療計画(入力用)'!$BE$5=FALSE,IF(維持期データ出力用!L147=0,FALSE,IF(維持期データ出力用!L147<'維持期診療計画(入力用)'!$BD$1,TRUE,FALSE)))","v":false},false]
[null,null,"介護老人保健施設　認知短期集中リハ",false,null,null,null,null,null,null,null,null,null,null,false]
[null,null,"介護老人福祉施設　個別機能訓練",false,null,null,null,null,null,null,null,null,null,{"$f":"IF('維持期診療計画(入力用)'!$BE$5=FALSE,IF(維持期データ出力用!L149=0,FALSE,IF(維持期データ出力用!L149<'維持期診療計画(入力用)'!$BD$1,TRUE,FALSE)))","v":false},false]
[null,"通所リハビリ",null,false,null,{"$f":"IF(D150=TRUE,B150,\"\")","v":""},null,null,null,null,null,null,null,null,false]
[null,null,"通所リハビリ　短期集中リハ",false,null,{"$f":"IF(D151=TRUE,C151,\"\")","v":""},null,null,null,null,null,null,null,{"$f":"IF('維持期診療計画(入力用)'!$BE$5=FALSE,IF(維持期データ出力用!L151=0,FALSE,IF(維持期データ出力用!L151<'維持期診療計画(入力用)'!$BD$1,TRUE,FALSE)))","v":false},false]
[null,null,"通所リハビリ　認知症短期集中リハ",false,null,{"$f":"IF(D152=TRUE,C152,\"\")","v":""},null,null,null,null,null,null,null,null,false]
[null,null,"通所リハビリ　運動器機能向上",false,null,"",null,null,null,null,null,null,null,null,false]
[null,null,"通所リハビリ　口腔機能向上",false,null,"",null,{"$f":"IF(H155<>\"\", MID(H155,2,200),\"\")","v":""},null,null,null,null,null,null,false]
[null,null,"通所リハビリ　栄養改善",false,null,"","計算用",{"$f":"IF(F151<>\"\",\"，\" & F151,\"\") & IF(F152<>\"\",\"，\" & F152,\"\") & IF(F153<>\"\",\"，\" & F153,\"\") & IF(F154<>\"\",\"，\" & F154,\"\") & IF(F155<>\"\",\"，\" & F155,\"\")","v":""},null,null,null,null,null,null,false]
[null,"通所介護",null,false,null,{"$f":"IF(D156=TRUE,B156,\"\")","v":""},null,null,null,null,null,null,null,null,false]
[null,null,"通所介護　個別機能訓練",false,null,"",null,null,null,null,null,null,null,{"$f":"IF('維持期診療計画(入力用)'!$BE$5=FALSE,IF(維持期データ出力用!L157=0,FALSE,IF(維持期データ出力用!L157<'維持期診療計画(入力用)'!$BD$1,TRUE,FALSE)))","v":false},false]
[null,null,"通所介護　運動器機能向上",false,null,"",null,null,null,null,null,null,null,null,false]
[null,null,"通所介護　口腔機能向上",false,null,"",null,null,null,null,null,null,null,null,false]
[null,null,"通所介護　栄養改善",false,null,"",null,{"$f":"IF(H161<>\"\", MID(H161,2,200),\"\")","v":""},null,null,null,null,null,null,false]
[null,null,"通所介護　アクティビティ",false,null,"","計算用",{"$f":"IF(F157<>\"\",\"，\" & F157,\"\") & IF(F158<>\"\",\"，\" & F158,\"\") & IF(F159<>\"\",\"，\" & F159,\"\") & IF(F160<>\"\",\"，\" & F160,\"\") & IF(F161<>\"\",\"，\" & F161,\"\")","v":""},null,null,null,null,null,null,false]
[null,"訪問看護",null,false,null,{"$f":"IF(D162=TRUE,B162,\"\")","v":""},null,null,null,null,null,null,null,null,false]
[null,null,"訪問介護　内容",{"$f":"'維持期診療計画(入力用)'!AE76","v":0},null,null,null,null,null,null,null,null,null,{"$f":"IF('維持期診療計画(入力用)'!$BE$5=FALSE,IF(維持期データ出力用!L163=0,FALSE,IF(維持期データ出力用!L163<'維持期診療計画(入力用)'!$BD$1,TRUE,FALSE)))","v":false}]
[null,"訪問リハビリ",null,false,null,{"$f":"IF(D164=TRUE,B164,\"\")","v":""},null,null,null,null,null,null,null,null,false]
[null,null,"訪問リハビリ　短期集中リハ",false,null,null,null,null,null,null,null,null,null,{"$f":"IF('維持期診療計画(入力用)'!$BE$5=FALSE,IF(維持期データ出力用!L165=0,FALSE,IF(維持期データ出力用!L165<'維持期診療計画(入力用)'!$BD$1,TRUE,FALSE)))","v":false},false]
[null,"機能訓練事業",null,false,null,{"$f":"IF(D166=TRUE,B166,\"\")","v":""},null,null,null,null,null,null,null,null,false]
[null,"ＡＤＬ・ＩＡＤＬ訓練",null,false,null,"",null,null,null,null,null,null,null,null,false]
[null,"住環境整備",null,false,null,"",null,null,null,null,null,null,null,null,false]
[null,"補装具の検討・作製",null,false,null,"",null,null,null,null,null,null,null,null,false]
[null,"役割・趣味活動開発",null,false,null,"",null,{"$f":"IF(H171<>\"\", MID(H171,2,200),\"\")","v":""},null,null,null,null,null,null,false]
[null,"その他",null,false,null,"","計算用",{"$f":"IF(F143<>\"\",\"，\" & F143,\"\")  & IF(F144<>\"\",\"，\" & F144,\"\")  & IF(F150<>\"\",\"，\" & F150,\"\")  & IF(F156<>\"\",\"，\" & F156,\"\")  &  IF(F162<>\"\",\"，\" & F162,\"\")  &  IF(F164<>\"\",\"，\" & F164,\"\")  &  IF(F166<>\"\",\"，\" & F166,\"\")  & IF(F167<>\"\",\"，\" & F167,\"\") & IF(F168<>\"\",\"，\" & F168,\"\") & IF(F169<>\"\",\"，\" & F169,\"\") & IF(F170<>\"\",\"，\" & F170,\"\") & IF(F171<>\"\",\"，\" & F171,\"\")","v":""},null,null,null,null,null,null,false]
[null,null,"その他　テキスト",{"$f":"'維持期診療計画(入力用)'!$I$80","v":0},null,null,null,null,null,null,null,null,null,{"$f":"IF('維持期診療計画(入力用)'!$BE$5=FALSE,IF(維持期データ出力用!L172=0,FALSE,IF(維持期データ出力用!L172<'維持期診療計画(入力用)'!$BD$1,TRUE,FALSE)))","v":false}]
[null,"Fim",null,null,null,null,null,null,null,null,{"$f":"'維持期診療計画(入力用)'!CG81","v":18}]
[null,"BI",null,null,null,null,null,null,null,null,{"$f":"'維持期診療計画(入力用)'!CH81","v":10}]
["介護保険","要介護認定の申請",null,0,"1:なし 2:申請中 3:変更申請中 4:あり",{"$f":"IF(D175<>\"\",LOOKUP(D175,{0,1,2,3,4},{\"\",\"なし\",\"申請中\",\"変更申請中\",\"あり\"}),\"\")","v":""},null,null,null,null,null,null,null,{"$f":"IF('維持期診療計画(入力用)'!$BE$5=FALSE,IF(維持期データ出力用!L175=0,FALSE,IF(維持期データ出力用!L175<'維持期診療計画(入力用)'!$BD$1,TRUE,FALSE)))","v":false},0]
[null,null,"介護度",0,null,{"$f":"IF(D176<>\"\",LOOKUP(D176,{0,1,2,3,4,5,6,7},{\"\",\"要支援１\",\"要支援２\",\"要介護１\",\"要介護２\",\"要介護３\",\"要介護４\",\"要介護５\"}),\"\")","v":""},null,null,null,null,null,null,null,{"$f":"IF('維持期診療計画(入力用)'!$BE$5=FALSE,IF(維持期データ出力用!L176=0,FALSE,IF(維持期データ出力用!L176<'維持期診療計画(入力用)'!$BD$1,TRUE,FALSE)))","v":false},0]
[null,"居宅介護支援事業所",null,{"$f":"'維持期診療計画(入力用)'!L83","v":0},null,{"$f":"IF(D177=0,\"\",D177)","v":""},null,null,null,null,null,null,null,{"$f":"IF('維持期診療計画(入力用)'!$BE$5=FALSE,IF(維持期データ出力用!L177=0,FALSE,IF(維持期データ出力用!L177<'維持期診療計画(入力用)'!$BD$1,TRUE,FALSE)))","v":false}]
[null,"担当者",null,{"$f":"'維持期診療計画(入力用)'!AB83","v":0},null,{"$f":"IF(D178=0,\"\",D178)","v":""},null,null,null,null,null,null,null,{"$f":"IF('維持期診療計画(入力用)'!$BE$5=FALSE,IF(維持期データ出力用!L178=0,FALSE,IF(維持期データ出力用!L178<'維持期診療計画(入力用)'!$BD$1,TRUE,FALSE)))","v":false}]
["身障手帳","説明　未　済",null,0,"1:説明未 2:説明済 3:申請済　4:取得済",{"$f":"IF(D179<>\"\",LOOKUP(D179,{0,1,2,3,4},{\"\",\"説明未\",\"説明済\",\"申請済\",\"取得済\"}),\"\")","v":""},null,null,null,null,null,null,null,null,0]
[null,null,"テキスト",{"$f":"'維持期診療計画(入力用)'!AE84","v":0},null,{"$f":"IF(D180=0,\"\",D180)","v":""}]
[null,null,"種",{"$f":"'維持期診療計画(入力用)'!AO84","v":0},null,{"$f":"IF(D181=0,\"\",D181)","v":""}]
[null,null,"級",{"$f":"'維持期診療計画(入力用)'!T84","v":0},null,{"$f":"IF(D182=0,\"\",D182)","v":""},null,null,null,null,null,null,null,{"$f":"IF('維持期診療計画(入力用)'!$BE$5=FALSE,IF(維持期データ出力用!L182=0,FALSE,IF(維持期データ出力用!L182<'維持期診療計画(入力用)'!$BD$1,TRUE,FALSE)))","v":false}]
["現在の生活の場所",null,null,0,null,{"$f":"IF(D183<>\"\",LOOKUP(D183,{0,1,2,3,4},{\"\",\"在宅\",\"介護老人保健施設\",\"介護老人福祉施設\",\"高齢者住宅 等\"}),\"\")","v":""},null,null,null,{"$f":"IF(F183=\"\",1,0)","v":1},null,null,null,{"$f":"IF('維持期診療計画(入力用)'!$BE$5=FALSE,IF(維持期データ出力用!L183=0,FALSE,IF(維持期データ出力用!L183<'維持期診療計画(入力用)'!$BD$1,TRUE,FALSE)))","v":false},0]
[null,"介護老人保健施設",null,{"$f":"'維持期診療計画(入力用)'!$T$85","v":0},null,{"$f":"IF(D184=0,\"\",D184)","v":""},null,null,null,{"$f":"IF(D183=2,IF(F184=\"\",1,0),0)","v":0},null,null,null,{"$f":"IF('維持期診療計画(入力用)'!$BE$5=FALSE,IF(維持期データ出力用!L184=0,FALSE,IF(維持期データ出力用!L184<'維持期診療計画(入力用)'!$BD$1,TRUE,FALSE)))","v":false}]
[null,"介護老人福祉施設",null,{"$f":"'維持期診療計画(入力用)'!AH85","v":0},null,{"$f":"IF(D185=0,\"\",D185)","v":""},null,null,null,{"$f":"IF(D183=3,IF(F185=\"\",1,0),0)","v":0},null,null,null,{"$f":"IF('維持期診療計画(入力用)'!$BE$5=FALSE,IF(維持期データ出力用!L185=0,FALSE,IF(維持期データ出力用!L185<'維持期診療計画(入力用)'!$BD$1,TRUE,FALSE)))","v":false}]
[null,"サービス付高級住宅等",null,{"$f":"'維持期診療計画(入力用)'!AU85","v":0},null,{"$f":"IF(D186=0,\"\",D186)","v":""},{"$f":"IF(D183=2,F183&\"(\"&F184&\")\",IF(D183=3,F183&\"(\"&F185&\")\",IF(D183=4,F183&\"(\"&F186&\")\",F183)))","v":""},null,null,{"$f":"IF(D183=4,IF(F186=\"\",1,0),0)","v":0},null,null,null,{"$f":"IF('維持期診療計画(入力用)'!$BE$5=FALSE,IF(維持期データ出力用!L186=0,FALSE,IF(維持期データ出力用!L186<'維持期診療計画(入力用)'!$BD$1,TRUE,FALSE)))","v":false}]
["説明","症状説明",null,false,null,null,null,null,null,null,null,null,null,{"$f":"IF('維持期診療計画(入力用)'!$BE$5=FALSE,IF(維持期データ出力用!L187=0,FALSE,IF(維持期データ出力用!L187<'維持期診療計画(入力用)'!$BD$1,TRUE,FALSE)))","v":false},false]
[null,"ｻｰﾋﾞｽ担当者会議",null,false,null,{"$f":"IF(D188=TRUE,B188,\"\")","v":""},null,null,null,null,null,null,null,{"$f":"IF('維持期診療計画(入力用)'!$BE$5=FALSE,IF(維持期データ出力用!L188=0,FALSE,IF(維持期データ出力用!L188<'維持期診療計画(入力用)'!$BD$1,TRUE,FALSE)))","v":false},false]
[null,"　実施日",null,{"$f":"'維持期診療計画(入力用)'!$L$87","v":"00:00:00"},null,null,null,null,null,null,null,null,null,{"$f":"IF('維持期診療計画(入力用)'!$BE$5=FALSE,IF(維持期データ出力用!L189=0,FALSE,IF(維持期データ出力用!L189<'維持期診療計画(入力用)'!$BD$1,TRUE,FALSE)))","v":false}]
[null,"通所リハビリ見直し訪問",null,false,null,{"$f":"IF(D190=TRUE,B190,\"\")","v":""},null,null,null,null,null,null,null,{"$f":"IF('維持期診療計画(入力用)'!$BE$5=FALSE,IF(維持期データ出力用!L190=0,FALSE,IF(維持期データ出力用!L190<'維持期診療計画(入力用)'!$BD$1,TRUE,FALSE)))","v":false},false]
[null,"　実施日",null,{"$f":"'維持期診療計画(入力用)'!AM87","v":"00:00:00"},null,{"$f":"IF(D191=0,\"\",D191)","v":""},null,null,null,null,null,null,null,{"$f":"IF('維持期診療計画(入力用)'!$BE$5=FALSE,IF(維持期データ出力用!L191=0,FALSE,IF(維持期データ出力用!L191<'維持期診療計画(入力用)'!$BD$1,TRUE,FALSE)))","v":false}]
[null,"説明日",null,{"$f":"'維持期診療計画(入力用)'!$I$88","v":"00:00:00"},null,{"$f":"IF(D192=0,\"\",D192)","v":""},null,null,null,null,null,null,null,{"$f":"IF('維持期診療計画(入力用)'!$BE$5=FALSE,IF(維持期データ出力用!L192=0,FALSE,IF(維持期データ出力用!L192<'維持期診療計画(入力用)'!$BD$1,TRUE,FALSE)))","v":false}]
[null,"説明を行った者",null,{"$f":"'維持期診療計画(入力用)'!$R$88","v":0},null,null,null,null,null,null,null,null,null,{"$f":"IF('維持期診療計画(入力用)'!$BE$5=FALSE,IF(維持期データ出力用!L193=0,FALSE,IF(維持期データ出力用!L193<'維持期診療計画(入力用)'!$BD$1,TRUE,FALSE)))","v":false}]
["目標","今後の生活目標",null,{"$f":"'維持期診療計画(入力用)'!E90","v":0},null,{"$f":"IF(D194=0,\"\",D194)","v":""},null,null,null,null,null,null,null,{"$f":"IF('維持期診療計画(入力用)'!$BE$5=FALSE,IF(維持期データ出力用!L194=0,FALSE,IF(維持期データ出力用!L194<'維持期診療計画(入力用)'!$BD$1,TRUE,FALSE)))","v":false}]
["（転院・退院基準）","方向性",null,0,"1:在宅復帰 2:他施設 3:未定",{"$f":"IF(D195<>\"\",LOOKUP(D195,{0,1,2,3},{\"\",\"在宅復帰\",\"他施設\",\"未定\"}),\"\")","v":""},null,null,null,null,null,null,null,{"$f":"IF('維持期診療計画(入力用)'!$BE$5=FALSE,IF(維持期データ出力用!L195=0,FALSE,IF(維持期データ出力用!L195<'維持期診療計画(入力用)'!$BD$1,TRUE,FALSE)))","v":false},0]
[null,"他施設　テキスト",null,{"$f":"'維持期診療計画(入力用)'!F97","v":0},null,null,null,null,null,null,null,null,null,{"$f":"IF('維持期診療計画(入力用)'!$BE$5=FALSE,IF(維持期データ出力用!L196=0,FALSE,IF(維持期データ出力用!L196<'維持期診療計画(入力用)'!$BD$1,TRUE,FALSE)))","v":false}]
[null,"サービスの利用","事業所名",{"$f":"'維持期診療計画(入力用)'!AD94","v":0},null,null,null,null,null,null,null,null,null,{"$f":"IF('維持期診療計画(入力用)'!$BE$5=FALSE,IF(維持期データ出力用!L197=0,FALSE,IF(維持期データ出力用!L197<'維持期診療計画(入力用)'!$BD$1,TRUE,FALSE)))","v":false}]
[null,null,"サービス種類",{"$f":"'維持期診療計画(入力用)'!AF95","v":0},null,null,null,null,null,null,null,null,null,{"$f":"IF('維持期診療計画(入力用)'!$BE$5=FALSE,IF(維持期データ出力用!L198=0,FALSE,IF(維持期データ出力用!L198<'維持期診療計画(入力用)'!$BD$1,TRUE,FALSE)))","v":false}]
[null,null,"テキスト",{"$f":"'維持期診療計画(入力用)'!Y96","v":0}]
["施設入所の場合","自宅訪問",null,0,"1:未 2:済",{"$f":"IF(D200<>\"\",LOOKUP(D200,{0,1,2},{\"\",\"未\",\"済\"}),\"\")","v":""},null,null,null,null,null,null,null,{"$f":"IF('維持期診療計画(入力用)'!$BE$5=FALSE,IF(維持期データ出力用!L200=0,FALSE,IF(維持期データ出力用!L200<'維持期診療計画(入力用)'!$BD$1,TRUE,FALSE)))","v":false},0]
[null,null,"訪問日",{"$f":"'維持期診療計画(入力用)'!Q99","v":"00:00:00"},null,{"$f":"IF(D201=0,\"\",D201)","v":""},null,null,null,null,null,null,null,{"$f":"IF('維持期診療計画(入力用)'!$BE$5=FALSE,IF(維持期データ出力用!L201=0,FALSE,IF(維持期データ出力用!L201<'維持期診療計画(入力用)'!$BD$1,TRUE,FALSE)))","v":false}]
[null,"住宅改修必要性",null,0,"1:無 2:有",{"$f":"IF(D202<>\"\",LOOKUP(D202,{0,1,2},{\"\",\"無\",\"有\"}),\"\")","v":""},null,null,null,null,null,null,null,{"$f":"IF('維持期診療計画(入力用)'!$BE$5=FALSE,IF(維持期データ出力用!L202=0,FALSE,IF(維持期データ出力用!L202<'維持期診療計画(入力用)'!$BD$1,TRUE,FALSE)))","v":false},0]
[null,null,"有り　",0,null,{"$f":"IF(D203<>\"\",LOOKUP(D203,{0,1,2,3},{\"\",\"改修済み\",\"準備中\",\"その他\"}),\"\")","v":""},null,null,null,null,null,null,null,{"$f":"IF('維持期診療計画(入力用)'!$BE$5=FALSE,IF(維持期データ出力用!L203=0,FALSE,IF(維持期データ出力用!L203<'維持期診療計画(入力用)'!$BD$1,TRUE,FALSE)))","v":false},0]
[null,null,"その他　テキスト",{"$f":"'維持期診療計画(入力用)'!Z100","v":0},null,null,null,null,null,null,null,null,null,{"$f":"IF('維持期診療計画(入力用)'!$BE$5=FALSE,IF(維持期データ出力用!L204=0,FALSE,IF(維持期データ出力用!L204<'維持期診療計画(入力用)'!$BD$1,TRUE,FALSE)))","v":false}]
[null,null,"手すりの配置",false,null,{"$f":"IF(D205=TRUE,C205,\"\")","v":""},null,null,null,null,null,null,null,{"$f":"IF('維持期診療計画(入力用)'!$BE$5=FALSE,IF(維持期データ出力用!L205=0,FALSE,IF(維持期データ出力用!L205<'維持期診療計画(入力用)'!$BD$1,TRUE,FALSE)))","v":false},false]
[null,null,"トイレ改修",false,null,{"$f":"IF(D206=TRUE,C206,\"\")","v":""},null,null,null,null,null,null,null,{"$f":"IF('維持期診療計画(入力用)'!$BE$5=FALSE,IF(維持期データ出力用!L206=0,FALSE,IF(維持期データ出力用!L206<'維持期診療計画(入力用)'!$BD$1,TRUE,FALSE)))","v":false},false]
[null,null,"浴室の改修",false,null,{"$f":"IF(D207=TRUE,C207,\"\")","v":""},null,{"$f":"IF(H208<>\"\", \"(\" & MID(H208,2,200) & \")\",\"\")","v":""},null,null,null,null,null,{"$f":"IF('維持期診療計画(入力用)'!$BE$5=FALSE,IF(維持期データ出力用!L207=0,FALSE,IF(維持期データ出力用!L207<'維持期診療計画(入力用)'!$BD$1,TRUE,FALSE)))","v":false},false]
[null,null,"その他",false,null,{"$f":"IF(D208=TRUE,C208,\"\")","v":""},"計算用",{"$f":" IF(F205<>\"\",\"，\" & F205,\"\") & IF(F206<>\"\",\" \" & F206,\"\") & IF(F207<>\"\",\"，\" & F207,\"\") & IF(F208<>\"\",\" \" & F208,\"\")","v":""},null,null,null,null,null,{"$f":"IF('維持期診療計画(入力用)'!$BE$5=FALSE,IF(維持期データ出力用!L208=0,FALSE,IF(維持期データ出力用!L208<'維持期診療計画(入力用)'!$BD$1,TRUE,FALSE)))","v":false},false]
[null,null,"その他テキスト",{"$f":"'維持期診療計画(入力用)'!$AH$101","v":0},null,null,null,null,null,null,null,null,null,{"$f":"IF('維持期診療計画(入力用)'!$BE$5=FALSE,IF(維持期データ出力用!L209=0,FALSE,IF(維持期データ出力用!L209<'維持期診療計画(入力用)'!$BD$1,TRUE,FALSE)))","v":false}]
[null,"福祉用具の必要性",null,0,"1:無 2:有",{"$f":"IF(D210<>\"\",LOOKUP(D210,{0,1,2},{\"\",\"無\",\"有\"}),\"\")","v":""},null,null,null,null,null,null,null,{"$f":"IF('維持期診療計画(入力用)'!$BE$5=FALSE,IF(維持期データ出力用!L210=0,FALSE,IF(維持期データ出力用!L210<'維持期診療計画(入力用)'!$BD$1,TRUE,FALSE)))","v":false},0]
[null,null,"ベッドの利用",false,null,{"$f":"IF(D211=TRUE,C211,\"\")","v":""},null,null,null,null,null,null,null,{"$f":"IF('維持期診療計画(入力用)'!$BE$5=FALSE,IF(維持期データ出力用!L211=0,FALSE,IF(維持期データ出力用!L211<'維持期診療計画(入力用)'!$BD$1,TRUE,FALSE)))","v":false},false]
[null,null,"入浴補助具の利用",false,null,{"$f":"IF(D212=TRUE,C212,\"\")","v":""},null,null,null,null,null,null,null,{"$f":"IF('維持期診療計画(入力用)'!$BE$5=FALSE,IF(維持期データ出力用!L212=0,FALSE,IF(維持期データ出力用!L212<'維持期診療計画(入力用)'!$BD$1,TRUE,FALSE)))","v":false},false]
[null,null,"ポータブルトイレの利用",false,null,{"$f":"IF(D213=TRUE,C213,\"\")","v":""},null,{"$f":"IF(H214<>\"\", \"(\" & MID(H214,2,200) & \")\",\"\")","v":""},null,null,null,null,null,{"$f":"IF('維持期診療計画(入力用)'!$BE$5=FALSE,IF(維持期データ出力用!L213=0,FALSE,IF(維持期データ出力用!L213<'維持期診療計画(入力用)'!$BD$1,TRUE,FALSE)))","v":false},false]
[null,null,"その他",false,null,{"$f":"IF(D214=TRUE,C214,\"\")","v":""},"計算用",{"$f":" IF(F211<>\"\",\"，\" & F211,\"\") & IF(F212<>\"\",\" \" & F212,\"\") & IF(F213<>\"\",\"，\" & F213,\"\") & IF(F214<>\"\",\" \" & F214,\"\")","v":""},null,null,null,null,null,{"$f":"IF('維持期診療計画(入力用)'!$BE$5=FALSE,IF(維持期データ出力用!L214=0,FALSE,IF(維持期データ出力用!L214<'維持期診療計画(入力用)'!$BD$1,TRUE,FALSE)))","v":false},false]
[null,null,"その他　テキスト",{"$f":"'維持期診療計画(入力用)'!AJ103","v":0},null,null,null,null,null,null,null,null,null,{"$f":"IF('維持期診療計画(入力用)'!$BE$5=FALSE,IF(維持期データ出力用!L215=0,FALSE,IF(維持期データ出力用!L215<'維持期診療計画(入力用)'!$BD$1,TRUE,FALSE)))","v":false}]
[null,"退院・転院後のリハビリ・服薬・栄養に関する説明",null,false,null,null,null,null,null,null,null,null,null,{"$f":"IF('維持期診療計画(入力用)'!$BE$5=FALSE,IF(維持期データ出力用!L216=0,FALSE,IF(維持期データ出力用!L216<'維持期診療計画(入力用)'!$BD$1,TRUE,FALSE)))","v":false},false]
[null,null,"説明日",{"$f":"'維持期診療計画(入力用)'!I105","v":"00:00:00"},null,{"$f":"IF(D217=0,\"\",D217)","v":""},null,null,null,null,null,null,null,{"$f":"IF('維持期診療計画(入力用)'!$BE$5=FALSE,IF(維持期データ出力用!L217=0,FALSE,IF(維持期データ出力用!L217<'維持期診療計画(入力用)'!$BD$1,TRUE,FALSE)))","v":false}]
[null,null,"説明を行った者",{"$f":"'維持期診療計画(入力用)'!R105","v":0},null,{"$f":"IF(D218=0,\"\",D218)","v":""},null,null,null,null,null,null,null,{"$f":"IF('維持期診療計画(入力用)'!$BE$5=FALSE,IF(維持期データ出力用!L218=0,FALSE,IF(維持期データ出力用!L218<'維持期診療計画(入力用)'!$BD$1,TRUE,FALSE)))","v":false}]
[null,"退院（所）時指導",null,false,null,{"$f":"IF(D219=TRUE,B219,\"\")","v":""},null,null,null,null,null,null,null,{"$f":"IF('維持期診療計画(入力用)'!$BE$5=FALSE,IF(維持期データ出力用!L219=0,FALSE,IF(維持期データ出力用!L219<'維持期診療計画(入力用)'!$BD$1,TRUE,FALSE)))","v":false},false]
[null,"かかりつけ医への情報提供",null,false,null,"",null,null,null,null,null,null,null,{"$f":"IF('維持期診療計画(入力用)'!$BE$5=FALSE,IF(維持期データ出力用!L220=0,FALSE,IF(維持期データ出力用!L220<'維持期診療計画(入力用)'!$BD$1,TRUE,FALSE)))","v":false},false]
[null,"ケアマネジャーへの情報提供",null,false,null,"",null,null,null,null,null,null,null,{"$f":"IF('維持期診療計画(入力用)'!$BE$5=FALSE,IF(維持期データ出力用!L221=0,FALSE,IF(維持期データ出力用!L221<'維持期診療計画(入力用)'!$BD$1,TRUE,FALSE)))","v":false},false]
[null,"在宅ケア希望者退院連絡票送付",null,false,null,"",null,null,null,null,null,null,null,{"$f":"IF('維持期診療計画(入力用)'!$BE$5=FALSE,IF(維持期データ出力用!L222=0,FALSE,IF(維持期データ出力用!L222<'維持期診療計画(入力用)'!$BD$1,TRUE,FALSE)))","v":false},false]
[null,"居宅ｻｰﾋﾞｽ計画書案作成",null,false,null,"",null,null,null,null,null,null,null,{"$f":"IF('維持期診療計画(入力用)'!$BE$5=FALSE,IF(維持期データ出力用!L223=0,FALSE,IF(維持期データ出力用!L223<'維持期診療計画(入力用)'!$BD$1,TRUE,FALSE)))","v":false},false]
[null,"紹介元へ退所時情報の提供",null,false,null,"","計算用",{"$f":" IF(F219<>\"\",\"，\" & F219,\"\") & IF(F220<>\"\",\"，\" & F220,\"\") & IF(F221<>\"\",\"，\" & F221,\"\") & IF(F222<>\"\",\"，\" & F222,\"\") & IF(F223<>\"\",\"，\" & F223,\"\") & IF(F224<>\"\",\"，\" & F224,\"\")","v":""},null,null,null,null,null,{"$f":"IF('維持期診療計画(入力用)'!$BE$5=FALSE,IF(維持期データ出力用!L224=0,FALSE,IF(維持期データ出力用!L224<'維持期診療計画(入力用)'!$BD$1,TRUE,FALSE)))","v":false},false]
["検査","有無",null,0,null,null,null,null,null,null,null,null,null,{"$f":"IF('維持期診療計画(入力用)'!$BE$5=FALSE,IF(維持期データ出力用!L225=0,FALSE,IF(維持期データ出力用!L225<'維持期診療計画(入力用)'!$BD$1,TRUE,FALSE)))","v":false},0]
["栄養呼吸","食事形態","普通食",false,null,{"$f":"IF(D226=TRUE,C226,\"\")","v":""},null,null,null,null,null,null,null,{"$f":"IF('維持期診療計画(入力用)'!$BE$5=FALSE,IF(維持期データ出力用!L226=0,FALSE,IF(維持期データ出力用!L226<'維持期診療計画(入力用)'!$BD$1,TRUE,FALSE)))","v":false},false]
[null,null,"きざみ食",false,null,{"$f":"IF(D227=TRUE,C227,\"\")","v":""},null,null,null,null,null,null,null,null,false]
[null,null,"とろみ食",false,null,"",null,null,null,null,null,null,null,null,false]
[null,null,"治療食",false,null,"",null,{"$f":"IF(H230<>\"\", MID(H230,2,200),\"\")","v":""},null,null,null,null,null,null,false]
[null,null,"その他",false,null,"","計算用",{"$f":" IF(F226<>\"\",\"，\" & F226,\"\") & IF(F227<>\"\",\"，\" & F227,\"\") & IF(F228<>\"\",\"，\" & F228,\"\") & IF(F229<>\"\",\"，\" & F229,\"\") & IF(F230<>\"\",\"，\" & F230,\"\")","v":""},null,null,{"$f":"IF(H230=\"\",1,0)","v":1},null,null,null,false]
[null,"方法","経口",false,null,"",null,{"$f":"IF(H232<>\"\", MID(H232,2,200),\"\")","v":""},null,null,null,null,null,{"$f":"IF('維持期診療計画(入力用)'!$BE$5=FALSE,IF(維持期データ出力用!L231=0,FALSE,IF(維持期データ出力用!L231<'維持期診療計画(入力用)'!$BD$1,TRUE,FALSE)))","v":false},false]
[null,null,"経管",false,null,"","計算用",{"$f":" IF(F231<>\"\",\"，\" & F231,\"\") & IF(F232<>\"\",\"，\" & F232,\"\")","v":""},null,null,{"$f":"IF(H232=\"\",1,0)","v":1},null,null,null,false]
[null,"経管","胃管",false,null,"",null,null,null,null,null,null,null,{"$f":"IF('維持期診療計画(入力用)'!$BE$5=FALSE,IF(維持期データ出力用!L233=0,FALSE,IF(維持期データ出力用!L233<'維持期診療計画(入力用)'!$BD$1,TRUE,FALSE)))","v":false},false]
[null,null,"胃瘻",false,null,"",null,{"$f":"IF(H235<>\"\", MID(H235,2,200),\"\")","v":""},null,null,null,null,null,null,false]
[null,null,"その他",false,null,"","計算用",{"$f":" IF(F233<>\"\",\"，\" & F233,\"\") & IF(F234<>\"\",\"，\" & F234,\"\") & IF(F235<>\"\",\"，\" & F235,\"\") & IF(F121<>\"\",\"：\" & F121,\"\")","v":""},null,null,{"$f":"IF(D232=TRUE,IF(H235=\"\",1,0),0)","v":0},null,null,null,false]
["排泄","方法","トイレ",false,null,{"$f":"IF(D236=TRUE,C236,\"\")","v":""},null,null,null,null,null,null,null,{"$f":"IF('維持期診療計画(入力用)'!$BE$5=FALSE,IF(維持期データ出力用!L236=0,FALSE,IF(維持期データ出力用!L236<'維持期診療計画(入力用)'!$BD$1,TRUE,FALSE)))","v":false},false]
[null,null,"ポータブルトイレ ",false,null,"",null,null,null,null,null,null,null,null,false]
[null,null,"尿器",false,null,"",null,null,null,null,null,null,null,null,false]
[null,null,"オムツ ",false,null,"",null,{"$f":"IF(H240<>\"\", MID(H240,2,200),\"\")","v":""},null,null,null,null,null,null,false]
[null,null,"バルン",false,null,"","計算用",{"$f":" IF(F236<>\"\",\"，\" & F236,\"\") & IF(F237<>\"\",\"，\" & F237,\"\") & IF(F238<>\"\",\"，\" & F238,\"\") & IF(F239<>\"\",\"，\" & F239,\"\") & IF(F240<>\"\",\"，\" & F240,\"\")","v":""},null,null,{"$f":"IF(H240=\"\",1,0)","v":1},null,null,null,false]
["日常生活","日付","１か月",{"$f":"'維持期診療計画(入力用)'!V28","v":"00:00:00"},null,{"$f":"IF(D241=0,\"\",D241)","v":""},null,null,null,null,null,null,null,{"$f":"IF('維持期診療計画(入力用)'!$BE$5=FALSE,IF(維持期データ出力用!L241=0,FALSE,IF(維持期データ出力用!L241<'維持期診療計画(入力用)'!$BD$1,TRUE,FALSE)))","v":false}]
[null,null,"3か月",{"$f":"'維持期診療計画(入力用)'!AN28","v":"00:00:00"},null,{"$f":"IF(D242=0,\"\",D242)","v":""},null,null,null,{"$f":"IF(F242=\"\",1,0)","v":1},null,null,null,{"$f":"IF('維持期診療計画(入力用)'!$BE$5=FALSE,IF(維持期データ出力用!L242=0,FALSE,IF(維持期データ出力用!L242<'維持期診療計画(入力用)'!$BD$1,TRUE,FALSE)))","v":false}]
["日常生活機能評価表3か月","合計点数",null,{"$f":"'維持期診療計画(入力用)'!AJ47","v":0}]
[null,"床上安静の指示",null,0,null,null,null,null,null,{"$f":"IF(D244=0,1,0)","v":1},null,null,null,{"$f":"IF('維持期診療計画(入力用)'!$BE$5=FALSE,IF(維持期データ出力用!L244=0,FALSE,IF(維持期データ出力用!L244<'維持期診療計画(入力用)'!$BD$1,TRUE,FALSE)))","v":false},0]
[null,"どちらかの手を胸元まで持ち上げられる",null,0,null,null,null,null,null,{"$f":"IF(D245=0,1,0)","v":1},null,null,null,{"$f":"IF('維持期診療計画(入力用)'!$BE$5=FALSE,IF(維持期データ出力用!L245=0,FALSE,IF(維持期データ出力用!L245<'維持期診療計画(入力用)'!$BD$1,TRUE,FALSE)))","v":false},0]
[null,"寝返り",null,0,null,null,null,null,null,1,null,null,null,{"$f":"IF('維持期診療計画(入力用)'!$BE$5=FALSE,IF(維持期データ出力用!L246=0,FALSE,IF(維持期データ出力用!L246<'維持期診療計画(入力用)'!$BD$1,TRUE,FALSE)))","v":false},0]
[null,"起き上がり",null,0,null,null,null,null,null,1,null,null,null,{"$f":"IF('維持期診療計画(入力用)'!$BE$5=FALSE,IF(維持期データ出力用!L247=0,FALSE,IF(維持期データ出力用!L247<'維持期診療計画(入力用)'!$BD$1,TRUE,FALSE)))","v":false},0]
[null,"座位保持",null,0,null,null,null,null,null,1,null,null,null,{"$f":"IF('維持期診療計画(入力用)'!$BE$5=FALSE,IF(維持期データ出力用!L248=0,FALSE,IF(維持期データ出力用!L248<'維持期診療計画(入力用)'!$BD$1,TRUE,FALSE)))","v":false},0]
[null,"移乗",null,0,null,null,null,null,null,1,null,null,null,{"$f":"IF('維持期診療計画(入力用)'!$BE$5=FALSE,IF(維持期データ出力用!L249=0,FALSE,IF(維持期データ出力用!L249<'維持期診療計画(入力用)'!$BD$1,TRUE,FALSE)))","v":false},0]
[null,"移動方法",null,0,null,null,null,null,null,1,null,null,null,{"$f":"IF('維持期診療計画(入力用)'!$BE$5=FALSE,IF(維持期データ出力用!L250=0,FALSE,IF(維持期データ出力用!L250<'維持期診療計画(入力用)'!$BD$1,TRUE,FALSE)))","v":false},0]
[null,"口腔清潔",null,0,null,null,null,null,null,1,null,null,null,{"$f":"IF('維持期診療計画(入力用)'!$BE$5=FALSE,IF(維持期データ出力用!L251=0,FALSE,IF(維持期データ出力用!L251<'維持期診療計画(入力用)'!$BD$1,TRUE,FALSE)))","v":false},0]
[null,"食事摂取",null,0,null,null,null,null,null,1,null,null,null,{"$f":"IF('維持期診療計画(入力用)'!$BE$5=FALSE,IF(維持期データ出力用!L252=0,FALSE,IF(維持期データ出力用!L252<'維持期診療計画(入力用)'!$BD$1,TRUE,FALSE)))","v":false},0]
[null,"衣服の着脱",null,0,null,null,null,null,null,1,null,null,null,{"$f":"IF('維持期診療計画(入力用)'!$BE$5=FALSE,IF(維持期データ出力用!L253=0,FALSE,IF(維持期データ出力用!L253<'維持期診療計画(入力用)'!$BD$1,TRUE,FALSE)))","v":false},0]
[null,"他者への意思の伝達",null,0,null,null,null,null,null,1,null,null,null,{"$f":"IF('維持期診療計画(入力用)'!$BE$5=FALSE,IF(維持期データ出力用!L254=0,FALSE,IF(維持期データ出力用!L254<'維持期診療計画(入力用)'!$BD$1,TRUE,FALSE)))","v":false},0]
[null,"診療・療養上の指示が通じる",null,0,null,null,null,null,null,1,null,null,null,{"$f":"IF('維持期診療計画(入力用)'!$BE$5=FALSE,IF(維持期データ出力用!L255=0,FALSE,IF(維持期データ出力用!L255<'維持期診療計画(入力用)'!$BD$1,TRUE,FALSE)))","v":false},0]
[null,"危険行動",null,0,null,null,null,null,null,1,null,null,null,{"$f":"IF('維持期診療計画(入力用)'!$BE$5=FALSE,IF(維持期データ出力用!L256=0,FALSE,IF(維持期データ出力用!L256<'維持期診療計画(入力用)'!$BD$1,TRUE,FALSE)))","v":false},0]
[null,"身体拘束",null,0,null,{"$f":"IF(D257<>\"\",LOOKUP(D257,{0,1,2},{\"\",\"無\",\"有\"}),\"\")","v":""},null,null,null,1,null,null,null,{"$f":"IF('維持期診療計画(入力用)'!$BE$5=FALSE,IF(維持期データ出力用!L257=0,FALSE,IF(維持期データ出力用!L257<'維持期診療計画(入力用)'!$BD$1,TRUE,FALSE)))","v":false},0]
[null,null,"４点柵",false,null,{"$f":"IF(D258=TRUE,C258,\"\")","v":""},null,null,null,{"$f":"IF(D257=2,IF(H259=\"\",1,0),0)","v":0},null,null,null,null,false]
[null,null,"センサー",false,null,{"$f":"IF(D259=TRUE,C259,\"\")","v":""},null,{"$f":"IF(H260<>\"\",  MID(H260,2,200),\"\")","v":""},null,null,null,null,null,null,false]
[null,null,"その他",false,null,{"$f":"IF(D260=TRUE,IF(D261=0,C260,  C260 & \"(\" & D261 & \")\"),\"\")","v":""},"計算用",{"$f":" IF(F258<>\"\",\"，\" & F258,\"\") & IF(F259<>\"\",\"，\" & F259,\"\") & IF(F260<>\"\",\"，\" & F260,\"\")","v":""},null,null,null,null,null,null,false]
[null,null,"その他テキスト",{"$f":"'維持期診療計画(入力用)'!AT46","v":0},null,null,null,null,null,{"$f":"IF(D260=TRUE,IF(D261=0,1,0),0)","v":0},null,null,null,{"$f":"IF('維持期診療計画(入力用)'!$BE$5=FALSE,IF(維持期データ出力用!L261=0,FALSE,IF(維持期データ出力用!L261<'維持期診療計画(入力用)'!$BD$1,TRUE,FALSE)))","v":false}]
["医療連携上の特記事項","有無",null,0,null,null,null,null,null,null,null,null,null,{"$f":"IF('維持期診療計画(入力用)'!$BE$5=FALSE,IF(維持期データ出力用!L262=0,FALSE,IF(維持期データ出力用!L262<'維持期診療計画(入力用)'!$BD$1,TRUE,FALSE)))","v":false},0]
[null,"テキスト",null,{"$f":"'維持期診療計画(入力用)'!A113","v":0},null,{"$f":"IF(D263=0,\"\",D263)","v":""},null,null,null,null,null,null,null,{"$f":"IF('維持期診療計画(入力用)'!$BE$5=FALSE,IF(維持期データ出力用!L263=0,FALSE,IF(維持期データ出力用!L263<'維持期診療計画(入力用)'!$BD$1,TRUE,FALSE)))","v":false}]
["維持期入力完了日",null,null,null,null,{"$f":"IF(D264=0,\"\",D264)","v":""}]
["最終確認日時",null,null,null,null,{"$f":"IF(D265=0,\"\",D265)","v":""}]
[]
[]
[]
[]
[]
[]
[]
[]
[]
[]
[]
[]
[]
[]
[]
[]
[]
[]
[]
[null,null,null,null,null,null,null,null,{"$f":"SUM(I3:I284)","v":32},{"$f":"SUM(J2:J284)","v":18},{"$f":"SUM(K2:K284)","v":47}]

{"sheet":"STATISTICS","index":15,"n_rows":1,"n_cols":200,"rows_kept":1,"cut":false,"hidden":true,"merged":[]}
[{"$f":"急性期データ出力用!D5","v":0},{"$f":"急性期データ出力用!F11","v":""},{"$f":"急性期データ出力用!D14","v":0},{"$f":"急性期データ出力用!F15","v":""},{"$f":"急性期データ出力用!F16","v":""},{"$f":"IF(急性期データ出力用!D18,1,0) & \";\"\n&  IF(急性期データ出力用!D19,1,0) & \";\"\n&  IF(急性期データ出力用!D20,1,0) & \";\"\n&  IF(急性期データ出力用!D21,1,0) & \";\"\n&  IF(急性期データ出力用!D22,1,0) & \";\"\n&  IF(急性期データ出力用!D23,1,0) & \";\"\n&  IF(急性期データ出力用!D24,1,0) & \";\"\n&  IF(急性期データ出力用!D26,1,0) & \";\"\n&  IF(急性期データ出力用!D27,1,0) & \";\"\n&  IF(急性期データ出力用!D28,1,0) & \";\"\n&  IF(急性期データ出力用!D29,1,0) & \";\"\n&  IF(急性期データ出力用!D30,1,0) & \";\"\n&  IF(急性期データ出力用!D31,1,0) & \";\"\n&  IF(急性期データ出力用!D32,1,0) & \";\"\n&  IF(急性期データ出力用!D33,1,0) & \";\"\n&  IF(急性期データ出力用!D35,1,0) & \";\"\n&  IF(急性期データ出力用!D36,1,0) & \";\"\n&  IF(急性期データ出力用!D37,1,0) & \";\"\n&  IF(急性期データ出力用!D38,1,0) & \";\"\n&  IF(急性期データ出力用!D39,1,0)","v":"0;0;0;0;0;0;0;0;0;0;0;0;0;0;0;0;0;0;0;0"},{"$f":"急性期データ出力用!F40","v":""},{"$f":"急性期データ出力用!F41","v":""},{"$f":"急性期データ出力用!D42","v":0},{"$f":"急性期データ出力用!D43","v":0},{"$f":"IF(急性期データ出力用!D44,1,0) & \";\"\n&  IF(急性期データ出力用!D45,1,0) & \";\"\n&  IF(急性期データ出力用!D46,1,0) & \";\"\n&  IF(急性期データ出力用!D47,1,0) & \";\"\n&  IF(急性期データ出力用!D48,1,0) & \";\"\n&  IF(急性期データ出力用!D49,1,0) & \";\"\n&  IF(急性期データ出力用!D50,1,0) & \";\"\n&  IF(急性期データ出力用!D51,1,0)","v":"0;0;0;0;0;0;0;0"},{"$f":"急性期データ出力用!D52","v":0},{"$f":"急性期データ出力用!D53","v":0},{"$f":"急性期データ出力用!F54","v":""},{"$f":"急性期データ出力用!D55","v":" "},{"$f":"急性期データ出力用!D56","v":0},{"$f":"急性期データ出力用!D57","v":" "},{"$f":"急性期データ出力用!D58","v":""},{"$f":"'急性期診療計画(入力用)'!CG17 & \";\"\n& '急性期診療計画(入力用)'!CH17 &\";\"\n& '急性期診療計画(入力用)'!CI17 & \";\"\n&'急性期診療計画(入力用)'!CJ17","v":" ; ; ; "},{"$f":"急性期データ出力用!D63","v":0},{"$f":"急性期データ出力用!D64","v":0},{"$f":"急性期データ出力用!E65","v":0},{"$f":"IF(急性期データ出力用!D66,1,0) & \";\"\n&  IF(急性期データ出力用!D67,1,0) & \";\"\n&  IF(急性期データ出力用!D68,1,0)","v":"0;0;0"},{"$f":"急性期データ出力用!D69","v":0},{"$f":"急性期データ出力用!D70","v":0},{"$f":"急性期データ出力用!D71","v":0},{"$f":"急性期データ出力用!D72","v":0},{"$f":"急性期データ出力用!D73","v":0},{"$f":"IF(急性期データ出力用!D74,1,0) & \";\"\n&  IF(急性期データ出力用!D75,1,0) & \";\"\n&  IF(急性期データ出力用!D76,1,0) & \";\"\n&  IF(急性期データ出力用!D77,1,0) & \";\"\n&  IF(急性期データ出力用!D78,1,0) & \";\"\n&  IF(急性期データ出力用!D79,1,0)","v":"0;0;0;0;0;0"},{"$f":"急性期データ出力用!E79","v":0},{"$f":"急性期データ出力用!D82","v":0},{"$f":"IF(急性期データ出力用!D284,1,0) & \";\"\n&  IF(急性期データ出力用!D285,1,0) & \";\"\n&  IF(急性期データ出力用!D286,1,0) & \";\"\n&  IF(急性期データ出力用!D287,1,0) & \";\"\n&  IF(急性期データ出力用!D288,1,0)","v":"0;0;0;0;0"},{"$f":"急性期データ出力用!D80","v":0},{"$f":"IF(急性期データ出力用!D281,1,0) & \";\"\n&  IF(急性期データ出力用!D282,1,0) & \";\"\n&  IF(急性期データ出力用!D283,1,0)","v":"0;0;0"},{"$f":"急性期データ出力用!F84","v":""},{"$f":"急性期データ出力用!D85","v":" "},{"$f":"急性期データ出力用!D86","v":0},{"$f":"急性期データ出力用!D87","v":" "},{"$f":"急性期データ出力用!D88","v":""},{"$f":"FIM急性期!N6 & \";\"\n& FIM急性期!N7 & \";\"\n& FIM急性期!N8 & \";\"\n& FIM急性期!N9 & \";\"\n& FIM急性期!N10 & \";\"\n& FIM急性期!N11 & \";\"\n& FIM急性期!N12 & \";\"\n& FIM急性期!N13 & \";\"\n& FIM急性期!N14 & \";\"\n& FIM急性期!N15 & \";\"\n& FIM急性期!S6 & \";\"\n& FIM急性期!S7 & \";\"\n& FIM急性期!S9 & \";\"\n& FIM急性期!S10 & \";\"\n& FIM急性期!S11 & \";\"\n& FIM急性期!S12 & \";\"\n& FIM急性期!S13 & \";\"\n& FIM急性期!S14","v":"0;0;0;0;0;0;0;0;0;0;0;0;0;0;0;0;0;0"},{"$f":"B.I急性期!G5&\";\"\n&B.I急性期!G6&\";\"\n&B.I急性期!G7&\";\"\n&B.I急性期!G8&\";\"\n&B.I急性期!G9&\";\"\n&B.I急性期!G10&\";\"\n&B.I急性期!G11&\";\"\n&B.I急性期!G12&\";\"\n&B.I急性期!G13&\";\"\n&B.I急性期!G14","v":";;;;;;;;;"},{"$f":"'急性期診療計画(入力用)'!CG18 & \";\"\n& '急性期診療計画(入力用)'!CH18 & \";\"\n& '急性期診療計画(入力用)'!CI18 & \";\"\n& '急性期診療計画(入力用)'!CJ18","v":" ; ; ; "},{"$f":"急性期データ出力用!D93","v":0},{"$f":"急性期データ出力用!D94","v":0},{"$f":"急性期データ出力用!E95","v":0},{"$f":"IF(急性期データ出力用!D96,1,0) & \";\"\n&  IF(急性期データ出力用!D97,1,0) & \";\"\n&  IF(急性期データ出力用!D98,1,0)","v":"0;0;0"},{"$f":"急性期データ出力用!D99","v":0},{"$f":"急性期データ出力用!D100","v":0},{"$f":"急性期データ出力用!D101","v":0},{"$f":"急性期データ出力用!D102","v":0},{"$f":"急性期データ出力用!D103","v":0},{"$f":"IF(急性期データ出力用!D104,1,0) & \";\"\n&  IF(急性期データ出力用!D105,1,0) & \";\"\n&  IF(急性期データ出力用!D106,1,0) & \";\"\n&  IF(急性期データ出力用!D107,1,0) & \";\"\n&  IF(急性期データ出力用!D108,1,0) & \";\"\n&  IF(急性期データ出力用!D109,1,0)","v":"0;0;0;0;0;0"},{"$f":"急性期データ出力用!E109","v":0},{"$f":"急性期データ出力用!D112","v":0},{"$f":"IF(急性期データ出力用!D292,1,0) & \";\"\n&  IF(急性期データ出力用!D293,1,0) & \";\"\n&  IF(急性期データ出力用!D294,1,0) & \";\"\n&  IF(急性期データ出力用!D295,1,0) & \";\"\n&  IF(急性期データ出力用!D296,1,0)","v":"0;0;0;0;0"},{"$f":"急性期データ出力用!D110","v":0},{"$f":"IF(急性期データ出力用!D289,1,0) & \";\"\n&  IF(急性期データ出力用!D290,1,0) & \";\"\n&  IF(急性期データ出力用!D291,1,0)","v":"0;0;0"},{"$f":"日常生活機能評価!AT9 & \";\"\n& 日常生活機能評価!AT10 & \";\"\n& 日常生活機能評価!AT11 & \";\"\n& 日常生活機能評価!AT12 & \";\"\n& 日常生活機能評価!AT13 & \";\"\n& 日常生活機能評価!AT14 & \";\"\n& 日常生活機能評価!AT15 & \";\"\n& 日常生活機能評価!AT16 & \";\"\n& 日常生活機能評価!AT17 & \";\"\n& 日常生活機能評価!AT18 & \";\"\n& 日常生活機能評価!AT19 & \";\"\n& 日常生活機能評価!AT20 & \";\"\n& 日常生活機能評価!AT21","v":";;;;;;;;;;;;"},{"$f":"日常生活機能評価!AE22","v":0},{"$f":"急性期データ出力用!D123","v":0},{"$f":"IF(急性期データ出力用!D124,1,0) & \";\"\n&  IF(急性期データ出力用!D125,1,0) & \";\"\n&  IF(急性期データ出力用!D126,1,0)","v":"0;0;0"},{"$f":"急性期データ出力用!E126","v":0},{"$f":"急性期データ出力用!D128","v":"00:00:00"},{"$f":"急性期データ出力用!H129 & \";\"\n& 急性期データ出力用!H130 & \";\"\n& 急性期データ出力用!H131 & \";\"\n& 急性期データ出力用!H132 & \";\"\n& 急性期データ出力用!H133 & \";\"\n& 急性期データ出力用!H134","v":";;;;;"},{"$f":"急性期データ出力用!D141","v":0},{"$f":"急性期データ出力用!D142","v":0},{"$f":"急性期データ出力用!E143","v":0},{"$f":"IF(急性期データ出力用!D144,1,0) & \";\"\n&  IF(急性期データ出力用!D145,1,0) & \";\"\n&  IF(急性期データ出力用!D146,1,0)","v":"0;0;0"},{"$f":"急性期データ出力用!D153","v":0},{"$f":"急性期データ出力用!D155","v":0},{"$f":"急性期データ出力用!D157","v":0},{"$f":"IF(急性期データ出力用!D158,1,0) & \";\"\n&  IF(急性期データ出力用!D159,1,0) & \";\"\n&  IF(急性期データ出力用!D160,1,0) & \";\"\n&  IF(急性期データ出力用!D161,1,0) & \";\"\n&  IF(急性期データ出力用!D162,1,0) & \";\"\n&  IF(急性期データ出力用!D163,1,0)","v":"0;0;0;0;0;0"},{"$f":"急性期データ出力用!E163","v":0},{"$f":"急性期データ出力用!H135 & \";\"\n& 急性期データ出力用!H136 & \";\"\n& 急性期データ出力用!H137 & \";\"\n& 急性期データ出力用!H138 & \";\"\n& 急性期データ出力用!H139 & \";\"\n& 急性期データ出力用!H140","v":";;;;;"},{"$f":"急性期データ出力用!D147","v":0},{"$f":"急性期データ出力用!D148","v":0},{"$f":"急性期データ出力用!E149","v":0},{"$f":"IF(急性期データ出力用!D150,1,0) & \";\"\n&  IF(急性期データ出力用!D151,1,0) & \";\"\n&  IF(急性期データ出力用!D152,1,0)","v":"0;0;0"},{"$f":"急性期データ出力用!D154","v":0},{"$f":"急性期データ出力用!D156","v":0},{"$f":"急性期データ出力用!D164","v":0},{"$f":"IF(急性期データ出力用!D165,1,0) & \";\"\n&  IF(急性期データ出力用!D166,1,0) & \";\"\n&  IF(急性期データ出力用!D167,1,0) & \";\"\n&  IF(急性期データ出力用!D169,1,0) & \";\"\n&  IF(急性期データ出力用!D170,1,0) & \";\"\n&  IF(急性期データ出力用!D171,1,0)","v":"0;0;0;0;0;0"},{"$f":"急性期データ出力用!E170","v":0},{"$f":"急性期データ出力用!D173","v":0},{"$f":"IF(急性期データ出力用!D174,1,0)&\";\"\n&IF(急性期データ出力用!D175,1,0)&\";\"\n&IF(急性期データ出力用!D176,1,0)&\";\"\n&IF(急性期データ出力用!D177,1,0)&\";\"\n&IF(急性期データ出力用!D178,1,0)&\";\"\n&IF(急性期データ出力用!D179,1,0)&\";\"\n&IF(急性期データ出力用!D180,1,0)&\";\"\n&IF(急性期データ出力用!D181,1,0)&\";\"\n&IF(急性期データ出力用!D182,1,0)&\";\"\n&IF(急性期データ出力用!D183,1,0)","v":"0;0;0;0;0;0;0;0;0;0"},{"$f":"急性期データ出力用!E183","v":""},{"$f":"急性期データ出力用!D185","v":"00:00:00"},{"$f":"急性期データ出力用!D298","v":"00:00:00"},{"$f":"急性期データ出力用!D186","v":0},{"$f":"IF(急性期データ出力用!D187,1,0) & \";\"\n& IF(急性期データ出力用!D188,1,0) & \";\"\n& IF(急性期データ出力用!D189,1,0) & \";\"\n& IF(急性期データ出力用!D190,1,0) & \";\"\n& IF(急性期データ出力用!D191,1,0) & \";\"\n& IF(急性期データ出力用!D192,1,0) & \";\"\n& IF(急性期データ出力用!D193,1,0) & \";\"\n& IF(急性期データ出力用!D194,1,0)","v":"0;0;0;0;0;0;0;0"},{"$f":"急性期データ出力用!E193","v":0},{"$f":"急性期データ出力用!E194","v":0},{"$f":"急性期データ出力用!D171","v":0},{"$f":"急性期データ出力用!D172","v":0},{"$f":" 急性期データ出力用!D201 & \";\"\n& 急性期データ出力用!D202 & \";\"\n& 急性期データ出力用!D203 & \";\"\n& 急性期データ出力用!D205","v":"0;0;0;0"},{"$f":"急性期データ出力用!D204","v":0},{"$f":"急性期データ出力用!E205","v":""},{"$f":"急性期データ出力用!D206 & \";\"\n& 急性期データ出力用!D207 & \";\"\n& 急性期データ出力用!D208 & \";\"\n& 急性期データ出力用!D209 & \";\"\n& 急性期データ出力用!D210 & \";\"\n& 急性期データ出力用!D211 & \";\"\n& 急性期データ出力用!D212 & \";\"\n& 急性期データ出力用!D214 & \";\"\n& 急性期データ出力用!D216 & \";\"\n& 急性期データ出力用!D218 & \";\"\n& 急性期データ出力用!D220","v":"0;0;0;0;0;0;0;0;0;0;0"},{"$f":"急性期データ出力用!D213","v":0},{"$f":"急性期データ出力用!D215","v":0},{"$f":"急性期データ出力用!D217","v":0},{"$f":"急性期データ出力用!D219","v":""},{"$f":"急性期データ出力用!D221","v":""},{"$f":"急性期データ出力用!D222","v":"00:00:00"},{"$f":"急性期データ出力用!H231","v":""},{"$f":"急性期データ出力用!D233","v":0},{"$f":"回復期データ出力用!D55","v":"00:00:00"},{"$f":"'回復期診療計画(入力用)'!CG15  & \";\"\n& '回復期診療計画(入力用)'!CH15 & \";\"\n& '回復期診療計画(入力用)'!CI15 & \";\"\n& '回復期診療計画(入力用)'!CJ15","v":" ; ; ; "},{"$f":"'FIM回復期 (入院)'!N6 & \";\"\n& 'FIM回復期 (入院)'!N7 & \";\"\n& 'FIM回復期 (入院)'!N8 & \";\"\n& 'FIM回復期 (入院)'!N9 & \";\"\n& 'FIM回復期 (入院)'!N10 & \";\"\n& 'FIM回復期 (入院)'!N11 & \";\"\n& 'FIM回復期 (入院)'!N12 & \";\"\n& 'FIM回復期 (入院)'!N13 & \";\"\n& 'FIM回復期 (入院)'!N14 & \";\"\n& 'FIM回復期 (入院)'!N15 & \";\"\n& 'FIM回復期 (入院)'!S6 & \";\"\n& 'FIM回復期 (入院)'!S7 & \";\"\n& 'FIM回復期 (入院)'!S9 & \";\"\n& 'FIM回復期 (入院)'!S10 & \";\"\n& 'FIM回復期 (入院)'!S11 & \";\"\n& 'FIM回復期 (入院)'!S12 & \";\"\n& 'FIM回復期 (入院)'!S13 & \";\"\n& 'FIM回復期 (入院)'!S14","v":"0;0;0;0;0;0;0;0;0;0;0;0;0;0;0;0;0;0"},{"$f":"'B.I回復期(入院)'!G5&\";\"\n& 'B.I回復期(入院)'!G6&\";\"\n& 'B.I回復期(入院)'!G7&\";\"\n& 'B.I回復期(入院)'!G8&\";\"\n& 'B.I回復期(入院)'!G9&\";\"\n& 'B.I回復期(入院)'!G10&\";\"\n& 'B.I回復期(入院)'!G11&\";\"\n& 'B.I回復期(入院)'!G12&\";\"\n& 'B.I回復期(入院)'!G13&\";\"\n& 'B.I回復期(入院)'!G14","v":";;;;;;;;;"},{"$f":"回復期データ出力用!Q59 & \";\"\n& 回復期データ出力用!Q60 & \";\"\n& 回復期データ出力用!Q61 & \";\"\n& 回復期データ出力用!Q62 & \";\"\n& 回復期データ出力用!Q63 & \";\"\n& 回復期データ出力用!Q64","v":";;;;;"},{"$f":" '回復期診療計画(入力用)'!CG16 & \";\"\n& '回復期診療計画(入力用)'!CH16 & \";\"\n& '回復期診療計画(入力用)'!CI16 & \";\"\n& '回復期診療計画(入力用)'!CJ16","v":" ; ; ; "},{"$f":"'FIM回復期 (３ヶ月)'!N6 & \";\"\n& 'FIM回復期 (３ヶ月)'!N7 & \";\"\n& 'FIM回復期 (３ヶ月)'!N8 & \";\"\n& 'FIM回復期 (３ヶ月)'!N9 & \";\"\n& 'FIM回復期 (３ヶ月)'!N10 & \";\"\n& 'FIM回復期 (３ヶ月)'!N11 & \";\"\n& 'FIM回復期 (３ヶ月)'!N12 & \";\"\n& 'FIM回復期 (３ヶ月)'!N13 & \";\"\n& 'FIM回復期 (３ヶ月)'!N14 & \";\"\n& 'FIM回復期 (３ヶ月)'!N15 & \";\"\n& 'FIM回復期 (３ヶ月)'!S6 & \";\"\n& 'FIM回復期 (３ヶ月)'!S7 & \";\"\n& 'FIM回復期 (３ヶ月)'!S9 & \";\"\n& 'FIM回復期 (３ヶ月)'!S10 & \";\"\n& 'FIM回復期 (３ヶ月)'!S11 & \";\"\n& 'FIM回復期 (３ヶ月)'!S12 & \";\"\n& 'FIM回復期 (３ヶ月)'!S13 & \";\"\n& 'FIM回復期 (３ヶ月)'!S14","v":"0;0;0;0;0;0;0;0;0;0;0;0;0;0;0;0;0;0"},{"$f":"'B.I回復期(3ヶ月)'!G5&\";\"\n& 'B.I回復期(3ヶ月)'!G6&\";\"\n& 'B.I回復期(3ヶ月)'!G7&\";\"\n& 'B.I回復期(3ヶ月)'!G8&\";\"\n& 'B.I回復期(3ヶ月)'!G9&\";\"\n& 'B.I回復期(3ヶ月)'!G10&\";\"\n& 'B.I回復期(3ヶ月)'!G11&\";\"\n& 'B.I回復期(3ヶ月)'!G12&\";\"\n& 'B.I回復期(3ヶ月)'!G13&\";\"\n& 'B.I回復期(3ヶ月)'!G14","v":";;;;;;;;;"},{"$f":"回復期データ出力用!S59 & \";\"\n& 回復期データ出力用!S60 & \";\"\n& 回復期データ出力用!S61 & \";\"\n& 回復期データ出力用!S62 & \";\"\n& 回復期データ出力用!S63 & \";\"\n& 回復期データ出力用!S64","v":";;;;;"},{"$f":"回復期データ出力用!D65","v":"00:00:00"},{"$f":" '回復期診療計画(入力用)'!CL15 & \";\"\n& '回復期診療計画(入力用)'!CM15 & \";\"\n& '回復期診療計画(入力用)'!CN15 & \";\"\n& '回復期診療計画(入力用)'!CO15","v":" ; ; ; "},{"$f":"'FIM回復期 (退院)'!N6 & \";\"\n& 'FIM回復期 (退院)'!N7 & \";\"\n& 'FIM回復期 (退院)'!N8 & \";\"\n& 'FIM回復期 (退院)'!N9 & \";\"\n& 'FIM回復期 (退院)'!N10 & \";\"\n& 'FIM回復期 (退院)'!N11 & \";\"\n& 'FIM回復期 (退院)'!N12 & \";\"\n& 'FIM回復期 (退院)'!N13 & \";\"\n& 'FIM回復期 (退院)'!N14 & \";\"\n& 'FIM回復期 (退院)'!N15 & \";\"\n& 'FIM回復期 (退院)'!S6 & \";\"\n& 'FIM回復期 (退院)'!S7 & \";\"\n& 'FIM回復期 (退院)'!S9 & \";\"\n& 'FIM回復期 (退院)'!S10 & \";\"\n& 'FIM回復期 (退院)'!S11 & \";\"\n& 'FIM回復期 (退院)'!S12 & \";\"\n& 'FIM回復期 (退院)'!S13 & \";\"\n& 'FIM回復期 (退院)'!S14","v":"0;0;0;0;0;0;0;0;0;0;0;0;0;0;0;0;0;0"},{"$f":"'B.I回復期(退院)'!G5&\";\"\n& 'B.I回復期(退院)'!G6&\";\"\n& 'B.I回復期(退院)'!G7&\";\"\n& 'B.I回復期(退院)'!G8&\";\"\n& 'B.I回復期(退院)'!G9&\";\"\n& 'B.I回復期(退院)'!G10&\";\"\n& 'B.I回復期(退院)'!G11&\";\"\n& 'B.I回復期(退院)'!G12&\";\"\n& 'B.I回復期(退院)'!G13&\";\"\n& 'B.I回復期(退院)'!G14","v":";;;;;;;;;"},{"$f":"回復期データ出力用!U59 & \";\"\n& 回復期データ出力用!U60 & \";\"\n& 回復期データ出力用!U61 & \";\"\n& 回復期データ出力用!U62 & \";\"\n& 回復期データ出力用!U63 & \";\"\n& 回復期データ出力用!U64","v":";;;;;"},{"$f":"日常生活機能評価!AV9 & \";\"\n& 日常生活機能評価!AV10 & \";\"\n& 日常生活機能評価!AV11 & \";\"\n& 日常生活機能評価!AV12 & \";\"\n& 日常生活機能評価!AV13 & \";\"\n& 日常生活機能評価!AV14 & \";\"\n& 日常生活機能評価!AV15 & \";\"\n& 日常生活機能評価!AV16 & \";\"\n& 日常生活機能評価!AV17 & \";\"\n& 日常生活機能評価!AV18 & \";\"\n& 日常生活機能評価!AV19 & \";\"\n& 日常生活機能評価!AV20 & \";\"\n& 日常生活機能評価!AV21","v":";;;;;;;;;;;;"},{"$f":"日常生活機能評価!AH22","v":0},{"$f":"回復期データ出力用!D77","v":0},{"$f":"IF(回復期データ出力用!D78,1,0) & \";\"\n&  IF(回復期データ出力用!D79,1,0) & \";\"\n&  IF(回復期データ出力用!D80,1,0)","v":"0;0;0"},{"$f":"回復期データ出力用!E80","v":0},{"$f":"回復期データ出力用!D83","v":0},{"$f":"IF(回復期データ出力用!D198,1,0)&\";\"\n&IF(回復期データ出力用!D199,1,0)&\";\"\n&IF(回復期データ出力用!D200,1,0)&\";\"\n&IF(回復期データ出力用!D201,1,0)&\";\"\n&IF(回復期データ出力用!D202,1,0)&\";\"\n&IF(回復期データ出力用!D203,1,0)&\";\"\n&IF(回復期データ出力用!D204,1,0)&\";\"\n&IF(回復期データ出力用!D205,1,0)&\";\"\n&IF(回復期データ出力用!D206,1,0)&\";\"\n&IF(回復期データ出力用!D207,1,0)","v":"0;0;0;0;0;0;0;0;0;0"},{"$f":"回復期データ出力用!D208","v":0},{"$f":"回復期データ出力用!D85","v":0},{"$f":"回復期データ出力用!D86","v":0},{"$f":"回復期データ出力用!D87","v":0},{"$f":"回復期データ出力用!D88 & \";\"\n& 回復期データ出力用!D89 & \";\"\n& 回復期データ出力用!D90 & \";\"\n& 回復期データ出力用!D91 & \";\"\n& 回復期データ出力用!D92 & \";\"\n& 回復期データ出力用!D93 & \";\"\n& 回復期データ出力用!D94 & \";\"\n& 回復期データ出力用!D102 & \";\"\n& 回復期データ出力用!D96 & \";\"\n& 回復期データ出力用!D98 & \";\"\n& 回復期データ出力用!D100","v":"0;0;0;0;0;0;0;0;0;0;0"},{"$f":"回復期データ出力用!D95","v":0},{"$f":"回復期データ出力用!D97","v":0},{"$f":"回復期データ出力用!D99","v":0},{"$f":"回復期データ出力用!D101","v":0},{"$f":"IF(回復期データ出力用!D215,1,0)&\";\"\n&IF(回復期データ出力用!D216,1,0)&\";\"\n&IF(回復期データ出力用!D217,1,0)&\";\"\n&IF(回復期データ出力用!D218,1,0)&\";\"\n&IF(回復期データ出力用!D219,1,0)","v":"0;0;0;0;0"},{"$f":"回復期データ出力用!D104","v":0},{"$f":"回復期データ出力用!D105","v":0},{"$f":"IF(回復期データ出力用!D220,1,0)&\";\"\n&IF(回復期データ出力用!D221,1,0)","v":"0;0"},{"$f":"IF(回復期データ出力用!D222,1,0)&\";\"\n&IF(回復期データ出力用!D223,1,0)&\";\"\n&IF(回復期データ出力用!D224,1,0)","v":"0;0;0"},{"$f":"回復期データ出力用!D210","v":"呼吸"},{"$f":"回復期データ出力用!D110","v":0},{"$f":"回復期データ出力用!D111","v":0},{"$f":"IF(回復期データ出力用!D225,1,0)&\";\"\n&IF(回復期データ出力用!D226,1,0)&\";\"\n&IF(回復期データ出力用!D227,1,0)&\";\"\n&IF(回復期データ出力用!D228,1,0)&\";\"\n&IF(回復期データ出力用!D229,1,0)","v":"0;0;0;0;0"},{"$f":"回復期データ出力用!D120","v":0},{"$f":"回復期データ出力用!D121","v":0},{"$f":"回復期データ出力用!D122","v":""},{"$f":"回復期データ出力用!D123","v":""},{"$f":"回復期データ出力用!H160","v":""},{"$f":"維持期データ出力用!D55","v":"00:00:00"},{"$f":"維持期データ出力用!D56","v":0},{"$f":"維持期データ出力用!D57","v":0},{"$f":"維持期データ出力用!D58","v":0},{"$f":"IF(維持期データ出力用!D60,1,0)&\";\"\n&IF(維持期データ出力用!D61,1,0)&\";\"\n&IF(維持期データ出力用!D62,1,0)&\";\"\n&IF(維持期データ出力用!D63,1,0)&\";\"\n&IF(維持期データ出力用!D64,1,0)&\";\"\n&IF(維持期データ出力用!D65,1,0)&\";\"\n&IF(維持期データ出力用!D66,1,0)&\";\"\n&IF(維持期データ出力用!D67,1,0)&\";\"\n&IF(維持期データ出力用!D68,1,0)&\";\"\n&IF(維持期データ出力用!D69,1,0)","v":"0;0;0;0;0;0;0;0;0;0"},{"$f":"維持期データ出力用!D70","v":0},{"$f":"維持期データ出力用!D71","v":0},{"$f":"維持期データ出力用!D72","v":0},{"$f":"IF(維持期データ出力用!D73,1,0)&\";\"\n&IF(維持期データ出力用!D74,1,0)&\";\"\n&IF(維持期データ出力用!D75,1,0)&\";\"\n&IF(維持期データ出力用!D76,1,0)","v":"0;0;0;0"},{"$f":"維持期データ出力用!D77","v":0},{"$f":"維持期データ出力用!D241","v":"00:00:00"},{"$f":"日常生活機能評価!AX9 & \";\"\n& 日常生活機能評価!AX10 & \";\"\n& 日常生活機能評価!AX11 & \";\"\n& 日常生活機能評価!AX12 & \";\"\n& 日常生活機能評価!AX13 & \";\"\n& 日常生活機能評価!AX14 & \";\"\n& 日常生活機能評価!AX15 & \";\"\n& 日常生活機能評価!AX16 & \";\"\n& 日常生活機能評価!AX17 & \";\"\n& 日常生活機能評価!AX18 & \";\"\n& 日常生活機能評価!AX19 & \";\"\n& 日常生活機能評価!AX20 & \";\"\n& 日常生活機能評価!AX21","v":";;;;;;;;;;;;"},{"$f":"日常生活機能評価!AK22","v":0},{"$f":"維持期データ出力用!D94","v":0},{"$f":"IF(維持期データ出力用!D95,1,0) & \";\"\n& IF(維持期データ出力用!D96,1,0) & \";\"\n& IF(維持期データ出力用!D97,1,0)","v":"0;0;0"},{"$f":"維持期データ出力用!D98","v":0},{"$f":"維持期データ出力用!D242","v":"00:00:00"},{"$f":"日常生活機能評価!AZ9 & \";\"\n& 日常生活機能評価!AZ10 & \";\"\n& 日常生活機能評価!AZ11 & \";\"\n& 日常生活機能評価!AZ12 & \";\"\n& 日常生活機能評価!AZ13 & \";\"\n& 日常生活機能評価!AZ14 & \";\"\n& 日常生活機能評価!AZ15 & \";\"\n& 日常生活機能評価!AZ16 & \";\"\n& 日常生活機能評価!AZ17 & \";\"\n& 日常生活機能評価!AZ18 & \";\"\n& 日常生活機能評価!AZ19 & \";\"\n& 日常生活機能評価!AZ20 & \";\"\n& 日常生活機能評価!AZ21","v":";;;;;;;;;;;;"},{"$f":"日常生活機能評価!AN22","v":0},{"$f":"維持期データ出力用!D257","v":0},{"$f":"IF(維持期データ出力用!D258,1,0) & \";\"\n& IF(維持期データ出力用!D259,1,0) & \";\"\n& IF(維持期データ出力用!D260,1,0)","v":"0;0;0"},{"$f":"維持期データ出力用!D261","v":0},{"$f":"維持期データ出力用!D99 & \";\"\n& 維持期データ出力用!D100 & \";\"\n& 維持期データ出力用!D101 & \";\"\n& 維持期データ出力用!D102 & \";\"\n& 維持期データ出力用!D103 & \";\"\n& 維持期データ出力用!D104 & \";\"\n& 維持期データ出力用!D105 & \";\"\n& 維持期データ出力用!D107 & \";\"\n& 維持期データ出力用!D115 & \";\"\n& 維持期データ出力用!D109 & \";\"\n& 維持期データ出力用!D111","v":"0;0;0;0;0;0;0;0;0;0;0"},{"$f":"維持期データ出力用!D106","v":0},{"$f":"維持期データ出力用!D108","v":0},{"$f":"維持期データ出力用!D110","v":0},{"$f":"維持期データ出力用!D112","v":0},{"$f":"IF(維持期データ出力用!D226,1,0)&\";\"\n&IF(維持期データ出力用!D227,1,0)&\";\"\n&IF(維持期データ出力用!D228,1,0)&\";\"\n&IF(維持期データ出力用!D229,1,0)&\";\"\n&IF(維持期データ出力用!D230,1,0)","v":"0;0;0;0;0"},{"$f":"維持期データ出力用!D117","v":0},{"$f":"維持期データ出力用!D118","v":0},{"$f":"IF(維持期データ出力用!D231,1,0)&\";\"\n&IF(維持期データ出力用!D232,1,0)","v":"0;0"},{"$f":"IF(維持期データ出力用!D233,1,0)&\";\"\n&IF(維持期データ出力用!D234,1,0)&\";\"\n&IF(維持期データ出力用!D235,1,0)","v":"0;0;0"},{"$f":"維持期データ出力用!D121","v":0},{"$f":"維持期データ出力用!D125","v":0},{"$f":"維持期データ出力用!D127","v":0},{"$f":"IF(維持期データ出力用!D236,1,0)&\";\"\n&IF(維持期データ出力用!D237,1,0)&\";\"\n&IF(維持期データ出力用!D238,1,0)&\";\"\n&IF(維持期データ出力用!D239,1,0)&\";\"\n&IF(維持期データ出力用!D240,1,0)","v":"0;0;0;0;0"},{"$f":"維持期データ出力用!D132","v":0},{"$f":"維持期データ出力用!D133","v":0},{"$f":"維持期データ出力用!D134","v":0},{"$f":"維持期データ出力用!D135","v":0},{"$f":"'FIM維持期 (3ヶ月)'!N6 & \";\"\n& 'FIM維持期 (3ヶ月)'!N7 & \";\"\n& 'FIM維持期 (3ヶ月)'!N8 & \";\"\n& 'FIM維持期 (3ヶ月)'!N9 & \";\"\n& 'FIM維持期 (3ヶ月)'!N10 & \";\"\n& 'FIM維持期 (3ヶ月)'!N11 & \";\"\n& 'FIM維持期 (3ヶ月)'!N12 & \";\"\n& 'FIM維持期 (3ヶ月)'!N13 & \";\"\n& 'FIM維持期 (3ヶ月)'!N14 & \";\"\n& 'FIM維持期 (3ヶ月)'!N15 & \";\"\n& 'FIM維持期 (3ヶ月)'!S6 & \";\"\n& 'FIM維持期 (3ヶ月)'!S7 & \";\"\n& 'FIM維持期 (3ヶ月)'!S9 & \";\"\n& 'FIM維持期 (3ヶ月)'!S10 & \";\"\n& 'FIM維持期 (3ヶ月)'!S11 & \";\"\n& 'FIM維持期 (3ヶ月)'!S12 & \";\"\n& 'FIM維持期 (3ヶ月)'!S13 & \";\"\n& 'FIM維持期 (3ヶ月)'!S14","v":"0;0;0;0;0;0;0;0;0;0;0;0;0;0;0;0;0;0"},{"$f":"'B.I維持期(3ヶ月)'!G5&\";\"\n& 'B.I維持期(3ヶ月)'!G6&\";\"\n& 'B.I維持期(3ヶ月)'!G7&\";\"\n& 'B.I維持期(3ヶ月)'!G8&\";\"\n& 'B.I維持期(3ヶ月)'!G9&\";\"\n& 'B.I維持期(3ヶ月)'!G10&\";\"\n& 'B.I維持期(3ヶ月)'!G11&\";\"\n& 'B.I維持期(3ヶ月)'!G12&\";\"\n& 'B.I維持期(3ヶ月)'!G13&\";\"\n& 'B.I維持期(3ヶ月)'!G14","v":";;;;;;;;;"},{"$f":"維持期データ出力用!D183","v":0},{"$f":"急性期データ出力用!F300","v":""},{"$f":"回復期データ出力用!F240","v":""},{"$f":"維持期データ出力用!F264","v":""},{"$f":"急性期データ出力用!F3","v":""},{"$f":"回復期データ出力用!F3","v":""},{"$f":"維持期データ出力用!F4","v":""},{"$f":"IF('急性期診療計画(入力用)'!CX1=\"\",\"\",'急性期診療計画(入力用)'!CX1)","v":"2015-12-16T17:05:27"}]

{"sheet":"日常生活機能評価","index":16,"n_rows":27,"n_cols":56,"rows_kept":27,"cut":false,"hidden":true,"merged":[[1,0,2,14],[6,0,7,14],[13,15,13,17],[14,15,14,17],[15,15,15,17],[14,18,14,25],[7,15,7,17],[17,18,17,25],[6,15,6,29],[7,26,7,29],[16,18,16,25],[16,15,16,17],[2,21,2,30],[8,30,8,32],[8,26,8,29],[10,18,10,25],[7,18,7,25],[17,30,17,32],[9,18,9,25],[14,26,14,29],[16,26,16,29],[9,30,9,32],[13,26,13,29],[11,26,11,29],[9,26,9,29],[12,26,12,29],[11,30,11,32],[16,30,16,32],[12,18,12,25],[2,18,2,20],[6,30,6,32],[7,30,7,32],[11,18,11,25],[13,18,13,25],[17,26,17,29],[15,26,15,29],[21,0,21,29],[18,18,18,25],[19,18,19,25],[18,15,18,17],[19,15,19,17],[20,15,20,17],[20,18,20,25],[20,26,20,29],[19,26,19,29],[18,26,18,29],[21,30,21,32],[20,30,20,32],[20,36,20,38],[18,30,18,32],[19,36,19,38],[21,33,21,35],[21,36,21,38],[18,33,18,35],[20,33,20,35],[19,30,19,32],[18,36,18,38],[19,33,19,35],[6,39,6,41],[7,39,7,41],[8,39,8,41],[6,33,6,35],[6,36,6,38],[16,33,16,35],[14,33,14,35],[9,33,9,35],[9,36,9,38],[9,39,9,41],[13,36,13,38],[10,39,10,41],[11,39,11,41],[7,33,7,35],[7,36,7,38],[8,33,8,35],[8,36,8,38],[10,36,10,38],[11,36,11,38],[16,36,16,38],[15,36,15,38],[17,36,17,38],[14,36,14,38],[12,36,12,38],[9,0,9,14],[8,15,8,17],[8,18,8,25],[9,15,9,17],[10,15,10,17],[10,26,10,29],[11,15,11,17],[12,15,12,17],[11,33,11,35],[10,30,10,32],[10,33,10,35],[15,30,15,32],[14,30,14,32],[13,30,13,32],[12,30,12,32],[13,33,13,35],[12,33,12,35],[15,33,15,35],[17,15,17,17],[17,33,17,35],[15,18,15,25],[21,39,21,41],[14,39,14,41],[15,39,15,41],[16,39,16,41],[19,39,19,41],[20,39,20,41],[18,39,18,41],[12,39,12,41],[13,39,13,41],[17,39,17,41]]}
[]
["日常生活機能評価表"]
[null,null,null,null,null,null,null,null,null,null,null,null,null,null,null,null,null,null,"氏名：",null,null,{"$f":"急性期データ出力用!F4","v":""}]
[]
[]
[]
["患者の状況",null,null,null,null,null,null,null,null,null,null,null,null,null,null,"得点",null,null,null,null,null,null,null,null,null,null,null,null,null,null,"急性期",null,null,"回復期",null,null,"維持期",null,null,"維持期",null,null,null,null,"急性期",null,"回復期",null,"維持期１",null,"維持期３",null,null,null,null,"回復期得点名称"]
[null,null,null,null,null,null,null,null,null,null,null,null,null,null,null,"０点",null,null,"１点",null,null,null,null,null,null,null,"２点",null,null,null,"退院時",null,null,"退院時",null,null,"1ヶ月",null,null,"3ヶ月",null,null,null,null,"ワーク","得点","ワーク","得点","ワーク","得点","ワーク","得点"]
["床上安静の指示",null,null,null,null,null,null,null,null,null,null,null,null,null,null,"なし",null,null,"あり",null,null,null,null,null,null,null,null,null,null,null,{"$f":"AT9","v":""},null,null,{"$f":"AV9","v":""},null,null,{"$f":"AX9","v":""},null,null,{"$f":"AZ9","v":""},null,null,null,null,{"$f":"急性期データ出力用!D114","v":0},{"$f":"IF(AS9<>\"\",LOOKUP(AS9,{0,1,2,3},{\"\",0,1,2}),\"\")","v":""},{"$f":"回復期データ出力用!D70","v":0},{"$f":"IF(AU9<>\"\",LOOKUP(AU9,{0,1,2,3},{\"\",0,1,2}),\"\")","v":""},{"$f":"維持期データ出力用!D81","v":0},{"$f":"IF(AW9<>\"\",LOOKUP(AW9,{0,1,2,3},{\"\",0,1,2}),\"\")","v":""},{"$f":"維持期データ出力用!D244","v":0},{"$f":"IF(AY9<>\"\",LOOKUP(AY9,{0,1,2,3},{\"\",0,1,2}),\"\")","v":""},null,null,null,{"$f":"IF(AV9=0,P9,IF(AV9=1,S9,IF(AV9=2,AA9,\"\")))","v":""}]
["どちらかの手を胸元まで持ち上げられる",null,null,null,null,null,null,null,null,null,null,null,null,null,null,"できる",null,null,"できない",null,null,null,null,null,null,null,null,null,null,null,"",null,null,{"$f":"AV10","v":""},null,null,{"$f":"AX10","v":""},null,null,{"$f":"AZ10","v":""},null,null,null,null,"-",{"$f":"AS27","v":""},"-",{"$f":"AU27","v":""},{"$f":"維持期データ出力用!D82","v":0},{"$f":"IF(AW10<>\"\",LOOKUP(AW10,{0,1,2,3},{\"\",0,1,2}),\"\")","v":""},{"$f":"維持期データ出力用!D245","v":0},{"$f":"IF(AY10<>\"\",LOOKUP(AY10,{0,1,2,3},{\"\",0,1,2}),\"\")","v":""},null,null,null,{"$f":"IF(AV10=0,P10,IF(AV10=1,S10,IF(AV10=2,AA10,\"\")))","v":""}]
["寝返り",null,null,null,null,null,null,null,null,null,null,null,null,null,null,"できる",null,null,"何かにつかまればできる",null,null,null,null,null,null,null,"できない",null,null,null,"",null,null,{"$f":"AV11","v":""},null,null,{"$f":"AX11","v":""},null,null,{"$f":"AZ11","v":""},null,null,null,null,{"$f":"急性期データ出力用!D115","v":0},{"$f":"IF(AS11<>\"\",LOOKUP(AS11,{0,1,2,3},{\"\",0,1,2}),\"\")","v":""},{"$f":"回復期データ出力用!D71","v":0},{"$f":"IF(AU11<>\"\",LOOKUP(AU11,{0,1,2,3},{\"\",0,1,2}),\"\")","v":""},{"$f":"維持期データ出力用!D83","v":0},{"$f":"IF(AW11<>\"\",LOOKUP(AW11,{0,1,2,3},{\"\",0,1,2}),\"\")","v":""},{"$f":"維持期データ出力用!D246","v":0},{"$f":"IF(AY11<>\"\",LOOKUP(AY11,{0,1,2,3},{\"\",0,1,2}),\"\")","v":""},null,null,null,""]
["起き上がり",null,null,null,null,null,null,null,null,null,null,null,null,null,null,"できる",null,null,"できない",null,null,null,null,null,null,null,null,null,null,null,"",null,null,"",null,null,"",null,null,"",null,null,null,null,{"$f":"急性期データ出力用!D116","v":0},{"$f":"IF(AS12<>\"\",LOOKUP(AS12,{0,1,2,3},{\"\",0,1,2}),\"\")","v":""},{"$f":"回復期データ出力用!D72","v":0},{"$f":"IF(AU12<>\"\",LOOKUP(AU12,{0,1,2,3},{\"\",0,1,2}),\"\")","v":""},{"$f":"維持期データ出力用!D84","v":0},{"$f":"IF(AW12<>\"\",LOOKUP(AW12,{0,1,2,3},{\"\",0,1,2}),\"\")","v":""},{"$f":"維持期データ出力用!D247","v":0},{"$f":"IF(AY12<>\"\",LOOKUP(AY12,{0,1,2,3},{\"\",0,1,2}),\"\")","v":""},null,null,null,""]
["座位保持",null,null,null,null,null,null,null,null,null,null,null,null,null,null,"できる",null,null,"支えがあればできる",null,null,null,null,null,null,null,"できない",null,null,null,"",null,null,"",null,null,"",null,null,"",null,null,null,null,{"$f":"急性期データ出力用!D117","v":0},{"$f":"IF(AS13<>\"\",LOOKUP(AS13,{0,1,2,3},{\"\",0,1,2}),\"\")","v":""},{"$f":"回復期データ出力用!D73","v":0},{"$f":"IF(AU13<>\"\",LOOKUP(AU13,{0,1,2,3},{\"\",0,1,2}),\"\")","v":""},{"$f":"維持期データ出力用!D85","v":0},{"$f":"IF(AW13<>\"\",LOOKUP(AW13,{0,1,2,3},{\"\",0,1,2}),\"\")","v":""},{"$f":"維持期データ出力用!D248","v":0},{"$f":"IF(AY13<>\"\",LOOKUP(AY13,{0,1,2,3},{\"\",0,1,2}),\"\")","v":""},null,null,null,""]
["移乗",null,null,null,null,null,null,null,null,null,null,null,null,null,null,"できる",null,null,"見守り・一部介助が必要",null,null,null,null,null,null,null,"できない",null,null,null,"",null,null,"",null,null,{"$f":"AX14","v":""},null,null,"",null,null,null,null,{"$f":"急性期データ出力用!D99","v":0},{"$f":"IF(AS14<>\"\",LOOKUP(AS14,{0,1,2,3,4},{\"\",0,1,1,2}),\"\")","v":""},{"$f":"IF('B.I回復期(退院)'!G6=\"\",\"\",'B.I回復期(退院)'!G6)","v":""},{"$f":"IF(AU14<>\"\",LOOKUP(AU14,{\"\",0,5,10,15},{\"\",2,1,1,0}),\"\")","v":""},{"$f":"維持期データ出力用!D86","v":0},{"$f":"IF(AW14<>\"\",LOOKUP(AW14,{0,1,2,3},{\"\",0,1,2}),\"\")","v":""},{"$f":"維持期データ出力用!D249","v":0},{"$f":"IF(AY14<>\"\",LOOKUP(AY14,{0,1,2,3},{\"\",0,1,2}),\"\")","v":""},null,null,null,""]
["移動方法",null,null,null,null,null,null,null,null,null,null,null,null,null,null,"介助を要しない移動",null,null,"介助を要する移動\n（搬送を含む）",null,null,null,null,null,null,null,null,null,null,null,{"$f":"AT15","v":""},null,null,"",null,null,"",null,null,"",null,null,null,null,{"$f":"急性期データ出力用!D103","v":0},{"$f":"IF(AS15<>\"\",LOOKUP(AS15,{0,1,2,3},{\"\",0,1,1}),\"\")","v":""},{"$f":"IF('B.I回復期(退院)'!G10=\"\",\"\",'B.I回復期(退院)'!G10)","v":""},{"$f":"IF(AU15<>\"\",LOOKUP(AU15,{\"\",0,5,10,15},{\"\",1,1,1,0}),\"\")","v":""},{"$f":"維持期データ出力用!D87","v":0},{"$f":"IF(AW15<>\"\",LOOKUP(AW15,{0,1,2,3},{\"\",0,1,1}),\"\")","v":""},{"$f":"維持期データ出力用!D250","v":0},{"$f":"IF(AY15<>\"\",LOOKUP(AY15,{0,1,2,3},{\"\",0,1,1}),\"\")","v":""},null,null,null,""]
["口腔清潔",null,null,null,null,null,null,null,null,null,null,null,null,null,null,"できる",null,null,"できない",null,null,null,null,null,null,null,null,null,null,null,"",null,null,"",null,null,"",null,null,"",null,null,null,null,{"$f":"急性期データ出力用!D118","v":0},{"$f":"IF(AS16<>\"\",LOOKUP(AS16,{0,1,2,3},{\"\",0,1,2}),\"\")","v":""},{"$f":"回復期データ出力用!D74","v":0},{"$f":"IF(AU16<>\"\",LOOKUP(AU16,{0,1,2,3},{\"\",0,1,2}),\"\")","v":""},{"$f":"維持期データ出力用!D88","v":0},{"$f":"IF(AW16<>\"\",LOOKUP(AW16,{0,1,2,3},{\"\",0,1,2}),\"\")","v":""},{"$f":"維持期データ出力用!D251","v":0},{"$f":"IF(AY16<>\"\",LOOKUP(AY16,{0,1,2,3},{\"\",0,1,2}),\"\")","v":""},null,null,null,""]
["食事摂取",null,null,null,null,null,null,null,null,null,null,null,null,null,null,"介助なし",null,null,"一部介助",null,null,null,null,null,null,null,"全介助",null,null,null,"",null,null,"",null,null,"",null,null,"",null,null,null,null,{"$f":"急性期データ出力用!D93","v":0},{"$f":"IF(AS17<>\"\",LOOKUP(AS17,{0,1,2,3},{\"\",0,1,2}),\"\")","v":""},{"$f":"IF('B.I回復期(退院)'!G5=\"\",\"\",'B.I回復期(退院)'!G5)","v":""},{"$f":"IF(AU17<>\"\",LOOKUP(AU17,{\"\",0,5,10},{\"\",2,1,0}),\"\")","v":""},{"$f":"維持期データ出力用!D89","v":0},{"$f":"IF(AW17<>\"\",LOOKUP(AW17,{0,1,2,3},{\"\",0,1,2}),\"\")","v":""},{"$f":"維持期データ出力用!D252","v":0},{"$f":"IF(AY17<>\"\",LOOKUP(AY17,{0,1,2,3},{\"\",0,1,2}),\"\")","v":""},null,null,null,""]
["衣服の着脱",null,null,null,null,null,null,null,null,null,null,null,null,null,null,"介助なし",null,null,"一部介助",null,null,null,null,null,null,null,"全介助",null,null,null,"",null,null,"",null,null,"",null,null,"",null,null,null,null,{"$f":"急性期データ出力用!D119","v":0},{"$f":"IF(AS18<>\"\",LOOKUP(AS18,{0,1,2,3},{\"\",0,1,2}),\"\")","v":""},{"$f":"回復期データ出力用!D195","v":0},{"$f":"IF(AU18<>\"\",LOOKUP(AU18,{0,1,2,3},{\"\",0,1,2}),\"\")","v":""},{"$f":"維持期データ出力用!D90","v":0},{"$f":"IF(AW18<>\"\",LOOKUP(AW18,{0,1,2,3},{\"\",0,1,2}),\"\")","v":""},{"$f":"維持期データ出力用!D253","v":0},{"$f":"IF(AY18<>\"\",LOOKUP(AY18,{0,1,2,3},{\"\",0,1,2}),\"\")","v":""},null,null,null,""]
["他者への意思の伝達",null,null,null,null,null,null,null,null,null,null,null,null,null,null,"できる",null,null,"できる時とできない時がある　",null,null,null,null,null,null,null,"できない",null,null,null,"",null,null,"",null,null,"",null,null,"",null,null,null,null,{"$f":"急性期データ出力用!D120","v":0},{"$f":"IF(AS19<>\"\",LOOKUP(AS19,{0,1,2,3},{\"\",0,1,2}),\"\")","v":""},{"$f":"回復期データ出力用!D196","v":0},{"$f":"IF(AU19<>\"\",LOOKUP(AU19,{0,1,2,3},{\"\",0,1,2}),\"\")","v":""},{"$f":"維持期データ出力用!D91","v":0},{"$f":"IF(AW19<>\"\",LOOKUP(AW19,{0,1,2,3},{\"\",0,1,2}),\"\")","v":""},{"$f":"維持期データ出力用!D254","v":0},{"$f":"IF(AY19<>\"\",LOOKUP(AY19,{0,1,2,3},{\"\",0,1,2}),\"\")","v":""},null,null,null,""]
["診療・療養上の指示が通じる",null,null,null,null,null,null,null,null,null,null,null,null,null,null,"はい",null,null,"いいえ",null,null,null,null,null,null,null,null,null,null,null,"",null,null,"",null,null,"",null,null,"",null,null,null,null,{"$f":"急性期データ出力用!D121","v":0},{"$f":"IF(AS20<>\"\",LOOKUP(AS20,{0,1,2,3},{\"\",0,1,2}),\"\")","v":""},{"$f":"回復期データ出力用!D75","v":0},{"$f":"IF(AU20<>\"\",LOOKUP(AU20,{0,1,2,3},{\"\",0,1,2}),\"\")","v":""},{"$f":"維持期データ出力用!D92","v":0},{"$f":"IF(AW20<>\"\",LOOKUP(AW20,{0,1,2,3},{\"\",0,1,2}),\"\")","v":""},{"$f":"維持期データ出力用!D255","v":0},{"$f":"IF(AY20<>\"\",LOOKUP(AY20,{0,1,2,3},{\"\",0,1,2}),\"\")","v":""},null,null,null,""]
["危険行動",null,null,null,null,null,null,null,null,null,null,null,null,null,null,"ない",null,null,"ある",null,null,null,null,null,null,null,null,null,null,null,{"$f":"AT21","v":""},null,null,{"$f":"AV21","v":""},null,null,{"$f":"AX21","v":""},null,null,{"$f":"AZ21","v":""},null,null,null,null,{"$f":"急性期データ出力用!D122","v":0},{"$f":"IF(AS21<>\"\",LOOKUP(AS21,{0,1,2,3},{\"\",0,1,2}),\"\")","v":""},{"$f":"回復期データ出力用!D76","v":0},{"$f":"IF(AU21<>\"\",LOOKUP(AU21,{0,1,2,3},{\"\",0,1,2}),\"\")","v":""},{"$f":"維持期データ出力用!D93","v":0},{"$f":"IF(AW21<>\"\",LOOKUP(AW21,{0,1,2,3},{\"\",0,1,2}),\"\")","v":""},{"$f":"維持期データ出力用!D256","v":0},{"$f":"IF(AY21<>\"\",LOOKUP(AY21,{0,1,2,3},{\"\",0,1,2}),\"\")","v":""},null,null,null,""]
["合計点",null,null,null,null,null,null,null,null,null,null,null,null,null,null,null,null,null,null,null,null,null,null,null,null,null,null,null,null,null,{"$f":"SUM(AE9:AG21)","v":0},null,null,{"$f":"SUM(AH9:AJ21)","v":0},null,null,{"$f":"SUM(AK9:AM21)","v":0},null,null,{"$f":"SUM(AN9:AP21)","v":0}]
["※得点：０～１９点",null,null,null,null,null,null,null,null,null,null,null,null,null,null,null,null,null,null,null,null,null,null,null,null,null,null,null,null,null,null,null,null,null,null,null,null,null,null,null,null,null,null,null,"mmt"]
[null,null,null,null,null,null,null,null,null,null,null,null,null,null,null,null,null,null,null,null,null,null,null,null,null,null,null,null,null,null,null,null,null,null,null,null,null,null,null,null,null,null,null,null,{"$f":"急性期データ出力用!D89","v":"右上肢（   ）　　左上肢（   ）　　右下肢（   ）　　左下肢（   ）"},null,{"$f":"回復期データ出力用!D66","v":"右上肢（   ）　　左上肢（   ）　　右下肢（   ）　　左下肢（   ）"}]
[null,null,null,null,null,null,null,null,null,null,null,null,null,null,null,null,null,null,null,null,null,null,null,null,null,null,null,null,null,null,null,null,null,null,null,null,null,null,null,null,null,null,null,"右",{"$f":"TRIM(MID(AS24,6,1))","v":""},null,{"$f":"TRIM(MID(AU24,6,1))","v":""}]
[null,null,null,null,null,null,null,null,null,null,null,null,null,null,null,null,null,null,null,null,null,null,null,null,null,null,null,null,null,null,null,null,null,null,null,null,null,null,null,null,null,null,null,"左",{"$f":"TRIM(MID(AS24,16,1))","v":""},null,{"$f":"TRIM(MID(AU24,16,1))","v":""}]
[null,null,null,null,null,null,null,null,null,null,null,null,null,null,null,null,null,null,null,null,null,null,null,null,null,null,null,null,null,null,null,null,null,null,null,null,null,null,null,null,null,null,null,null,{"$f":"IF(AS25=\"\",IF(AS26=\"\",\"\",IF(AS26>=\"3\",0,IF(AS25>=\"3\",0,1))),IF(AS25>=\"3\",0,IF(AS26>=\"3\",0,1)))","v":""},null,{"$f":"IF(AU25=\"\",IF(AU26=\"\",\"\",IF(AU26>=\"3\",0,IF(AU25>=\"3\",0,1))),IF(AU25>=\"3\",0,IF(AU26>=\"3\",0,1)))","v":""},"BIから判定"]

{"sheet":"長谷川式_回復期","index":17,"n_rows":41,"n_cols":9,"rows_kept":41,"cut":false,"hidden":true,"merged":[[28,2,28,3]]}
[]
["簡易長谷川式認知機能評価スケール"]
[]
[]
[null,"№","質問内容",null,"選択欄","ワーク","点数",null,"入力チェック"]
[null,1,"お歳はいくつですか？2年までの誤差は正解",null,null,null,{"$f":"IF(F6=0,\"\",F6-1)","v":""},null,{"$f":"IF(F6=0,1,0)","v":1}]
[null,2,"今日は何年の何月何日ですか？　何曜日ですか？","年",null,null,{"$f":"IF(F7=0,\"\",F7-1)","v":""},null,{"$f":"IF(F7=0,1,0)","v":1}]
[null,null,null,"月",null,null,{"$f":"IF(F8=0,\"\",F8-1)","v":""},null,{"$f":"IF(F8=0,1,0)","v":1}]
[null,null,null,"日",null,null,{"$f":"IF(F9=0,\"\",F9-1)","v":""},null,{"$f":"IF(F9=0,1,0)","v":1}]
[null,null,null,"曜日",null,null,{"$f":"IF(F10=0,\"\",F10-1)","v":""},null,{"$f":"IF(F10=0,1,0)","v":1}]
[null,3,"私たちが今いるところはどこですか？"]
[null,null,"(自発的にでれば2 点，5 秒おいて家ですか? 病院ですか? 施設ですか?",null,null,null,{"$f":"IF(F12=0,\"\",F12-1)","v":""},null,{"$f":"IF(F12=0,1,0)","v":1}]
[null,null,"のなかから正しい選択をすれば1 点)"]
[null,4,"これから言う3 つの言葉を言ってみてください．あとでまた聞きますのでよ"]
[null,null,"く覚えておいてください．"]
[null,null,"以下の系列のいずれか1つで、採用した系列に印をしておく。","a",null,null,{"$f":"IF(F16=0,\"\",F16-1)","v":""},null,{"$f":"IF(F16=0,1,0)","v":1}]
[null,null,"　　　　　　　　a)桜　　　b)猫　　　c)電車","b",null,null,{"$f":"IF(F17=0,\"\",F17-1)","v":""},null,{"$f":"IF(F17=0,1,0)","v":1}]
[null,null,"　　　　　　　　a)梅　　　b)犬　　　c)自動車","c",null,null,{"$f":"IF(F18=0,\"\",F18-1)","v":""},null,{"$f":"IF(F18=0,1,0)","v":1}]
[null,5,"100から7を順番に引いてください。（aに正解のときのみbも行う)"]
[null,null,"   a)　100―7は？","(93)",null,null,{"$f":"IF(F20=0,\"\",F20-1)","v":""},null,{"$f":"IF(F20=0,1,0)","v":1}]
[null,null,"   b)　それから7を引くと？","(86)",null,null,{"$f":"IF(F21=0,\"\",F21-1)","v":""},null,{"$f":"IF(F21=0,1,0)","v":1}]
[null,6,"これから言う数字を逆から言ってください。（aに正解のときのみbも行う)"]
[null,null,"　　a)　６―８―２","（２－８－６）",null,null,{"$f":"IF(F23=0,\"\",F23-1)","v":""},null,{"$f":"IF(F23=0,1,0)","v":1}]
[null,null,"　　b)　３―５―２―９","（９－２－５－３）",null,null,{"$f":"IF(F24=0,\"\",F24-1)","v":""},null,{"$f":"IF(F24=0,1,0)","v":1}]
[null,7,"先ほど覚えてもらった言葉（問４の３つの言葉）をもう一度言ってみてください。",{"$f":"IF(H25=1,\"系列1\",IF(H25=2,\"系列2\",\"\"))","v":""}]
[null,null,"　正答がでなかった言葉にはヒントを与える",{"$f":"IF(H25=1,\"a)桜\",IF(H25=2,\"a)梅\",\"\"))","v":""},null,null,{"$f":"IF(F26=0,\"\",F26-1)","v":""},null,{"$f":"IF(F26=0,1,0)","v":1}]
[null,null,"　ヒント　a) 植物　b) 動物　c) 乗り物　",{"$f":"IF(H25=1,\"b)猫\",IF(H25=2,\"b)犬\",\"\"))","v":""},null,null,{"$f":"IF(F27=0,\"\",F27-1)","v":""},null,{"$f":"IF(F27=0,1,0)","v":1}]
[null,null,{"$f":"\"  答え  \"&IF(H25=1,\"系列1  a)桜　　　b)猫　　　c)電車\",IF(H25=2,\"系列2  a)梅　　　b)犬　　　c)自動車\",\"\"))","v":"  答え  "},{"$f":"IF(H25=1,\"c)電車\",IF(H25=2,\"c)自動車\",\"\"))","v":""},null,null,{"$f":"IF(F28=0,\"\",F28-1)","v":""},null,{"$f":"IF(F28=0,1,0)","v":1}]
[null,8,"これから５つの品物を見せます。それを隠しますので何があったか言って下さい。 ",null,null,null,{"$f":"IF(F29<>\"\",LOOKUP(F29,{0,1,2,3,4,5,6},{\"\",5,4,3,2,1,0}),\"\")","v":""},null,{"$f":"IF(F29=0,1,0)","v":1}]
[null,null,"　１つずつ名前を言いながら並べ覚えさせる。次に隠す。"]
[null,null,"　時計、くし、はさみ、タバコ、ペンなど必ず相互に無関係なものを使う。"]
[null,null,"　１つ正答するごとに１点"]
[]
[]
[null,9,"知っている野菜の名前をできるだけ多く言ってください。",null,null,null,{"$f":"IF(F35<>\"\",LOOKUP(F35,{0,1,2,3,4,5,6},{\"\",5,4,3,2,1,0}),\"\")","v":""},null,{"$f":"IF(F35=0,1,0)","v":1}]
[]
[]
[]
[]
[]
[null,null,null,null,"合計",null,{"$f":"SUM(G6:G37)","v":0},null,{"$f":"SUM(I6:I40)","v":18}]

{"sheet":"長谷川式_維持期","index":18,"n_rows":41,"n_cols":9,"rows_kept":41,"cut":false,"hidden":true,"merged":[]}
[]
["簡易長谷川式認知機能評価スケール"]
[]
[]
[null,"№","質問内容",null,"選択欄","ワーク","点数",null,"入力チェック"]
[null,1,"お歳はいくつですか？2年までの誤差は正解",null,null,null,{"$f":"IF(F6=0,\"\",F6-1)","v":""},null,{"$f":"IF(F6=0,1,0)","v":1}]
[null,2,"今日は何年の何月何日ですか？　何曜日ですか？","年",null,null,{"$f":"IF(F7=0,\"\",F7-1)","v":""},null,{"$f":"IF(F7=0,1,0)","v":1}]
[null,null,null,"月",null,null,{"$f":"IF(F8=0,\"\",F8-1)","v":""},null,{"$f":"IF(F8=0,1,0)","v":1}]
[null,null,null,"日",null,null,{"$f":"IF(F9=0,\"\",F9-1)","v":""},null,{"$f":"IF(F9=0,1,0)","v":1}]
[null,null,null,"曜日",null,null,{"$f":"IF(F10=0,\"\",F10-1)","v":""},null,{"$f":"IF(F10=0,1,0)","v":1}]
[null,3,"私たちが今いるところはどこですか？"]
[null,null,"(自発的にでれば2 点，5 秒おいて家ですか? 病院ですか? 施設ですか?",null,null,null,{"$f":"IF(F12=0,\"\",F12-1)","v":""},null,{"$f":"IF(F12=0,1,0)","v":1}]
[null,null,"のなかから正しい選択をすれば1 点)"]
[null,4,"これから言う3 つの言葉を言ってみてください．あとでまた聞きますのでよ"]
[null,null,"く覚えておいてください．"]
[null,null,"以下の系列のいずれか1つで、採用した系列に印をしておく。","a",null,null,{"$f":"IF(F16=0,\"\",F16-1)","v":""},null,{"$f":"IF(F16=0,1,0)","v":1}]
[null,null,"　　　　　　　　a)桜　　　b)猫　　　c)電車","b",null,null,{"$f":"IF(F17=0,\"\",F17-1)","v":""},null,{"$f":"IF(F17=0,1,0)","v":1}]
[null,null,"　　　　　　　　a)梅　　　b)犬　　　c)自動車","c",null,null,{"$f":"IF(F18=0,\"\",F18-1)","v":""},null,{"$f":"IF(F18=0,1,0)","v":1}]
[null,5,"100から7を順番に引いてください。（aに正解のときのみbも行う)"]
[null,null,"   a)　100―7は？","(93)",null,null,{"$f":"IF(F20=0,\"\",F20-1)","v":""},null,{"$f":"IF(F20=0,1,0)","v":1}]
[null,null,"   b)　それから7を引くと？","(86)",null,null,{"$f":"IF(F21=0,\"\",F21-1)","v":""},null,{"$f":"IF(F21=0,1,0)","v":1}]
[null,6,"これから言う数字を逆から言ってください。（aに正解のときのみbも行う)"]
[null,null,"　　a)　６―８―２","（２－８－６）",null,null,{"$f":"IF(F23=0,\"\",F23-1)","v":""},null,{"$f":"IF(F23=0,1,0)","v":1}]
[null,null,"　　b)　３―５―２―９","（９－２－５－３）",null,null,{"$f":"IF(F24=0,\"\",F24-1)","v":""},null,{"$f":"IF(F24=0,1,0)","v":1}]
[null,7,"先ほど覚えてもらった言葉（問４の３つの言葉）をもう一度言ってみてください。",{"$f":"IF(H25=1,\"系列1\",IF(H25=2,\"系列2\",\"\"))","v":""}]
[null,null,"　正答がでなかった言葉にはヒントを与える",{"$f":"IF(H25=1,\"a)桜\",IF(H25=2,\"a)梅\",\"\"))","v":""},null,null,{"$f":"IF(F26=0,\"\",F26-1)","v":""},null,{"$f":"IF(F26=0,1,0)","v":1}]
[null,null,"　ヒント　a) 植物　b) 動物　c) 乗り物　",{"$f":"IF(H25=1,\"b)猫\",IF(H25=2,\"b)犬\",\"\"))","v":""},null,null,{"$f":"IF(F27=0,\"\",F27-1)","v":""},null,{"$f":"IF(F27=0,1,0)","v":1}]
[null,null,{"$f":"\"  答え  \"&IF(H25=1,\"系列1  a)桜　　　b)猫　　　c)電車\",IF(H25=2,\"系列2  a)梅　　　b)犬　　　c)自動車\",\"\"))","v":"  答え  "},{"$f":"IF(H25=1,\"c)電車\",IF(H25=2,\"c)自動車\",\"\"))","v":""},null,null,{"$f":"IF(F28=0,\"\",F28-1)","v":""},null,{"$f":"IF(F28=0,1,0)","v":1}]
[null,8,"これから５つの品物を見せます。それを隠しますので何があったか言って下さい。 ",null,null,null,{"$f":"IF(F29<>\"\",LOOKUP(F29,{0,1,2,3,4,5,6},{\"\",5,4,3,2,1,0}),\"\")","v":""},null,{"$f":"IF(F29=0,1,0)","v":1}]
[null,null,"　１つずつ名前を言いながら並べ覚えさせる。次に隠す。"]
[null,null,"　時計、くし、はさみ、タバコ、ペンなど必ず相互に無関係なものを使う。"]
[null,null,"　１つ正答するごとに１点"]
[]
[]
[null,9,"知っている野菜の名前をできるだけ多く言ってください。",null,null,null,{"$f":"IF(F35<>\"\",LOOKUP(F35,{0,1,2,3,4,5,6},{\"\",5,4,3,2,1,0}),\"\")","v":""},null,{"$f":"IF(F35=0,1,0)","v":1}]
[]
[]
[]
[]
[]
[null,null,null,null,"合計",null,{"$f":"SUM(G6:G37)","v":0},null,{"$f":"SUM(I6:I40)","v":18}]

{"sheet":"ＭＭＳＥ_回復期","index":19,"n_rows":53,"n_cols":8,"rows_kept":53,"cut":false,"hidden":true,"merged":[[4,2,4,3]]}
[]
["ＭＭＳＥ（Mini-Mental State Examination）"]
[]
[]
[null,"№","質問内容",null,"選択欄","ワーク","点数","入力チェック"]
[null,"日時（5点） ","今年は何年ですか。 ","年",null,null,{"$f":"IF(F6=0,\"\",F6-1)","v":""},{"$f":"IF(F6=0,1,0)","v":1}]
[null,null,"いまの季節は何ですか。 ","季節",null,null,"",{"$f":"IF(F7=0,1,0)","v":1}]
[null,null,"今日は何曜日ですか。 ","曜日",null,null,"",1]
[null,null,"今日は何月何日ですか。 ","月",null,null,"",1]
[null,null,null,"日",null,null,"",1]
[null,"現在地（5点） ","ここは何地方ですか。 ","地方",null,null,"",1]
[null,null,"ここは何県ですか。 ","県",null,null,"",1]
[null,null,"ここは何市ですか。 ","市",null,null,"",1]
[null,null,"ここは何病院ですか。 ","病院",null,null,"",1]
[null,null,"ここは何階ですか。 ","階",null,null,"",1]
[null,"記憶（3点） ","相互に無関係な物品名を3個聞かせ、それをそのまま復唱させる。","a",null,null,"",1]
[null,null,"1個答えられるごとに1点。すべて言えなければ6回まで繰り返す。 ","b",null,null,"",1]
[null,null,"a)桜　　　b)猫　　　c)電車","c",null,null,"",1]
[null,null,"a)梅　　　b)犬　　　c)自動車"]
[null,"7シリーズ（5点） ","100から順に7を引いていく。5回できれば5点。間違えた時点で打ち切り。 ","１回目：93",null,null,{"$f":"IF(F20=0,\"\",F20-1)","v":""},1]
[null,null,"あるいは「フジノヤマ」を逆唱させる。 　 　 ","２回目：86",null,null,"",1]
[null,null,null,"３回目：79",null,null,"",1]
[null,null,null,"４回目：72",null,null,"",1]
[null,null,null,"５回目：65",null,null,"",1]
[null,"想起（3点） ","3で示した物品名を再度復唱させる。 　 　 ","a",null,null,"",1]
[null,null,null,"b",null,null,"",1]
[null,null,null,"c",null,null,"",1]
[null,"呼称（2点） ","（時計を見せながら） これは何ですか",null,null,null,"",1]
[null,null,"（鉛筆を見せながら） これは何ですか",null,null,null,"",1]
[null,"読字（1点） ","次の文章を繰り返す"]
[null,null,"「みんなで，力を合わせて綱を引きます」",null,null,null,{"$f":"IF(F31=0,\"\",F31-1)","v":""},1]
[]
[null,"言語理解（3点） ","次の3つの命令を口頭で伝え、すべて聞き終わってから実行する "]
[null,null,"「右手にこの紙を持ってください」 ",null,null,null,{"$f":"IF(F34=0,\"\",F34-1)","v":""},1]
[null,null,"「それを半分に折りたたんでください」 ",null,null,null,{"$f":"IF(F35=0,\"\",F35-1)","v":""},1]
[null,null,"「机の上に置いてください」 　 　 ",null,null,null,{"$f":"IF(F36=0,\"\",F36-1)","v":""},1]
[]
[null,"文章理解（1点） ","次の文章を読んで実行する。"]
[null,null,"「目を閉じてください。」",null,null,null,{"$f":"IF(F39=0,\"\",F39-1)","v":""},1]
[]
[null,"文章構成（1点） ","何か文章を書いてください。 ",null,null,null,{"$f":"IF(F41=0,\"\",F41-1)","v":""},1]
[]
[null,"図形把握（1点） ","次の図形を書き写してください。 ",null,null,null,{"$f":"IF(F43=0,\"\",F43-1)","v":""},1]
[]
[]
[]
[]
[]
[]
[]
[]
[]
[null,null,null,null,"合計",null,{"$f":"SUM(G6:G52)","v":0},{"$f":"SUM(H6:H52)","v":30}]

{"sheet":"ＭＭＳＥ_維持期","index":20,"n_rows":53,"n_cols":8,"rows_kept":53,"cut":false,"hidden":true,"merged":[[4,2,4,3]]}
[]
["ＭＭＳＥ（Mini-Mental State Examination）"]
[]
[]
[null,"№","質問内容",null,"選択欄","ワーク","点数","入力チェック"]
[null,"日時（5点） ","今年は何年ですか。 ","年",null,null,{"$f":"IF(F6=0,\"\",F6-1)","v":""},{"$f":"IF(F6=0,1,0)","v":1}]
[null,null,"いまの季節は何ですか。 ","季節",null,null,{"$f":"IF(F7=0,\"\",F7-1)","v":""},{"$f":"IF(F7=0,1,0)","v":1}]
[null,null,"今日は何曜日ですか。 ","曜日",null,null,"",1]
[null,null,"今日は何月何日ですか。 ","月",null,null,"",1]
[null,null,null,"日",null,null,"",1]
[null,"現在地（5点） ","ここは何地方ですか。 ","地方",null,null,{"$f":"IF(F11=0,\"\",F11-1)","v":""},1]
[null,null,"ここは何県ですか。 ","県",null,null,"",1]
[null,null,"ここは何市ですか。 ","市",null,null,"",1]
[null,null,"ここは何病院ですか。 ","病院",null,null,"",1]
[null,null,"ここは何階ですか。 ","階",null,null,"",1]
[null,"記憶（3点） ","相互に無関係な物品名を3個聞かせ、それをそのまま復唱させる。","a",null,null,"",1]
[null,null,"1個答えられるごとに1点。すべて言えなければ6回まで繰り返す。 ","b",null,null,"",1]
[null,null,"a)桜　　　b)猫　　　c)電車","c",null,null,"",1]
[null,null,"a)梅　　　b)犬　　　c)自動車"]
[null,"7シリーズ（5点） ","100から順に7を引いていく。5回できれば5点。間違えた時点で打ち切り。 ","１回目：93",null,null,{"$f":"IF(F20=0,\"\",F20-1)","v":""},1]
[null,null,"あるいは「フジノヤマ」を逆唱させる。 　 　 ","２回目：86",null,null,"",1]
[null,null,null,"３回目：79",null,null,"",1]
[null,null,null,"４回目：72",null,null,"",1]
[null,null,null,"５回目：65",null,null,"",1]
[null,"想起（3点） ","3で示した物品名を再度復唱させる。 　 　 ","a",null,null,"",1]
[null,null,null,"b",null,null,"",1]
[null,null,null,"c",null,null,"",1]
[null,"呼称（2点） ","（時計を見せながら） これは何ですか",null,null,null,"",1]
[null,null,"（鉛筆を見せながら） これは何ですか",null,null,null,"",1]
[null,"読字（1点） ","次の文章を繰り返す"]
[null,null,"「みんなで，力を合わせて綱を引きます」",null,null,null,{"$f":"IF(F31=0,\"\",F31-1)","v":""},1]
[]
[null,"言語理解（3点） ","次の3つの命令を口頭で伝え、すべて聞き終わってから実行する "]
[null,null,"「右手にこの紙を持ってください」 ",null,null,null,{"$f":"IF(F34=0,\"\",F34-1)","v":""},1]
[null,null,"「それを半分に折りたたんでください」 ",null,null,null,{"$f":"IF(F35=0,\"\",F35-1)","v":""},1]
[null,null,"「机の上に置いてください」 　 　 ",null,null,null,{"$f":"IF(F36=0,\"\",F36-1)","v":""},1]
[]
[null,"文章理解（1点） ","次の文章を読んで実行する。"]
[null,null,"「目を閉じてください。」",null,null,null,{"$f":"IF(F39=0,\"\",F39-1)","v":""},1]
[]
[null,"文章構成（1点） ","何か文章を書いてください。 ",null,null,null,{"$f":"IF(F41=0,\"\",F41-1)","v":""},1]
[]
[null,"図形把握（1点） ","次の図形を書き写してください。 ",null,null,null,{"$f":"IF(F43=0,\"\",F43-1)","v":""},1]
[]
[]
[]
[]
[]
[]
[]
[]
[]
[null,null,null,null,"合計",null,{"$f":"SUM(G6:G52)","v":0},{"$f":"SUM(H6:H52)","v":30}]

{"sheet":"MMSE_PRINT","index":21,"n_rows":109,"n_cols":14,"rows_kept":109,"cut":false,"hidden":true,"merged":[[13,0,13,12]]}
[]
[]
[]
[]
[]
[]
[]
[]
[]
[]
[]
[]
[]
["目を閉じてください。"]
[]
[]
[]
[]
[]
[]
[]
[]
[]
[]
[]
[]
[]
[]
[]
[]
[]
[]
[]
[]
[null,null,null,null,null,null,null,null,null,null,null,null,null,"文章理解"]
["何か文章を書いてください。"]
[]
[]
[]
[]
[]
[]
[]
[]
[]
[]
[]
[]
[]
[]
[]
[]
[]
[]
[]
[]
[]
[]
[]
[]
[]
[]
[]
[]
[]
[]
[]
[]
[]
[]
[]
[null,null,null,null,null,null,null,null,null,null,null,null,null,"文章構成"]
["次の図形を書き写してください。"]
[]
[]
[]
[]
[]
[]
[]
[]
[]
[]
[]
[]
[]
[]
[]
[]
[]
[]
[]
[]
[]
[]
[]
[]
[]
[]
[]
[]
[]
[]
[]
[]
[]
[]
[]
[null,null,null,null,null,null,null,null,null,null,null,null,null,"図形把握"]

{"sheet":"FIM急性期","index":22,"n_rows":15,"n_cols":26,"rows_kept":15,"cut":false,"hidden":true,"merged":[[1,0,1,4],[2,1,2,3],[3,1,4,1],[3,2,4,2],[3,3,4,3],[3,4,4,4],[3,23,3,25],[4,23,4,24],[3,6,4,6],[3,7,4,7],[3,8,4,8],[3,9,4,9],[6,24,7,24],[6,6,7,6],[6,7,7,7],[6,8,7,8],[6,9,7,9],[6,17,7,17],[6,18,7,18],[6,19,7,19],[6,20,7,20]]}
[]
["急性期　退院時"]
["ＡＤＬ",{"$f":"S15","v":0}]
[null,"完全\n自立","修正\n自立","監視\n助言","介助\n要",null,"完全\n自立","修正\n自立","監視\n助言","介助\n要",null,null,null,null,null,null,null,null,null,null,null,null,null,"必須チェック"]
[null,null,null,null,null,null,null,null,null,null,null,null,"ワーク","点数","チェック\n１","チェック\n２",null,"ワーク","点数","チェック\n１","チェック\n２",null,null,"入力があると０\n合計が０になればＯＫ",null,"合計"]
["食事",null,null,null,null,"浴移乗",null,null,null,null,null,"食事",null,{"$f":"LOOKUP(M6,{0,1,2,3,4,5,6,7},{0,7,6,5,4,3,2,1})","v":0},null,null,"浴移乗",null,{"$f":"LOOKUP(R6,{0,1,2,3,4,5,6,7},{0,7,6,5,4,3,2,1})","v":0},null,null,null,null,{"$f":"IF(M6>0,0,1)","v":1},{"$f":"IF(R6>0,0,1)","v":1},{"$f":"SUM(X6:Y15)","v":18}]
["整容",null,null,null,null,"歩行・車椅子",null,null,null,null,null,"整容",null,{"$f":"LOOKUP(M7,{0,1,2,3,4,5,6,7},{0,7,6,5,4,3,2,1})","v":0},null,null,"歩行",null,{"$f":"LOOKUP(R7,{0,1,2,3,4,5,6,7,8},{0,7,6,5,5,4,3,2,1})","v":0},false,false,null,null,1,{"$f":"IF(R7>0,0,1)","v":1}]
["清拭",null,null,null,null,null,null,null,null,null,null,"清拭",null,{"$f":"LOOKUP(M8,{0,1,2,3,4,5,6,7},{0,7,6,5,4,3,2,1})","v":0},null,null,"車椅子",null,null,null,null,null,null,1]
["更衣（上）",null,null,null,null,"階段",null,null,null,null,null,"更衣（上）",null,{"$f":"LOOKUP(M9,{0,1,2,3,4,5,6,7},{0,7,6,5,4,3,2,1})","v":0},null,null,"階段",null,{"$f":"LOOKUP(R9,{0,1,2,3,4,5,6,7,8},{0,7,6,5,5,4,3,2,1})","v":0},null,null,null,null,1,{"$f":"IF(R9>0,0,1)","v":1}]
["更衣（下）",null,null,null,null,"理解",null,null,null,null,null,"更衣（下）",null,{"$f":"LOOKUP(M10,{0,1,2,3,4,5,6,7},{0,7,6,5,4,3,2,1})","v":0},null,null,"理解",null,{"$f":"LOOKUP(R10,{0,1,2,3,4,5,6,7},{0,7,6,5,4,3,2,1})","v":0},false,false,null,null,1,1]
["トイレ",null,null,null,null,"表出",null,null,null,null,null,"トイレ",null,{"$f":"LOOKUP(M11,{0,1,2,3,4,5,6,7},{0,7,6,5,4,3,2,1})","v":0},null,null,"表出",null,{"$f":"LOOKUP(R11,{0,1,2,3,4,5,6,7},{0,7,6,5,4,3,2,1})","v":0},null,null,null,null,1,1]
["排尿",null,null,null,null,"交流",null,null,null,null,null,"排尿",null,{"$f":"LOOKUP(M12,{0,1,2,3,4,5,6,7},{0,7,6,5,4,3,2,1})","v":0},null,null,"交流",null,{"$f":"LOOKUP(R12,{0,1,2,3,4,5,6,7},{0,7,6,5,4,3,2,1})","v":0},null,null,null,null,1,1]
["排便",null,null,null,null,"問題解決",null,null,null,null,null,"排便",null,{"$f":"LOOKUP(M13,{0,1,2,3,4,5,6,7},{0,7,6,5,4,3,2,1})","v":0},null,null,"問題解決",null,{"$f":"LOOKUP(R13,{0,1,2,3,4,5,6,7},{0,7,6,5,4,3,2,1})","v":0},null,null,null,null,1,1]
["移乗",null,null,null,null,"記憶",null,null,null,null,null,"移乗",null,{"$f":"LOOKUP(M14,{0,1,2,3,4,5,6,7},{0,7,6,5,4,3,2,1})","v":0},null,null,"記憶",null,{"$f":"LOOKUP(R14,{0,1,2,3,4,5,6,7},{0,7,6,5,4,3,2,1})","v":0},null,null,null,null,1,1]
["トイレ移乗",null,null,null,null,"※歩行と車椅子操作はどちらか記載",null,null,null,null,null,"トイレ移乗",null,{"$f":"LOOKUP(M15,{0,1,2,3,4,5,6,7},{0,7,6,5,4,3,2,1})","v":0},null,null,"合計",null,{"$f":"SUM(S6:S14)+SUM(N6:N15)","v":0},"運動",{"$f":"SUM(S6:S9)+SUM(N6:N15)","v":0},"認知",{"$f":"SUM(S10:S14)","v":0},1]

{"sheet":"FIM回復期 (入院)","index":23,"n_rows":15,"n_cols":26,"rows_kept":15,"cut":false,"hidden":true,"merged":[[6,19,7,19],[6,20,7,20],[3,6,4,6],[3,7,4,7],[3,23,3,25],[4,23,4,24],[6,24,7,24],[6,6,7,6],[6,7,7,7],[6,8,7,8],[6,9,7,9],[6,17,7,17],[6,18,7,18],[3,8,4,8],[3,9,4,9],[1,0,1,4],[2,1,2,3],[3,1,4,1],[3,2,4,2],[3,3,4,3],[3,4,4,4]]}
[]
["回復期　入院時"]
["ＡＤＬ",{"$f":"S15","v":0}]
[null,"完全\n自立","修正\n自立","監視\n助言","介助\n要",null,"完全\n自立","修正\n自立","監視\n助言","介助\n要",null,null,null,null,null,null,null,null,null,null,null,null,null,"必須チェック"]
[null,null,null,null,null,null,null,null,null,null,null,null,"ワーク","点数","チェック\n１","チェック\n２",null,"ワーク","点数","チェック\n１","チェック\n２",null,null,"入力があると０\n合計が０になればＯＫ",null,"合計"]
["食事",null,null,null,null,"浴移乗",null,null,null,null,null,"食事",null,{"$f":"LOOKUP(M6,{0,1,2,3,4,5,6,7},{0,7,6,5,4,3,2,1})","v":0},null,null,"浴移乗",null,{"$f":"LOOKUP(R6,{0,1,2,3,4,5,6,7},{0,7,6,5,4,3,2,1})","v":0},null,null,null,null,{"$f":"IF(M6>0,0,1)","v":1},{"$f":"IF(R6>0,0,1)","v":1},{"$f":"SUM(X6:Y15)","v":18}]
["整容",null,null,null,null,"歩行・車椅子",null,null,null,null,null,"整容",null,{"$f":"LOOKUP(M7,{0,1,2,3,4,5,6,7},{0,7,6,5,4,3,2,1})","v":0},null,null,"歩行",null,{"$f":"LOOKUP(R7,{0,1,2,3,4,5,6,7,8},{0,7,6,5,5,4,3,2,1})","v":0},false,false,null,null,1,{"$f":"IF(R7>0,0,1)","v":1}]
["清拭",null,null,null,null,null,null,null,null,null,null,"清拭",null,{"$f":"LOOKUP(M8,{0,1,2,3,4,5,6,7},{0,7,6,5,4,3,2,1})","v":0},null,null,"車椅子",null,null,null,null,null,null,1]
["更衣（上）",null,null,null,null,"階段",null,null,null,null,null,"更衣（上）",null,{"$f":"LOOKUP(M9,{0,1,2,3,4,5,6,7},{0,7,6,5,4,3,2,1})","v":0},null,null,"階段",null,{"$f":"LOOKUP(R9,{0,1,2,3,4,5,6,7,8},{0,7,6,5,5,4,3,2,1})","v":0},null,null,null,null,1,{"$f":"IF(R9>0,0,1)","v":1}]
["更衣（下）",null,null,null,null,"理解",null,null,null,null,null,"更衣（下）",null,{"$f":"LOOKUP(M10,{0,1,2,3,4,5,6,7},{0,7,6,5,4,3,2,1})","v":0},null,null,"理解",null,{"$f":"LOOKUP(R10,{0,1,2,3,4,5,6,7},{0,7,6,5,4,3,2,1})","v":0},false,false,null,null,1,1]
["トイレ",null,null,null,null,"表出",null,null,null,null,null,"トイレ",null,{"$f":"LOOKUP(M11,{0,1,2,3,4,5,6,7},{0,7,6,5,4,3,2,1})","v":0},null,null,"表出",null,{"$f":"LOOKUP(R11,{0,1,2,3,4,5,6,7},{0,7,6,5,4,3,2,1})","v":0},null,null,null,null,1,1]
["排尿",null,null,null,null,"交流",null,null,null,null,null,"排尿",null,{"$f":"LOOKUP(M12,{0,1,2,3,4,5,6,7},{0,7,6,5,4,3,2,1})","v":0},null,null,"交流",null,{"$f":"LOOKUP(R12,{0,1,2,3,4,5,6,7},{0,7,6,5,4,3,2,1})","v":0},null,null,null,null,1,1]
["排便",null,null,null,null,"問題解決",null,null,null,null,null,"排便",null,{"$f":"LOOKUP(M13,{0,1,2,3,4,5,6,7},{0,7,6,5,4,3,2,1})","v":0},null,null,"問題解決",null,{"$f":"LOOKUP(R13,{0,1,2,3,4,5,6,7},{0,7,6,5,4,3,2,1})","v":0},null,null,null,null,1,1]
["移乗",null,null,null,null,"記憶",null,null,null,null,null,"移乗",null,{"$f":"LOOKUP(M14,{0,1,2,3,4,5,6,7},{0,7,6,5,4,3,2,1})","v":0},null,null,"記憶",null,{"$f":"LOOKUP(R14,{0,1,2,3,4,5,6,7},{0,7,6,5,4,3,2,1})","v":0},null,null,null,null,1,1]
["トイレ移乗",null,null,null,null,"※歩行と車椅子操作はどちらか記載",null,null,null,null,null,"トイレ移乗",null,{"$f":"LOOKUP(M15,{0,1,2,3,4,5,6,7},{0,7,6,5,4,3,2,1})","v":0},null,null,"合計",null,{"$f":"SUM(S6:S14)+SUM(N6:N15)","v":0},"運動",{"$f":"SUM(S6:S9)+SUM(N6:N15)","v":0},"認知",{"$f":"SUM(S10:S14)","v":0},1]

{"sheet":"FIM回復期 (３ヶ月)","index":24,"n_rows":15,"n_cols":26,"rows_kept":15,"cut":false,"hidden":true,"merged":[[6,19,7,19],[6,20,7,20],[3,6,4,6],[3,7,4,7],[3,23,3,25],[4,23,4,24],[6,24,7,24],[6,6,7,6],[6,7,7,7],[6,8,7,8],[6,9,7,9],[6,17,7,17],[6,18,7,18],[3,8,4,8],[3,9,4,9],[1,0,1,4],[2,1,2,3],[3,1,4,1],[3,2,4,2],[3,3,4,3],[3,4,4,4]]}
[]
["回復期　発症から３ヶ月"]
["ＡＤＬ",{"$f":"S15","v":0}]
[null,"完全\n自立","修正\n自立","監視\n助言","介助\n要",null,"完全\n自立","修正\n自立","監視\n助言","介助\n要",null,null,null,null,null,null,null,null,null,null,null,null,null,"必須チェック"]
[null,null,null,null,null,null,null,null,null,null,null,null,"ワーク","点数","チェック\n１","チェック\n２",null,"ワーク","点数","チェック\n１","チェック\n２",null,null,"入力があると０\n合計が０になればＯＫ",null,"合計"]
["食事",null,null,null,null,"浴移乗",null,null,null,null,null,"食事",null,{"$f":"LOOKUP(M6,{0,1,2,3,4,5,6,7},{0,7,6,5,4,3,2,1})","v":0},null,null,"浴移乗",null,{"$f":"LOOKUP(R6,{0,1,2,3,4,5,6,7},{0,7,6,5,4,3,2,1})","v":0},null,null,null,null,{"$f":"IF(M6>0,0,1)","v":1},{"$f":"IF(R6>0,0,1)","v":1},{"$f":"SUM(X6:Y15)","v":18}]
["整容",null,null,null,null,"歩行・車椅子",null,null,null,null,null,"整容",null,{"$f":"LOOKUP(M7,{0,1,2,3,4,5,6,7},{0,7,6,5,4,3,2,1})","v":0},null,null,"歩行",null,{"$f":"LOOKUP(R7,{0,1,2,3,4,5,6,7,8},{0,7,6,5,5,4,3,2,1})","v":0},false,false,null,null,1,{"$f":"IF(R7>0,0,1)","v":1}]
["清拭",null,null,null,null,null,null,null,null,null,null,"清拭",null,{"$f":"LOOKUP(M8,{0,1,2,3,4,5,6,7},{0,7,6,5,4,3,2,1})","v":0},null,null,"車椅子",null,null,null,null,null,null,1]
["更衣（上）",null,null,null,null,"階段",null,null,null,null,null,"更衣（上）",null,{"$f":"LOOKUP(M9,{0,1,2,3,4,5,6,7},{0,7,6,5,4,3,2,1})","v":0},null,null,"階段",null,{"$f":"LOOKUP(R9,{0,1,2,3,4,5,6,7,8},{0,7,6,5,5,4,3,2,1})","v":0},null,null,null,null,1,{"$f":"IF(R9>0,0,1)","v":1}]
["更衣（下）",null,null,null,null,"理解",null,null,null,null,null,"更衣（下）",null,{"$f":"LOOKUP(M10,{0,1,2,3,4,5,6,7},{0,7,6,5,4,3,2,1})","v":0},null,null,"理解",null,{"$f":"LOOKUP(R10,{0,1,2,3,4,5,6,7},{0,7,6,5,4,3,2,1})","v":0},false,false,null,null,1,1]
["トイレ",null,null,null,null,"表出",null,null,null,null,null,"トイレ",null,{"$f":"LOOKUP(M11,{0,1,2,3,4,5,6,7},{0,7,6,5,4,3,2,1})","v":0},null,null,"表出",null,{"$f":"LOOKUP(R11,{0,1,2,3,4,5,6,7},{0,7,6,5,4,3,2,1})","v":0},null,null,null,null,1,1]
["排尿",null,null,null,null,"交流",null,null,null,null,null,"排尿",null,{"$f":"LOOKUP(M12,{0,1,2,3,4,5,6,7},{0,7,6,5,4,3,2,1})","v":0},null,null,"交流",null,{"$f":"LOOKUP(R12,{0,1,2,3,4,5,6,7},{0,7,6,5,4,3,2,1})","v":0},null,null,null,null,1,1]
["排便",null,null,null,null,"問題解決",null,null,null,null,null,"排便",null,{"$f":"LOOKUP(M13,{0,1,2,3,4,5,6,7},{0,7,6,5,4,3,2,1})","v":0},null,null,"問題解決",null,{"$f":"LOOKUP(R13,{0,1,2,3,4,5,6,7},{0,7,6,5,4,3,2,1})","v":0},null,null,null,null,1,1]
["移乗",null,null,null,null,"記憶",null,null,null,null,null,"移乗",null,{"$f":"LOOKUP(M14,{0,1,2,3,4,5,6,7},{0,7,6,5,4,3,2,1})","v":0},null,null,"記憶",null,{"$f":"LOOKUP(R14,{0,1,2,3,4,5,6,7},{0,7,6,5,4,3,2,1})","v":0},null,null,null,null,1,1]
["トイレ移乗",null,null,null,null,"※歩行と車椅子操作はどちらか記載",null,null,null,null,null,"トイレ移乗",null,{"$f":"LOOKUP(M15,{0,1,2,3,4,5,6,7},{0,7,6,5,4,3,2,1})","v":0},null,null,"合計",null,{"$f":"SUM(S6:S14)+SUM(N6:N15)","v":0},"運動",{"$f":"SUM(S6:S9)+SUM(N6:N15)","v":0},"認知",{"$f":"SUM(S10:S14)","v":0},1]

{"sheet":"FIM回復期 (退院)","index":25,"n_rows":15,"n_cols":26,"rows_kept":15,"cut":false,"hidden":true,"merged":[[1,0,1,4],[2,1,2,3],[3,1,4,1],[3,2,4,2],[3,3,4,3],[3,4,4,4],[3,23,3,25],[4,23,4,24],[3,6,4,6],[3,7,4,7],[3,8,4,8],[3,9,4,9],[6,24,7,24],[6,6,7,6],[6,7,7,7],[6,8,7,8],[6,9,7,9],[6,17,7,17],[6,18,7,18],[6,19,7,19],[6,20,7,20]]}
[]
["回復期　退院時"]
["ＡＤＬ",{"$f":"S15","v":0}]
[null,"完全\n自立","修正\n自立","監視\n助言","介助\n要",null,"完全\n自立","修正\n自立","監視\n助言","介助\n要",null,null,null,null,null,null,null,null,null,null,null,null,null,"必須チェック"]
[null,null,null,null,null,null,null,null,null,null,null,null,"ワーク","点数","チェック\n１","チェック\n２",null,"ワーク","点数","チェック\n１","チェック\n２",null,null,"入力があると０\n合計が０になればＯＫ",null,"合計"]
["食事",null,null,null,null,"浴移乗",null,null,null,null,null,"食事",null,{"$f":"LOOKUP(M6,{0,1,2,3,4,5,6,7},{0,7,6,5,4,3,2,1})","v":0},null,null,"浴移乗",null,{"$f":"LOOKUP(R6,{0,1,2,3,4,5,6,7},{0,7,6,5,4,3,2,1})","v":0},null,null,null,null,{"$f":"IF(M6>0,0,1)","v":1},{"$f":"IF(R6>0,0,1)","v":1},{"$f":"SUM(X6:Y15)","v":18}]
["整容",null,null,null,null,"歩行・車椅子",null,null,null,null,null,"整容",null,{"$f":"LOOKUP(M7,{0,1,2,3,4,5,6,7},{0,7,6,5,4,3,2,1})","v":0},null,null,"歩行",null,{"$f":"LOOKUP(R7,{0,1,2,3,4,5,6,7,8},{0,7,6,5,5,4,3,2,1})","v":0},false,false,null,null,1,{"$f":"IF(R7>0,0,1)","v":1}]
["清拭",null,null,null,null,null,null,null,null,null,null,"清拭",null,{"$f":"LOOKUP(M8,{0,1,2,3,4,5,6,7},{0,7,6,5,4,3,2,1})","v":0},null,null,"車椅子",null,null,null,null,null,null,1]
["更衣（上）",null,null,null,null,"階段",null,null,null,null,null,"更衣（上）",null,{"$f":"LOOKUP(M9,{0,1,2,3,4,5,6,7},{0,7,6,5,4,3,2,1})","v":0},null,null,"階段",null,{"$f":"LOOKUP(R9,{0,1,2,3,4,5,6,7,8},{0,7,6,5,5,4,3,2,1})","v":0},null,null,null,null,1,{"$f":"IF(R9>0,0,1)","v":1}]
["更衣（下）",null,null,null,null,"理解",null,null,null,null,null,"更衣（下）",null,{"$f":"LOOKUP(M10,{0,1,2,3,4,5,6,7},{0,7,6,5,4,3,2,1})","v":0},null,null,"理解",null,{"$f":"LOOKUP(R10,{0,1,2,3,4,5,6,7},{0,7,6,5,4,3,2,1})","v":0},false,false,null,null,1,1]
["トイレ",null,null,null,null,"表出",null,null,null,null,null,"トイレ",null,{"$f":"LOOKUP(M11,{0,1,2,3,4,5,6,7},{0,7,6,5,4,3,2,1})","v":0},null,null,"表出",null,{"$f":"LOOKUP(R11,{0,1,2,3,4,5,6,7},{0,7,6,5,4,3,2,1})","v":0},null,null,null,null,1,1]
["排尿",null,null,null,null,"交流",null,null,null,null,null,"排尿",null,{"$f":"LOOKUP(M12,{0,1,2,3,4,5,6,7},{0,7,6,5,4,3,2,1})","v":0},null,null,"交流",null,{"$f":"LOOKUP(R12,{0,1,2,3,4,5,6,7},{0,7,6,5,4,3,2,1})","v":0},null,null,null,null,1,1]
["排便",null,null,null,null,"問題解決",null,null,null,null,null,"排便",null,{"$f":"LOOKUP(M13,{0,1,2,3,4,5,6,7},{0,7,6,5,4,3,2,1})","v":0},null,null,"問題解決",null,{"$f":"LOOKUP(R13,{0,1,2,3,4,5,6,7},{0,7,6,5,4,3,2,1})","v":0},null,null,null,null,1,1]
["移乗",null,null,null,null,"記憶",null,null,null,null,null,"移乗",null,{"$f":"LOOKUP(M14,{0,1,2,3,4,5,6,7},{0,7,6,5,4,3,2,1})","v":0},null,null,"記憶",null,{"$f":"LOOKUP(R14,{0,1,2,3,4,5,6,7},{0,7,6,5,4,3,2,1})","v":0},null,null,null,null,{"$f":"IF(M14>0,0,1)","v":1},1]
["トイレ移乗",null,null,null,null,"※歩行と車椅子操作はどちらか記載",null,null,null,null,null,"トイレ移乗",null,{"$f":"LOOKUP(M15,{0,1,2,3,4,5,6,7},{0,7,6,5,4,3,2,1})","v":0},null,null,"合計",null,{"$f":"SUM(S6:S14)+SUM(N6:N15)","v":0},"運動",{"$f":"SUM(S6:S9)+SUM(N6:N15)","v":0},"認知",{"$f":"SUM(S10:S14)","v":0},{"$f":"IF(M15>0,0,1)","v":1}]

{"sheet":"FIM維持期 (3ヶ月)","index":26,"n_rows":15,"n_cols":26,"rows_kept":15,"cut":false,"hidden":true,"merged":[[3,23,3,25],[4,23,4,24],[6,24,7,24],[3,9,4,9],[6,18,7,18],[6,19,7,19],[6,20,7,20],[6,9,7,9],[6,17,7,17],[6,6,7,6],[6,7,7,7],[6,8,7,8],[3,6,4,6],[3,7,4,7],[3,8,4,8],[1,0,1,4],[3,4,4,4],[3,1,4,1],[3,2,4,2],[3,3,4,3],[2,1,2,3]]}
[]
["維持期移行後3ヶ月"]
["ＡＤＬ",{"$f":"S15","v":0}]
[null,"完全\n自立","修正\n自立","監視\n助言","介助\n要",null,"完全\n自立","修正\n自立","監視\n助言","介助\n要",null,null,null,null,null,null,null,null,null,null,null,null,null,"必須チェック"]
[null,null,null,null,null,null,null,null,null,null,null,null,"ワーク","点数","チェック\n１","チェック\n２",null,"ワーク","点数","チェック\n１","チェック\n２",null,null,"入力があると０\n合計が０になればＯＫ",null,"合計"]
["食事",null,null,null,null,"浴移乗",null,null,null,null,null,"食事",null,{"$f":"LOOKUP(M6,{0,1,2,3,4,5,6,7},{0,7,6,5,4,3,2,1})","v":0},null,null,"浴移乗",null,{"$f":"LOOKUP(R6,{0,1,2,3,4,5,6,7},{0,7,6,5,4,3,2,1})","v":0},null,null,null,null,{"$f":"IF(M6>0,0,1)","v":1},{"$f":"IF(R6>0,0,1)","v":1},{"$f":"SUM(X6:Y15)","v":18}]
["整容",null,null,null,null,"歩行・車椅子",null,null,null,null,null,"整容",null,{"$f":"LOOKUP(M7,{0,1,2,3,4,5,6,7},{0,7,6,5,4,3,2,1})","v":0},null,null,"歩行",null,{"$f":"LOOKUP(R7,{0,1,2,3,4,5,6,7,8},{0,7,6,5,5,4,3,2,1})","v":0},false,false,null,null,1,{"$f":"IF(R7>0,0,1)","v":1}]
["清拭",null,null,null,null,null,null,null,null,null,null,"清拭",null,{"$f":"LOOKUP(M8,{0,1,2,3,4,5,6,7},{0,7,6,5,4,3,2,1})","v":0},null,null,"車椅子",null,null,null,null,null,null,1]
["更衣（上）",null,null,null,null,"階段",null,null,null,null,null,"更衣（上）",null,{"$f":"LOOKUP(M9,{0,1,2,3,4,5,6,7},{0,7,6,5,4,3,2,1})","v":0},null,null,"階段",null,{"$f":"LOOKUP(R9,{0,1,2,3,4,5,6,7,8},{0,7,6,5,5,4,3,2,1})","v":0},null,null,null,null,1,{"$f":"IF(R9>0,0,1)","v":1}]
["更衣（下）",null,null,null,null,"理解",null,null,null,null,null,"更衣（下）",null,{"$f":"LOOKUP(M10,{0,1,2,3,4,5,6,7},{0,7,6,5,4,3,2,1})","v":0},null,null,"理解",null,{"$f":"LOOKUP(R10,{0,1,2,3,4,5,6,7},{0,7,6,5,4,3,2,1})","v":0},false,false,null,null,1,1]
["トイレ",null,null,null,null,"表出",null,null,null,null,null,"トイレ",null,{"$f":"LOOKUP(M11,{0,1,2,3,4,5,6,7},{0,7,6,5,4,3,2,1})","v":0},null,null,"表出",null,{"$f":"LOOKUP(R11,{0,1,2,3,4,5,6,7},{0,7,6,5,4,3,2,1})","v":0},null,null,null,null,1,1]
["排尿",null,null,null,null,"交流",null,null,null,null,null,"排尿",null,{"$f":"LOOKUP(M12,{0,1,2,3,4,5,6,7},{0,7,6,5,4,3,2,1})","v":0},null,null,"交流",null,{"$f":"LOOKUP(R12,{0,1,2,3,4,5,6,7},{0,7,6,5,4,3,2,1})","v":0},null,null,null,null,1,1]
["排便",null,null,null,null,"問題解決",null,null,null,null,null,"排便",null,{"$f":"LOOKUP(M13,{0,1,2,3,4,5,6,7},{0,7,6,5,4,3,2,1})","v":0},null,null,"問題解決",null,{"$f":"LOOKUP(R13,{0,1,2,3,4,5,6,7},{0,7,6,5,4,3,2,1})","v":0},null,null,null,null,1,1]
["移乗",null,null,null,null,"記憶",null,null,null,null,null,"移乗",null,{"$f":"LOOKUP(M14,{0,1,2,3,4,5,6,7},{0,7,6,5,4,3,2,1})","v":0},null,null,"記憶",null,{"$f":"LOOKUP(R14,{0,1,2,3,4,5,6,7},{0,7,6,5,4,3,2,1})","v":0},null,null,null,null,{"$f":"IF(M14>0,0,1)","v":1},1]
["トイレ移乗",null,null,null,null,"※歩行と車椅子操作はどちらか記載",null,null,null,null,null,"トイレ移乗",null,{"$f":"LOOKUP(M15,{0,1,2,3,4,5,6,7},{0,7,6,5,4,3,2,1})","v":0},null,null,"合計",null,{"$f":"SUM(S6:S14)+SUM(N6:N15)","v":0},"運動",{"$f":"SUM(S6:S9)+SUM(N6:N15)","v":0},"認知",{"$f":"SUM(S10:S14)","v":0},{"$f":"IF(M15>0,0,1)","v":1}]

{"sheet":"FIM説明文","index":27,"n_rows":181,"n_cols":6,"rows_kept":181,"cut":false,"hidden":true,"merged":[]}
["各項目ごとに７～１だが、５が２つあるものもある。"]
["注釈、解説を表示する。",null,"チェック項目あり。","チェック項目"]
[null,null,null,"単一　or 複数","項目名１","項目名２"]
["食事","定義","食事が適切に用意された状態で適切な食器を使って、食物を口に運ぶ動作から咀嚼し、嚥下するまでが含まれる。"]
[null,"7.完全自立","テーブルまたは食事台の上に普通にだされた皿から全ての性状の食物を処理して食べ、そして茶碗またはコップから飲む。患者はフォークまたはスプーンを使って食物を口まで運び、咀嚼し、嚥下する。"]
[null,"6.修正自立","ストロー、スポーク、ロッキングナイフの様な改良した器具または補助具が必要である。または食べるのに通常以上の時間がかかる。また、食物の性状の変更やきざみ食が必要である。あるいは安全性の考慮が必要となる。部分的に非経口的栄養または胃瘻栄養のようなほかの栄養法に頼っている場合、患者自らでそれを管理している。"]
[null,"5.監視または準備","監視（たとえば待機、指示または促し）または準備（装具の装着）が必要。あるいは容器を開ける、肉を切る、パンにバターを塗る、飲み物を注ぐのに介助が必要である。"]
[null,"4.最小介助","患者は食事動作の75％以上を行う。"]
[null,"3.中等度介助","患者は食事動作の50％から74％までを行う。"]
[null,"2.最大介助","患者は食事動作の25％から49％までを行う。"]
[null,"1.全介助","患者は食事動作の25％未満しか行わない。または、患者は経口的に十分な食事を食べる、または飲むわけではなく、部分的に非経口的栄養または胃瘻栄養のような他の栄養法に頼らねばならず、患者自らは管理していない。"]
[]
[]
["整容","定義","口腔ケア、整髪、手洗い、洗顔そして髭剃りまたは化粧が含まれる。"]
[null,"7.完全自立","歯または義歯を磨く、櫛やブラシで髪をとかす、手洗い、洗顔、髭剃りまたは化粧をする。全ての準備を含む。髭剃りまたは化粧をしたがらない場合は無視してよい。"]
[null,"6.修正自立","特殊な器具（義肢または装具を含む）が必要または通常以上に時間がかかる、あるいは安全性の考慮が必要である。"]
[null,"5.監視または準備","監視（たとえば待機、指示または促し）または準備（装具の装着、特殊な整容器具の準備、歯磨粉を歯ブラシにつけたり化粧品の容器を開けるといった最初の準備）が必要。"]
[null,"4.最小介助","患者は整容動作の75％以上を行う。"]
[null,"3.中等度介助","患者は整容動作の50％から74％までを行う。"]
[null,"2.最大介助","患者は整容動作の25％から49％までを行う。"]
[null,"1.全介助","患者は整容動作の25％未満しか行わない。"]
[]
[]
["清拭","定義","首から下（背中は含まない）を洗うこと。風呂おけ、シャワー、またはスポンジ浴、ベッド浴のいずれか。安全に行う。"]
[null,"7.完全自立","入浴し、身体を乾かすこと。"]
[null,"6.修正自立","特殊な器具（義肢または装具を含む）が必要または通常以上に時間がかかる、あるいは安全性の考慮が必要である。"]
[null,"5.監視または準備","監視（たとえば待機、指示または促し）または準備（装具の装着、特殊な入浴器具の準備や初めにお湯や入浴具を準備すること）が必要。"]
[null,"4.最小介助","患者は入浴動作の75％以上を行う。"]
[null,"3.中等度介助","患者は入浴動作の50％から74％までを行う。"]
[null,"2.最大介助","患者は入浴動作の25％から49％までを行う。"]
[null,"1.全介助","患者は入浴動作の25％未満しか行わない。"]
[]
[]
["更衣（上）","定義","腰より上の更衣および着用している場合に義肢または装具の着脱も含む。"]
[null,"7.完全自立","引き出しや押入のような通例の場所から衣類を取り出すことを含めた衣服の着脱。ブラジャー、頭からかぶる衣服、前開きの衣服の着脱、ジッパー、留め金、およびスナップの取扱い、着用している場合は義肢、装具の着脱を含む。"]
[null,"6.修正自立","マジックテープのように改良した特殊な部品または補助具（義肢または装具を含む）が必要となるか通常以上の時間がかかる。"]
[null,"5.監視または準備","監視（たとえば待機、指示または促し）または準備（装具の装着、衣類や特殊な更衣用具の準備）が必要。"]
[null,"4.最小介助","患者は更衣動作の75％以上を行う。"]
[null,"3.中等度介助","患者は更衣動作の50％から74％までを行う。"]
[null,"2.最大介助","患者は更衣動作の25％から49％までを行う。"]
[null,"1.全介助","患者は更衣動作の25％未満しか行わない、または更衣しない。"]
[]
[]
["更衣（下）","定義","腰より下の更衣、および着用している場合には義肢または装具の着脱も含む。"]
[null,"7.完全自立","引き出しや押入のような通例の場所から衣類を取り出すことを含めた衣服の着脱。パンツ、ズボン、スカート、ベルト、ストッキング、靴の着脱、、ジッパー、留め金、およびスナップの取扱い、着用している場合は義肢、装具の着脱を含む。"]
[null,"6.修正自立","マジックテープのように改良した特殊な部品または補助具（義肢または装具を含む）が必要となるか通常以上の時間がかかる。"]
[null,"5.監視または準備","監視（たとえば待機、指示または促し）または準備（装具の装着、衣類や特殊な更衣用具の準備）が必要。"]
[null,"4.最小介助","患者は更衣動作の75％以上を行う。"]
[null,"3.中等度介助","患者は更衣動作の50％から74％までを行う。"]
[null,"2.最大介助","患者は更衣動作の25％から49％までを行う。"]
[null,"1.全介助","患者は更衣動作の25％未満しか行わない、または更衣しない。"]
[]
[]
["トイレ","定義","会陰部の清潔、およびトイレまたはさし込み便器使用の前後で衣服を整えることが含まれる。安全に行う。"]
[null,"7.完全自立","排尿、排便後に清潔にすること。生理用ナプキンをつけること、タンポンの挿入、トイレ使用の前後に衣服を整えること。"]
[null,"6.修正自立","特殊な器具（義肢または装具を含む）が必要、または通常以上の時間がかかる、あるいは安全性の考慮が必要。"]
[null,"5.監視または準備","監視（たとえば待機、指示または促し）または準備（補助具の使用や包装を開けること）が必要。"]
[null,"4.最小介助","患者はトイレ動作の75％以上を行う。"]
[null,"3.中等度介助","患者はトイレ動作の50％から74％までを行う。"]
[null,"2.最大介助","患者はトイレ動作の25％から49％までを行う。"]
[null,"1.全介助","患者はトイレ動作の25％未満しか行わない、または更衣しない。"]
[]
[null,"解説","もし患者が生理用ナプキンに介助が必要な場合（通常月に3-5日）、介助のレベルは5すなわち監視または準備である。"]
["排尿","定義","排尿の完全なコントロールおよび排尿コントロールに必要な器具や薬剤の使用が含まれる。"]
[null,"7.完全自立","完全かつ随意的に膀胱をコントロールし、決して失禁しない。"]
[null,"6.修正自立","しびん、さし込み便器、簡易便器、カテーテル、おむつ、吸収パッド、集尿器、尿路変更あるいはコントロールのための薬剤を必要とする。カテーテルを使用している場合、患者は介助なしにカテーテルの水切りあるいは洗浄を行う。そして介助なしに洗浄用の器具を消毒、洗浄、準備する。患者が器具を使用している場合、患者は介助なしにコンドーム式集尿器あるいは回腸導管用器具を組み立て装着する、蓄尿袋を空にし着脱したり洗浄する、あるいは回腸導管用蓄尿袋を空にしたり洗浄する。失敗しない。"]
[null,"5.監視または準備","良好な排尿パターンを維持する、あるいは器具を取扱うにあたって監視（たとえば待機、指示または促し）または器具の準備（取り付ける、空にする）が必要。またはさし込み便器をとったりトイレに行くまでに時間がかかるために患者は時々失敗をするが月に１回未満である。"]
[null,"4.最小介助","器具の取扱いにおいて最小限の介助が必要。患者は排尿に関する課題の75％以上を行う。または時々失敗するが、週に１回未満である。"]
[null,"3.中等度介助","器具の取扱いにおいて中等度の介助が必要。患者は排尿に関する課題の50％から74％まで行う。または時々失敗するが１日に１回未満である。"]
[null,"2.最大介助","介助しても患者は頻繁にまたはほとんど毎日湿った状態であり、カテーテルまたは瘻孔用の器具が留置してあるかどうかにかかわりなく、おむつまたはその他の吸収パッドを必要とする。排尿に関する課題の25％から49％まで行う。"]
[null,"1.全介助","介助しても患者は頻繁にまたはほとんど毎日湿った状態であり、カテーテルまたは瘻孔用の器具が留置してあるかどうかにかかわりなく、おむつまたはその他の吸収パッドを必要とする。排尿に関する課題の25％未満しか行わない。"]
[]
[null,"解説","排尿管理の機能的ゴールは尿道活約筋が必要なときだけ開き、そのほかのときは閉じていることである。このため患者によっては器具、薬剤あるいは介助が必要である。従ってこの項目は二つの点を扱っている。すなわち①排尿管理の成功程度　②必要な介助レベルである。通常これら二つは同レベルである。たとえば、失敗が多いほどより多くの介助が必要である。しかし、二つのレベルが正確に同じでない場合は、常に低い方のレベルを記録する。"]
["排便","定義","排便の完全なコントロールおよび排便コントロールに必要な器具や薬剤の使用が含まれる。"]
[null,"7.完全自立","完全かつ随意的に排便をコントロールし、決して失禁しない。"]
[null,"6.修正自立","さし込み便器または簡易便器、指による刺激、便軟化剤、坐薬、緩下剤、または定期的な浣腸あるいはコントロールのための他の薬剤が必要。結腸瘻がある場合は患者がそれを管理する。失敗がない。"]
[null,"5.監視または準備","良好な排便パターンを維持する、あるいは瘻孔用器具を取扱うにあたって監視（たとえば待機、指示または促し）または必要な器具の準備が必要。または患者は時々失敗をするが月に１回未満である。"]
[null,"4.最小介助","坐薬、浣腸、器具を用いて良好な排便パターンを維持するために最小限の介助が必要。患者は排便に関する課題の75％以上を行う。または時々失敗するが、週に１回未満である。"]
[null,"3.中等度介助","坐薬、浣腸、器具を用いて良好な排便パターンを維持するために最小限の介助が必要。患者は排便に関する課題の50％から74％まで行う。または患者は時々失敗するが１日に１回未満である。"]
[null,"2.最大介助","介助しても患者は頻繁にまたはほとんど毎日汚染された状態であり、瘻孔用の器具が留置してあるかどうかにかかわりなく、おむつまたはその他の吸収パッドを必要とする。排便に関する課題の25％から49％まで行う。"]
[null,"1.全介助","介助しても患者は頻繁にまたはほとんど毎日湿った状態であり、瘻孔用の器具が留置してあるかどうかにかかわりなく、おむつまたはその他の吸収パッドを必要とする。排便に関する課題の25％未満しか行わない。"]
[]
[null,"解説","排便管理の機能的ゴールは肛門括約筋が必要なときだけ開き、そのほかのときは閉じていることである。このため患者によっては器具、薬剤あるいは介助が必要である。従ってこの項目は二つの点を扱っている。すなわち①排便管理の成功程度　②必要な介助レベルである。通常これら二つは同レベルである。たとえば、失敗が多いほどより多くの介助が必要である。しかし、二つのレベルが正確に同じでない場合は、常に低い方のレベルを記録する。"]
["移乗","定義","ベッド、椅子、車椅子の間での移乗のすべての段階を含む。または歩行が移動の主要な手段である場合は起立動作を含む。"]
[null,"7.完全自立","歩行の場合は、通常の椅子の前に近づき、すわる、そこから立ち上がること。ベッドから椅子に乗り移ること。これらを安全に行う。\n車椅子の場合は、ベッドまたは椅子まで近づき、ブレーキをかけフットレストを上げ、必要ならアームレストをとり、そして立位で方向を変えるかまたは滑って移動し、そしてもとに戻ること。これらを安全に行う。"]
[null,"6.修正自立","スライディングボード、リフト、手すり、特殊な椅子や腰掛け、装具、杖のような補助具（adaptive or assistive device）（義肢・装具を含む）が必要である。通常以上の時間がかかるまたは安全性の考慮が必要。"]
[null,"5.監視または準備","監視（たとえば待機、指示または促し）または準備（スライディングボードを置く、フットレストを動かすなど）が必要。"]
[null,"4.最小介助","患者は移乗動作の75％以上を行う。"]
[null,"3.中等度介助","患者は移乗動作の50％から74％までを行う。"]
[null,"2.最大介助","患者は移乗動作の25％から49％までを行う。"]
[null,"1.全介助","患者は移乗動作の25％未満しか行わない。"]
[]
[null,"解説","ベッドから椅子への移乗を評価する際は、患者は仰臥位から始め、端座位までを行う。"]
["トイレ移乗","定義","便器に移ることおよび便器からは離れることを含む。"]
[null,"7.完全自立","歩行の場合は、通常の便器の前に近づき、すわる、そしてそこから立ち上がること。これらを安全に行う。\n車椅子の場合は、便器まで近づき、ブレーキをかけフットレストを上げ、必要ならアームレストをとり、そして立位で方向を変えるかまたは滑って移動し、そしてもとに戻ること。これらを安全に行う。"]
[null,"6.修正自立","スライディングボード、リフト、手すり、特殊な椅子や腰掛け、装具、杖のような補助具（adaptive or assistive device）（義肢・装具を含む）が必要である。通常以上の時間がかかるまたは安全性の考慮が必要。"]
[null,"5.監視または準備","監視（たとえば待機、指示または促し）または準備（スライディングボードを置く、フットレストを動かすなど）が必要。"]
[null,"4.最小介助","患者は移乗動作の75％以上を行う。"]
[null,"3.中等度介助","患者は移乗動作の50％から74％までを行う。"]
[null,"2.最大介助","患者は移乗動作の25％から49％までを行う。"]
[null,"1.全介助","患者は移乗動作の25％未満しか行わない。"]
[]
[]
["浴移乗","定義","浴槽またはシャワー室に入りそこから出ることを含む。\n（注釈：日本語版では「浴槽」または「シャワー」のいずれを用いているかをチェックして区別する）"]
[null,"7.完全自立","歩行の場合は、浴槽、またはシャワー室まで行き、そこに入りそして出ること。これらを安全に行う。\n車椅子の場合は、浴槽、またはシャワー室まで行き、ブレーキをかけフットレストを上げ、必要ならアームレストをとり、そして立位で方向を変えるかまたは滑って移動し、そしてもとに戻ること。これらを安全に行う。"]
[null,"6.修正自立","スライディングボード、リフト、手すり、特殊な椅子のような補助具（adaptive or assistive device）（義肢・装具を含む）が必要である。通常以上の時間がかかる、または安全性の考慮が必要。"]
[null,"5.監視または準備","監視（たとえば待機、指示または促し）または準備（スライディングボードを置く、フットレストを動かすなど）が必要。"]
[null,"4.最小介助","患者は移乗動作の75％以上を行う。"]
[null,"3.中等度介助","患者は移乗動作の50％から74％までを行う。"]
[null,"2.最大介助","患者は移乗動作の25％から49％までを行う。"]
[null,"1.全介助","患者は移乗動作の25％未満しか行わない。"]
[]
[]
["歩行・車椅子","定義","立位の状態では歩行、坐位の状態では平地での車椅子の使用を示す。最も頻繁に行う移動の手段に印をつける。もしリハビリテーションプログラムを開始したところであれば、訓練を予定している方をチェックする。\n\n","単一","歩行","車椅子"]
[null,"7.完全自立","補助具なしに最低50メートル歩行する。車椅子は使用せず、安全に歩行する。"]
[null,"6.修正自立","最低50メートル歩行するが、下肢装具、義肢、特別に改良した靴、杖、歩行器を使用する。通常以上の時間がかかる。または安全性の考慮が必要。\n歩行しない場合、最低50メートル自立して車椅子または電動車いすを操作する。少なくとも勾配3％の坂を乗り越える。敷物の上、ドアの敷居で車椅子を操作する。"]
[null,"5.例外（家庭内移動）","補助具使用の有無にかかわらず短距離のみ（最低15メートル）歩行する。通常以上の時間がかかる、または安全性の考慮が必要、あるいは手動または電動車椅子を自立して短距離のみ（最低15メートル）操作する。"]
[null,"5.監視","歩行する場合、最低50メートル歩行するために傍で監視、指示または促しが必要。\n歩行しない場合、最低50メートル車椅子で移動するのに傍で監視、指示または促しが必要。"]
[null,"4.最小介助","患者は最低50メートルの移動動作のうち75％以上を行う。"]
[null,"3.中等度介助","患者は最低50メートルの移動動作のうち50％から74％を行う。"]
[null,"2.最大介助","患者は最低15メートルの移動動作のうち25％から49％を行う。一人だけの介助が必要。"]
[null,"1.全介助","移動動作の25％未満しか行わない。または二人の介助が必要。あるいは最低15メートルの歩行も車椅子移動も行わない。"]
[null,"注釈","入院時の採点でも、退院時の主とする移動手段を用いて行う。"]
["階段","定義","屋内から12から14段の階段（１階上まで）を昇降する。"]
[null,"7.完全自立","いかなる型の手すりあるいは支えも使わずに少なくともひと続きの階段を昇降する。安全に行う。"]
[null,"6.修正自立","支柱、手すり、杖、携帯用の指示具を使って、少なくともひと続きの階段を昇降する。通常以上の時間がかかる、または安全性の考慮が必要。"]
[null,"5.例外（家庭内移動）","補助具使用の有無にかかわらず、4から6段の階段昇降を自立して行う。通常以上の時間がかかるまたは安全性の考慮が必要。"]
[null,"5.監視","階段を昇降するのに傍で監視、指示または促しが必要。"]
[null,"4.最小介助","患者は階段昇降動作の75％以上を行う。"]
[null,"3.中等度介助","患者は階段昇降動作の50％から74％までを行う。"]
[null,"2.最大介助","4から6段の階段昇降動作の25％から49％までを行う。一人だけの介助が必要。"]
[null,"1.全介助","階段昇降動作の25％未満しか行わない、または二人の介助が必要。あるいは4から6段の階段を昇降しないまたは運ばれる。"]
[]
["理解","定義","聴覚あるいは視覚によるコミュニケーションの理解が含まれる。（たとえば文字、サイン言語、ジェスチャー）\n最も普通に行っている理解の方法に印をつけ評価する。両方を等しく使っている場合は、両方に印をつける。","複数","視覚","聴覚"]
[null,"7.完全自立","複雑または抽象的な指示、会話を理解する。母国語の話し言葉または書き言葉を理解する。"]
[null,"6.修正自立","複雑または抽象的な指示、会話を理解するが、軽度の困難をともなう。促しは必要としない。視覚や聴覚補助具その他の道具が必要なこともある。あるいは情報を理解するのに余分な時間がかかる。"]
[null,"5.待機的介助（促し）","命令や日常生活に必要な基本的な欲求を90％以上の機械で理解している。促し（ゆっくりした速度で話す、繰り返す、特定の語や句を強調する、間をおく、視覚またはジェスチャーによるてがかり）が必要なのは10％未満である。"]
[null,"4.最小介助（促し）","基本的欲求についての指示、会話の75％から90％を理解している。"]
[null,"3.中等度介助（促し）","基本的欲求についての指示、会話の50％から74％を理解している。"]
[null,"2.最大介助","基本的欲求についての指示、会話の25％から49％を理解している。簡単な質問や文だけは理解するかもしれないが、半分以上の機会では促しが必要である。"]
[null,"1.全介助","基本的欲求についての指示、会話の25％未満しか理解していない、または簡単な質問または表現も理解しない。促しても適切に一貫して応答しない。"]
[]
[null,"解説","複雑あるいは抽象的な情報の理解とは、言葉の理解だけにとどまらず、集団会話やテレビ番組または新聞記事でみられる最近の出来事、あるいは信仰、ユーモア、計算、あるいは日常生活で使う金銭面のことを含んでいる。基本的な欲求に関する情報とは、患者の栄養、飲み物、排泄、清潔、睡眠のような生理的な要求に関する会話、命令、質問、表現のことを示す。"]
["表出","定義","はっきりした音声、あるいは音声によらない言語表現を含む。この項目は分かりやすい話し方あるいは書字または会話増幅装置を使った言語のはっきりした表出が含まれる。\n最も普通に行っている表出の方法に印をつけ評価する。両方を等しく使っている場合は両方に印をつける。","単一","声＝音声を使う　　　","非＝音声を使わない"]
[null,"7.完全自立","複雑または抽象的な考えを、はっきり流暢に表出する。"]
[null,"6.修正自立","複雑または抽象的な考えをほとんどの場合で表出する。あるいはわずかな困難をともなう。促しは必要としない。会話増幅装置や方法を必要とする場合もある。"]
[null,"5.待機的介助","基本的欲求や考えの90％以上を表出している。理解するために促し（例えば頻繁な繰り返し）が必要なのは10％未満である。"]
[null,"4.最小介助","基本的欲求や考えの75％から90％を表出している。"]
[null,"3.中等度介助","基本的欲求や考えの50％から74％を表出している。"]
[null,"2.最大介助","基本的欲求や考えの25％から49％を表出している。単語のみあるいはジェスチャーのみを用いる場合もある。半分以上の機械では促しが必要である。"]
[null,"1.全介助","基本的欲求や考えの25％未満しか表出していない、あるいは介助しても基本的に必要なことを適切に一貫して表現しない。"]
[]
[null,"解説","複雑あるいは抽象的考えの例には、これらに限られているわけではないが、最近のできごとについて議論、信仰、他人とのかかわりが含まれる。基本的欲求や考えの表出とは、患者の栄養、飲み物、排泄、清潔、睡眠など（生理的な欲求）のように、必要な日常の活動についてコミュニケーションする能力のことを示す。"]
["交流","定義","治療の場あるいは社会の場において他人との折り合い、他人に参加していく技能が含まれる。これは人が自分の欲求とともに他人の欲求をどう処理するかということを意味している。"]
[null,"7.完全自立","スタッフ、他の患者そして家族と適切に交流する（たとえば、気分をコントロールし、批判を受け入れ、言葉や行動が他人に影響を与えることがわかっている）。"]
[null,"6.修正自立","ほとんどの場合ではスタッフ、他の患者そして家族と適切に交流する、あるいはわずかな困難をともなう。監視は必要ない。社会的状況のなかで適応するまでに通常以上の時間がかかる、あるいはコントロールのために薬物を必要とすることもある。"]
[null,"5.監視","緊張するような状況または不慣れな状況でのみ監視が必要（たとえばモニターでの監視、言葉による抑制、指示または促し）。しかしそれは10％未満の場合だけである。交流を始めるのに励ましが必要なこともある。"]
[null,"4.最小介助（指示）","患者は75％から90％の場面では適切に交流している。"]
[null,"3.中等度介助（指示）","患者は50％から74％の場面では適切に交流している。"]
[null,"2.最大介助（指示）","患者は25％から49％の場面では適切に交流している。抑制が必要なこともある。"]
[null,"1.全介助","患者は25％未満の場面でしか、またはまったく適切に交流していない。抑制が必要なこともある。"]
[]
[null,"社会的に好ましくない行為の例","かんしゃくをおこす、大声で不潔な言葉、悪態をいう。過剰に笑い、泣くこと。暴力。過度に引きこもることまたは交流をもたないこと。"]
["問題解決","定義","日常生活上の問題解決に関連した技能が含まれる。これは金銭的、社会的、個人的なできごとに関して、合理的かつ安全にタイミング良く決断する。問題をカイエｋつするために行動を開始し、継続し、自分で修正していくことを意味する。"]
[null,"7.完全自立","一貫して問題を認識し、適切な決断を下す。複雑な問題を解決するための一連の方針をたて、実行する。そして誤りがあれば自分で修正する。"]
[null,"6.修正自立","ほとんどの場面で一貫して複雑な問題を認識し、適切な決断を下し、問題解決のための一連の方針をたて、実行する。あるいはわずかな困難をともなう。または複雑な問題について決断を下し解決するのに通常以上の時間がかかる。"]
[null,"5.監視","緊張するような状況または不慣れな状況でのみ日常の問題解決のために監視が必要（たとえば指示または促し）。しかしそのようなことは10％未満だけである。"]
[null,"4.最小介助（指示）","患者は日常の問題の75％から90％を解決している。"]
[null,"3.中等度介助（指示）","患者は日常の問題の50％から74％を解決している。"]
[null,"2.最大介助（指示）","患者は日常の問題の25％から49％を解決している。簡単な日常の活動を開始し、計画し、遂行するのに半分以上の場面では支持が必要。安全のために抑制が必要なこともある。"]
[null,"1.全介助","患者は日常の問題の25％未満しか解決しない。ほとんどいつも指示を要し、または効果的に問題を解決しない。簡単な日常の活動を遂行するために常に１対１の指示を要する。安全のために、抑制を必要とすることもある。"]
[]
[null,"問題の例","複雑な問題の解決とは、収支の管理、退院の計画に加わる、薬の自己管理、個人間の問題に直面する、および職業の決定などのことである。\n日常の問題とは日常の課題をうまくこなしたり、日常生活のなかで起こる不測の事態や危険に対処することなどが含まれる。"]
["記憶","定義","施設または社会の場面において日常的な活動を行うときの認知と記憶に関連した技能が含まれる。これは特に言語的、視覚的情報を記憶し再生する能力である。記憶障害は課題の遂行だけでなく学習も障害する。"]
[null,"7.完全自立","頻繁に出会う人を認識し毎日の日課を覚えている。他人からの依頼を繰り返し聞き返す必要なく実行する。"]
[null,"6.修正自立","頻繁に出会う人を認識し毎日の日課や他人からの依頼を記憶するのにわずかに困難をともなう。独自のまたは周囲のものからの手がかり、促しまたは補助具を使うこともある。"]
[null,"5.監視","緊張しているとき、あるいは、不慣れな状況では促しが必要（たとえば手がかりまたは繰り返し、助言など）。しかしそれは10％未満の場面だけである。"]
[null,"4.最小介助（促し）","患者は75％から90％の場面を認識し記憶している。"]
[null,"3.中等度介助（促し）","患者は50％から74％の場面を認識し記憶している。"]
[null,"2.最大介助（促し）","患者は25％から49％の場面を認識し記憶している。半分以上の時間は促しが必要。"]
[null,"1.全介助","患者は25％未満の場面でしか認識し記憶していない。あるいは効果的に認識し記憶しない。"]

{"sheet":"B.I急性期","index":28,"n_rows":15,"n_cols":21,"rows_kept":15,"cut":false,"hidden":true,"merged":[[3,3,3,4],[2,1,2,2],[2,3,2,5]]}
[]
[null,"退院時"]
[null,{"$f":"G15","v":0},null,null,null,null,"非表示",null,null,null,null,null,null,null,null,null,null,null,null,null,"未入力チェック"]
[null,null,"できる","介助",null,"できない"]
[null,"食事",null,null,null,null,null,null,null,null,null,null,null,null,null,null,null,null,null,null,{"$f":"IF(G5<>\"\",0,1)","v":1}]
[null,"移乗",null,null,null,null,null,null,null,null,null,null,null,null,null,null,null,null,null,null,{"$f":"IF(G6<>\"\",0,1)","v":1}]
[null,"整容",null,null,null,null,null,null,null,null,null,null,null,null,null,null,null,null,null,null,1]
[null,"トイレ動作",null,null,null,null,null,null,null,null,null,null,null,null,null,null,null,null,null,null,1]
[null,"入浴",null,null,null,null,null,null,null,null,null,null,null,null,null,null,null,null,null,null,1]
[null,"歩行",null,null,null,null,null,null,null,null,null,null,null,null,null,null,null,null,null,null,1]
[null,"階段昇降",null,null,null,null,null,null,null,null,null,null,null,null,null,null,null,null,null,null,1]
[null,"更衣",null,null,null,null,null,null,null,null,null,null,null,null,null,null,null,null,null,null,1]
[null,"排便管理",null,null,null,null,null,null,null,null,null,null,null,null,null,null,null,null,null,null,1]
[null,"排尿管理",null,null,null,null,null,null,null,null,null,null,null,null,null,null,null,null,null,null,1]
[null,null,null,null,null,null,{"$f":"SUM(G5:G14)","v":0},null,null,null,null,null,null,null,null,null,null,null,null,null,{"$f":"SUM(U5:U14)","v":10}]

{"sheet":"B.I回復期(入院)","index":29,"n_rows":15,"n_cols":21,"rows_kept":15,"cut":false,"hidden":true,"merged":[[2,1,2,2],[2,3,2,4],[3,3,3,4]]}
[]
[null,"入院時"]
[null,{"$f":"G15","v":0},null,null,null,null,"非表示",null,null,null,null,null,null,null,null,null,null,null,null,null,"未入力チェック"]
[null,null,"できる","介助",null,"できない"]
[null,"食事",null,null,null,null,null,null,null,null,null,null,null,null,null,null,null,null,null,null,{"$f":"IF(G5<>\"\",0,1)","v":1}]
[null,"移乗",null,null,null,null,null,null,null,null,null,null,null,null,null,null,null,null,null,null,1]
[null,"整容",null,null,null,null,null,null,null,null,null,null,null,null,null,null,null,null,null,null,1]
[null,"トイレ動作",null,null,null,null,null,null,null,null,null,null,null,null,null,null,null,null,null,null,1]
[null,"入浴",null,null,null,null,null,null,null,null,null,null,null,null,null,null,null,null,null,null,1]
[null,"歩行",null,null,null,null,null,null,null,null,null,null,null,null,null,null,null,null,null,null,1]
[null,"階段昇降",null,null,null,null,null,null,null,null,null,null,null,null,null,null,null,null,null,null,1]
[null,"更衣",null,null,null,null,null,null,null,null,null,null,null,null,null,null,null,null,null,null,1]
[null,"排便管理",null,null,null,null,null,null,null,null,null,null,null,null,null,null,null,null,null,null,1]
[null,"排尿管理",null,null,null,null,null,null,null,null,null,null,null,null,null,null,null,null,null,null,1]
[null,null,null,null,null,null,{"$f":"SUM(G5:G14)","v":0},null,null,null,null,null,null,null,null,null,null,null,null,null,{"$f":"SUM(U5:U14)","v":10}]

{"sheet":"B.I回復期(3ヶ月)","index":30,"n_rows":15,"n_cols":21,"rows_kept":15,"cut":false,"hidden":true,"merged":[[2,1,2,2],[2,3,2,4],[3,3,3,4]]}
[]
[null,"発症から3ヶ月"]
[null,{"$f":"G15","v":0},null,null,null,null,"非表示",null,null,null,null,null,null,null,null,null,null,null,null,null,"未入力チェック"]
[null,null,"できる","介助",null,"できない"]
[null,"食事",null,null,null,null,null,null,null,null,null,null,null,null,null,null,null,null,null,null,{"$f":"IF(G5<>\"\",0,1)","v":1}]
[null,"移乗",null,null,null,null,null,null,null,null,null,null,null,null,null,null,null,null,null,null,1]
[null,"整容",null,null,null,null,null,null,null,null,null,null,null,null,null,null,null,null,null,null,1]
[null,"トイレ動作",null,null,null,null,null,null,null,null,null,null,null,null,null,null,null,null,null,null,1]
[null,"入浴",null,null,null,null,null,null,null,null,null,null,null,null,null,null,null,null,null,null,1]
[null,"歩行",null,null,null,null,null,null,null,null,null,null,null,null,null,null,null,null,null,null,1]
[null,"階段昇降",null,null,null,null,null,null,null,null,null,null,null,null,null,null,null,null,null,null,1]
[null,"更衣",null,null,null,null,null,null,null,null,null,null,null,null,null,null,null,null,null,null,1]
[null,"排便管理",null,null,null,null,null,null,null,null,null,null,null,null,null,null,null,null,null,null,1]
[null,"排尿管理",null,null,null,null,null,null,null,null,null,null,null,null,null,null,null,null,null,null,1]
[null,null,null,null,null,null,{"$f":"SUM(G5:G14)","v":0},null,null,null,null,null,null,null,null,null,null,null,null,null,{"$f":"SUM(U5:U14)","v":10}]

{"sheet":"B.I回復期(退院)","index":31,"n_rows":15,"n_cols":21,"rows_kept":15,"cut":false,"hidden":true,"merged":[[2,1,2,2],[2,3,2,4],[3,3,3,4]]}
[]
[null,"退院時"]
[null,{"$f":"G15","v":0},null,null,null,null,"非表示",null,null,null,null,null,null,null,null,null,null,null,null,null,"未入力チェック"]
[null,null,"できる","介助",null,"できない"]
[null,"食事",null,null,null,null,null,{"$f":"IF(G5<>\"\",LOOKUP(G5,{0,5,10},{\"全介助\",\"部分介助\",\"自立\"}),\"\")","v":""},null,null,null,null,null,null,null,null,null,null,null,null,{"$f":"IF(G5<>\"\",0,1)","v":1}]
[null,"移乗",null,null,null,null,null,{"$f":"IF(G6<>\"\",LOOKUP(G6,{0,5,10,15},{\"全介助\",\"部分介助\",\"介助監視\",\"自立\"}),\"\")","v":""},null,null,null,null,null,null,null,null,null,null,null,null,1]
[null,"整容",null,null,null,null,null,null,null,null,null,null,null,null,null,null,null,null,null,null,1]
[null,"トイレ動作",null,null,null,null,null,{"$f":"IF(G8<>\"\",LOOKUP(G8,{0,5,10},{\"全介助\",\"部分介助\",\"自立\"}),\"\")","v":""},null,null,null,null,null,null,null,null,null,null,null,null,1]
[null,"入浴",null,null,null,null,null,{"$f":"IF(G9<>\"\",LOOKUP(G9,{0,5},{\"介助\",\"自立\"}),\"\")","v":""},null,null,null,null,null,null,null,null,null,null,null,null,1]
[null,"歩行",null,null,null,null,null,{"$f":"IF(G10<>\"\",LOOKUP(G10,{0,5,10,15},{\"全介助\",\"介助監視\",\"介助監視\",\"自立\"}),\"\")","v":""},null,null,null,null,null,null,null,null,null,null,null,null,1]
[null,"階段昇降",null,null,null,null,null,null,null,null,null,null,null,null,null,null,null,null,null,null,1]
[null,"更衣",null,null,null,null,null,null,null,null,null,null,null,null,null,null,null,null,null,null,1]
[null,"排便管理",null,null,null,null,null,{"$f":"IF(G13<>\"\",LOOKUP(G13,{0,5,10},{\"全介助\",\"時に失禁\",\"失禁なし\"}),\"\")","v":""},null,null,null,null,null,null,null,null,null,null,null,null,1]
[null,"排尿管理",null,null,null,null,null,{"$f":"IF(G14<>\"\",LOOKUP(G14,{0,5,10},{\"全介助\",\"時に失禁\",\"失禁なし\"}),\"\")","v":""},null,null,null,null,null,null,null,null,null,null,null,null,1]
[null,null,null,null,null,null,{"$f":"SUM(G5:G14)","v":0},null,null,null,null,null,null,null,null,null,null,null,null,null,{"$f":"SUM(U5:U14)","v":10}]

{"sheet":"B.I維持期(3ヶ月)","index":32,"n_rows":15,"n_cols":21,"rows_kept":15,"cut":false,"hidden":true,"merged":[[3,3,3,4],[2,1,2,4]]}
[]
[null,"移行後3ヶ月"]
[null,{"$f":"G15","v":0},null,null,null,null,"非表示",null,null,null,null,null,null,null,null,null,null,null,null,null,"未入力チェック"]
[null,null,"できる","介助",null,"できない"]
[null,"食事",null,null,null,null,null,null,null,null,null,null,null,null,null,null,null,null,null,null,{"$f":"IF(G5<>\"\",0,1)","v":1}]
[null,"移乗",null,null,null,null,null,null,null,null,null,null,null,null,null,null,null,null,null,null,{"$f":"IF(G6<>\"\",0,1)","v":1}]
[null,"整容",null,null,null,null,null,null,null,null,null,null,null,null,null,null,null,null,null,null,1]
[null,"トイレ動作",null,null,null,null,null,null,null,null,null,null,null,null,null,null,null,null,null,null,1]
[null,"入浴",null,null,null,null,null,null,null,null,null,null,null,null,null,null,null,null,null,null,1]
[null,"歩行",null,null,null,null,null,null,null,null,null,null,null,null,null,null,null,null,null,null,1]
[null,"階段昇降",null,null,null,null,null,null,null,null,null,null,null,null,null,null,null,null,null,null,1]
[null,"更衣",null,null,null,null,null,null,null,null,null,null,null,null,null,null,null,null,null,null,1]
[null,"排便管理",null,null,null,null,null,null,null,null,null,null,null,null,null,null,null,null,null,null,1]
[null,"排尿管理",null,null,null,null,null,null,null,null,null,null,null,null,null,null,null,null,null,null,1]
[null,null,null,null,null,null,{"$f":"SUM(G5:G14)","v":0},null,null,null,null,null,null,null,null,null,null,null,null,null,{"$f":"SUM(U5:U14)","v":10}]

{"sheet":"B.I説明文","index":33,"n_rows":41,"n_cols":3,"rows_kept":41,"cut":false,"hidden":true,"merged":[]}
[]
["項目","点数","内容"]
["食事",10,"自立、自助具などの装着可、標準的時間内に食べ終える"]
[null,5,"部分介助（たとえば、おかずを切って細かくしてもらう）"]
[null,0,"全介助"]
[]
["車椅子からベッドへの移動",15,"自立、ブレーキ、フットレストの操作も含む（非行自立も含む）"]
[null,10,"軽度の部分介助または監視を要する"]
[null,5,"座ることは可能であるがほぼ全介助"]
[null,0,"全介助または不可能"]
["整容",5,"自立（洗面、整髪、歯 磨き、ひげ剃り）"]
[null,0,"部分介助または不可能"]
[]
[]
["トイレ動作",10,"自立（衣服の操作、後始末を含む､ポータブル便器などを使用している場合はその洗浄も含む）"]
[null,5,"部分介助、体を支える、衣服、後始末に介助を要する"]
[null,0,"全介助または不可能"]
[]
["入浴",5,"自立"]
[null,0,"部分介助または不可能"]
[]
[]
["歩行",15,"45メートル以上の歩行、補装具（車椅子、歩行器は除く）の使用の有無は問わず"]
[null,10,"45メートル以上の介助歩行、歩行器の使用を含む"]
[null,5,"歩行不能の場合、車椅子にて45M 以上の操作可能"]
[null,0,"上記以外"]
["階段昇降",10,"自立、手すりなどの使用の有無は問わない"]
[null,5,"介助または監視を要する"]
[null,0,"不能"]
[]
["着替え",10,"自立、靴、ファスナー、装具の着脱を含む"]
[null,5,"部分介助、標準的な時間内、半分以上は自分で行える"]
[null,0,"上記以外"]
[]
["排便ｺﾝﾄﾛｰﾙ",10,"失禁なし、浣腸、坐薬の取り扱いも可能"]
[null,5,"ときに失禁あり、浣腸、坐薬の取り扱いに介助を要する者も含む"]
[null,0,"上記以外"]
[]
["排尿ｺﾝﾄﾛｰﾙ",10,"失禁なし、収尿器の取り扱いも可能"]
[null,5,"ときに失禁あり、収尿器の取り扱いに介助を要する者も含む"]
[null,0,"上記以外"]

{"sheet":"定義","index":34,"n_rows":103,"n_cols":20,"rows_kept":103,"cut":false,"hidden":true,"merged":[[0,12,0,13],[1,7,2,7],[1,8,1,11],[0,0,0,5],[1,0,2,0],[1,1,1,5],[1,6,2,6],[0,6,0,11]]}
["急性期シート",null,null,null,null,null,"回復期シート",null,null,null,null,null,"維持期シート"]
["急性期病院名","転院先",null,null,null,null,"急性期病院名","回復期病院名","退院先"]
[null,"自宅","回復期リハビリ病院","老人保健施設","療養型病院","一般病院",null,null,"自宅","老人保健施設","療養型病院","一般病院","回復期病院名","維持期・かかりつけ医","身障手帳",null,"明治","大正","昭和","平成"]
["宇部興産中央病院","宇部興産中央病院",null,"介護老人保健施設 豊生苑★","宇部記念病院","宇部記念病院","宇部興産中央病院","宇部興産中央病院","あさひクリニック★","介護老人保健施設 豊生苑★","宇部記念病院","宇部記念病院","宇部興産中央病院","あさひクリニック★","１",null,"33年","元年","元年","元年"]
["山口大学医学部附属病院","宇部第一病院",null,"老人保健施設宇部幸楽苑★","宇部協立病院","宇部協立病院","山口大学医学部附属病院","宇部第一病院","いそやま泌尿器科ｸﾘﾆｯｸ★","老人保健施設宇部幸楽苑★","宇部協立病院","宇部協立病院","宇部第一病院","いそやま泌尿器科ｸﾘﾆｯｸ★","２",null,"34年","2年","2年","2年"]
["山口労災病院","宇部西リハビリテーション病院",null,"老人保健施設昭和町共生苑★","宇部第一病院","宇部興産中央病院","山口労災病院","宇部西リハビリテーション病院","伊藤医院★","老人保健施設昭和町共生苑★","宇部第一病院","宇部興産中央病院","宇部西リハビリテーション病院","伊藤医院★","３",null,"35年","3年","3年","3年"]
["--------------------------","宇部リハビリテーション病院",null,"介護老人保健施設寿光園★","宇部西リハビリテーション病院","尾中病院","--------------------------","宇部リハビリテーション病院","稲本内科医院★","介護老人保健施設寿光園","宇部西リハビリテーション病院","尾中病院","宇部リハビリテーション病院","稲本内科医院★","４",null,"36年","4年","4年","4年"]
["井上医院","--------------------------",null,"老人保健施設老健ふなき★","宇部リハビリテーション病院","小野田赤十字病院","井上医院","--------------------------","井上医院","老人保健施設老健ふなき★","宇部リハビリテーション病院","小野田赤十字病院","--------------------------","井上医院","５",null,"37年","5年","5年","5年"]
["宇部協立病院","あさひクリニック★",null,"介護老人保健施設 ぺあれんと","尾中病院","厚南セントヒル病院★","宇部協立病院","井上医院","いのうえ内科★","介護老人保健施設 ぺあれんと","尾中病院","厚南セントヒル病院★","井上医院","いのうえ内科★","６",null,"38年","6年","6年","6年"]
["美祢市立病院","いそやま泌尿器科ｸﾘﾆｯｸ★",null,"美祢市介護老人保健施設グリーンヒル美祢★","小野田赤十字病院","山陽小野田市民病院★","美祢市立病院","宇部協立病院","今釜整形外科","美祢市介護老人保健施設グリーンヒル美祢★","小野田赤十字病院","山陽小野田市民病院","宇部協立病院","今釜整形外科","７",null,"39年","7年","7年","7年"]
["村重医院","伊藤医院★",null,"小野田赤十字老人保健施設 あんじゅ★","厚南セントヒル病院★","仁心会病院","村重医院","宇部記念病院","内田内科消化器科","小野田赤十字老人保健施設 あんじゅ★","厚南セントヒル病院★","仁心会病院","宇部記念病院","内田内科消化器科","８",null,"40年","8年","8年","8年"]
[null,"稲本内科医院★",null,"介護老人保健施設 あさ紫苑★","サンポプラ病院","セントヒル病院★",null,"尾中病院","うのしま医院","介護老人保健施設 あさ紫苑★","サンポプラ病院","セントヒル病院★","尾中病院","うのしま医院",null,null,"41年","9年","9年","9年"]
[null,"井上医院",null,"サテライト型介護老人保健施設あさ紫苑★","シーサイド病院","山口宇部医療センター",null,"小野田赤十字病院","宇部協立病院","サテライト型介護老人保健施設あさ紫苑★","シーサイド病院","山口宇部医療センター","小野田赤十字病院","宇部協立病院",null,null,"42年","10年","10年","10年"]
[null,"いのうえ内科★",null,"-----自由記載-----","仁心会病院","山口大学医学部附属病院",null,"山陽小野田市民病院★","宇部記念病院","-----自由記載-----","仁心会病院","山口大学医学部附属病院","山陽小野田市民病院","宇部記念病院",null,null,"43年","11年","11年","11年"]
[null,"今釜整形外科",null,null,"瀬戸病院","山口労災病院",null,"瀬戸病院","宇部興産中央病院",null,"瀬戸病院","山口労災病院","瀬戸病院","宇部興産中央病院",null,null,"44年","12年","12年","12年"]
[null,"内田内科消化器科",null,null,"セントヒル病院★","-----自由記載-----",null,"長沢病院","宇部第一病院",null,"セントヒル病院★","-----自由記載-----","長沢病院","宇部第一病院",null,null,"45年","13年","13年","13年"]
[null,"うのしま医院",null,null,"長沢病院",null,null,"ふじもと内科胃腸科医院","宇部西クリニック",null,"長沢病院",null,"ふじもと内科胃腸科医院","宇部西クリニック",null,null,null,"14年","14年","14年"]
[null,"宇部記念病院",null,null,"村重医院",null,null,"水木神経内科医院★","宇部西リハビリテーション病院",null,"村重医院",null,"水木神経内科医院★","宇部西リハビリテーション病院",null,null,null,"15年","15年","15年"]
[null,"宇部協立病院",null,null,"森田病院★",null,null,"美祢市立病院","宇部ﾘﾊﾋﾞﾘﾃｰｼｮﾝ病院",null,"森田病院★",null,"美祢市立病院","宇部ﾘﾊﾋﾞﾘﾃｰｼｮﾝ病院",null,null,null,null,"16年","16年"]
[null,"宇部西クリニック",null,null,"綿田内科病院",null,null,"村重医院","岡本医院★",null,"綿田内科病院",null,"村重医院","岡本医院★",null,null,null,null,"17年","17年"]
[null,"岡本医院★",null,null,"-----自由記載-----",null,null,"山口労災病院","オクダ内科循環器科",null,"-----自由記載-----",null,"山口大学医学部附属病院","オクダ内科循環器科",null,null,null,null,"18年","18年"]
[null,"オクダ内科循環器科",null,null,null,null,null,null,"おぐらクリニック★",null,null,null,"山口労災病院","おぐらクリニック★",null,null,null,null,"19年","19年"]
[null,"おぐらクリニック★",null,null,null,null,null,null,"尾崎循環器内科",null,null,null,null,"尾崎循環器内科",null,null,null,null,"20年","20年"]
[null,"尾崎循環器内科",null,null,null,null,null,null,"小沢内科医院",null,null,null,null,"小沢内科医院",null,null,null,null,"21年","21年"]
[null,"小沢内科医院",null,null,null,null,null,null,"尾中病院",null,null,null,null,"尾中病院",null,null,null,null,"22年","22年"]
[null,"尾中病院",null,null,null,null,null,null,"小野田赤十字病院",null,null,null,null,"小野田赤十字病院",null,null,null,null,"23年","23年"]
[null,"小野田赤十字病院",null,null,null,null,null,null,"小野田ライフケアクリニック★",null,null,null,null,"小野田ライフケアクリニック★",null,null,null,null,"24年","24年"]
[null,"小野田ライフケアクリニック★",null,null,null,null,null,null,"小羽山クリニック★",null,null,null,null,"小羽山クリニック★",null,null,null,null,"25年","25年"]
[null,"小羽山クリニック★",null,null,null,null,null,null,"金沢守クリニック★",null,null,null,null,"金沢守クリニック★",null,null,null,null,"26年","26年"]
[null,"金沢守クリニック★",null,null,null,null,null,null,"上宇部外科",null,null,null,null,"上宇部外科",null,null,null,null,"27年","27年"]
[null,"上宇部外科",null,null,null,null,null,null,"河野内科",null,null,null,null,"河野内科",null,null,null,null,"28年","28年"]
[null,"河野内科",null,null,null,null,null,null,"河原内科★",null,null,null,null,"河原内科★",null,null,null,null,"29年","29年"]
[null,"河原内科★",null,null,null,null,null,null,"河村医院",null,null,null,null,"河村医院",null,null,null,null,"30年","30年"]
[null,"河村医院",null,null,null,null,null,null,"きらり藤本内科・神経内科ｸﾘﾆｯｸ★",null,null,null,null,"きらり藤本内科・神経内科ｸﾘﾆｯｸ★",null,null,null,null,"31年","31年"]
[null,"きらり藤本内科・神経内科ｸﾘﾆｯｸ★",null,null,null,null,null,null,"くが医院",null,null,null,null,"くが医院",null,null,null,null,"32年","32年"]
[null,"くが医院",null,null,null,null,null,null,"栗栖クリニック",null,null,null,null,"栗栖クリニック",null,null,null,null,"33年","33年"]
[null,"栗栖クリニック",null,null,null,null,null,null,"くろいし内科クリニック",null,null,null,null,"くろいし内科クリニック",null,null,null,null,"34年","34年"]
[null,"くろいし内科クリニック",null,null,null,null,null,null,"くろかわクリニック",null,null,null,null,"くろかわクリニック",null,null,null,null,"35年","35年"]
[null,"くろかわクリニック",null,null,null,null,null,null,"札場クリニック★",null,null,null,null,"札場クリニック★",null,null,null,null,"36年","36年"]
[null,"札場クリニック★",null,null,null,null,null,null,"サンポプラ病院",null,null,null,null,"サンポプラ病院",null,null,null,null,"37年","37年"]
[null,"サンポプラ病院",null,null,null,null,null,null,"山陽小野田市民病院",null,null,null,null,"山陽小野田市民病院",null,null,null,null,"38年","38年"]
[null,"山陽小野田市民病院",null,null,null,null,null,null,"シーサイド病院",null,null,null,null,"シーサイド病院",null,null,null,null,"39年","39年"]
[null,"シーサイド病院",null,null,null,null,null,null,"しおん内科外科クリニック",null,null,null,null,"しおん内科外科クリニック",null,null,null,null,"40年","40年"]
[null,"しおん内科外科クリニック",null,null,null,null,null,null,"しながわクリニック",null,null,null,null,"しながわクリニック",null,null,null,null,"41年","41年"]
[null,"しながわクリニック",null,null,null,null,null,null,"しらさわ内科クリニック",null,null,null,null,"しらさわ内科クリニック",null,null,null,null,"42年","42年"]
[null,"しらさわ内科クリニック",null,null,null,null,null,null,"仁心会病院",null,null,null,null,"仁心会病院",null,null,null,null,"43年","43年"]
[null,"仁心会病院",null,null,null,null,null,null,"生協上宇部クリニック★",null,null,null,null,"生協上宇部クリニック★",null,null,null,null,"44年","44年"]
[null,"生協上宇部クリニック★",null,null,null,null,null,null,"瀬戸病院",null,null,null,null,"瀬戸病院",null,null,null,null,"45年","45年"]
[null,"瀬戸病院",null,null,null,null,null,null,"たお内科クリニック★",null,null,null,null,"たお内科クリニック★",null,null,null,null,"46年","46年"]
[null,"たお内科クリニック★",null,null,null,null,null,null,"田中外科★",null,null,null,null,"田中外科★",null,null,null,null,"47年","47年"]
[null,"田中外科★",null,null,null,null,null,null,"田中内科消化器科★",null,null,null,null,"田中内科消化器科★",null,null,null,null,"48年","48年"]
[null,"田中内科消化器科★",null,null,null,null,null,null,"たみたに内科・循環器科",null,null,null,null,"たみたに内科・循環器科",null,null,null,null,"49年","49年"]
[null,"たみたに内科・循環器科",null,null,null,null,null,null,"土屋医院",null,null,null,null,"土屋医院",null,null,null,null,"50年","50年"]
[null,"土屋医院",null,null,null,null,null,null,"ときわクリニック",null,null,null,null,"ときわクリニック",null,null,null,null,"51年","51年"]
[null,"ときわクリニック",null,null,null,null,null,null,"徳久内科医院",null,null,null,null,"徳久内科医院",null,null,null,null,"52年","52年"]
[null,"徳久内科医院",null,null,null,null,null,null,"永田医院★",null,null,null,null,"永田医院★",null,null,null,null,"53年","53年"]
[null,"長沢病院",null,null,null,null,null,null,"長沢病院",null,null,null,null,"長沢病院",null,null,null,null,"54年","54年"]
[null,"中島医院★",null,null,null,null,null,null,"中島医院★",null,null,null,null,"中島医院★",null,null,null,null,"55年","55年"]
[null,"永田医院★",null,null,null,null,null,null,"中村内科★",null,null,null,null,"中村内科★",null,null,null,null,"56年","56年"]
[null,"中村内科★",null,null,null,null,null,null,"中村内科胃腸科医院",null,null,null,null,"中村内科胃腸科医院",null,null,null,null,"57年","57年"]
[null,"中村内科胃腸科医院",null,null,null,null,null,null,"中元医院★",null,null,null,null,"中元医院★",null,null,null,null,"58年","58年"]
[null,"中元医院★",null,null,null,null,null,null,"西垣内医院",null,null,null,null,"西垣内医院",null,null,null,null,"59年","59年"]
[null,"西垣内医院",null,null,null,null,null,null,"西川医院",null,null,null,null,"西川医院",null,null,null,null,"60年","60年"]
[null,"西川医院",null,null,null,null,null,null,"ニシムラ内科★",null,null,null,null,"ニシムラ内科★",null,null,null,null,"61年","61年"]
[null,"ニシムラ内科★",null,null,null,null,null,null,"西村内科医院",null,null,null,null,"西村内科医院",null,null,null,null,"62年","62年"]
[null,"西村内科医院",null,null,null,null,null,null,"にしむら内科クリニック",null,null,null,null,"にしむら内科クリニック",null,null,null,null,"63年","63年"]
[null,"にしむら内科クリニック",null,null,null,null,null,null,"野間クリニック★",null,null,null,null,"野間クリニック★",null,null,null,null,"64年","64年"]
[null,"野間クリニック★",null,null,null,null,null,null,"原田外科医院★",null,null,null,null,"原田外科医院★"]
[null,"早川内科医院★",null,null,null,null,null,null,"早川内科医院★",null,null,null,null,"早川内科医院★"]
[null,"原田外科医院★",null,null,null,null,null,null,"はりま内科胃腸科★",null,null,null,null,"はりま内科胃腸科★"]
[null,"はりま内科胃腸科★",null,null,null,null,null,null,"廣重内科★",null,null,null,null,"廣重内科★"]
[null,"廣重内科★",null,null,null,null,null,null,"開クリニック★",null,null,null,null,"開クリニック★"]
[null,"ひらき内科",null,null,null,null,null,null,"ひらき内科",null,null,null,null,"ひらき内科"]
[null,"開クリニック★",null,null,null,null,null,null,"ふくたクリニック",null,null,null,null,"ふくたクリニック"]
[null,"ふくたクリニック",null,null,null,null,null,null,"フジイ内科医院",null,null,null,null,"フジイ内科医院"]
[null,"フジイ内科医院",null,null,null,null,null,null,"富士消化器内科クリニック★",null,null,null,null,"富士消化器内科クリニック★"]
[null,"富士消化器内科クリニック★",null,null,null,null,null,null,"藤野内科",null,null,null,null,"藤野内科"]
[null,"藤野内科",null,null,null,null,null,null,"藤村内科クリニック★",null,null,null,null,"藤村内科クリニック★"]
[null,"藤村内科クリニック★",null,null,null,null,null,null,"ふじもと内科胃腸科医院",null,null,null,null,"ふじもと内科胃腸科医院"]
[null,"ふじもと内科胃腸科医院",null,null,null,null,null,null,"松岡整形外科",null,null,null,null,"松岡整形外科"]
[null,"松岡整形外科",null,null,null,null,null,null,"三井外科医院★",null,null,null,null,"三井外科医院★"]
[null,"三井外科医院★",null,null,null,null,null,null,"三澤医院★",null,null,null,null,"三澤医院★"]
[null,"水木神経内科医院★",null,null,null,null,null,null,"水木神経内科医院★",null,null,null,null,"水木神経内科医院★"]
[null,"三澤医院★",null,null,null,null,null,null,"美祢市立病院",null,null,null,null,"美祢市立病院"]
[null,"美祢市立病院",null,null,null,null,null,null,"宮川内科医院★",null,null,null,null,"宮川内科医院★"]
[null,"宮川内科医院★",null,null,null,null,null,null,"むべの里診療所★",null,null,null,null,"むべの里診療所★"]
[null,"むべの里診療所★",null,null,null,null,null,null,"村重医院",null,null,null,null,"村重医院"]
[null,"村重医院",null,null,null,null,null,null,"むらた循環器内科",null,null,null,null,"むらた循環器内科"]
[null,"むらた循環器内科",null,null,null,null,null,null,"森田病院★",null,null,null,null,"森田病院★"]
[null,"森田病院★",null,null,null,null,null,null,"矢野外科医院",null,null,null,null,"矢野外科医院"]
[null,"矢野外科医院",null,null,null,null,null,null,"山口大学医学部附属病院",null,null,null,null,"山口大学医学部附属病院"]
[null,"山口大学医学部附属病院",null,null,null,null,null,null,"山口労災病院",null,null,null,null,"山口労災病院"]
[null,"山口労災病院",null,null,null,null,null,null,"山本医院★",null,null,null,null,"山本医院★"]
[null,"山本医院★",null,null,null,null,null,null,"やまもとクリニック",null,null,null,null,"やまもとクリニック"]
[null,"やまもとクリニック",null,null,null,null,null,null,"山本内科",null,null,null,null,"山本内科"]
[null,"山本内科",null,null,null,null,null,null,"よしかわ脳神経外科クリニック",null,null,null,null,"よしかわ脳神経外科クリニック"]
[null,"よしかわ脳神経外科クリニック",null,null,null,null,null,null,"吉武医院★",null,null,null,null,"吉武医院★"]
[null,"吉武医院★",null,null,null,null,null,null,"吉武内科クリニック",null,null,null,null,"吉武内科クリニック"]
[null,"吉武内科クリニック",null,null,null,null,null,null,"吉中内科医院",null,null,null,null,"吉中内科医院"]
[null,"吉中内科医院",null,null,null,null,null,null,"綿田内科病院",null,null,null,null,"綿田内科病院"]
[null,"綿田内科病院",null,null,null,null,null,null,"渡辺内科医院★",null,null,null,null,"渡辺内科医院★"]
[null,"渡辺内科医院★",null,null,null,null,null,null,"-----自由記載-----",null,null,null,null,"老健ふなき★"]
[null,"-----自由記載-----"]

{"sheet":"祝日","index":35,"n_rows":170,"n_cols":2,"rows_kept":170,"cut":false,"hidden":true,"merged":[[0,0,0,1]]}
["祝日"]
["日付","名前"]
["2011-01-01","元日"]
["2011-01-10","成人の日"]
["2011-02-11","建国記念の日"]
["2011-03-21","春分の日"]
["2011-04-29","昭和の日"]
["2011-05-03","憲法記念日"]
["2011-05-04","みどりの日"]
["2011-05-05","こどもの日"]
["2011-07-18","海の日"]
["2011-09-19","敬老の日"]
["2011-09-23","秋分の日"]
["2011-10-10","体育の日"]
["2011-11-03","文化の日"]
["2011-11-23","勤労感謝の日"]
["2011-12-23","天皇誕生日"]
["2012-01-01","元日"]
["2012-01-02","振替休日"]
["2012-01-09","成人の日"]
["2012-02-11","建国記念の日"]
["2012-03-20","春分の日"]
["2012-04-29","昭和の日"]
["2012-04-30","振替休日"]
["2012-05-03","憲法記念日"]
["2012-05-04","みどりの日"]
["2012-05-05","こどもの日"]
["2012-07-16","海の日"]
["2012-09-17","敬老の日"]
["2012-09-22","秋分の日"]
["2012-10-08","体育の日"]
["2012-11-03","文化の日"]
["2012-11-23","勤労感謝の日"]
["2012-12-23","天皇誕生日"]
["2012-12-24","振替休日"]
["2013-01-01","元日"]
["2013-01-14","成人の日"]
["2013-02-11","建国記念の日"]
["2013-03-20","春分の日"]
["2013-04-29","昭和の日"]
["2013-05-03","憲法記念日"]
["2013-05-04","みどりの日"]
["2013-05-05","こどもの日"]
["2013-05-06","振替休日"]
["2013-07-15","海の日"]
["2013-09-16","敬老の日"]
["2013-09-23","秋分の日"]
["2013-10-14","体育の日"]
["2013-11-03","文化の日"]
["2013-11-04","振替休日"]
["2013-11-23","勤労感謝の日"]
["2013-12-23","天皇誕生日"]
["2014-01-01","元日"]
["2014-01-13","成人の日"]
["2014-02-11","建国記念の日"]
["2014-03-21","春分の日"]
["2014-04-29","昭和の日"]
["2014-05-03","憲法記念日"]
["2014-05-04","みどりの日"]
["2014-05-05","こどもの日"]
["2014-05-06","振替休日"]
["2014-07-21","海の日"]
["2014-09-15","敬老の日"]
["2014-09-23","秋分の日"]
["2014-10-13","体育の日"]
["2014-11-03","文化の日"]
["2014-11-23","勤労感謝の日"]
["2014-11-24","振替休日"]
["2014-12-23","天皇誕生日"]
["2015-01-01","元日"]
["2015-01-12","成人の日"]
["2015-02-11","建国記念の日"]
["2015-03-21","春分の日"]
["2015-04-29","昭和の日"]
["2015-05-03","憲法記念日"]
["2015-05-04","みどりの日"]
["2015-05-05","こどもの日"]
["2015-05-06","振替休日"]
["2015-07-20","海の日"]
["2015-09-21","敬老の日"]
["2015-09-22","国民の休日"]
["2015-09-23","秋分の日"]
["2015-10-12","体育の日"]
["2015-11-03","文化の日"]
["2015-11-23","勤労感謝の日"]
["2015-12-23","天皇誕生日"]
["2016-01-01","元日"]
["2016-01-11","成人の日"]
["2016-02-11","建国記念の日"]
["2016-03-20","春分の日"]
["2016-03-21","振替休日"]
["2016-04-29","昭和の日"]
["2016-05-03","憲法記念日"]
["2016-05-04","みどりの日"]
["2016-05-05","こどもの日"]
["2016-07-18","海の日"]
["2016-09-19","敬老の日"]
["2016-09-22","秋分の日"]
["2016-10-10","体育の日"]
["2016-11-03","文化の日"]
["2016-11-23","勤労感謝の日"]
["2016-12-23","天皇誕生日"]
["2017-01-01","元日"]
["2017-01-02","振替休日"]
["2017-01-09","成人の日"]
["2017-02-11","建国記念の日"]
["2017-03-20","春分の日"]
["2017-04-29","昭和の日"]
["2017-05-03","憲法記念日"]
["2017-05-04","みどりの日"]
["2017-05-05","こどもの日"]
["2017-07-17","海の日"]
["2017-09-18","敬老の日"]
["2017-09-23","秋分の日"]
["2017-10-09","体育の日"]
["2017-11-03","文化の日"]
["2017-11-23","勤労感謝の日"]
["2017-12-23","天皇誕生日"]
["2018-01-01","元日"]
["2018-01-08","成人の日"]
["2018-02-11","建国記念の日"]
["2018-02-12","振替休日"]
["2018-03-21","春分の日"]
["2018-04-29","昭和の日"]
["2018-04-30","振替休日"]
["2018-05-03","憲法記念日"]
["2018-05-04","みどりの日"]
["2018-05-05","こどもの日"]
["2018-07-16","海の日"]
["2018-09-17","敬老の日"]
["2018-09-23","秋分の日"]
["2018-09-24","振替休日"]
["2018-10-08","体育の日"]
["2018-11-03","文化の日"]
["2018-11-23","勤労感謝の日"]
["2018-12-23","天皇誕生日"]
["2018-12-24","振替休日"]
["2019-01-01","元日"]
["2019-01-14","成人の日"]
["2019-02-11","建国記念の日"]
["2019-03-21","春分の日"]
["2019-04-29","昭和の日"]
["2019-05-03","憲法記念日"]
["2019-05-04","みどりの日"]
["2019-05-05","こどもの日"]
["2019-05-06","振替休日"]
["2019-07-15","海の日"]
["2019-09-16","敬老の日"]
["2019-09-23","秋分の日"]
["2019-10-14","体育の日"]
["2019-11-03","文化の日"]
["2019-11-04","振替休日"]
["2019-11-23","勤労感謝の日"]
["2019-12-23","天皇誕生日"]
["2020-01-01","元日"]
["2020-01-13","成人の日"]
["2020-02-11","建国記念の日"]
["2020-03-20","春分の日"]
["2020-04-29","昭和の日"]
["2020-05-03","憲法記念日"]
["2020-05-04","みどりの日"]
["2020-05-05","こどもの日"]
["2020-05-06","振替休日"]
["2020-07-20","海の日"]
["2020-09-21","敬老の日"]
["2020-09-22","秋分の日"]
["2020-10-12","体育の日"]
["2020-11-03","文化の日"]
["2020-11-23","勤労感謝の日"]
["2020-12-23","天皇誕生日"]